{"text_format":"1","workbook":"xlsx","n_sheets":3,"sheets":["Rodikliai","Šaltiniai","listreg"],"not_rendered":{"charts":21,"images":2,"macros":1,"external_links":2,"defined_names":3,"comments":0,"pivot_tables":0},"unopened":[],"bounds":{"document_bytes":16777216,"sheet_cells":100000,"rows_first":2000,"rows_last":500,"rows_between":2000,"halvings":0,"cell_chars":16384,"cell_head_chars":4096},"cells_cut":0,"cells_raw":0,"read":"whole","date_system":"1900"}

{"sheet":"Rodikliai","index":0,"n_rows":1504,"n_cols":41,"rows_kept":1504,"cut":false,"hidden":false,"merged":[]}
[]
[null,null,null,null,null,null,null,null,null,null,null,null,null,null,null,null,null,null,null,null,null,null,null,null,null,"Įrašykite arba pasirinkite savivaldybę arba apskritį:",null,null,null,null,null,"Pasirinkite savivaldybę arba apskritį palyginimui"]
[null,null,null,null,null,null,null,null,null,null,null,null,null,null,null,null,null,"Vilniaus m. sav."]
[null,null,null,null,null,null,null,null,null,null,null,null,null,null,null,null,null,"Vilniaus apskritis",null,null,null,null,null,null,null,"Šaltiniai: Valstybės duomenų agentūra, Registrų centras, Valstybinė mokesčių inspekcija ir Inovacijų agentūros skaičiavimai"]
[]
[null,"Administracinė teritorija","Rodiklis","2010","2011","2012","2013","2014","2015","2016","2017","2018",2019,2020,2021,2022,2023,"helper 1","helper 2","helper 3","helper 4","helper 5","LThelper1","LThepler2",null,"Administracinė teritorija","Rodiklis","2010","2011","2012","2013","2014","2015","2016","2017","2018",{"$f":"+AJ6+1","v":2019},{"$f":"+AK6+1","v":2020},{"$f":"+AL6+1","v":2021},{"$f":"+AM6+1","v":2022},{"$f":"+AN6+1","v":2023}]
[null,"Lietuvos Respublika","Neišregistruotų juridinių asmenų skaičius metų pradžioje | vnt.",181574,184714,191882,203557,213846,223644,228925,222066,228625,235554,243459,253197,258399,{"$f":"HLOOKUP(B7,'[1]2023_neišreg'!$B$2:$BT$23,22,FALSE)","v":250338},{"$f":"ROWS($R$7:R7)","v":1},{"$f":"IF(ISNUMBER(SEARCH($R$3,B7)),R7,\"\")","v":""},{"$f":"IF(ISERROR(SMALL($S$7:$S$1504,ROWS($S$7:S7))),\"\",SMALL($S$7:$S$1504,ROWS($S$7:S7)))","v":70},{"$f":"IF($R$4=B7,R7,\"\")","v":""},{"$f":"IF(ISERROR(SMALL($U$7:$U$1504,ROWS(U$7:$U7))),\"\",SMALL($U$7:$U$1504,ROWS(U$7:$U7)))","v":63},{"$f":"IF(\"Lietuvos Respublika\"=B7,R7,\"\")","v":1},{"$f":"IF(ISERROR(SMALL($W$7:$W$1504,ROWS($W$7:W7))),\"\",SMALL($W$7:$W$1504,ROWS($W$7:W7)))","v":1},null,{"$f":"IF(ISERROR(INDEX($B$7:$K$1503,$T7,COLUMNS($Z$7:Z7))),\"\",(INDEX($B$7:$K$1503,$T7,COLUMNS($Z$7:Z7))))","v":"Vilniaus m. sav."},{"$f":"IF(ISERROR(INDEX($B$7:$K$1503,$T7,COLUMNS($Z$7:AA7))),\"\",(INDEX($B$7:$K$1503,$T7,COLUMNS($Z$7:AA7))))","v":"Neišregistruotų juridinių asmenų skaičius metų pradžioje | vnt."},{"$f":"IF(ISERROR(INDEX($B$7:$Q$1503,$T7,COLUMNS($Z$7:AB7))),\"\",(INDEX($B$7:$Q$1503,$T7,COLUMNS($Z$7:AB7))))","v":60021},{"$f":"IF(ISERROR(INDEX($B$7:$Q$1503,$T7,COLUMNS($Z$7:AC7))),\"\",(INDEX($B$7:$Q$1503,$T7,COLUMNS($Z$7:AC7))))","v":62033},{"$f":"IF(ISERROR(INDEX($B$7:$Q$1503,$T7,COLUMNS($Z$7:AD7))),\"\",(INDEX($B$7:$Q$1503,$T7,COLUMNS($Z$7:AD7))))","v":65950},{"$f":"IF(ISERROR(INDEX($B$7:$Q$1503,$T7,COLUMNS($Z$7:AE7))),\"\",(INDEX($B$7:$Q$1503,$T7,COLUMNS($Z$7:AE7))))","v":72477},{"$f":"IF(ISERROR(INDEX($B$7:$Q$1503,$T7,COLUMNS($Z$7:AF7))),\"\",(INDEX($B$7:$Q$1503,$T7,COLUMNS($Z$7:AF7))))","v":78380},{"$f":"IF(ISERROR(INDEX($B$7:$Q$1503,$T7,COLUMNS($Z$7:AG7))),\"\",(INDEX($B$7:$Q$1503,$T7,COLUMNS($Z$7:AG7))))","v":84455},{"$f":"IF(ISERROR(INDEX($B$7:$Q$1503,$T7,COLUMNS($Z$7:AH7))),\"\",(INDEX($B$7:$Q$1503,$T7,COLUMNS($Z$7:AH7))))","v":87443},{"$f":"IF(ISERROR(INDEX($B$7:$Q$1503,$T7,COLUMNS($Z$7:AI7))),\"\",(INDEX($B$7:$Q$1503,$T7,COLUMNS($Z$7:AI7))))","v":86420},{"$f":"IF(ISERROR(INDEX($B$7:$Q$1503,$T7,COLUMNS($Z$7:AJ7))),\"\",(INDEX($B$7:$Q$1503,$T7,COLUMNS($Z$7:AJ7))))","v":89789},{"$f":"IF(ISERROR(INDEX($B$7:$Q$1503,$T7,COLUMNS($Z$7:AK7))),\"\",(INDEX($B$7:$Q$1503,$T7,COLUMNS($Z$7:AK7))))","v":93043},{"$f":"IF(ISERROR(INDEX($B$7:$Q$1503,$T7,COLUMNS($Z$7:AL7))),\"\",(INDEX($B$7:$Q$1503,$T7,COLUMNS($Z$7:AL7))))","v":96518},{"$f":"IF(ISERROR(INDEX($B$7:$Q$1503,$T7,COLUMNS($Z$7:AM7))),\"\",(INDEX($B$7:$Q$1503,$T7,COLUMNS($Z$7:AM7))))","v":100701},{"$f":"IF(ISERROR(INDEX($B$7:$Q$1503,$T7,COLUMNS($Z$7:AN7))),\"\",(INDEX($B$7:$Q$1503,$T7,COLUMNS($Z$7:AN7))))","v":105301},{"$f":"IF(ISERROR(INDEX($B$7:$Q$1503,$T7,COLUMNS($Z$7:AO7))),\"\",(INDEX($B$7:$Q$1503,$T7,COLUMNS($Z$7:AO7))))","v":98540}]
[null,"Alytaus apskritis","Neišregistruotų juridinių asmenų skaičius metų pradžioje | vnt.",6491,6561,6793,7177,7445,7724,7791,7482,7630,7828,8049,8325,8156,{"$f":"HLOOKUP(B8,'[1]2023_neišreg'!$B$2:$BT$23,22,FALSE)","v":8286},{"$f":"ROWS($R$7:R8)","v":2},"",{"$f":"IF(ISERROR(SMALL($S$7:$S$1504,ROWS($S$7:S8))),\"\",SMALL($S$7:$S$1504,ROWS($S$7:S8)))","v":141},"",{"$f":"IF(ISERROR(SMALL($U$7:$U$1504,ROWS(U$7:$U8))),\"\",SMALL($U$7:$U$1504,ROWS(U$7:$U8)))","v":134},"",{"$f":"IF(ISERROR(SMALL($W$7:$W$1504,ROWS($W$7:W8))),\"\",SMALL($W$7:$W$1504,ROWS($W$7:W8)))","v":72},null,{"$f":"IF(ISERROR(INDEX($B$7:$K$1503,$T8,COLUMNS($Z$7:Z8))),\"\",(INDEX($B$7:$K$1503,$T8,COLUMNS($Z$7:Z8))))","v":"Vilniaus m. sav."},{"$f":"IF(ISERROR(INDEX($B$7:$K$1503,$T8,COLUMNS($Z$7:AA8))),\"\",(INDEX($B$7:$K$1503,$T8,COLUMNS($Z$7:AA8))))","v":"Per metus įregistruota juridinių asmenų skaičius | vnt."},{"$f":"IF(ISERROR(INDEX($B$7:$Q$1503,$T8,COLUMNS($Z$7:AB8))),\"\",(INDEX($B$7:$Q$1503,$T8,COLUMNS($Z$7:AB8))))","v":4001},{"$f":"IF(ISERROR(INDEX($B$7:$Q$1503,$T8,COLUMNS($Z$7:AC8))),\"\",(INDEX($B$7:$Q$1503,$T8,COLUMNS($Z$7:AC8))))","v":4865},{"$f":"IF(ISERROR(INDEX($B$7:$Q$1503,$T8,COLUMNS($Z$7:AD8))),\"\",(INDEX($B$7:$Q$1503,$T8,COLUMNS($Z$7:AD8))))","v":7369},{"$f":"IF(ISERROR(INDEX($B$7:$Q$1503,$T8,COLUMNS($Z$7:AE8))),\"\",(INDEX($B$7:$Q$1503,$T8,COLUMNS($Z$7:AE8))))","v":6918},{"$f":"IF(ISERROR(INDEX($B$7:$Q$1503,$T8,COLUMNS($Z$7:AF8))),\"\",(INDEX($B$7:$Q$1503,$T8,COLUMNS($Z$7:AF8))))","v":7205},{"$f":"IF(ISERROR(INDEX($B$7:$Q$1503,$T8,COLUMNS($Z$7:AG8))),\"\",(INDEX($B$7:$Q$1503,$T8,COLUMNS($Z$7:AG8))))","v":4450},{"$f":"IF(ISERROR(INDEX($B$7:$Q$1503,$T8,COLUMNS($Z$7:AH8))),\"\",(INDEX($B$7:$Q$1503,$T8,COLUMNS($Z$7:AH8))))","v":4520},{"$f":"IF(ISERROR(INDEX($B$7:$Q$1503,$T8,COLUMNS($Z$7:AI8))),\"\",(INDEX($B$7:$Q$1503,$T8,COLUMNS($Z$7:AI8))))","v":5116},{"$f":"IF(ISERROR(INDEX($B$7:$Q$1503,$T8,COLUMNS($Z$7:AJ8))),\"\",(INDEX($B$7:$Q$1503,$T8,COLUMNS($Z$7:AJ8))))","v":5014},{"$f":"IF(ISERROR(INDEX($B$7:$Q$1503,$T8,COLUMNS($Z$7:AK8))),\"\",(INDEX($B$7:$Q$1503,$T8,COLUMNS($Z$7:AK8))))","v":5353},{"$f":"IF(ISERROR(INDEX($B$7:$Q$1503,$T8,COLUMNS($Z$7:AL8))),\"\",(INDEX($B$7:$Q$1503,$T8,COLUMNS($Z$7:AL8))))","v":5405},{"$f":"IF(ISERROR(INDEX($B$7:$Q$1503,$T8,COLUMNS($Z$7:AM8))),\"\",(INDEX($B$7:$Q$1503,$T8,COLUMNS($Z$7:AM8))))","v":6473},{"$f":"IF(ISERROR(INDEX($B$7:$Q$1503,$T8,COLUMNS($Z$7:AN8))),\"\",(INDEX($B$7:$Q$1503,$T8,COLUMNS($Z$7:AN8))))","v":6737},{"$f":"IF(ISERROR(INDEX($B$7:$Q$1503,$T8,COLUMNS($Z$7:AO8))),\"\",(INDEX($B$7:$Q$1503,$T8,COLUMNS($Z$7:AO8))))","v":0}]
[null,"Alytaus m. sav.","Neišregistruotų juridinių asmenų skaičius metų pradžioje | vnt.",3142,3161,3256,3472,3628,3786,3794,3640,3673,3732,3792,3858,3691,{"$f":"HLOOKUP(B9,'[1]2023_neišreg'!$B$2:$BT$23,22,FALSE)","v":3672},{"$f":"ROWS($R$7:R9)","v":3},"",{"$f":"IF(ISERROR(SMALL($S$7:$S$1504,ROWS($S$7:S9))),\"\",SMALL($S$7:$S$1504,ROWS($S$7:S9)))","v":212},"",{"$f":"IF(ISERROR(SMALL($U$7:$U$1504,ROWS(U$7:$U9))),\"\",SMALL($U$7:$U$1504,ROWS(U$7:$U9)))","v":205},"",{"$f":"IF(ISERROR(SMALL($W$7:$W$1504,ROWS($W$7:W9))),\"\",SMALL($W$7:$W$1504,ROWS($W$7:W9)))","v":143},null,{"$f":"IF(ISERROR(INDEX($B$7:$K$1503,$T9,COLUMNS($Z$7:Z9))),\"\",(INDEX($B$7:$K$1503,$T9,COLUMNS($Z$7:Z9))))","v":"Vilniaus m. sav."},{"$f":"IF(ISERROR(INDEX($B$7:$K$1503,$T9,COLUMNS($Z$7:AA9))),\"\",(INDEX($B$7:$K$1503,$T9,COLUMNS($Z$7:AA9))))","v":"Per metus išregistruota juridinių asmenų skaičius | vnt."},{"$f":"IF(ISERROR(INDEX($B$7:$Q$1503,$T9,COLUMNS($Z$7:AB9))),\"\",(INDEX($B$7:$Q$1503,$T9,COLUMNS($Z$7:AB9))))","v":1970},{"$f":"IF(ISERROR(INDEX($B$7:$Q$1503,$T9,COLUMNS($Z$7:AC9))),\"\",(INDEX($B$7:$Q$1503,$T9,COLUMNS($Z$7:AC9))))","v":918},{"$f":"IF(ISERROR(INDEX($B$7:$Q$1503,$T9,COLUMNS($Z$7:AD9))),\"\",(INDEX($B$7:$Q$1503,$T9,COLUMNS($Z$7:AD9))))","v":917},{"$f":"IF(ISERROR(INDEX($B$7:$Q$1503,$T9,COLUMNS($Z$7:AE9))),\"\",(INDEX($B$7:$Q$1503,$T9,COLUMNS($Z$7:AE9))))","v":950},{"$f":"IF(ISERROR(INDEX($B$7:$Q$1503,$T9,COLUMNS($Z$7:AF9))),\"\",(INDEX($B$7:$Q$1503,$T9,COLUMNS($Z$7:AF9))))","v":1046},{"$f":"IF(ISERROR(INDEX($B$7:$Q$1503,$T9,COLUMNS($Z$7:AG9))),\"\",(INDEX($B$7:$Q$1503,$T9,COLUMNS($Z$7:AG9))))","v":1341},{"$f":"IF(ISERROR(INDEX($B$7:$Q$1503,$T9,COLUMNS($Z$7:AH9))),\"\",(INDEX($B$7:$Q$1503,$T9,COLUMNS($Z$7:AH9))))","v":5423},{"$f":"IF(ISERROR(INDEX($B$7:$Q$1503,$T9,COLUMNS($Z$7:AI9))),\"\",(INDEX($B$7:$Q$1503,$T9,COLUMNS($Z$7:AI9))))","v":1597},{"$f":"IF(ISERROR(INDEX($B$7:$Q$1503,$T9,COLUMNS($Z$7:AJ9))),\"\",(INDEX($B$7:$Q$1503,$T9,COLUMNS($Z$7:AJ9))))","v":1666},{"$f":"IF(ISERROR(INDEX($B$7:$Q$1503,$T9,COLUMNS($Z$7:AK9))),\"\",(INDEX($B$7:$Q$1503,$T9,COLUMNS($Z$7:AK9))))","v":1736},{"$f":"IF(ISERROR(INDEX($B$7:$Q$1503,$T9,COLUMNS($Z$7:AL9))),\"\",(INDEX($B$7:$Q$1503,$T9,COLUMNS($Z$7:AL9))))","v":1114},{"$f":"IF(ISERROR(INDEX($B$7:$Q$1503,$T9,COLUMNS($Z$7:AM9))),\"\",(INDEX($B$7:$Q$1503,$T9,COLUMNS($Z$7:AM9))))","v":1642},{"$f":"IF(ISERROR(INDEX($B$7:$Q$1503,$T9,COLUMNS($Z$7:AN9))),\"\",(INDEX($B$7:$Q$1503,$T9,COLUMNS($Z$7:AN9))))","v":13353},{"$f":"IF(ISERROR(INDEX($B$7:$Q$1503,$T9,COLUMNS($Z$7:AO9))),\"\",(INDEX($B$7:$Q$1503,$T9,COLUMNS($Z$7:AO9))))","v":0}]
[null,"Alytaus r. sav.","Neišregistruotų juridinių asmenų skaičius metų pradžioje | vnt.",766,779,810,846,886,928,983,984,1041,1101,1187,1281,1307,{"$f":"HLOOKUP(B10,'[1]2023_neišreg'!$B$2:$BT$23,22,FALSE)","v":1393},{"$f":"ROWS($R$7:R10)","v":4},"",{"$f":"IF(ISERROR(SMALL($S$7:$S$1504,ROWS($S$7:S10))),\"\",SMALL($S$7:$S$1504,ROWS($S$7:S10)))","v":283},"",{"$f":"IF(ISERROR(SMALL($U$7:$U$1504,ROWS(U$7:$U10))),\"\",SMALL($U$7:$U$1504,ROWS(U$7:$U10)))","v":276},"",{"$f":"IF(ISERROR(SMALL($W$7:$W$1504,ROWS($W$7:W10))),\"\",SMALL($W$7:$W$1504,ROWS($W$7:W10)))","v":214},null,{"$f":"IF(ISERROR(INDEX($B$7:$K$1503,$T10,COLUMNS($Z$7:Z10))),\"\",(INDEX($B$7:$K$1503,$T10,COLUMNS($Z$7:Z10))))","v":"Vilniaus m. sav."},{"$f":"IF(ISERROR(INDEX($B$7:$K$1503,$T10,COLUMNS($Z$7:AA10))),\"\",(INDEX($B$7:$K$1503,$T10,COLUMNS($Z$7:AA10))))","v":"Per metus įregistruota mažų ir vidutinių įmonių | vnt."},{"$f":"IF(ISERROR(INDEX($B$7:$Q$1503,$T10,COLUMNS($Z$7:AB10))),\"\",(INDEX($B$7:$Q$1503,$T10,COLUMNS($Z$7:AB10))))","v":3308},{"$f":"IF(ISERROR(INDEX($B$7:$Q$1503,$T10,COLUMNS($Z$7:AC10))),\"\",(INDEX($B$7:$Q$1503,$T10,COLUMNS($Z$7:AC10))))","v":4241},{"$f":"IF(ISERROR(INDEX($B$7:$Q$1503,$T10,COLUMNS($Z$7:AD10))),\"\",(INDEX($B$7:$Q$1503,$T10,COLUMNS($Z$7:AD10))))","v":6742},{"$f":"IF(ISERROR(INDEX($B$7:$Q$1503,$T10,COLUMNS($Z$7:AE10))),\"\",(INDEX($B$7:$Q$1503,$T10,COLUMNS($Z$7:AE10))))","v":6205},{"$f":"IF(ISERROR(INDEX($B$7:$Q$1503,$T10,COLUMNS($Z$7:AF10))),\"\",(INDEX($B$7:$Q$1503,$T10,COLUMNS($Z$7:AF10))))","v":6546},{"$f":"IF(ISERROR(INDEX($B$7:$Q$1503,$T10,COLUMNS($Z$7:AG10))),\"\",(INDEX($B$7:$Q$1503,$T10,COLUMNS($Z$7:AG10))))","v":3747},{"$f":"IF(ISERROR(INDEX($B$7:$Q$1503,$T10,COLUMNS($Z$7:AH10))),\"\",(INDEX($B$7:$Q$1503,$T10,COLUMNS($Z$7:AH10))))","v":3948},{"$f":"IF(ISERROR(INDEX($B$7:$Q$1503,$T10,COLUMNS($Z$7:AI10))),\"\",(INDEX($B$7:$Q$1503,$T10,COLUMNS($Z$7:AI10))))","v":4486},{"$f":"IF(ISERROR(INDEX($B$7:$Q$1503,$T10,COLUMNS($Z$7:AJ10))),\"\",(INDEX($B$7:$Q$1503,$T10,COLUMNS($Z$7:AJ10))))","v":4460},{"$f":"IF(ISERROR(INDEX($B$7:$Q$1503,$T10,COLUMNS($Z$7:AK10))),\"\",(INDEX($B$7:$Q$1503,$T10,COLUMNS($Z$7:AK10))))","v":4761},{"$f":"IF(ISERROR(INDEX($B$7:$Q$1503,$T10,COLUMNS($Z$7:AL10))),\"\",(INDEX($B$7:$Q$1503,$T10,COLUMNS($Z$7:AL10))))","v":4815},{"$f":"IF(ISERROR(INDEX($B$7:$Q$1503,$T10,COLUMNS($Z$7:AM10))),\"\",(INDEX($B$7:$Q$1503,$T10,COLUMNS($Z$7:AM10))))","v":6047},{"$f":"IF(ISERROR(INDEX($B$7:$Q$1503,$T10,COLUMNS($Z$7:AN10))),\"\",(INDEX($B$7:$Q$1503,$T10,COLUMNS($Z$7:AN10))))","v":6041},{"$f":"IF(ISERROR(INDEX($B$7:$Q$1503,$T10,COLUMNS($Z$7:AO10))),\"\",(INDEX($B$7:$Q$1503,$T10,COLUMNS($Z$7:AO10))))","v":0}]
[null,"Druskininkų sav.","Neišregistruotų juridinių asmenų skaičius metų pradžioje | vnt.",1121,1151,1209,1302,1354,1413,1409,1328,1355,1372,1376,1402,1362,{"$f":"HLOOKUP(B11,'[1]2023_neišreg'!$B$2:$BT$23,22,FALSE)","v":1371},{"$f":"ROWS($R$7:R11)","v":5},"",{"$f":"IF(ISERROR(SMALL($S$7:$S$1504,ROWS($S$7:S11))),\"\",SMALL($S$7:$S$1504,ROWS($S$7:S11)))","v":355},"",{"$f":"IF(ISERROR(SMALL($U$7:$U$1504,ROWS(U$7:$U11))),\"\",SMALL($U$7:$U$1504,ROWS(U$7:$U11)))","v":348},"",{"$f":"IF(ISERROR(SMALL($W$7:$W$1504,ROWS($W$7:W11))),\"\",SMALL($W$7:$W$1504,ROWS($W$7:W11)))","v":285},null,{"$f":"IF(ISERROR(INDEX($B$7:$K$1503,$T11,COLUMNS($Z$7:Z11))),\"\",(INDEX($B$7:$K$1503,$T11,COLUMNS($Z$7:Z11))))","v":"Vilniaus m. sav."},{"$f":"IF(ISERROR(INDEX($B$7:$K$1503,$T11,COLUMNS($Z$7:AA11))),\"\",(INDEX($B$7:$K$1503,$T11,COLUMNS($Z$7:AA11))))","v":"Per metus išregistruota mažų ir vidutinių įmonių | vnt."},{"$f":"IF(ISERROR(INDEX($B$7:$Q$1503,$T11,COLUMNS($Z$7:AB11))),\"\",(INDEX($B$7:$Q$1503,$T11,COLUMNS($Z$7:AB11))))","v":2247},{"$f":"IF(ISERROR(INDEX($B$7:$Q$1503,$T11,COLUMNS($Z$7:AC11))),\"\",(INDEX($B$7:$Q$1503,$T11,COLUMNS($Z$7:AC11))))","v":1328},{"$f":"IF(ISERROR(INDEX($B$7:$Q$1503,$T11,COLUMNS($Z$7:AD11))),\"\",(INDEX($B$7:$Q$1503,$T11,COLUMNS($Z$7:AD11))))","v":1325},{"$f":"IF(ISERROR(INDEX($B$7:$Q$1503,$T11,COLUMNS($Z$7:AE11))),\"\",(INDEX($B$7:$Q$1503,$T11,COLUMNS($Z$7:AE11))))","v":1326},{"$f":"IF(ISERROR(INDEX($B$7:$Q$1503,$T11,COLUMNS($Z$7:AF11))),\"\",(INDEX($B$7:$Q$1503,$T11,COLUMNS($Z$7:AF11))))","v":1456},{"$f":"IF(ISERROR(INDEX($B$7:$Q$1503,$T11,COLUMNS($Z$7:AG11))),\"\",(INDEX($B$7:$Q$1503,$T11,COLUMNS($Z$7:AG11))))","v":1744},{"$f":"IF(ISERROR(INDEX($B$7:$Q$1503,$T11,COLUMNS($Z$7:AH11))),\"\",(INDEX($B$7:$Q$1503,$T11,COLUMNS($Z$7:AH11))))","v":5755},{"$f":"IF(ISERROR(INDEX($B$7:$Q$1503,$T11,COLUMNS($Z$7:AI11))),\"\",(INDEX($B$7:$Q$1503,$T11,COLUMNS($Z$7:AI11))))","v":1451},{"$f":"IF(ISERROR(INDEX($B$7:$Q$1503,$T11,COLUMNS($Z$7:AJ11))),\"\",(INDEX($B$7:$Q$1503,$T11,COLUMNS($Z$7:AJ11))))","v":1529},{"$f":"IF(ISERROR(INDEX($B$7:$Q$1503,$T11,COLUMNS($Z$7:AK11))),\"\",(INDEX($B$7:$Q$1503,$T11,COLUMNS($Z$7:AK11))))","v":1497},{"$f":"IF(ISERROR(INDEX($B$7:$Q$1503,$T11,COLUMNS($Z$7:AL11))),\"\",(INDEX($B$7:$Q$1503,$T11,COLUMNS($Z$7:AL11))))","v":987},{"$f":"IF(ISERROR(INDEX($B$7:$Q$1503,$T11,COLUMNS($Z$7:AM11))),\"\",(INDEX($B$7:$Q$1503,$T11,COLUMNS($Z$7:AM11))))","v":1350},{"$f":"IF(ISERROR(INDEX($B$7:$Q$1503,$T11,COLUMNS($Z$7:AN11))),\"\",(INDEX($B$7:$Q$1503,$T11,COLUMNS($Z$7:AN11))))","v":9497},{"$f":"IF(ISERROR(INDEX($B$7:$Q$1503,$T11,COLUMNS($Z$7:AO11))),\"\",(INDEX($B$7:$Q$1503,$T11,COLUMNS($Z$7:AO11))))","v":0}]
[null,"Lazdijų r. sav.","Neišregistruotų juridinių asmenų skaičius metų pradžioje | vnt.",562,565,592,602,625,629,634,620,626,663,700,751,759,{"$f":"HLOOKUP(B12,'[1]2023_neišreg'!$B$2:$BT$23,22,FALSE)","v":784},{"$f":"ROWS($R$7:R12)","v":6},"",{"$f":"IF(ISERROR(SMALL($S$7:$S$1504,ROWS($S$7:S12))),\"\",SMALL($S$7:$S$1504,ROWS($S$7:S12)))","v":427},"",{"$f":"IF(ISERROR(SMALL($U$7:$U$1504,ROWS(U$7:$U12))),\"\",SMALL($U$7:$U$1504,ROWS(U$7:$U12)))","v":420},"",{"$f":"IF(ISERROR(SMALL($W$7:$W$1504,ROWS($W$7:W12))),\"\",SMALL($W$7:$W$1504,ROWS($W$7:W12)))","v":357},null,{"$f":"IF(ISERROR(INDEX($B$7:$K$1503,$T12,COLUMNS($Z$7:Z12))),\"\",(INDEX($B$7:$K$1503,$T12,COLUMNS($Z$7:Z12))))","v":"Vilniaus m. sav."},{"$f":"IF(ISERROR(INDEX($B$7:$K$1503,$T12,COLUMNS($Z$7:AA12))),\"\",(INDEX($B$7:$K$1503,$T12,COLUMNS($Z$7:AA12))))","v":"Veikiančių mažų ir vidutinių įmonių skaičius metų pradžioje | vnt."},{"$f":"IF(ISERROR(INDEX($B$7:$Q$1503,$T12,COLUMNS($Z$7:AB12))),\"\",(INDEX($B$7:$Q$1503,$T12,COLUMNS($Z$7:AB12))))","v":20753},{"$f":"IF(ISERROR(INDEX($B$7:$Q$1503,$T12,COLUMNS($Z$7:AC12))),\"\",(INDEX($B$7:$Q$1503,$T12,COLUMNS($Z$7:AC12))))","v":21816},{"$f":"IF(ISERROR(INDEX($B$7:$Q$1503,$T12,COLUMNS($Z$7:AD12))),\"\",(INDEX($B$7:$Q$1503,$T12,COLUMNS($Z$7:AD12))))","v":21047},{"$f":"IF(ISERROR(INDEX($B$7:$Q$1503,$T12,COLUMNS($Z$7:AE12))),\"\",(INDEX($B$7:$Q$1503,$T12,COLUMNS($Z$7:AE12))))","v":22659},{"$f":"IF(ISERROR(INDEX($B$7:$Q$1503,$T12,COLUMNS($Z$7:AF12))),\"\",(INDEX($B$7:$Q$1503,$T12,COLUMNS($Z$7:AF12))))","v":23958},{"$f":"IF(ISERROR(INDEX($B$7:$Q$1503,$T12,COLUMNS($Z$7:AG12))),\"\",(INDEX($B$7:$Q$1503,$T12,COLUMNS($Z$7:AG12))))","v":28081},{"$f":"IF(ISERROR(INDEX($B$7:$Q$1503,$T12,COLUMNS($Z$7:AH12))),\"\",(INDEX($B$7:$Q$1503,$T12,COLUMNS($Z$7:AH12))))","v":29670},{"$f":"IF(ISERROR(INDEX($B$7:$Q$1503,$T12,COLUMNS($Z$7:AI12))),\"\",(INDEX($B$7:$Q$1503,$T12,COLUMNS($Z$7:AI12))))","v":30531},{"$f":"IF(ISERROR(INDEX($B$7:$Q$1503,$T12,COLUMNS($Z$7:AJ12))),\"\",(INDEX($B$7:$Q$1503,$T12,COLUMNS($Z$7:AJ12))))","v":30213},{"$f":"IF(ISERROR(INDEX($B$7:$Q$1503,$T12,COLUMNS($Z$7:AK12))),\"\",(INDEX($B$7:$Q$1503,$T12,COLUMNS($Z$7:AK12))))","v":30516},{"$f":"IF(ISERROR(INDEX($B$7:$Q$1503,$T12,COLUMNS($Z$7:AL12))),\"\",(INDEX($B$7:$Q$1503,$T12,COLUMNS($Z$7:AL12))))","v":31392},{"$f":"IF(ISERROR(INDEX($B$7:$Q$1503,$T12,COLUMNS($Z$7:AM12))),\"\",(INDEX($B$7:$Q$1503,$T12,COLUMNS($Z$7:AM12))))","v":31618},{"$f":"IF(ISERROR(INDEX($B$7:$Q$1503,$T12,COLUMNS($Z$7:AN12))),\"\",(INDEX($B$7:$Q$1503,$T12,COLUMNS($Z$7:AN12))))","v":33781},{"$f":"IF(ISERROR(INDEX($B$7:$Q$1503,$T12,COLUMNS($Z$7:AO12))),\"\",(INDEX($B$7:$Q$1503,$T12,COLUMNS($Z$7:AO12))))","v":36228}]
[null,"Varėnos r. sav.","Neišregistruotų juridinių asmenų skaičius metų pradžioje | vnt.",900,905,926,955,952,968,971,910,935,960,994,1033,1037,{"$f":"HLOOKUP(B13,'[1]2023_neišreg'!$B$2:$BT$23,22,FALSE)","v":1066},{"$f":"ROWS($R$7:R13)","v":7},"",{"$f":"IF(ISERROR(SMALL($S$7:$S$1504,ROWS($S$7:S13))),\"\",SMALL($S$7:$S$1504,ROWS($S$7:S13)))","v":499},"",{"$f":"IF(ISERROR(SMALL($U$7:$U$1504,ROWS(U$7:$U13))),\"\",SMALL($U$7:$U$1504,ROWS(U$7:$U13)))","v":492},"",{"$f":"IF(ISERROR(SMALL($W$7:$W$1504,ROWS($W$7:W13))),\"\",SMALL($W$7:$W$1504,ROWS($W$7:W13)))","v":429},null,{"$f":"IF(ISERROR(INDEX($B$7:$K$1503,$T13,COLUMNS($Z$7:Z13))),\"\",(INDEX($B$7:$K$1503,$T13,COLUMNS($Z$7:Z13))))","v":"Vilniaus m. sav."},{"$f":"IF(ISERROR(INDEX($B$7:$K$1503,$T13,COLUMNS($Z$7:AA13))),\"\",(INDEX($B$7:$K$1503,$T13,COLUMNS($Z$7:AA13))))","v":"Veikiančių įmonių skaičius metų pradžioje | vnt."},{"$f":"IF(ISERROR(INDEX($B$7:$Q$1503,$T13,COLUMNS($Z$7:AB13))),\"\",(INDEX($B$7:$Q$1503,$T13,COLUMNS($Z$7:AB13))))","v":20908},{"$f":"IF(ISERROR(INDEX($B$7:$Q$1503,$T13,COLUMNS($Z$7:AC13))),\"\",(INDEX($B$7:$Q$1503,$T13,COLUMNS($Z$7:AC13))))","v":21940},{"$f":"IF(ISERROR(INDEX($B$7:$Q$1503,$T13,COLUMNS($Z$7:AD13))),\"\",(INDEX($B$7:$Q$1503,$T13,COLUMNS($Z$7:AD13))))","v":21169},{"$f":"IF(ISERROR(INDEX($B$7:$Q$1503,$T13,COLUMNS($Z$7:AE13))),\"\",(INDEX($B$7:$Q$1503,$T13,COLUMNS($Z$7:AE13))))","v":22783},{"$f":"IF(ISERROR(INDEX($B$7:$Q$1503,$T13,COLUMNS($Z$7:AF13))),\"\",(INDEX($B$7:$Q$1503,$T13,COLUMNS($Z$7:AF13))))","v":24095},{"$f":"IF(ISERROR(INDEX($B$7:$Q$1503,$T13,COLUMNS($Z$7:AG13))),\"\",(INDEX($B$7:$Q$1503,$T13,COLUMNS($Z$7:AG13))))","v":28222},{"$f":"IF(ISERROR(INDEX($B$7:$Q$1503,$T13,COLUMNS($Z$7:AH13))),\"\",(INDEX($B$7:$Q$1503,$T13,COLUMNS($Z$7:AH13))))","v":29822},{"$f":"IF(ISERROR(INDEX($B$7:$Q$1503,$T13,COLUMNS($Z$7:AI13))),\"\",(INDEX($B$7:$Q$1503,$T13,COLUMNS($Z$7:AI13))))","v":30680},{"$f":"IF(ISERROR(INDEX($B$7:$Q$1503,$T13,COLUMNS($Z$7:AJ13))),\"\",(INDEX($B$7:$Q$1503,$T13,COLUMNS($Z$7:AJ13))))","v":30360},{"$f":"IF(ISERROR(INDEX($B$7:$Q$1503,$T13,COLUMNS($Z$7:AK13))),\"\",(INDEX($B$7:$Q$1503,$T13,COLUMNS($Z$7:AK13))))","v":30675},{"$f":"IF(ISERROR(INDEX($B$7:$Q$1503,$T13,COLUMNS($Z$7:AL13))),\"\",(INDEX($B$7:$Q$1503,$T13,COLUMNS($Z$7:AL13))))","v":31560},{"$f":"IF(ISERROR(INDEX($B$7:$Q$1503,$T13,COLUMNS($Z$7:AM13))),\"\",(INDEX($B$7:$Q$1503,$T13,COLUMNS($Z$7:AM13))))","v":31799},{"$f":"IF(ISERROR(INDEX($B$7:$Q$1503,$T13,COLUMNS($Z$7:AN13))),\"\",(INDEX($B$7:$Q$1503,$T13,COLUMNS($Z$7:AN13))))","v":33960},{"$f":"IF(ISERROR(INDEX($B$7:$Q$1503,$T13,COLUMNS($Z$7:AO13))),\"\",(INDEX($B$7:$Q$1503,$T13,COLUMNS($Z$7:AO13))))","v":36408}]
[null,"Kauno apskritis","Neišregistruotų juridinių asmenų skaičius metų pradžioje | vnt.",36592,37210,38310,39948,41494,42822,44015,42331,43634,45034,46691,48718,49681,{"$f":"HLOOKUP(B14,'[1]2023_neišreg'!$B$2:$BT$23,22,FALSE)","v":48154},{"$f":"ROWS($R$7:R14)","v":8},"",{"$f":"IF(ISERROR(SMALL($S$7:$S$1504,ROWS($S$7:S14))),\"\",SMALL($S$7:$S$1504,ROWS($S$7:S14)))","v":570},"",{"$f":"IF(ISERROR(SMALL($U$7:$U$1504,ROWS(U$7:$U14))),\"\",SMALL($U$7:$U$1504,ROWS(U$7:$U14)))","v":563},"",{"$f":"IF(ISERROR(SMALL($W$7:$W$1504,ROWS($W$7:W14))),\"\",SMALL($W$7:$W$1504,ROWS($W$7:W14)))","v":501},null,{"$f":"IF(ISERROR(INDEX($B$7:$K$1503,$T14,COLUMNS($Z$7:Z14))),\"\",(INDEX($B$7:$K$1503,$T14,COLUMNS($Z$7:Z14))))","v":"Vilniaus m. sav."},{"$f":"IF(ISERROR(INDEX($B$7:$K$1503,$T14,COLUMNS($Z$7:AA14))),\"\",(INDEX($B$7:$K$1503,$T14,COLUMNS($Z$7:AA14))))","v":"Darbuotojų skaičius veikiančiose mažose ir vidutinėse įmonėse metų pradžioje | vnt."},{"$f":"IF(ISERROR(INDEX($B$7:$Q$1503,$T14,COLUMNS($Z$7:AB14))),\"\",(INDEX($B$7:$Q$1503,$T14,COLUMNS($Z$7:AB14))))","v":220646},{"$f":"IF(ISERROR(INDEX($B$7:$Q$1503,$T14,COLUMNS($Z$7:AC14))),\"\",(INDEX($B$7:$Q$1503,$T14,COLUMNS($Z$7:AC14))))","v":192432},{"$f":"IF(ISERROR(INDEX($B$7:$Q$1503,$T14,COLUMNS($Z$7:AD14))),\"\",(INDEX($B$7:$Q$1503,$T14,COLUMNS($Z$7:AD14))))","v":186157},{"$f":"IF(ISERROR(INDEX($B$7:$Q$1503,$T14,COLUMNS($Z$7:AE14))),\"\",(INDEX($B$7:$Q$1503,$T14,COLUMNS($Z$7:AE14))))","v":196564},{"$f":"IF(ISERROR(INDEX($B$7:$Q$1503,$T14,COLUMNS($Z$7:AF14))),\"\",(INDEX($B$7:$Q$1503,$T14,COLUMNS($Z$7:AF14))))","v":200480},{"$f":"IF(ISERROR(INDEX($B$7:$Q$1503,$T14,COLUMNS($Z$7:AG14))),\"\",(INDEX($B$7:$Q$1503,$T14,COLUMNS($Z$7:AG14))))","v":212049},{"$f":"IF(ISERROR(INDEX($B$7:$Q$1503,$T14,COLUMNS($Z$7:AH14))),\"\",(INDEX($B$7:$Q$1503,$T14,COLUMNS($Z$7:AH14))))","v":217827},{"$f":"IF(ISERROR(INDEX($B$7:$Q$1503,$T14,COLUMNS($Z$7:AI14))),\"\",(INDEX($B$7:$Q$1503,$T14,COLUMNS($Z$7:AI14))))","v":223023},{"$f":"IF(ISERROR(INDEX($B$7:$Q$1503,$T14,COLUMNS($Z$7:AJ14))),\"\",(INDEX($B$7:$Q$1503,$T14,COLUMNS($Z$7:AJ14))))","v":224590},{"$f":"IF(ISERROR(INDEX($B$7:$Q$1503,$T14,COLUMNS($Z$7:AK14))),\"\",(INDEX($B$7:$Q$1503,$T14,COLUMNS($Z$7:AK14))))","v":222943},{"$f":"IF(ISERROR(INDEX($B$7:$Q$1503,$T14,COLUMNS($Z$7:AL14))),\"\",(INDEX($B$7:$Q$1503,$T14,COLUMNS($Z$7:AL14))))","v":221149},{"$f":"IF(ISERROR(INDEX($B$7:$Q$1503,$T14,COLUMNS($Z$7:AM14))),\"\",(INDEX($B$7:$Q$1503,$T14,COLUMNS($Z$7:AM14))))","v":216689},{"$f":"IF(ISERROR(INDEX($B$7:$Q$1503,$T14,COLUMNS($Z$7:AN14))),\"\",(INDEX($B$7:$Q$1503,$T14,COLUMNS($Z$7:AN14))))","v":216992},{"$f":"IF(ISERROR(INDEX($B$7:$Q$1503,$T14,COLUMNS($Z$7:AO14))),\"\",(INDEX($B$7:$Q$1503,$T14,COLUMNS($Z$7:AO14))))","v":230859}]
[null,"Birštono sav.","Neišregistruotų juridinių asmenų skaičius metų pradžioje | vnt.",216,216,222,224,234,244,248,246,267,285,298,306,319,{"$f":"HLOOKUP(B15,'[1]2023_neišreg'!$B$2:$BT$23,22,FALSE)","v":325},{"$f":"ROWS($R$7:R15)","v":9},"",{"$f":"IF(ISERROR(SMALL($S$7:$S$1504,ROWS($S$7:S15))),\"\",SMALL($S$7:$S$1504,ROWS($S$7:S15)))","v":641},"",{"$f":"IF(ISERROR(SMALL($U$7:$U$1504,ROWS(U$7:$U15))),\"\",SMALL($U$7:$U$1504,ROWS(U$7:$U15)))","v":634},"",{"$f":"IF(ISERROR(SMALL($W$7:$W$1504,ROWS($W$7:W15))),\"\",SMALL($W$7:$W$1504,ROWS($W$7:W15)))","v":572},null,{"$f":"IF(ISERROR(INDEX($B$7:$K$1503,$T15,COLUMNS($Z$7:Z15))),\"\",(INDEX($B$7:$K$1503,$T15,COLUMNS($Z$7:Z15))))","v":"Vilniaus m. sav."},{"$f":"IF(ISERROR(INDEX($B$7:$K$1503,$T15,COLUMNS($Z$7:AA15))),\"\",(INDEX($B$7:$K$1503,$T15,COLUMNS($Z$7:AA15))))","v":"Darbuotojų skaičius veikiančiose įmonėse metų pradžioje | vnt."},{"$f":"IF(ISERROR(INDEX($B$7:$Q$1503,$T15,COLUMNS($Z$7:AB15))),\"\",(INDEX($B$7:$Q$1503,$T15,COLUMNS($Z$7:AB15))))","v":370515},{"$f":"IF(ISERROR(INDEX($B$7:$Q$1503,$T15,COLUMNS($Z$7:AC15))),\"\",(INDEX($B$7:$Q$1503,$T15,COLUMNS($Z$7:AC15))))","v":303804},{"$f":"IF(ISERROR(INDEX($B$7:$Q$1503,$T15,COLUMNS($Z$7:AD15))),\"\",(INDEX($B$7:$Q$1503,$T15,COLUMNS($Z$7:AD15))))","v":296663},{"$f":"IF(ISERROR(INDEX($B$7:$Q$1503,$T15,COLUMNS($Z$7:AE15))),\"\",(INDEX($B$7:$Q$1503,$T15,COLUMNS($Z$7:AE15))))","v":314042},{"$f":"IF(ISERROR(INDEX($B$7:$Q$1503,$T15,COLUMNS($Z$7:AF15))),\"\",(INDEX($B$7:$Q$1503,$T15,COLUMNS($Z$7:AF15))))","v":323015},{"$f":"IF(ISERROR(INDEX($B$7:$Q$1503,$T15,COLUMNS($Z$7:AG15))),\"\",(INDEX($B$7:$Q$1503,$T15,COLUMNS($Z$7:AG15))))","v":339027},{"$f":"IF(ISERROR(INDEX($B$7:$Q$1503,$T15,COLUMNS($Z$7:AH15))),\"\",(INDEX($B$7:$Q$1503,$T15,COLUMNS($Z$7:AH15))))","v":350764},{"$f":"IF(ISERROR(INDEX($B$7:$Q$1503,$T15,COLUMNS($Z$7:AI15))),\"\",(INDEX($B$7:$Q$1503,$T15,COLUMNS($Z$7:AI15))))","v":353527},{"$f":"IF(ISERROR(INDEX($B$7:$Q$1503,$T15,COLUMNS($Z$7:AJ15))),\"\",(INDEX($B$7:$Q$1503,$T15,COLUMNS($Z$7:AJ15))))","v":358469},{"$f":"IF(ISERROR(INDEX($B$7:$Q$1503,$T15,COLUMNS($Z$7:AK15))),\"\",(INDEX($B$7:$Q$1503,$T15,COLUMNS($Z$7:AK15))))","v":357993},{"$f":"IF(ISERROR(INDEX($B$7:$Q$1503,$T15,COLUMNS($Z$7:AL15))),\"\",(INDEX($B$7:$Q$1503,$T15,COLUMNS($Z$7:AL15))))","v":361636},{"$f":"IF(ISERROR(INDEX($B$7:$Q$1503,$T15,COLUMNS($Z$7:AM15))),\"\",(INDEX($B$7:$Q$1503,$T15,COLUMNS($Z$7:AM15))))","v":362206},{"$f":"IF(ISERROR(INDEX($B$7:$Q$1503,$T15,COLUMNS($Z$7:AN15))),\"\",(INDEX($B$7:$Q$1503,$T15,COLUMNS($Z$7:AN15))))","v":361777},{"$f":"IF(ISERROR(INDEX($B$7:$Q$1503,$T15,COLUMNS($Z$7:AO15))),\"\",(INDEX($B$7:$Q$1503,$T15,COLUMNS($Z$7:AO15))))","v":378169}]
[null,"Jonavos r. sav.","Neišregistruotų juridinių asmenų skaičius metų pradžioje | vnt.",1741,1766,1792,1833,1902,1965,1955,1888,1932,1966,2052,2130,2132,{"$f":"HLOOKUP(B16,'[1]2023_neišreg'!$B$2:$BT$23,22,FALSE)","v":2075},{"$f":"ROWS($R$7:R16)","v":10},"",{"$f":"IF(ISERROR(SMALL($S$7:$S$1504,ROWS($S$7:S16))),\"\",SMALL($S$7:$S$1504,ROWS($S$7:S16)))","v":712},"",{"$f":"IF(ISERROR(SMALL($U$7:$U$1504,ROWS(U$7:$U16))),\"\",SMALL($U$7:$U$1504,ROWS(U$7:$U16)))","v":705},"",{"$f":"IF(ISERROR(SMALL($W$7:$W$1504,ROWS($W$7:W16))),\"\",SMALL($W$7:$W$1504,ROWS($W$7:W16)))","v":643},null,{"$f":"IF(ISERROR(INDEX($B$7:$K$1503,$T16,COLUMNS($Z$7:Z16))),\"\",(INDEX($B$7:$K$1503,$T16,COLUMNS($Z$7:Z16))))","v":"Vilniaus m. sav."},{"$f":"IF(ISERROR(INDEX($B$7:$K$1503,$T16,COLUMNS($Z$7:AA16))),\"\",(INDEX($B$7:$K$1503,$T16,COLUMNS($Z$7:AA16))))","v":"Asmenys, įsigiję verslo liudijimus | vnt."},{"$f":"IF(ISERROR(INDEX($B$7:$Q$1503,$T16,COLUMNS($Z$7:AB16))),\"\",(INDEX($B$7:$Q$1503,$T16,COLUMNS($Z$7:AB16))))","v":""},{"$f":"IF(ISERROR(INDEX($B$7:$Q$1503,$T16,COLUMNS($Z$7:AC16))),\"\",(INDEX($B$7:$Q$1503,$T16,COLUMNS($Z$7:AC16))))","v":18717},{"$f":"IF(ISERROR(INDEX($B$7:$Q$1503,$T16,COLUMNS($Z$7:AD16))),\"\",(INDEX($B$7:$Q$1503,$T16,COLUMNS($Z$7:AD16))))","v":16996},{"$f":"IF(ISERROR(INDEX($B$7:$Q$1503,$T16,COLUMNS($Z$7:AE16))),\"\",(INDEX($B$7:$Q$1503,$T16,COLUMNS($Z$7:AE16))))","v":16984},{"$f":"IF(ISERROR(INDEX($B$7:$Q$1503,$T16,COLUMNS($Z$7:AF16))),\"\",(INDEX($B$7:$Q$1503,$T16,COLUMNS($Z$7:AF16))))","v":19062},{"$f":"IF(ISERROR(INDEX($B$7:$Q$1503,$T16,COLUMNS($Z$7:AG16))),\"\",(INDEX($B$7:$Q$1503,$T16,COLUMNS($Z$7:AG16))))","v":20503},{"$f":"IF(ISERROR(INDEX($B$7:$Q$1503,$T16,COLUMNS($Z$7:AH16))),\"\",(INDEX($B$7:$Q$1503,$T16,COLUMNS($Z$7:AH16))))","v":22494},{"$f":"IF(ISERROR(INDEX($B$7:$Q$1503,$T16,COLUMNS($Z$7:AI16))),\"\",(INDEX($B$7:$Q$1503,$T16,COLUMNS($Z$7:AI16))))","v":22974},{"$f":"IF(ISERROR(INDEX($B$7:$Q$1503,$T16,COLUMNS($Z$7:AJ16))),\"\",(INDEX($B$7:$Q$1503,$T16,COLUMNS($Z$7:AJ16))))","v":22526},{"$f":"IF(ISERROR(INDEX($B$7:$Q$1503,$T16,COLUMNS($Z$7:AK16))),\"\",(INDEX($B$7:$Q$1503,$T16,COLUMNS($Z$7:AK16))))","v":25788},{"$f":"IF(ISERROR(INDEX($B$7:$Q$1503,$T16,COLUMNS($Z$7:AL16))),\"\",(INDEX($B$7:$Q$1503,$T16,COLUMNS($Z$7:AL16))))","v":24031},{"$f":"IF(ISERROR(INDEX($B$7:$Q$1503,$T16,COLUMNS($Z$7:AM16))),\"\",(INDEX($B$7:$Q$1503,$T16,COLUMNS($Z$7:AM16))))","v":23009},{"$f":"IF(ISERROR(INDEX($B$7:$Q$1503,$T16,COLUMNS($Z$7:AN16))),\"\",(INDEX($B$7:$Q$1503,$T16,COLUMNS($Z$7:AN16))))","v":26390},{"$f":"IF(ISERROR(INDEX($B$7:$Q$1503,$T16,COLUMNS($Z$7:AO16))),\"\",(INDEX($B$7:$Q$1503,$T16,COLUMNS($Z$7:AO16))))","v":0}]
[null,"Kaišiadorių r. sav.","Neišregistruotų juridinių asmenų skaičius metų pradžioje | vnt.",1000,1016,1049,1101,1143,1171,1197,1176,1222,1256,1309,1369,1429,{"$f":"HLOOKUP(B17,'[1]2023_neišreg'!$B$2:$BT$23,22,FALSE)","v":1432},{"$f":"ROWS($R$7:R17)","v":11},"",{"$f":"IF(ISERROR(SMALL($S$7:$S$1504,ROWS($S$7:S17))),\"\",SMALL($S$7:$S$1504,ROWS($S$7:S17)))","v":783},"",{"$f":"IF(ISERROR(SMALL($U$7:$U$1504,ROWS(U$7:$U17))),\"\",SMALL($U$7:$U$1504,ROWS(U$7:$U17)))","v":776},"",{"$f":"IF(ISERROR(SMALL($W$7:$W$1504,ROWS($W$7:W17))),\"\",SMALL($W$7:$W$1504,ROWS($W$7:W17)))","v":714},null,{"$f":"IF(ISERROR(INDEX($B$7:$K$1503,$T17,COLUMNS($Z$7:Z17))),\"\",(INDEX($B$7:$K$1503,$T17,COLUMNS($Z$7:Z17))))","v":"Vilniaus m. sav."},{"$f":"IF(ISERROR(INDEX($B$7:$K$1503,$T17,COLUMNS($Z$7:AA17))),\"\",(INDEX($B$7:$K$1503,$T17,COLUMNS($Z$7:AA17))))","v":"Veikiančios MVĮ tenkančios 1000 gyventojų metų pradžioje | vnt."},{"$f":"IF(ISERROR(INDEX($B$7:$Q$1503,$T17,COLUMNS($Z$7:AB17))),\"\",(INDEX($B$7:$Q$1503,$T17,COLUMNS($Z$7:AB17))))","v":38.205714012198285},{"$f":"IF(ISERROR(INDEX($B$7:$Q$1503,$T17,COLUMNS($Z$7:AC17))),\"\",(INDEX($B$7:$Q$1503,$T17,COLUMNS($Z$7:AC17))))","v":40.691850997991146},{"$f":"IF(ISERROR(INDEX($B$7:$Q$1503,$T17,COLUMNS($Z$7:AD17))),\"\",(INDEX($B$7:$Q$1503,$T17,COLUMNS($Z$7:AD17))))","v":39.467145715469762},{"$f":"IF(ISERROR(INDEX($B$7:$Q$1503,$T17,COLUMNS($Z$7:AE17))),\"\",(INDEX($B$7:$Q$1503,$T17,COLUMNS($Z$7:AE17))))","v":42.183590492076732},{"$f":"IF(ISERROR(INDEX($B$7:$Q$1503,$T17,COLUMNS($Z$7:AF17))),\"\",(INDEX($B$7:$Q$1503,$T17,COLUMNS($Z$7:AF17))))","v":44.390752760294014},{"$f":"IF(ISERROR(INDEX($B$7:$Q$1503,$T17,COLUMNS($Z$7:AG17))),\"\",(INDEX($B$7:$Q$1503,$T17,COLUMNS($Z$7:AG17))))","v":51.750192581999386},{"$f":"IF(ISERROR(INDEX($B$7:$Q$1503,$T17,COLUMNS($Z$7:AH17))),\"\",(INDEX($B$7:$Q$1503,$T17,COLUMNS($Z$7:AH17))))","v":54.59131948341561},{"$f":"IF(ISERROR(INDEX($B$7:$Q$1503,$T17,COLUMNS($Z$7:AI17))),\"\",(INDEX($B$7:$Q$1503,$T17,COLUMNS($Z$7:AI17))))","v":55.991417253521128},{"$f":"IF(ISERROR(INDEX($B$7:$Q$1503,$T17,COLUMNS($Z$7:AJ17))),\"\",(INDEX($B$7:$Q$1503,$T17,COLUMNS($Z$7:AJ17))))","v":55.185174361259875},{"$f":"IF(ISERROR(INDEX($B$7:$Q$1503,$T17,COLUMNS($Z$7:AK17))),\"\",(INDEX($B$7:$Q$1503,$T17,COLUMNS($Z$7:AK17))))","v":55.26949220384293},{"$f":"IF(ISERROR(INDEX($B$7:$Q$1503,$T17,COLUMNS($Z$7:AL17))),\"\",(INDEX($B$7:$Q$1503,$T17,COLUMNS($Z$7:AL17))))","v":55.854669679554469},{"$f":"IF(ISERROR(INDEX($B$7:$Q$1503,$T17,COLUMNS($Z$7:AM17))),\"\",(INDEX($B$7:$Q$1503,$T17,COLUMNS($Z$7:AM17))))","v":56.816834085068912},{"$f":"IF(ISERROR(INDEX($B$7:$Q$1503,$T17,COLUMNS($Z$7:AN17))),\"\",(INDEX($B$7:$Q$1503,$T17,COLUMNS($Z$7:AN17))))","v":60.000497325101421},{"$f":"IF(ISERROR(INDEX($B$7:$Q$1503,$T17,COLUMNS($Z$7:AO17))),\"\",(INDEX($B$7:$Q$1503,$T17,COLUMNS($Z$7:AO17))))","v":61.234010330746138}]
[null,"Kauno m. sav.","Neišregistruotų juridinių asmenų skaičius metų pradžioje | vnt.",25600,26021,26627,27657,28759,29666,30468,29033,29851,30676,31600,32799,33113,{"$f":"HLOOKUP(B18,'[1]2023_neišreg'!$B$2:$BT$23,22,FALSE)","v":31606},{"$f":"ROWS($R$7:R18)","v":12},"",{"$f":"IF(ISERROR(SMALL($S$7:$S$1504,ROWS($S$7:S18))),\"\",SMALL($S$7:$S$1504,ROWS($S$7:S18)))","v":854},"",{"$f":"IF(ISERROR(SMALL($U$7:$U$1504,ROWS(U$7:$U18))),\"\",SMALL($U$7:$U$1504,ROWS(U$7:$U18)))","v":847},"",{"$f":"IF(ISERROR(SMALL($W$7:$W$1504,ROWS($W$7:W18))),\"\",SMALL($W$7:$W$1504,ROWS($W$7:W18)))","v":785},null,{"$f":"IF(ISERROR(INDEX($B$7:$K$1503,$T18,COLUMNS($Z$7:Z18))),\"\",(INDEX($B$7:$K$1503,$T18,COLUMNS($Z$7:Z18))))","v":"Vilniaus m. sav."},{"$f":"IF(ISERROR(INDEX($B$7:$K$1503,$T18,COLUMNS($Z$7:AA18))),\"\",(INDEX($B$7:$K$1503,$T18,COLUMNS($Z$7:AA18))))","v":"Išgyvenusių 1 metus ir 1 dieną ir nepakeitusių statuso iš veikianti į kitą įmonių dalis tarp visų prieš metus įregistruotų įmonių | %"},{"$f":"IF(ISERROR(INDEX($B$7:$Q$1503,$T18,COLUMNS($Z$7:AB18))),\"\",(INDEX($B$7:$Q$1503,$T18,COLUMNS($Z$7:AB18))))","v":49.793217535153019},{"$f":"IF(ISERROR(INDEX($B$7:$Q$1503,$T18,COLUMNS($Z$7:AC18))),\"\",(INDEX($B$7:$Q$1503,$T18,COLUMNS($Z$7:AC18))))","v":47.542967804405713},{"$f":"IF(ISERROR(INDEX($B$7:$Q$1503,$T18,COLUMNS($Z$7:AD18))),\"\",(INDEX($B$7:$Q$1503,$T18,COLUMNS($Z$7:AD18))))","v":41.387559808612437},{"$f":"IF(ISERROR(INDEX($B$7:$Q$1503,$T18,COLUMNS($Z$7:AE18))),\"\",(INDEX($B$7:$Q$1503,$T18,COLUMNS($Z$7:AE18))))","v":26.652592690328543},{"$f":"IF(ISERROR(INDEX($B$7:$Q$1503,$T18,COLUMNS($Z$7:AF18))),\"\",(INDEX($B$7:$Q$1503,$T18,COLUMNS($Z$7:AF18))))","v":24.542334096109837},{"$f":"IF(ISERROR(INDEX($B$7:$Q$1503,$T18,COLUMNS($Z$7:AG18))),\"\",(INDEX($B$7:$Q$1503,$T18,COLUMNS($Z$7:AG18))))","v":24.891481280520889},{"$f":"IF(ISERROR(INDEX($B$7:$Q$1503,$T18,COLUMNS($Z$7:AH18))),\"\",(INDEX($B$7:$Q$1503,$T18,COLUMNS($Z$7:AH18))))","v":33.73290302750884},{"$f":"IF(ISERROR(INDEX($B$7:$Q$1503,$T18,COLUMNS($Z$7:AI18))),\"\",(INDEX($B$7:$Q$1503,$T18,COLUMNS($Z$7:AI18))))","v":36.958354409037263},{"$f":"IF(ISERROR(INDEX($B$7:$Q$1503,$T18,COLUMNS($Z$7:AJ18))),\"\",(INDEX($B$7:$Q$1503,$T18,COLUMNS($Z$7:AJ18))))","v":23.920265780730897},{"$f":"IF(ISERROR(INDEX($B$7:$Q$1503,$T18,COLUMNS($Z$7:AK18))),\"\",(INDEX($B$7:$Q$1503,$T18,COLUMNS($Z$7:AK18))))","v":21.068020929516774},{"$f":"IF(ISERROR(INDEX($B$7:$Q$1503,$T18,COLUMNS($Z$7:AL18))),\"\",(INDEX($B$7:$Q$1503,$T18,COLUMNS($Z$7:AL18))))","v":0},{"$f":"IF(ISERROR(INDEX($B$7:$Q$1503,$T18,COLUMNS($Z$7:AM18))),\"\",(INDEX($B$7:$Q$1503,$T18,COLUMNS($Z$7:AM18))))","v":0},{"$f":"IF(ISERROR(INDEX($B$7:$Q$1503,$T18,COLUMNS($Z$7:AN18))),\"\",(INDEX($B$7:$Q$1503,$T18,COLUMNS($Z$7:AN18))))","v":0},{"$f":"IF(ISERROR(INDEX($B$7:$Q$1503,$T18,COLUMNS($Z$7:AO18))),\"\",(INDEX($B$7:$Q$1503,$T18,COLUMNS($Z$7:AO18))))","v":0}]
[null,"Kauno r. sav.","Neišregistruotų juridinių asmenų skaičius metų pradžioje | vnt.",3823,3963,4260,4661,4891,5145,5401,5449,5742,6125,6553,7042,7478,{"$f":"HLOOKUP(B19,'[1]2023_neišreg'!$B$2:$BT$23,22,FALSE)","v":7511},{"$f":"ROWS($R$7:R19)","v":13},"",{"$f":"IF(ISERROR(SMALL($S$7:$S$1504,ROWS($S$7:S19))),\"\",SMALL($S$7:$S$1504,ROWS($S$7:S19)))","v":925},"",{"$f":"IF(ISERROR(SMALL($U$7:$U$1504,ROWS(U$7:$U19))),\"\",SMALL($U$7:$U$1504,ROWS(U$7:$U19)))","v":918},"",{"$f":"IF(ISERROR(SMALL($W$7:$W$1504,ROWS($W$7:W19))),\"\",SMALL($W$7:$W$1504,ROWS($W$7:W19)))","v":856},null,{"$f":"IF(ISERROR(INDEX($B$7:$K$1503,$T19,COLUMNS($Z$7:Z19))),\"\",(INDEX($B$7:$K$1503,$T19,COLUMNS($Z$7:Z19))))","v":"Vilniaus m. sav."},{"$f":"IF(ISERROR(INDEX($B$7:$K$1503,$T19,COLUMNS($Z$7:AA19))),\"\",(INDEX($B$7:$K$1503,$T19,COLUMNS($Z$7:AA19))))","v":"Registruoti bedarbiai | tūkst."},{"$f":"IF(ISERROR(INDEX($B$7:$Q$1503,$T19,COLUMNS($Z$7:AB19))),\"\",(INDEX($B$7:$Q$1503,$T19,COLUMNS($Z$7:AB19))))","v":50.6},{"$f":"IF(ISERROR(INDEX($B$7:$Q$1503,$T19,COLUMNS($Z$7:AC19))),\"\",(INDEX($B$7:$Q$1503,$T19,COLUMNS($Z$7:AC19))))","v":37.6},{"$f":"IF(ISERROR(INDEX($B$7:$Q$1503,$T19,COLUMNS($Z$7:AD19))),\"\",(INDEX($B$7:$Q$1503,$T19,COLUMNS($Z$7:AD19))))","v":31.3},{"$f":"IF(ISERROR(INDEX($B$7:$Q$1503,$T19,COLUMNS($Z$7:AE19))),\"\",(INDEX($B$7:$Q$1503,$T19,COLUMNS($Z$7:AE19))))","v":28.1},{"$f":"IF(ISERROR(INDEX($B$7:$Q$1503,$T19,COLUMNS($Z$7:AF19))),\"\",(INDEX($B$7:$Q$1503,$T19,COLUMNS($Z$7:AF19))))","v":23.8},{"$f":"IF(ISERROR(INDEX($B$7:$Q$1503,$T19,COLUMNS($Z$7:AG19))),\"\",(INDEX($B$7:$Q$1503,$T19,COLUMNS($Z$7:AG19))))","v":22.2},{"$f":"IF(ISERROR(INDEX($B$7:$Q$1503,$T19,COLUMNS($Z$7:AH19))),\"\",(INDEX($B$7:$Q$1503,$T19,COLUMNS($Z$7:AH19))))","v":20.513999999999999},{"$f":"IF(ISERROR(INDEX($B$7:$Q$1503,$T19,COLUMNS($Z$7:AI19))),\"\",(INDEX($B$7:$Q$1503,$T19,COLUMNS($Z$7:AI19))))","v":21.331},{"$f":"IF(ISERROR(INDEX($B$7:$Q$1503,$T19,COLUMNS($Z$7:AJ19))),\"\",(INDEX($B$7:$Q$1503,$T19,COLUMNS($Z$7:AJ19))))","v":24.835999999999999},{"$f":"IF(ISERROR(INDEX($B$7:$Q$1503,$T19,COLUMNS($Z$7:AK19))),\"\",(INDEX($B$7:$Q$1503,$T19,COLUMNS($Z$7:AK19))))","v":25.359000000000002},{"$f":"IF(ISERROR(INDEX($B$7:$Q$1503,$T19,COLUMNS($Z$7:AL19))),\"\",(INDEX($B$7:$Q$1503,$T19,COLUMNS($Z$7:AL19))))","v":39.097000000000001},{"$f":"IF(ISERROR(INDEX($B$7:$Q$1503,$T19,COLUMNS($Z$7:AM19))),\"\",(INDEX($B$7:$Q$1503,$T19,COLUMNS($Z$7:AM19))))","v":42.401000000000003},{"$f":"IF(ISERROR(INDEX($B$7:$Q$1503,$T19,COLUMNS($Z$7:AN19))),\"\",(INDEX($B$7:$Q$1503,$T19,COLUMNS($Z$7:AN19))))","v":30.584},{"$f":"IF(ISERROR(INDEX($B$7:$Q$1503,$T19,COLUMNS($Z$7:AO19))),\"\",(INDEX($B$7:$Q$1503,$T19,COLUMNS($Z$7:AO19))))","v":0}]
[null,"Kėdainių r. sav.","Neišregistruotų juridinių asmenų skaičius metų pradžioje | vnt.",1877,1850,1911,1948,1994,2016,2075,1975,1998,2043,2113,2198,2262,{"$f":"HLOOKUP(B20,'[1]2023_neišreg'!$B$2:$BT$23,22,FALSE)","v":2305},{"$f":"ROWS($R$7:R20)","v":14},"",{"$f":"IF(ISERROR(SMALL($S$7:$S$1504,ROWS($S$7:S20))),\"\",SMALL($S$7:$S$1504,ROWS($S$7:S20)))","v":996},"",{"$f":"IF(ISERROR(SMALL($U$7:$U$1504,ROWS(U$7:$U20))),\"\",SMALL($U$7:$U$1504,ROWS(U$7:$U20)))","v":989},"",{"$f":"IF(ISERROR(SMALL($W$7:$W$1504,ROWS($W$7:W20))),\"\",SMALL($W$7:$W$1504,ROWS($W$7:W20)))","v":927},null,{"$f":"IF(ISERROR(INDEX($B$7:$K$1503,$T20,COLUMNS($Z$7:Z20))),\"\",(INDEX($B$7:$K$1503,$T20,COLUMNS($Z$7:Z20))))","v":"Vilniaus m. sav."},{"$f":"IF(ISERROR(INDEX($B$7:$K$1503,$T20,COLUMNS($Z$7:AA20))),\"\",(INDEX($B$7:$K$1503,$T20,COLUMNS($Z$7:AA20))))","v":"Registruotų bedarbių ir darbingo amžiaus gyventojų santykis | %"},{"$f":"IF(ISERROR(INDEX($B$7:$Q$1503,$T20,COLUMNS($Z$7:AB20))),\"\",(INDEX($B$7:$Q$1503,$T20,COLUMNS($Z$7:AB20))))","v":14.1},{"$f":"IF(ISERROR(INDEX($B$7:$Q$1503,$T20,COLUMNS($Z$7:AC20))),\"\",(INDEX($B$7:$Q$1503,$T20,COLUMNS($Z$7:AC20))))","v":10.8},{"$f":"IF(ISERROR(INDEX($B$7:$Q$1503,$T20,COLUMNS($Z$7:AD20))),\"\",(INDEX($B$7:$Q$1503,$T20,COLUMNS($Z$7:AD20))))","v":9.1},{"$f":"IF(ISERROR(INDEX($B$7:$Q$1503,$T20,COLUMNS($Z$7:AE20))),\"\",(INDEX($B$7:$Q$1503,$T20,COLUMNS($Z$7:AE20))))","v":8.1},{"$f":"IF(ISERROR(INDEX($B$7:$Q$1503,$T20,COLUMNS($Z$7:AF20))),\"\",(INDEX($B$7:$Q$1503,$T20,COLUMNS($Z$7:AF20))))","v":6.9},{"$f":"IF(ISERROR(INDEX($B$7:$Q$1503,$T20,COLUMNS($Z$7:AG20))),\"\",(INDEX($B$7:$Q$1503,$T20,COLUMNS($Z$7:AG20))))","v":6.4},{"$f":"IF(ISERROR(INDEX($B$7:$Q$1503,$T20,COLUMNS($Z$7:AH20))),\"\",(INDEX($B$7:$Q$1503,$T20,COLUMNS($Z$7:AH20))))","v":5.9},{"$f":"IF(ISERROR(INDEX($B$7:$Q$1503,$T20,COLUMNS($Z$7:AI20))),\"\",(INDEX($B$7:$Q$1503,$T20,COLUMNS($Z$7:AI20))))","v":6.1},{"$f":"IF(ISERROR(INDEX($B$7:$Q$1503,$T20,COLUMNS($Z$7:AJ20))),\"\",(INDEX($B$7:$Q$1503,$T20,COLUMNS($Z$7:AJ20))))","v":7.1},{"$f":"IF(ISERROR(INDEX($B$7:$Q$1503,$T20,COLUMNS($Z$7:AK20))),\"\",(INDEX($B$7:$Q$1503,$T20,COLUMNS($Z$7:AK20))))","v":7.2},{"$f":"IF(ISERROR(INDEX($B$7:$Q$1503,$T20,COLUMNS($Z$7:AL20))),\"\",(INDEX($B$7:$Q$1503,$T20,COLUMNS($Z$7:AL20))))","v":11},{"$f":"IF(ISERROR(INDEX($B$7:$Q$1503,$T20,COLUMNS($Z$7:AM20))),\"\",(INDEX($B$7:$Q$1503,$T20,COLUMNS($Z$7:AM20))))","v":11.7},{"$f":"IF(ISERROR(INDEX($B$7:$Q$1503,$T20,COLUMNS($Z$7:AN20))),\"\",(INDEX($B$7:$Q$1503,$T20,COLUMNS($Z$7:AN20))))","v":8.6},{"$f":"IF(ISERROR(INDEX($B$7:$Q$1503,$T20,COLUMNS($Z$7:AO20))),\"\",(INDEX($B$7:$Q$1503,$T20,COLUMNS($Z$7:AO20))))","v":0}]
[null,"Prienų r. sav.","Neišregistruotų juridinių asmenų skaičius metų pradžioje | vnt.",1072,1080,1101,1122,1151,1166,1189,1122,1145,1186,1236,1300,1354,{"$f":"HLOOKUP(B21,'[1]2023_neišreg'!$B$2:$BT$23,22,FALSE)","v":1375},{"$f":"ROWS($R$7:R21)","v":15},"",{"$f":"IF(ISERROR(SMALL($S$7:$S$1504,ROWS($S$7:S21))),\"\",SMALL($S$7:$S$1504,ROWS($S$7:S21)))","v":1068},"",{"$f":"IF(ISERROR(SMALL($U$7:$U$1504,ROWS(U$7:$U21))),\"\",SMALL($U$7:$U$1504,ROWS(U$7:$U21)))","v":1061},"",{"$f":"IF(ISERROR(SMALL($W$7:$W$1504,ROWS($W$7:W21))),\"\",SMALL($W$7:$W$1504,ROWS($W$7:W21)))","v":998},null,{"$f":"IF(ISERROR(INDEX($B$7:$K$1503,$T21,COLUMNS($Z$7:Z21))),\"\",(INDEX($B$7:$K$1503,$T21,COLUMNS($Z$7:Z21))))","v":"Vilniaus m. sav."},{"$f":"IF(ISERROR(INDEX($B$7:$K$1503,$T21,COLUMNS($Z$7:AA21))),\"\",(INDEX($B$7:$K$1503,$T21,COLUMNS($Z$7:AA21))))","v":"Darbo užmokestis | mėnesinis | bruto | EUR  (nuo 2019 m. keitėsi rodiklio skaičiavimas)"},{"$f":"IF(ISERROR(INDEX($B$7:$Q$1503,$T21,COLUMNS($Z$7:AB21))),\"\",(INDEX($B$7:$Q$1503,$T21,COLUMNS($Z$7:AB21))))","v":684.7},{"$f":"IF(ISERROR(INDEX($B$7:$Q$1503,$T21,COLUMNS($Z$7:AC21))),\"\",(INDEX($B$7:$Q$1503,$T21,COLUMNS($Z$7:AC21))))","v":704.1},{"$f":"IF(ISERROR(INDEX($B$7:$Q$1503,$T21,COLUMNS($Z$7:AD21))),\"\",(INDEX($B$7:$Q$1503,$T21,COLUMNS($Z$7:AD21))))","v":731.6},{"$f":"IF(ISERROR(INDEX($B$7:$Q$1503,$T21,COLUMNS($Z$7:AE21))),\"\",(INDEX($B$7:$Q$1503,$T21,COLUMNS($Z$7:AE21))))","v":759.7},{"$f":"IF(ISERROR(INDEX($B$7:$Q$1503,$T21,COLUMNS($Z$7:AF21))),\"\",(INDEX($B$7:$Q$1503,$T21,COLUMNS($Z$7:AF21))))","v":797.6},{"$f":"IF(ISERROR(INDEX($B$7:$Q$1503,$T21,COLUMNS($Z$7:AG21))),\"\",(INDEX($B$7:$Q$1503,$T21,COLUMNS($Z$7:AG21))))","v":832.4},{"$f":"IF(ISERROR(INDEX($B$7:$Q$1503,$T21,COLUMNS($Z$7:AH21))),\"\",(INDEX($B$7:$Q$1503,$T21,COLUMNS($Z$7:AH21))))","v":890.4},{"$f":"IF(ISERROR(INDEX($B$7:$Q$1503,$T21,COLUMNS($Z$7:AI21))),\"\",(INDEX($B$7:$Q$1503,$T21,COLUMNS($Z$7:AI21))))","v":968.7},{"$f":"IF(ISERROR(INDEX($B$7:$Q$1503,$T21,COLUMNS($Z$7:AJ21))),\"\",(INDEX($B$7:$Q$1503,$T21,COLUMNS($Z$7:AJ21))))","v":1069.5},{"$f":"IF(ISERROR(INDEX($B$7:$Q$1503,$T21,COLUMNS($Z$7:AK21))),\"\",(INDEX($B$7:$Q$1503,$T21,COLUMNS($Z$7:AK21))))","v":1501.5},{"$f":"IF(ISERROR(INDEX($B$7:$Q$1503,$T21,COLUMNS($Z$7:AL21))),\"\",(INDEX($B$7:$Q$1503,$T21,COLUMNS($Z$7:AL21))))","v":1643.2},{"$f":"IF(ISERROR(INDEX($B$7:$Q$1503,$T21,COLUMNS($Z$7:AM21))),\"\",(INDEX($B$7:$Q$1503,$T21,COLUMNS($Z$7:AM21))))","v":1819.9},{"$f":"IF(ISERROR(INDEX($B$7:$Q$1503,$T21,COLUMNS($Z$7:AN21))),\"\",(INDEX($B$7:$Q$1503,$T21,COLUMNS($Z$7:AN21))))","v":2068.6},{"$f":"IF(ISERROR(INDEX($B$7:$Q$1503,$T21,COLUMNS($Z$7:AO21))),\"\",(INDEX($B$7:$Q$1503,$T21,COLUMNS($Z$7:AO21))))","v":0}]
[null,"Raseinių r. sav.","Neišregistruotų juridinių asmenų skaičius metų pradžioje | vnt.",1263,1298,1348,1402,1420,1449,1482,1442,1477,1497,1530,1574,1594,{"$f":"HLOOKUP(B22,'[1]2023_neišreg'!$B$2:$BT$23,22,FALSE)","v":1525},{"$f":"ROWS($R$7:R22)","v":16},"",{"$f":"IF(ISERROR(SMALL($S$7:$S$1504,ROWS($S$7:S22))),\"\",SMALL($S$7:$S$1504,ROWS($S$7:S22)))","v":1140},"",{"$f":"IF(ISERROR(SMALL($U$7:$U$1504,ROWS(U$7:$U22))),\"\",SMALL($U$7:$U$1504,ROWS(U$7:$U22)))","v":1133},"",{"$f":"IF(ISERROR(SMALL($W$7:$W$1504,ROWS($W$7:W22))),\"\",SMALL($W$7:$W$1504,ROWS($W$7:W22)))","v":1070},null,{"$f":"IF(ISERROR(INDEX($B$7:$K$1503,$T22,COLUMNS($Z$7:Z22))),\"\",(INDEX($B$7:$K$1503,$T22,COLUMNS($Z$7:Z22))))","v":"Vilniaus m. sav."},{"$f":"IF(ISERROR(INDEX($B$7:$K$1503,$T22,COLUMNS($Z$7:AA22))),\"\",(INDEX($B$7:$K$1503,$T22,COLUMNS($Z$7:AA22))))","v":"Darbo užmokestis | mėnesinis | neto | EUR"},{"$f":"IF(ISERROR(INDEX($B$7:$Q$1503,$T22,COLUMNS($Z$7:AB22))),\"\",(INDEX($B$7:$Q$1503,$T22,COLUMNS($Z$7:AB22))))","v":529.1},{"$f":"IF(ISERROR(INDEX($B$7:$Q$1503,$T22,COLUMNS($Z$7:AC22))),\"\",(INDEX($B$7:$Q$1503,$T22,COLUMNS($Z$7:AC22))))","v":543.29999999999995},{"$f":"IF(ISERROR(INDEX($B$7:$Q$1503,$T22,COLUMNS($Z$7:AD22))),\"\",(INDEX($B$7:$Q$1503,$T22,COLUMNS($Z$7:AD22))))","v":563.29999999999995},{"$f":"IF(ISERROR(INDEX($B$7:$Q$1503,$T22,COLUMNS($Z$7:AE22))),\"\",(INDEX($B$7:$Q$1503,$T22,COLUMNS($Z$7:AE22))))","v":583.9},{"$f":"IF(ISERROR(INDEX($B$7:$Q$1503,$T22,COLUMNS($Z$7:AF22))),\"\",(INDEX($B$7:$Q$1503,$T22,COLUMNS($Z$7:AF22))))","v":613.9},{"$f":"IF(ISERROR(INDEX($B$7:$Q$1503,$T22,COLUMNS($Z$7:AG22))),\"\",(INDEX($B$7:$Q$1503,$T22,COLUMNS($Z$7:AG22))))","v":639.20000000000005},{"$f":"IF(ISERROR(INDEX($B$7:$Q$1503,$T22,COLUMNS($Z$7:AH22))),\"\",(INDEX($B$7:$Q$1503,$T22,COLUMNS($Z$7:AH22))))","v":684.8},{"$f":"IF(ISERROR(INDEX($B$7:$Q$1503,$T22,COLUMNS($Z$7:AI22))),\"\",(INDEX($B$7:$Q$1503,$T22,COLUMNS($Z$7:AI22))))","v":748},{"$f":"IF(ISERROR(INDEX($B$7:$Q$1503,$T22,COLUMNS($Z$7:AJ22))),\"\",(INDEX($B$7:$Q$1503,$T22,COLUMNS($Z$7:AJ22))))","v":819.6},{"$f":"IF(ISERROR(INDEX($B$7:$Q$1503,$T22,COLUMNS($Z$7:AK22))),\"\",(INDEX($B$7:$Q$1503,$T22,COLUMNS($Z$7:AK22))))","v":940},{"$f":"IF(ISERROR(INDEX($B$7:$Q$1503,$T22,COLUMNS($Z$7:AL22))),\"\",(INDEX($B$7:$Q$1503,$T22,COLUMNS($Z$7:AL22))))","v":1034.8},{"$f":"IF(ISERROR(INDEX($B$7:$Q$1503,$T22,COLUMNS($Z$7:AM22))),\"\",(INDEX($B$7:$Q$1503,$T22,COLUMNS($Z$7:AM22))))","v":1138.5999999999999},{"$f":"IF(ISERROR(INDEX($B$7:$Q$1503,$T22,COLUMNS($Z$7:AN22))),\"\",(INDEX($B$7:$Q$1503,$T22,COLUMNS($Z$7:AN22))))","v":1280.0999999999999},{"$f":"IF(ISERROR(INDEX($B$7:$Q$1503,$T22,COLUMNS($Z$7:AO22))),\"\",(INDEX($B$7:$Q$1503,$T22,COLUMNS($Z$7:AO22))))","v":0}]
[null,"Klaipėdos apskritis","Neišregistruotų juridinių asmenų skaičius metų pradžioje | vnt.",22125,22385,22970,23854,24566,25037,25211,24092,24512,25027,25576,26399,24961,{"$f":"HLOOKUP(B23,'[1]2023_neišreg'!$B$2:$BT$23,22,FALSE)","v":25075},{"$f":"ROWS($R$7:R23)","v":17},"",{"$f":"IF(ISERROR(SMALL($S$7:$S$1504,ROWS($S$7:S23))),\"\",SMALL($S$7:$S$1504,ROWS($S$7:S23)))","v":1211},"",{"$f":"IF(ISERROR(SMALL($U$7:$U$1504,ROWS(U$7:$U23))),\"\",SMALL($U$7:$U$1504,ROWS(U$7:$U23)))","v":1204},"",{"$f":"IF(ISERROR(SMALL($W$7:$W$1504,ROWS($W$7:W23))),\"\",SMALL($W$7:$W$1504,ROWS($W$7:W23)))","v":1142},null,{"$f":"IF(ISERROR(INDEX($B$7:$K$1503,$T23,COLUMNS($Z$7:Z23))),\"\",(INDEX($B$7:$K$1503,$T23,COLUMNS($Z$7:Z23))))","v":"Vilniaus m. sav."},{"$f":"IF(ISERROR(INDEX($B$7:$K$1503,$T23,COLUMNS($Z$7:AA23))),\"\",(INDEX($B$7:$K$1503,$T23,COLUMNS($Z$7:AA23))))","v":"Materialinės investicijos to meto kainomis | mln. EUR"},{"$f":"IF(ISERROR(INDEX($B$7:$Q$1503,$T23,COLUMNS($Z$7:AB23))),\"\",(INDEX($B$7:$Q$1503,$T23,COLUMNS($Z$7:AB23))))","v":1126.9680000000001},{"$f":"IF(ISERROR(INDEX($B$7:$Q$1503,$T23,COLUMNS($Z$7:AC23))),\"\",(INDEX($B$7:$Q$1503,$T23,COLUMNS($Z$7:AC23))))","v":1415.4549999999999},{"$f":"IF(ISERROR(INDEX($B$7:$Q$1503,$T23,COLUMNS($Z$7:AD23))),\"\",(INDEX($B$7:$Q$1503,$T23,COLUMNS($Z$7:AD23))))","v":1771.749},{"$f":"IF(ISERROR(INDEX($B$7:$Q$1503,$T23,COLUMNS($Z$7:AE23))),\"\",(INDEX($B$7:$Q$1503,$T23,COLUMNS($Z$7:AE23))))","v":2008.2529999999999},{"$f":"IF(ISERROR(INDEX($B$7:$Q$1503,$T23,COLUMNS($Z$7:AF23))),\"\",(INDEX($B$7:$Q$1503,$T23,COLUMNS($Z$7:AF23))))","v":2050.2049999999999},{"$f":"IF(ISERROR(INDEX($B$7:$Q$1503,$T23,COLUMNS($Z$7:AG23))),\"\",(INDEX($B$7:$Q$1503,$T23,COLUMNS($Z$7:AG23))))","v":2266.8119999999999},{"$f":"IF(ISERROR(INDEX($B$7:$Q$1503,$T23,COLUMNS($Z$7:AH23))),\"\",(INDEX($B$7:$Q$1503,$T23,COLUMNS($Z$7:AH23))))","v":2403.9589999999998},{"$f":"IF(ISERROR(INDEX($B$7:$Q$1503,$T23,COLUMNS($Z$7:AI23))),\"\",(INDEX($B$7:$Q$1503,$T23,COLUMNS($Z$7:AI23))))","v":2482.9250000000002},{"$f":"IF(ISERROR(INDEX($B$7:$Q$1503,$T23,COLUMNS($Z$7:AJ23))),\"\",(INDEX($B$7:$Q$1503,$T23,COLUMNS($Z$7:AJ23))))","v":2996.5030000000002},{"$f":"IF(ISERROR(INDEX($B$7:$Q$1503,$T23,COLUMNS($Z$7:AK23))),\"\",(INDEX($B$7:$Q$1503,$T23,COLUMNS($Z$7:AK23))))","v":3351.768},{"$f":"IF(ISERROR(INDEX($B$7:$Q$1503,$T23,COLUMNS($Z$7:AL23))),\"\",(INDEX($B$7:$Q$1503,$T23,COLUMNS($Z$7:AL23))))","v":3150.0929999999998},{"$f":"IF(ISERROR(INDEX($B$7:$Q$1503,$T23,COLUMNS($Z$7:AM23))),\"\",(INDEX($B$7:$Q$1503,$T23,COLUMNS($Z$7:AM23))))","v":3894.7689999999998},{"$f":"IF(ISERROR(INDEX($B$7:$Q$1503,$T23,COLUMNS($Z$7:AN23))),\"\",(INDEX($B$7:$Q$1503,$T23,COLUMNS($Z$7:AN23))))","v":0},{"$f":"IF(ISERROR(INDEX($B$7:$Q$1503,$T23,COLUMNS($Z$7:AO23))),\"\",(INDEX($B$7:$Q$1503,$T23,COLUMNS($Z$7:AO23))))","v":0}]
[null,"Klaipėdos m. sav.","Neišregistruotų juridinių asmenų skaičius metų pradžioje | vnt.",13054,13287,13621,14171,14577,14839,14814,14186,14304,14416,14564,14900,13376,{"$f":"HLOOKUP(B24,'[1]2023_neišreg'!$B$2:$BT$23,22,FALSE)","v":13133},{"$f":"ROWS($R$7:R24)","v":18},"",{"$f":"IF(ISERROR(SMALL($S$7:$S$1504,ROWS($S$7:S24))),\"\",SMALL($S$7:$S$1504,ROWS($S$7:S24)))","v":1282},"",{"$f":"IF(ISERROR(SMALL($U$7:$U$1504,ROWS(U$7:$U24))),\"\",SMALL($U$7:$U$1504,ROWS(U$7:$U24)))","v":1275},"",{"$f":"IF(ISERROR(SMALL($W$7:$W$1504,ROWS($W$7:W24))),\"\",SMALL($W$7:$W$1504,ROWS($W$7:W24)))","v":1213},null,{"$f":"IF(ISERROR(INDEX($B$7:$K$1503,$T24,COLUMNS($Z$7:Z24))),\"\",(INDEX($B$7:$K$1503,$T24,COLUMNS($Z$7:Z24))))","v":"Vilniaus m. sav."},{"$f":"IF(ISERROR(INDEX($B$7:$K$1503,$T24,COLUMNS($Z$7:AA24))),\"\",(INDEX($B$7:$K$1503,$T24,COLUMNS($Z$7:AA24))))","v":"Apyvarta pagal veiklos vykdymo vietą | mln. EUR"},{"$f":"IF(ISERROR(INDEX($B$7:$Q$1503,$T24,COLUMNS($Z$7:AB24))),\"\",(INDEX($B$7:$Q$1503,$T24,COLUMNS($Z$7:AB24))))","v":16618.971000000001},{"$f":"IF(ISERROR(INDEX($B$7:$Q$1503,$T24,COLUMNS($Z$7:AC24))),\"\",(INDEX($B$7:$Q$1503,$T24,COLUMNS($Z$7:AC24))))","v":19255.164000000001},{"$f":"IF(ISERROR(INDEX($B$7:$Q$1503,$T24,COLUMNS($Z$7:AD24))),\"\",(INDEX($B$7:$Q$1503,$T24,COLUMNS($Z$7:AD24))))","v":21824.419000000002},{"$f":"IF(ISERROR(INDEX($B$7:$Q$1503,$T24,COLUMNS($Z$7:AE24))),\"\",(INDEX($B$7:$Q$1503,$T24,COLUMNS($Z$7:AE24))))","v":23889.722000000002},{"$f":"IF(ISERROR(INDEX($B$7:$Q$1503,$T24,COLUMNS($Z$7:AF24))),\"\",(INDEX($B$7:$Q$1503,$T24,COLUMNS($Z$7:AF24))))","v":25677.258000000002},{"$f":"IF(ISERROR(INDEX($B$7:$Q$1503,$T24,COLUMNS($Z$7:AG24))),\"\",(INDEX($B$7:$Q$1503,$T24,COLUMNS($Z$7:AG24))))","v":27060.076000000001},{"$f":"IF(ISERROR(INDEX($B$7:$Q$1503,$T24,COLUMNS($Z$7:AH24))),\"\",(INDEX($B$7:$Q$1503,$T24,COLUMNS($Z$7:AH24))))","v":27992.600999999999},{"$f":"IF(ISERROR(INDEX($B$7:$Q$1503,$T24,COLUMNS($Z$7:AI24))),\"\",(INDEX($B$7:$Q$1503,$T24,COLUMNS($Z$7:AI24))))","v":30555.714},{"$f":"IF(ISERROR(INDEX($B$7:$Q$1503,$T24,COLUMNS($Z$7:AJ24))),\"\",(INDEX($B$7:$Q$1503,$T24,COLUMNS($Z$7:AJ24))))","v":33709.499000000003},{"$f":"IF(ISERROR(INDEX($B$7:$Q$1503,$T24,COLUMNS($Z$7:AK24))),\"\",(INDEX($B$7:$Q$1503,$T24,COLUMNS($Z$7:AK24))))","v":37023.476000000002},{"$f":"IF(ISERROR(INDEX($B$7:$Q$1503,$T24,COLUMNS($Z$7:AL24))),\"\",(INDEX($B$7:$Q$1503,$T24,COLUMNS($Z$7:AL24))))","v":37356.364999999998},{"$f":"IF(ISERROR(INDEX($B$7:$Q$1503,$T24,COLUMNS($Z$7:AM24))),\"\",(INDEX($B$7:$Q$1503,$T24,COLUMNS($Z$7:AM24))))","v":46942.705000000002},{"$f":"IF(ISERROR(INDEX($B$7:$Q$1503,$T24,COLUMNS($Z$7:AN24))),\"\",(INDEX($B$7:$Q$1503,$T24,COLUMNS($Z$7:AN24))))","v":0},{"$f":"IF(ISERROR(INDEX($B$7:$Q$1503,$T24,COLUMNS($Z$7:AO24))),\"\",(INDEX($B$7:$Q$1503,$T24,COLUMNS($Z$7:AO24))))","v":0}]
[null,"Klaipėdos r. sav.","Neišregistruotų juridinių asmenų skaičius metų pradžioje | vnt.",2430,2506,2649,2848,2995,3127,3223,3222,3375,3604,3820,4062,4251,{"$f":"HLOOKUP(B25,'[1]2023_neišreg'!$B$2:$BT$23,22,FALSE)","v":4504},{"$f":"ROWS($R$7:R25)","v":19},"",{"$f":"IF(ISERROR(SMALL($S$7:$S$1504,ROWS($S$7:S25))),\"\",SMALL($S$7:$S$1504,ROWS($S$7:S25)))","v":1354},"",{"$f":"IF(ISERROR(SMALL($U$7:$U$1504,ROWS(U$7:$U25))),\"\",SMALL($U$7:$U$1504,ROWS(U$7:$U25)))","v":1347},"",{"$f":"IF(ISERROR(SMALL($W$7:$W$1504,ROWS($W$7:W25))),\"\",SMALL($W$7:$W$1504,ROWS($W$7:W25)))","v":1284},null,{"$f":"IF(ISERROR(INDEX($B$7:$K$1503,$T25,COLUMNS($Z$7:Z25))),\"\",(INDEX($B$7:$K$1503,$T25,COLUMNS($Z$7:Z25))))","v":"Vilniaus m. sav."},{"$f":"IF(ISERROR(INDEX($B$7:$K$1503,$T25,COLUMNS($Z$7:AA25))),\"\",(INDEX($B$7:$K$1503,$T25,COLUMNS($Z$7:AA25))))","v":"Pridėtinė vertė gamybos kainomis pagal veiklos vykdymo vietą | mln. EUR"},{"$f":"IF(ISERROR(INDEX($B$7:$Q$1503,$T25,COLUMNS($Z$7:AB25))),\"\",(INDEX($B$7:$Q$1503,$T25,COLUMNS($Z$7:AB25))))","v":3425.9830000000002},{"$f":"IF(ISERROR(INDEX($B$7:$Q$1503,$T25,COLUMNS($Z$7:AC25))),\"\",(INDEX($B$7:$Q$1503,$T25,COLUMNS($Z$7:AC25))))","v":4167.5600000000004},{"$f":"IF(ISERROR(INDEX($B$7:$Q$1503,$T25,COLUMNS($Z$7:AD25))),\"\",(INDEX($B$7:$Q$1503,$T25,COLUMNS($Z$7:AD25))))","v":4676.3410000000003},{"$f":"IF(ISERROR(INDEX($B$7:$Q$1503,$T25,COLUMNS($Z$7:AE25))),\"\",(INDEX($B$7:$Q$1503,$T25,COLUMNS($Z$7:AE25))))","v":4909.2430000000004},{"$f":"IF(ISERROR(INDEX($B$7:$Q$1503,$T25,COLUMNS($Z$7:AF25))),\"\",(INDEX($B$7:$Q$1503,$T25,COLUMNS($Z$7:AF25))))","v":5761.8069999999998},{"$f":"IF(ISERROR(INDEX($B$7:$Q$1503,$T25,COLUMNS($Z$7:AG25))),\"\",(INDEX($B$7:$Q$1503,$T25,COLUMNS($Z$7:AG25))))","v":6124.33},{"$f":"IF(ISERROR(INDEX($B$7:$Q$1503,$T25,COLUMNS($Z$7:AH25))),\"\",(INDEX($B$7:$Q$1503,$T25,COLUMNS($Z$7:AH25))))","v":6787.6329999999998},{"$f":"IF(ISERROR(INDEX($B$7:$Q$1503,$T25,COLUMNS($Z$7:AI25))),\"\",(INDEX($B$7:$Q$1503,$T25,COLUMNS($Z$7:AI25))))","v":7434.0259999999998},{"$f":"IF(ISERROR(INDEX($B$7:$Q$1503,$T25,COLUMNS($Z$7:AJ25))),\"\",(INDEX($B$7:$Q$1503,$T25,COLUMNS($Z$7:AJ25))))","v":8459.8940000000002},{"$f":"IF(ISERROR(INDEX($B$7:$Q$1503,$T25,COLUMNS($Z$7:AK25))),\"\",(INDEX($B$7:$Q$1503,$T25,COLUMNS($Z$7:AK25))))","v":9679.33},{"$f":"IF(ISERROR(INDEX($B$7:$Q$1503,$T25,COLUMNS($Z$7:AL25))),\"\",(INDEX($B$7:$Q$1503,$T25,COLUMNS($Z$7:AL25))))","v":10142.776},{"$f":"IF(ISERROR(INDEX($B$7:$Q$1503,$T25,COLUMNS($Z$7:AM25))),\"\",(INDEX($B$7:$Q$1503,$T25,COLUMNS($Z$7:AM25))))","v":12330.55},{"$f":"IF(ISERROR(INDEX($B$7:$Q$1503,$T25,COLUMNS($Z$7:AN25))),\"\",(INDEX($B$7:$Q$1503,$T25,COLUMNS($Z$7:AN25))))","v":0},{"$f":"IF(ISERROR(INDEX($B$7:$Q$1503,$T25,COLUMNS($Z$7:AO25))),\"\",(INDEX($B$7:$Q$1503,$T25,COLUMNS($Z$7:AO25))))","v":0}]
[null,"Kretingos r. sav.","Neišregistruotų juridinių asmenų skaičius metų pradžioje | vnt.",1892,1877,1911,1947,1980,2017,2039,1890,1932,1992,2010,2071,2093,{"$f":"HLOOKUP(B26,'[1]2023_neišreg'!$B$2:$BT$23,22,FALSE)","v":2118},{"$f":"ROWS($R$7:R26)","v":20},"",{"$f":"IF(ISERROR(SMALL($S$7:$S$1504,ROWS($S$7:S26))),\"\",SMALL($S$7:$S$1504,ROWS($S$7:S26)))","v":1425},"",{"$f":"IF(ISERROR(SMALL($U$7:$U$1504,ROWS(U$7:$U26))),\"\",SMALL($U$7:$U$1504,ROWS(U$7:$U26)))","v":1418},"",{"$f":"IF(ISERROR(SMALL($W$7:$W$1504,ROWS($W$7:W26))),\"\",SMALL($W$7:$W$1504,ROWS($W$7:W26)))","v":1356},null,{"$f":"IF(ISERROR(INDEX($B$7:$K$1503,$T26,COLUMNS($Z$7:Z26))),\"\",(INDEX($B$7:$K$1503,$T26,COLUMNS($Z$7:Z26))))","v":"Vilniaus m. sav."},{"$f":"IF(ISERROR(INDEX($B$7:$K$1503,$T26,COLUMNS($Z$7:AA26))),\"\",(INDEX($B$7:$K$1503,$T26,COLUMNS($Z$7:AA26))))","v":"Tarptautinės emigracijos lygis | %"},{"$f":"IF(ISERROR(INDEX($B$7:$Q$1503,$T26,COLUMNS($Z$7:AB26))),\"\",(INDEX($B$7:$Q$1503,$T26,COLUMNS($Z$7:AB26))))","v":2.1102214546593312},{"$f":"IF(ISERROR(INDEX($B$7:$Q$1503,$T26,COLUMNS($Z$7:AC26))),\"\",(INDEX($B$7:$Q$1503,$T26,COLUMNS($Z$7:AC26))))","v":1.6560595321140896},{"$f":"IF(ISERROR(INDEX($B$7:$Q$1503,$T26,COLUMNS($Z$7:AD26))),\"\",(INDEX($B$7:$Q$1503,$T26,COLUMNS($Z$7:AD26))))","v":1.2615467400077727},{"$f":"IF(ISERROR(INDEX($B$7:$Q$1503,$T26,COLUMNS($Z$7:AE26))),\"\",(INDEX($B$7:$Q$1503,$T26,COLUMNS($Z$7:AE26))))","v":1.2415727206879259},{"$f":"IF(ISERROR(INDEX($B$7:$Q$1503,$T26,COLUMNS($Z$7:AF26))),\"\",(INDEX($B$7:$Q$1503,$T26,COLUMNS($Z$7:AF26))))","v":1.1979666165897034},{"$f":"IF(ISERROR(INDEX($B$7:$Q$1503,$T26,COLUMNS($Z$7:AG26))),\"\",(INDEX($B$7:$Q$1503,$T26,COLUMNS($Z$7:AG26))))","v":1.7169373549883991},{"$f":"IF(ISERROR(INDEX($B$7:$Q$1503,$T26,COLUMNS($Z$7:AH26))),\"\",(INDEX($B$7:$Q$1503,$T26,COLUMNS($Z$7:AH26))))","v":1.6262357959242155},{"$f":"IF(ISERROR(INDEX($B$7:$Q$1503,$T26,COLUMNS($Z$7:AI26))),\"\",(INDEX($B$7:$Q$1503,$T26,COLUMNS($Z$7:AI26))))","v":1.4354426024283378},{"$f":"IF(ISERROR(INDEX($B$7:$Q$1503,$T26,COLUMNS($Z$7:AJ26))),\"\",(INDEX($B$7:$Q$1503,$T26,COLUMNS($Z$7:AJ26))))","v":1.0849241917178361},{"$f":"IF(ISERROR(INDEX($B$7:$Q$1503,$T26,COLUMNS($Z$7:AK26))),\"\",(INDEX($B$7:$Q$1503,$T26,COLUMNS($Z$7:AK26))))","v":1.0100883176563511},{"$f":"IF(ISERROR(INDEX($B$7:$Q$1503,$T26,COLUMNS($Z$7:AL26))),\"\",(INDEX($B$7:$Q$1503,$T26,COLUMNS($Z$7:AL26))))","v":0.9024677349226381},{"$f":"IF(ISERROR(INDEX($B$7:$Q$1503,$T26,COLUMNS($Z$7:AM26))),\"\",(INDEX($B$7:$Q$1503,$T26,COLUMNS($Z$7:AM26))))","v":0.9389889432980022},{"$f":"IF(ISERROR(INDEX($B$7:$Q$1503,$T26,COLUMNS($Z$7:AN26))),\"\",(INDEX($B$7:$Q$1503,$T26,COLUMNS($Z$7:AN26))))","v":0.97294057735544459},{"$f":"IF(ISERROR(INDEX($B$7:$Q$1503,$T26,COLUMNS($Z$7:AO26))),\"\",(INDEX($B$7:$Q$1503,$T26,COLUMNS($Z$7:AO26))))","v":0}]
[null,"Neringos sav.","Neišregistruotų juridinių asmenų skaičius metų pradžioje | vnt.",421,424,431,452,454,472,481,473,477,497,528,583,639,{"$f":"HLOOKUP(B27,'[1]2023_neišreg'!$B$2:$BT$23,22,FALSE)","v":690},{"$f":"ROWS($R$7:R27)","v":21},"",{"$f":"IF(ISERROR(SMALL($S$7:$S$1504,ROWS($S$7:S27))),\"\",SMALL($S$7:$S$1504,ROWS($S$7:S27)))","v":1496},"",{"$f":"IF(ISERROR(SMALL($U$7:$U$1504,ROWS(U$7:$U27))),\"\",SMALL($U$7:$U$1504,ROWS(U$7:$U27)))","v":1489},"",{"$f":"IF(ISERROR(SMALL($W$7:$W$1504,ROWS($W$7:W27))),\"\",SMALL($W$7:$W$1504,ROWS($W$7:W27)))","v":1427},null,{"$f":"IF(ISERROR(INDEX($B$7:$K$1503,$T27,COLUMNS($Z$7:Z27))),\"\",(INDEX($B$7:$K$1503,$T27,COLUMNS($Z$7:Z27))))","v":"Vilniaus m. sav."},{"$f":"IF(ISERROR(INDEX($B$7:$K$1503,$T27,COLUMNS($Z$7:AA27))),\"\",(INDEX($B$7:$K$1503,$T27,COLUMNS($Z$7:AA27))))","v":"Tarptautinės imigracijos lygis | %"},{"$f":"IF(ISERROR(INDEX($B$7:$Q$1503,$T27,COLUMNS($Z$7:AB27))),\"\",(INDEX($B$7:$Q$1503,$T27,COLUMNS($Z$7:AB27))))","v":0.21254162350669592},{"$f":"IF(ISERROR(INDEX($B$7:$Q$1503,$T27,COLUMNS($Z$7:AC27))),\"\",(INDEX($B$7:$Q$1503,$T27,COLUMNS($Z$7:AC27))))","v":0.55133410510133662},{"$f":"IF(ISERROR(INDEX($B$7:$Q$1503,$T27,COLUMNS($Z$7:AD27))),\"\",(INDEX($B$7:$Q$1503,$T27,COLUMNS($Z$7:AD27))))","v":0.74287764192400829},{"$f":"IF(ISERROR(INDEX($B$7:$Q$1503,$T27,COLUMNS($Z$7:AE27))),\"\",(INDEX($B$7:$Q$1503,$T27,COLUMNS($Z$7:AE27))))","v":0.86696506509667004},{"$f":"IF(ISERROR(INDEX($B$7:$Q$1503,$T27,COLUMNS($Z$7:AF27))),\"\",(INDEX($B$7:$Q$1503,$T27,COLUMNS($Z$7:AF27))))","v":1.071573100355343},{"$f":"IF(ISERROR(INDEX($B$7:$Q$1503,$T27,COLUMNS($Z$7:AG27))),\"\",(INDEX($B$7:$Q$1503,$T27,COLUMNS($Z$7:AG27))))","v":0.85957352778698493},{"$f":"IF(ISERROR(INDEX($B$7:$Q$1503,$T27,COLUMNS($Z$7:AH27))),\"\",(INDEX($B$7:$Q$1503,$T27,COLUMNS($Z$7:AH27))))","v":0.97651298894534388},{"$f":"IF(ISERROR(INDEX($B$7:$Q$1503,$T27,COLUMNS($Z$7:AI27))),\"\",(INDEX($B$7:$Q$1503,$T27,COLUMNS($Z$7:AI27))))","v":0.92133342606454827},{"$f":"IF(ISERROR(INDEX($B$7:$Q$1503,$T27,COLUMNS($Z$7:AJ27))),\"\",(INDEX($B$7:$Q$1503,$T27,COLUMNS($Z$7:AJ27))))","v":1.1833221779239298},{"$f":"IF(ISERROR(INDEX($B$7:$Q$1503,$T27,COLUMNS($Z$7:AK27))),\"\",(INDEX($B$7:$Q$1503,$T27,COLUMNS($Z$7:AK27))))","v":1.7029870036619514},{"$f":"IF(ISERROR(INDEX($B$7:$Q$1503,$T27,COLUMNS($Z$7:AL27))),\"\",(INDEX($B$7:$Q$1503,$T27,COLUMNS($Z$7:AL27))))","v":1.8339218992474131},{"$f":"IF(ISERROR(INDEX($B$7:$Q$1503,$T27,COLUMNS($Z$7:AM27))),\"\",(INDEX($B$7:$Q$1503,$T27,COLUMNS($Z$7:AM27))))","v":1.9687325257123256},{"$f":"IF(ISERROR(INDEX($B$7:$Q$1503,$T27,COLUMNS($Z$7:AN27))),\"\",(INDEX($B$7:$Q$1503,$T27,COLUMNS($Z$7:AN27))))","v":5.5509750191400986},{"$f":"IF(ISERROR(INDEX($B$7:$Q$1503,$T27,COLUMNS($Z$7:AO27))),\"\",(INDEX($B$7:$Q$1503,$T27,COLUMNS($Z$7:AO27))))","v":0}]
[null,"Palangos m. sav.","Neišregistruotų juridinių asmenų skaičius metų pradžioje | vnt.",1909,1873,1888,1913,1966,1965,1997,1778,1820,1863,1919,1984,1872,{"$f":"HLOOKUP(B28,'[1]2023_neišreg'!$B$2:$BT$23,22,FALSE)","v":1905},{"$f":"ROWS($R$7:R28)","v":22},"",{"$f":"IF(ISERROR(SMALL($S$7:$S$1504,ROWS($S$7:S28))),\"\",SMALL($S$7:$S$1504,ROWS($S$7:S28)))","v":""},"",{"$f":"IF(ISERROR(SMALL($U$7:$U$1504,ROWS(U$7:$U28))),\"\",SMALL($U$7:$U$1504,ROWS(U$7:$U28)))","v":""},"",{"$f":"IF(ISERROR(SMALL($W$7:$W$1504,ROWS($W$7:W28))),\"\",SMALL($W$7:$W$1504,ROWS($W$7:W28)))","v":""},null,{"$f":"IF(ISERROR(INDEX($B$7:$K$1503,$T28,COLUMNS($Z$7:Z28))),\"\",(INDEX($B$7:$K$1503,$T28,COLUMNS($Z$7:Z28))))","v":""},{"$f":"IF(ISERROR(INDEX($B$7:$K$1503,$T28,COLUMNS($Z$7:AA28))),\"\",(INDEX($B$7:$K$1503,$T28,COLUMNS($Z$7:AA28))))","v":""},{"$f":"IF(ISERROR(INDEX($B$7:$O$1503,$T28,COLUMNS($Z$7:AB28))),\"\",(INDEX($B$7:$O$1503,$T28,COLUMNS($Z$7:AB28))))","v":""},{"$f":"IF(ISERROR(INDEX($B$7:$O$1503,$T28,COLUMNS($Z$7:AC28))),\"\",(INDEX($B$7:$O$1503,$T28,COLUMNS($Z$7:AC28))))","v":""},{"$f":"IF(ISERROR(INDEX($B$7:$O$1503,$T28,COLUMNS($Z$7:AD28))),\"\",(INDEX($B$7:$O$1503,$T28,COLUMNS($Z$7:AD28))))","v":""},{"$f":"IF(ISERROR(INDEX($B$7:$O$1503,$T28,COLUMNS($Z$7:AE28))),\"\",(INDEX($B$7:$O$1503,$T28,COLUMNS($Z$7:AE28))))","v":""},{"$f":"IF(ISERROR(INDEX($B$7:$O$1503,$T28,COLUMNS($Z$7:AF28))),\"\",(INDEX($B$7:$O$1503,$T28,COLUMNS($Z$7:AF28))))","v":""},{"$f":"IF(ISERROR(INDEX($B$7:$O$1503,$T28,COLUMNS($Z$7:AG28))),\"\",(INDEX($B$7:$O$1503,$T28,COLUMNS($Z$7:AG28))))","v":""},{"$f":"IF(ISERROR(INDEX($B$7:$O$1503,$T28,COLUMNS($Z$7:AH28))),\"\",(INDEX($B$7:$O$1503,$T28,COLUMNS($Z$7:AH28))))","v":""},{"$f":"IF(ISERROR(INDEX($B$7:$O$1503,$T28,COLUMNS($Z$7:AI28))),\"\",(INDEX($B$7:$O$1503,$T28,COLUMNS($Z$7:AI28))))","v":""}]
[null,"Skuodo r. sav.","Neišregistruotų juridinių asmenų skaičius metų pradžioje | vnt.",604,593,601,629,631,635,641,595,604,613,635,640,623,{"$f":"HLOOKUP(B29,'[1]2023_neišreg'!$B$2:$BT$23,22,FALSE)","v":622},{"$f":"ROWS($R$7:R29)","v":23},"",{"$f":"IF(ISERROR(SMALL($S$7:$S$1504,ROWS($S$7:S29))),\"\",SMALL($S$7:$S$1504,ROWS($S$7:S29)))","v":""},"",{"$f":"IF(ISERROR(SMALL($U$7:$U$1504,ROWS(U$7:$U29))),\"\",SMALL($U$7:$U$1504,ROWS(U$7:$U29)))","v":""},"",{"$f":"IF(ISERROR(SMALL($W$7:$W$1504,ROWS($W$7:W29))),\"\",SMALL($W$7:$W$1504,ROWS($W$7:W29)))","v":""}]
[null,"Šilutės r. sav.","Neišregistruotų juridinių asmenų skaičius metų pradžioje | vnt.",1815,1825,1869,1894,1963,1982,2016,1948,2000,2042,2100,2159,2107,{"$f":"HLOOKUP(B30,'[1]2023_neišreg'!$B$2:$BT$23,22,FALSE)","v":2103},{"$f":"ROWS($R$7:R30)","v":24},"",{"$f":"IF(ISERROR(SMALL($S$7:$S$1504,ROWS($S$7:S30))),\"\",SMALL($S$7:$S$1504,ROWS($S$7:S30)))","v":""},"",{"$f":"IF(ISERROR(SMALL($U$7:$U$1504,ROWS(U$7:$U30))),\"\",SMALL($U$7:$U$1504,ROWS(U$7:$U30)))","v":""},"",{"$f":"IF(ISERROR(SMALL($W$7:$W$1504,ROWS($W$7:W30))),\"\",SMALL($W$7:$W$1504,ROWS($W$7:W30)))","v":""},null,{"$f":"+Z6","v":"Administracinė teritorija"},{"$f":"+AA6","v":"Rodiklis"},"2010","2011","2012","2013","2014","2015","2016","2017","2018",{"$f":"+AK6","v":2019},{"$f":"+AL6","v":2020},{"$f":"+AM6","v":2021},{"$f":"+AN6","v":2022},{"$f":"+AO6","v":2023}]
[null,"Marijampolės apskritis","Neišregistruotų juridinių asmenų skaičius metų pradžioje | vnt.",5703,5714,5824,6038,6166,6219,6239,5993,6133,6255,6449,6680,6769,{"$f":"HLOOKUP(B31,'[1]2023_neišreg'!$B$2:$BT$23,22,FALSE)","v":6847},{"$f":"ROWS($R$7:R31)","v":25},"",{"$f":"IF(ISERROR(SMALL($S$7:$S$1504,ROWS($S$7:S31))),\"\",SMALL($S$7:$S$1504,ROWS($S$7:S31)))","v":""},"",{"$f":"IF(ISERROR(SMALL($U$7:$U$1504,ROWS(U$7:$U31))),\"\",SMALL($U$7:$U$1504,ROWS(U$7:$U31)))","v":""},"",{"$f":"IF(ISERROR(SMALL($W$7:$W$1504,ROWS($W$7:W31))),\"\",SMALL($W$7:$W$1504,ROWS($W$7:W31)))","v":""},null,{"$f":"IF(ISERROR(INDEX($B$7:$K$1503,$V7,COLUMNS($Z$31:Z31))),\"\",INDEX($B$7:$K$1503,$V7,COLUMNS($Z$31:Z31)))","v":"Vilniaus apskritis"},{"$f":"IF(ISERROR(INDEX($B$7:$K$1503,$V7,COLUMNS($Z$31:AA31))),\"\",INDEX($B$7:$K$1503,$V7,COLUMNS($Z$31:AA31)))","v":"Neišregistruotų juridinių asmenų skaičius metų pradžioje | vnt."},{"$f":"IF(ISERROR(INDEX($B$7:$Q$1503,$V7,COLUMNS($Z$31:AB31))),\"\",INDEX($B$7:$Q$1503,$V7,COLUMNS($Z$31:AB31)))","v":69193},{"$f":"IF(ISERROR(INDEX($B$7:$Q$1503,$V7,COLUMNS($Z$31:AC31))),\"\",INDEX($B$7:$Q$1503,$V7,COLUMNS($Z$31:AC31)))","v":71414},{"$f":"IF(ISERROR(INDEX($B$7:$Q$1503,$V7,COLUMNS($Z$31:AD31))),\"\",INDEX($B$7:$Q$1503,$V7,COLUMNS($Z$31:AD31)))","v":75825},{"$f":"IF(ISERROR(INDEX($B$7:$Q$1503,$V7,COLUMNS($Z$31:AE31))),\"\",INDEX($B$7:$Q$1503,$V7,COLUMNS($Z$31:AE31)))","v":82959},{"$f":"IF(ISERROR(INDEX($B$7:$Q$1503,$V7,COLUMNS($Z$31:AF31))),\"\",INDEX($B$7:$Q$1503,$V7,COLUMNS($Z$31:AF31)))","v":89424},{"$f":"IF(ISERROR(INDEX($B$7:$Q$1503,$V7,COLUMNS($Z$31:AG31))),\"\",INDEX($B$7:$Q$1503,$V7,COLUMNS($Z$31:AG31)))","v":96097},{"$f":"IF(ISERROR(INDEX($B$7:$Q$1503,$V7,COLUMNS($Z$31:AH31))),\"\",INDEX($B$7:$Q$1503,$V7,COLUMNS($Z$31:AH31)))","v":99501},{"$f":"IF(ISERROR(INDEX($B$7:$Q$1503,$V7,COLUMNS($Z$31:AI31))),\"\",INDEX($B$7:$Q$1503,$V7,COLUMNS($Z$31:AI31)))","v":98305},{"$f":"IF(ISERROR(INDEX($B$7:$Q$1503,$V7,COLUMNS($Z$31:AJ31))),\"\",INDEX($B$7:$Q$1503,$V7,COLUMNS($Z$31:AJ31)))","v":102222},{"$f":"IF(ISERROR(INDEX($B$7:$Q$1503,$V7,COLUMNS($Z$31:AK31))),\"\",INDEX($B$7:$Q$1503,$V7,COLUMNS($Z$31:AK31)))","v":106079},{"$f":"IF(ISERROR(INDEX($B$7:$Q$1503,$V7,COLUMNS($Z$31:AL31))),\"\",INDEX($B$7:$Q$1503,$V7,COLUMNS($Z$31:AL31)))","v":110319},{"$f":"IF(ISERROR(INDEX($B$7:$Q$1503,$V7,COLUMNS($Z$31:AM31))),\"\",INDEX($B$7:$Q$1503,$V7,COLUMNS($Z$31:AM31)))","v":115349},{"$f":"IF(ISERROR(INDEX($B$7:$Q$1503,$V7,COLUMNS($Z$31:AN31))),\"\",INDEX($B$7:$Q$1503,$V7,COLUMNS($Z$31:AN31)))","v":120821},{"$f":"IF(ISERROR(INDEX($B$7:$Q$1503,$V7,COLUMNS($Z$31:AO31))),\"\",INDEX($B$7:$Q$1503,$V7,COLUMNS($Z$31:AO31)))","v":114151}]
[null,"Kalvarijos sav.","Neišregistruotų juridinių asmenų skaičius metų pradžioje | vnt.",337,332,331,341,348,349,346,331,356,387,414,448,451,{"$f":"HLOOKUP(B32,'[1]2023_neišreg'!$B$2:$BT$23,22,FALSE)","v":466},{"$f":"ROWS($R$7:R32)","v":26},"",{"$f":"IF(ISERROR(SMALL($S$7:$S$1504,ROWS($S$7:S32))),\"\",SMALL($S$7:$S$1504,ROWS($S$7:S32)))","v":""},"",{"$f":"IF(ISERROR(SMALL($U$7:$U$1504,ROWS(U$7:$U32))),\"\",SMALL($U$7:$U$1504,ROWS(U$7:$U32)))","v":""},"",{"$f":"IF(ISERROR(SMALL($W$7:$W$1504,ROWS($W$7:W32))),\"\",SMALL($W$7:$W$1504,ROWS($W$7:W32)))","v":""},null,{"$f":"IF(ISERROR(INDEX($B$7:$K$1503,$V8,COLUMNS($Z$31:Z32))),\"\",INDEX($B$7:$K$1503,$V8,COLUMNS($Z$31:Z32)))","v":"Vilniaus apskritis"},{"$f":"IF(ISERROR(INDEX($B$7:$K$1503,$V8,COLUMNS($Z$31:AA32))),\"\",INDEX($B$7:$K$1503,$V8,COLUMNS($Z$31:AA32)))","v":"Per metus įregistruota juridinių asmenų skaičius | vnt."},{"$f":"IF(ISERROR(INDEX($B$7:$Q$1503,$V8,COLUMNS($Z$31:AB32))),\"\",INDEX($B$7:$Q$1503,$V8,COLUMNS($Z$31:AB32)))","v":4515},{"$f":"IF(ISERROR(INDEX($B$7:$Q$1503,$V8,COLUMNS($Z$31:AC32))),\"\",INDEX($B$7:$Q$1503,$V8,COLUMNS($Z$31:AC32)))","v":5444},{"$f":"IF(ISERROR(INDEX($B$7:$Q$1503,$V8,COLUMNS($Z$31:AD32))),\"\",INDEX($B$7:$Q$1503,$V8,COLUMNS($Z$31:AD32)))","v":8082},{"$f":"IF(ISERROR(INDEX($B$7:$Q$1503,$V8,COLUMNS($Z$31:AE32))),\"\",INDEX($B$7:$Q$1503,$V8,COLUMNS($Z$31:AE32)))","v":7551},{"$f":"IF(ISERROR(INDEX($B$7:$Q$1503,$V8,COLUMNS($Z$31:AF32))),\"\",INDEX($B$7:$Q$1503,$V8,COLUMNS($Z$31:AF32)))","v":7891},{"$f":"IF(ISERROR(INDEX($B$7:$Q$1503,$V8,COLUMNS($Z$31:AG32))),\"\",INDEX($B$7:$Q$1503,$V8,COLUMNS($Z$31:AG32)))","v":4951},{"$f":"IF(ISERROR(INDEX($B$7:$Q$1503,$V8,COLUMNS($Z$31:AH32))),\"\",INDEX($B$7:$Q$1503,$V8,COLUMNS($Z$31:AH32)))","v":5078},{"$f":"IF(ISERROR(INDEX($B$7:$Q$1503,$V8,COLUMNS($Z$31:AI32))),\"\",INDEX($B$7:$Q$1503,$V8,COLUMNS($Z$31:AI32)))","v":5711},{"$f":"IF(ISERROR(INDEX($B$7:$Q$1503,$V8,COLUMNS($Z$31:AJ32))),\"\",INDEX($B$7:$Q$1503,$V8,COLUMNS($Z$31:AJ32)))","v":5683},{"$f":"IF(ISERROR(INDEX($B$7:$Q$1503,$V8,COLUMNS($Z$31:AK32))),\"\",INDEX($B$7:$Q$1503,$V8,COLUMNS($Z$31:AK32)))","v":6143},{"$f":"IF(ISERROR(INDEX($B$7:$Q$1503,$V8,COLUMNS($Z$31:AL32))),\"\",INDEX($B$7:$Q$1503,$V8,COLUMNS($Z$31:AL32)))","v":6353},{"$f":"IF(ISERROR(INDEX($B$7:$Q$1503,$V8,COLUMNS($Z$31:AM32))),\"\",INDEX($B$7:$Q$1503,$V8,COLUMNS($Z$31:AM32)))","v":7393},{"$f":"IF(ISERROR(INDEX($B$7:$Q$1503,$V8,COLUMNS($Z$31:AN32))),\"\",INDEX($B$7:$Q$1503,$V8,COLUMNS($Z$31:AN32)))","v":7514},{"$f":"IF(ISERROR(INDEX($B$7:$Q$1503,$V8,COLUMNS($Z$31:AO32))),\"\",INDEX($B$7:$Q$1503,$V8,COLUMNS($Z$31:AO32)))","v":0}]
[null,"Kazlų Rūdos sav.","Neišregistruotų juridinių asmenų skaičius metų pradžioje | vnt.",433,435,452,475,513,525,519,500,520,533,556,585,583,{"$f":"HLOOKUP(B33,'[1]2023_neišreg'!$B$2:$BT$23,22,FALSE)","v":594},{"$f":"ROWS($R$7:R33)","v":27},"",{"$f":"IF(ISERROR(SMALL($S$7:$S$1504,ROWS($S$7:S33))),\"\",SMALL($S$7:$S$1504,ROWS($S$7:S33)))","v":""},"",{"$f":"IF(ISERROR(SMALL($U$7:$U$1504,ROWS(U$7:$U33))),\"\",SMALL($U$7:$U$1504,ROWS(U$7:$U33)))","v":""},"",{"$f":"IF(ISERROR(SMALL($W$7:$W$1504,ROWS($W$7:W33))),\"\",SMALL($W$7:$W$1504,ROWS($W$7:W33)))","v":""},null,{"$f":"IF(ISERROR(INDEX($B$7:$K$1503,$V9,COLUMNS($Z$31:Z33))),\"\",INDEX($B$7:$K$1503,$V9,COLUMNS($Z$31:Z33)))","v":"Vilniaus apskritis"},{"$f":"IF(ISERROR(INDEX($B$7:$K$1503,$V9,COLUMNS($Z$31:AA33))),\"\",INDEX($B$7:$K$1503,$V9,COLUMNS($Z$31:AA33)))","v":"Per metus išregistruota juridinių asmenų skaičius | vnt."},{"$f":"IF(ISERROR(INDEX($B$7:$Q$1503,$V9,COLUMNS($Z$31:AB33))),\"\",INDEX($B$7:$Q$1503,$V9,COLUMNS($Z$31:AB33)))","v":2316},{"$f":"IF(ISERROR(INDEX($B$7:$Q$1503,$V9,COLUMNS($Z$31:AC33))),\"\",INDEX($B$7:$Q$1503,$V9,COLUMNS($Z$31:AC33)))","v":1056},{"$f":"IF(ISERROR(INDEX($B$7:$Q$1503,$V9,COLUMNS($Z$31:AD33))),\"\",INDEX($B$7:$Q$1503,$V9,COLUMNS($Z$31:AD33)))","v":1068},{"$f":"IF(ISERROR(INDEX($B$7:$Q$1503,$V9,COLUMNS($Z$31:AE33))),\"\",INDEX($B$7:$Q$1503,$V9,COLUMNS($Z$31:AE33)))","v":1105},{"$f":"IF(ISERROR(INDEX($B$7:$Q$1503,$V9,COLUMNS($Z$31:AF33))),\"\",INDEX($B$7:$Q$1503,$V9,COLUMNS($Z$31:AF33)))","v":1212},{"$f":"IF(ISERROR(INDEX($B$7:$Q$1503,$V9,COLUMNS($Z$31:AG33))),\"\",INDEX($B$7:$Q$1503,$V9,COLUMNS($Z$31:AG33)))","v":1548},{"$f":"IF(ISERROR(INDEX($B$7:$Q$1503,$V9,COLUMNS($Z$31:AH33))),\"\",INDEX($B$7:$Q$1503,$V9,COLUMNS($Z$31:AH33)))","v":6309},{"$f":"IF(ISERROR(INDEX($B$7:$Q$1503,$V9,COLUMNS($Z$31:AI33))),\"\",INDEX($B$7:$Q$1503,$V9,COLUMNS($Z$31:AI33)))","v":1799},{"$f":"IF(ISERROR(INDEX($B$7:$Q$1503,$V9,COLUMNS($Z$31:AJ33))),\"\",INDEX($B$7:$Q$1503,$V9,COLUMNS($Z$31:AJ33)))","v":1881},{"$f":"IF(ISERROR(INDEX($B$7:$Q$1503,$V9,COLUMNS($Z$31:AK33))),\"\",INDEX($B$7:$Q$1503,$V9,COLUMNS($Z$31:AK33)))","v":1915},{"$f":"IF(ISERROR(INDEX($B$7:$Q$1503,$V9,COLUMNS($Z$31:AL33))),\"\",INDEX($B$7:$Q$1503,$V9,COLUMNS($Z$31:AL33)))","v":1349},{"$f":"IF(ISERROR(INDEX($B$7:$Q$1503,$V9,COLUMNS($Z$31:AM33))),\"\",INDEX($B$7:$Q$1503,$V9,COLUMNS($Z$31:AM33)))","v":1826},{"$f":"IF(ISERROR(INDEX($B$7:$Q$1503,$V9,COLUMNS($Z$31:AN33))),\"\",INDEX($B$7:$Q$1503,$V9,COLUMNS($Z$31:AN33)))","v":14174},{"$f":"IF(ISERROR(INDEX($B$7:$Q$1503,$V9,COLUMNS($Z$31:AO33))),\"\",INDEX($B$7:$Q$1503,$V9,COLUMNS($Z$31:AO33)))","v":0}]
[null,"Marijampolės sav.","Neišregistruotų juridinių asmenų skaičius metų pradžioje | vnt.",2786,2784,2844,2937,2975,3030,3040,2921,2961,3027,3103,3194,3228,{"$f":"HLOOKUP(B34,'[1]2023_neišreg'!$B$2:$BT$23,22,FALSE)","v":3246},{"$f":"ROWS($R$7:R34)","v":28},"",{"$f":"IF(ISERROR(SMALL($S$7:$S$1504,ROWS($S$7:S34))),\"\",SMALL($S$7:$S$1504,ROWS($S$7:S34)))","v":""},"",{"$f":"IF(ISERROR(SMALL($U$7:$U$1504,ROWS(U$7:$U34))),\"\",SMALL($U$7:$U$1504,ROWS(U$7:$U34)))","v":""},"",{"$f":"IF(ISERROR(SMALL($W$7:$W$1504,ROWS($W$7:W34))),\"\",SMALL($W$7:$W$1504,ROWS($W$7:W34)))","v":""},null,{"$f":"IF(ISERROR(INDEX($B$7:$K$1503,$V10,COLUMNS($Z$31:Z34))),\"\",INDEX($B$7:$K$1503,$V10,COLUMNS($Z$31:Z34)))","v":"Vilniaus apskritis"},{"$f":"IF(ISERROR(INDEX($B$7:$K$1503,$V10,COLUMNS($Z$31:AA34))),\"\",INDEX($B$7:$K$1503,$V10,COLUMNS($Z$31:AA34)))","v":"Per metus įregistruota mažų ir vidutinių įmonių | vnt."},{"$f":"IF(ISERROR(INDEX($B$7:$Q$1503,$V10,COLUMNS($Z$31:AB34))),\"\",INDEX($B$7:$Q$1503,$V10,COLUMNS($Z$31:AB34)))","v":3701},{"$f":"IF(ISERROR(INDEX($B$7:$Q$1503,$V10,COLUMNS($Z$31:AC34))),\"\",INDEX($B$7:$Q$1503,$V10,COLUMNS($Z$31:AC34)))","v":4683},{"$f":"IF(ISERROR(INDEX($B$7:$Q$1503,$V10,COLUMNS($Z$31:AD34))),\"\",INDEX($B$7:$Q$1503,$V10,COLUMNS($Z$31:AD34)))","v":7345},{"$f":"IF(ISERROR(INDEX($B$7:$Q$1503,$V10,COLUMNS($Z$31:AE34))),\"\",INDEX($B$7:$Q$1503,$V10,COLUMNS($Z$31:AE34)))","v":6729},{"$f":"IF(ISERROR(INDEX($B$7:$Q$1503,$V10,COLUMNS($Z$31:AF34))),\"\",INDEX($B$7:$Q$1503,$V10,COLUMNS($Z$31:AF34)))","v":7115},{"$f":"IF(ISERROR(INDEX($B$7:$Q$1503,$V10,COLUMNS($Z$31:AG34))),\"\",INDEX($B$7:$Q$1503,$V10,COLUMNS($Z$31:AG34)))","v":4127},{"$f":"IF(ISERROR(INDEX($B$7:$Q$1503,$V10,COLUMNS($Z$31:AH34))),\"\",INDEX($B$7:$Q$1503,$V10,COLUMNS($Z$31:AH34)))","v":4415},{"$f":"IF(ISERROR(INDEX($B$7:$Q$1503,$V10,COLUMNS($Z$31:AI34))),\"\",INDEX($B$7:$Q$1503,$V10,COLUMNS($Z$31:AI34)))","v":4981},{"$f":"IF(ISERROR(INDEX($B$7:$Q$1503,$V10,COLUMNS($Z$31:AJ34))),\"\",INDEX($B$7:$Q$1503,$V10,COLUMNS($Z$31:AJ34)))","v":5077},{"$f":"IF(ISERROR(INDEX($B$7:$Q$1503,$V10,COLUMNS($Z$31:AK34))),\"\",INDEX($B$7:$Q$1503,$V10,COLUMNS($Z$31:AK34)))","v":5432},{"$f":"IF(ISERROR(INDEX($B$7:$Q$1503,$V10,COLUMNS($Z$31:AL34))),\"\",INDEX($B$7:$Q$1503,$V10,COLUMNS($Z$31:AL34)))","v":5651},{"$f":"IF(ISERROR(INDEX($B$7:$Q$1503,$V10,COLUMNS($Z$31:AM34))),\"\",INDEX($B$7:$Q$1503,$V10,COLUMNS($Z$31:AM34)))","v":6874},{"$f":"IF(ISERROR(INDEX($B$7:$Q$1503,$V10,COLUMNS($Z$31:AN34))),\"\",INDEX($B$7:$Q$1503,$V10,COLUMNS($Z$31:AN34)))","v":6691},{"$f":"IF(ISERROR(INDEX($B$7:$Q$1503,$V10,COLUMNS($Z$31:AO34))),\"\",INDEX($B$7:$Q$1503,$V10,COLUMNS($Z$31:AO34)))","v":0}]
[null,"Šakių r. sav.","Neišregistruotų juridinių asmenų skaičius metų pradžioje | vnt.",880,906,923,959,979,982,1008,986,1023,1046,1086,1125,1155,{"$f":"HLOOKUP(B35,'[1]2023_neišreg'!$B$2:$BT$23,22,FALSE)","v":1151},{"$f":"ROWS($R$7:R35)","v":29},"",{"$f":"IF(ISERROR(SMALL($S$7:$S$1504,ROWS($S$7:S35))),\"\",SMALL($S$7:$S$1504,ROWS($S$7:S35)))","v":""},"",{"$f":"IF(ISERROR(SMALL($U$7:$U$1504,ROWS(U$7:$U35))),\"\",SMALL($U$7:$U$1504,ROWS(U$7:$U35)))","v":""},"",{"$f":"IF(ISERROR(SMALL($W$7:$W$1504,ROWS($W$7:W35))),\"\",SMALL($W$7:$W$1504,ROWS($W$7:W35)))","v":""},null,{"$f":"IF(ISERROR(INDEX($B$7:$K$1503,$V11,COLUMNS($Z$31:Z35))),\"\",INDEX($B$7:$K$1503,$V11,COLUMNS($Z$31:Z35)))","v":"Vilniaus apskritis"},{"$f":"IF(ISERROR(INDEX($B$7:$K$1503,$V11,COLUMNS($Z$31:AA35))),\"\",INDEX($B$7:$K$1503,$V11,COLUMNS($Z$31:AA35)))","v":"Per metus išregistruota mažų ir vidutinių įmonių | vnt."},{"$f":"IF(ISERROR(INDEX($B$7:$Q$1503,$V11,COLUMNS($Z$31:AB35))),\"\",INDEX($B$7:$Q$1503,$V11,COLUMNS($Z$31:AB35)))","v":2571},{"$f":"IF(ISERROR(INDEX($B$7:$Q$1503,$V11,COLUMNS($Z$31:AC35))),\"\",INDEX($B$7:$Q$1503,$V11,COLUMNS($Z$31:AC35)))","v":1505},{"$f":"IF(ISERROR(INDEX($B$7:$Q$1503,$V11,COLUMNS($Z$31:AD35))),\"\",INDEX($B$7:$Q$1503,$V11,COLUMNS($Z$31:AD35)))","v":1492},{"$f":"IF(ISERROR(INDEX($B$7:$Q$1503,$V11,COLUMNS($Z$31:AE35))),\"\",INDEX($B$7:$Q$1503,$V11,COLUMNS($Z$31:AE35)))","v":1511},{"$f":"IF(ISERROR(INDEX($B$7:$Q$1503,$V11,COLUMNS($Z$31:AF35))),\"\",INDEX($B$7:$Q$1503,$V11,COLUMNS($Z$31:AF35)))","v":1656},{"$f":"IF(ISERROR(INDEX($B$7:$Q$1503,$V11,COLUMNS($Z$31:AG35))),\"\",INDEX($B$7:$Q$1503,$V11,COLUMNS($Z$31:AG35)))","v":1982},{"$f":"IF(ISERROR(INDEX($B$7:$Q$1503,$V11,COLUMNS($Z$31:AH35))),\"\",INDEX($B$7:$Q$1503,$V11,COLUMNS($Z$31:AH35)))","v":6649},{"$f":"IF(ISERROR(INDEX($B$7:$Q$1503,$V11,COLUMNS($Z$31:AI35))),\"\",INDEX($B$7:$Q$1503,$V11,COLUMNS($Z$31:AI35)))","v":1634},{"$f":"IF(ISERROR(INDEX($B$7:$Q$1503,$V11,COLUMNS($Z$31:AJ35))),\"\",INDEX($B$7:$Q$1503,$V11,COLUMNS($Z$31:AJ35)))","v":1707},{"$f":"IF(ISERROR(INDEX($B$7:$Q$1503,$V11,COLUMNS($Z$31:AK35))),\"\",INDEX($B$7:$Q$1503,$V11,COLUMNS($Z$31:AK35)))","v":1641},{"$f":"IF(ISERROR(INDEX($B$7:$Q$1503,$V11,COLUMNS($Z$31:AL35))),\"\",INDEX($B$7:$Q$1503,$V11,COLUMNS($Z$31:AL35)))","v":1177},{"$f":"IF(ISERROR(INDEX($B$7:$Q$1503,$V11,COLUMNS($Z$31:AM35))),\"\",INDEX($B$7:$Q$1503,$V11,COLUMNS($Z$31:AM35)))","v":1504},{"$f":"IF(ISERROR(INDEX($B$7:$Q$1503,$V11,COLUMNS($Z$31:AN35))),\"\",INDEX($B$7:$Q$1503,$V11,COLUMNS($Z$31:AN35)))","v":10117},{"$f":"IF(ISERROR(INDEX($B$7:$Q$1503,$V11,COLUMNS($Z$31:AO35))),\"\",INDEX($B$7:$Q$1503,$V11,COLUMNS($Z$31:AO35)))","v":0}]
[null,"Vilkaviškio r. sav.","Neišregistruotų juridinių asmenų skaičius metų pradžioje | vnt.",1267,1257,1274,1326,1351,1333,1326,1255,1273,1262,1290,1328,1352,{"$f":"HLOOKUP(B36,'[1]2023_neišreg'!$B$2:$BT$23,22,FALSE)","v":1390},{"$f":"ROWS($R$7:R36)","v":30},"",{"$f":"IF(ISERROR(SMALL($S$7:$S$1504,ROWS($S$7:S36))),\"\",SMALL($S$7:$S$1504,ROWS($S$7:S36)))","v":""},"",{"$f":"IF(ISERROR(SMALL($U$7:$U$1504,ROWS(U$7:$U36))),\"\",SMALL($U$7:$U$1504,ROWS(U$7:$U36)))","v":""},"",{"$f":"IF(ISERROR(SMALL($W$7:$W$1504,ROWS($W$7:W36))),\"\",SMALL($W$7:$W$1504,ROWS($W$7:W36)))","v":""},null,{"$f":"IF(ISERROR(INDEX($B$7:$K$1503,$V12,COLUMNS($Z$31:Z36))),\"\",INDEX($B$7:$K$1503,$V12,COLUMNS($Z$31:Z36)))","v":"Vilniaus apskritis"},{"$f":"IF(ISERROR(INDEX($B$7:$K$1503,$V12,COLUMNS($Z$31:AA36))),\"\",INDEX($B$7:$K$1503,$V12,COLUMNS($Z$31:AA36)))","v":"Veikiančių mažų ir vidutinių įmonių skaičius metų pradžioje | vnt."},{"$f":"IF(ISERROR(INDEX($B$7:$Q$1503,$V12,COLUMNS($Z$31:AB36))),\"\",INDEX($B$7:$Q$1503,$V12,COLUMNS($Z$31:AB36)))","v":23786},{"$f":"IF(ISERROR(INDEX($B$7:$Q$1503,$V12,COLUMNS($Z$31:AC36))),\"\",INDEX($B$7:$Q$1503,$V12,COLUMNS($Z$31:AC36)))","v":25071},{"$f":"IF(ISERROR(INDEX($B$7:$Q$1503,$V12,COLUMNS($Z$31:AD36))),\"\",INDEX($B$7:$Q$1503,$V12,COLUMNS($Z$31:AD36)))","v":24141},{"$f":"IF(ISERROR(INDEX($B$7:$Q$1503,$V12,COLUMNS($Z$31:AE36))),\"\",INDEX($B$7:$Q$1503,$V12,COLUMNS($Z$31:AE36)))","v":26070},{"$f":"IF(ISERROR(INDEX($B$7:$Q$1503,$V12,COLUMNS($Z$31:AF36))),\"\",INDEX($B$7:$Q$1503,$V12,COLUMNS($Z$31:AF36)))","v":27545},{"$f":"IF(ISERROR(INDEX($B$7:$Q$1503,$V12,COLUMNS($Z$31:AG36))),\"\",INDEX($B$7:$Q$1503,$V12,COLUMNS($Z$31:AG36)))","v":32122},{"$f":"IF(ISERROR(INDEX($B$7:$Q$1503,$V12,COLUMNS($Z$31:AH36))),\"\",INDEX($B$7:$Q$1503,$V12,COLUMNS($Z$31:AH36)))","v":33998},{"$f":"IF(ISERROR(INDEX($B$7:$Q$1503,$V12,COLUMNS($Z$31:AI36))),\"\",INDEX($B$7:$Q$1503,$V12,COLUMNS($Z$31:AI36)))","v":35119},{"$f":"IF(ISERROR(INDEX($B$7:$Q$1503,$V12,COLUMNS($Z$31:AJ36))),\"\",INDEX($B$7:$Q$1503,$V12,COLUMNS($Z$31:AJ36)))","v":34923},{"$f":"IF(ISERROR(INDEX($B$7:$Q$1503,$V12,COLUMNS($Z$31:AK36))),\"\",INDEX($B$7:$Q$1503,$V12,COLUMNS($Z$31:AK36)))","v":35384},{"$f":"IF(ISERROR(INDEX($B$7:$Q$1503,$V12,COLUMNS($Z$31:AL36))),\"\",INDEX($B$7:$Q$1503,$V12,COLUMNS($Z$31:AL36)))","v":36478},{"$f":"IF(ISERROR(INDEX($B$7:$Q$1503,$V12,COLUMNS($Z$31:AM36))),\"\",INDEX($B$7:$Q$1503,$V12,COLUMNS($Z$31:AM36)))","v":36945},{"$f":"IF(ISERROR(INDEX($B$7:$Q$1503,$V12,COLUMNS($Z$31:AN36))),\"\",INDEX($B$7:$Q$1503,$V12,COLUMNS($Z$31:AN36)))","v":39639},{"$f":"IF(ISERROR(INDEX($B$7:$Q$1503,$V12,COLUMNS($Z$31:AO36))),\"\",INDEX($B$7:$Q$1503,$V12,COLUMNS($Z$31:AO36)))","v":42774}]
[null,"Panevėžio apskritis","Neišregistruotų juridinių asmenų skaičius metų pradžioje | vnt.",11927,11918,12034,12332,12657,12952,13122,12509,12705,12924,13212,13499,13669,{"$f":"HLOOKUP(B37,'[1]2023_neišreg'!$B$2:$BT$23,22,FALSE)","v":13586},{"$f":"ROWS($R$7:R37)","v":31},"",{"$f":"IF(ISERROR(SMALL($S$7:$S$1504,ROWS($S$7:S37))),\"\",SMALL($S$7:$S$1504,ROWS($S$7:S37)))","v":""},"",{"$f":"IF(ISERROR(SMALL($U$7:$U$1504,ROWS(U$7:$U37))),\"\",SMALL($U$7:$U$1504,ROWS(U$7:$U37)))","v":""},"",{"$f":"IF(ISERROR(SMALL($W$7:$W$1504,ROWS($W$7:W37))),\"\",SMALL($W$7:$W$1504,ROWS($W$7:W37)))","v":""},null,{"$f":"IF(ISERROR(INDEX($B$7:$K$1503,$V13,COLUMNS($Z$31:Z37))),\"\",INDEX($B$7:$K$1503,$V13,COLUMNS($Z$31:Z37)))","v":"Vilniaus apskritis"},{"$f":"IF(ISERROR(INDEX($B$7:$K$1503,$V13,COLUMNS($Z$31:AA37))),\"\",INDEX($B$7:$K$1503,$V13,COLUMNS($Z$31:AA37)))","v":"Veikiančių įmonių skaičius metų pradžioje | vnt."},{"$f":"IF(ISERROR(INDEX($B$7:$Q$1503,$V13,COLUMNS($Z$31:AB37))),\"\",INDEX($B$7:$Q$1503,$V13,COLUMNS($Z$31:AB37)))","v":23961},{"$f":"IF(ISERROR(INDEX($B$7:$Q$1503,$V13,COLUMNS($Z$31:AC37))),\"\",INDEX($B$7:$Q$1503,$V13,COLUMNS($Z$31:AC37)))","v":25208},{"$f":"IF(ISERROR(INDEX($B$7:$Q$1503,$V13,COLUMNS($Z$31:AD37))),\"\",INDEX($B$7:$Q$1503,$V13,COLUMNS($Z$31:AD37)))","v":24276},{"$f":"IF(ISERROR(INDEX($B$7:$Q$1503,$V13,COLUMNS($Z$31:AE37))),\"\",INDEX($B$7:$Q$1503,$V13,COLUMNS($Z$31:AE37)))","v":26209},{"$f":"IF(ISERROR(INDEX($B$7:$Q$1503,$V13,COLUMNS($Z$31:AF37))),\"\",INDEX($B$7:$Q$1503,$V13,COLUMNS($Z$31:AF37)))","v":27698},{"$f":"IF(ISERROR(INDEX($B$7:$Q$1503,$V13,COLUMNS($Z$31:AG37))),\"\",INDEX($B$7:$Q$1503,$V13,COLUMNS($Z$31:AG37)))","v":32277},{"$f":"IF(ISERROR(INDEX($B$7:$Q$1503,$V13,COLUMNS($Z$31:AH37))),\"\",INDEX($B$7:$Q$1503,$V13,COLUMNS($Z$31:AH37)))","v":34165},{"$f":"IF(ISERROR(INDEX($B$7:$Q$1503,$V13,COLUMNS($Z$31:AI37))),\"\",INDEX($B$7:$Q$1503,$V13,COLUMNS($Z$31:AI37)))","v":35284},{"$f":"IF(ISERROR(INDEX($B$7:$Q$1503,$V13,COLUMNS($Z$31:AJ37))),\"\",INDEX($B$7:$Q$1503,$V13,COLUMNS($Z$31:AJ37)))","v":35089},{"$f":"IF(ISERROR(INDEX($B$7:$Q$1503,$V13,COLUMNS($Z$31:AK37))),\"\",INDEX($B$7:$Q$1503,$V13,COLUMNS($Z$31:AK37)))","v":35561},{"$f":"IF(ISERROR(INDEX($B$7:$Q$1503,$V13,COLUMNS($Z$31:AL37))),\"\",INDEX($B$7:$Q$1503,$V13,COLUMNS($Z$31:AL37)))","v":36666},{"$f":"IF(ISERROR(INDEX($B$7:$Q$1503,$V13,COLUMNS($Z$31:AM37))),\"\",INDEX($B$7:$Q$1503,$V13,COLUMNS($Z$31:AM37)))","v":37145},{"$f":"IF(ISERROR(INDEX($B$7:$Q$1503,$V13,COLUMNS($Z$31:AN37))),\"\",INDEX($B$7:$Q$1503,$V13,COLUMNS($Z$31:AN37)))","v":39836},{"$f":"IF(ISERROR(INDEX($B$7:$Q$1503,$V13,COLUMNS($Z$31:AO37))),\"\",INDEX($B$7:$Q$1503,$V13,COLUMNS($Z$31:AO37)))","v":42974}]
[null,"Biržų r. sav.","Neišregistruotų juridinių asmenų skaičius metų pradžioje | vnt.",1091,1077,1119,1135,1159,1185,1210,1143,1150,1176,1212,1227,1235,{"$f":"HLOOKUP(B38,'[1]2023_neišreg'!$B$2:$BT$23,22,FALSE)","v":1226},{"$f":"ROWS($R$7:R38)","v":32},"",{"$f":"IF(ISERROR(SMALL($S$7:$S$1504,ROWS($S$7:S38))),\"\",SMALL($S$7:$S$1504,ROWS($S$7:S38)))","v":""},"",{"$f":"IF(ISERROR(SMALL($U$7:$U$1504,ROWS(U$7:$U38))),\"\",SMALL($U$7:$U$1504,ROWS(U$7:$U38)))","v":""},"",{"$f":"IF(ISERROR(SMALL($W$7:$W$1504,ROWS($W$7:W38))),\"\",SMALL($W$7:$W$1504,ROWS($W$7:W38)))","v":""},null,{"$f":"IF(ISERROR(INDEX($B$7:$K$1503,$V14,COLUMNS($Z$31:Z38))),\"\",INDEX($B$7:$K$1503,$V14,COLUMNS($Z$31:Z38)))","v":"Vilniaus apskritis"},{"$f":"IF(ISERROR(INDEX($B$7:$K$1503,$V14,COLUMNS($Z$31:AA38))),\"\",INDEX($B$7:$K$1503,$V14,COLUMNS($Z$31:AA38)))","v":"Darbuotojų skaičius veikiančiose mažose ir vidutinėse įmonėse metų pradžioje | vnt."},{"$f":"IF(ISERROR(INDEX($B$7:$Q$1503,$V14,COLUMNS($Z$31:AB38))),\"\",INDEX($B$7:$Q$1503,$V14,COLUMNS($Z$31:AB38)))","v":256915},{"$f":"IF(ISERROR(INDEX($B$7:$Q$1503,$V14,COLUMNS($Z$31:AC38))),\"\",INDEX($B$7:$Q$1503,$V14,COLUMNS($Z$31:AC38)))","v":225900},{"$f":"IF(ISERROR(INDEX($B$7:$Q$1503,$V14,COLUMNS($Z$31:AD38))),\"\",INDEX($B$7:$Q$1503,$V14,COLUMNS($Z$31:AD38)))","v":219250},{"$f":"IF(ISERROR(INDEX($B$7:$Q$1503,$V14,COLUMNS($Z$31:AE38))),\"\",INDEX($B$7:$Q$1503,$V14,COLUMNS($Z$31:AE38)))","v":232401},{"$f":"IF(ISERROR(INDEX($B$7:$Q$1503,$V14,COLUMNS($Z$31:AF38))),\"\",INDEX($B$7:$Q$1503,$V14,COLUMNS($Z$31:AF38)))","v":237440},{"$f":"IF(ISERROR(INDEX($B$7:$Q$1503,$V14,COLUMNS($Z$31:AG38))),\"\",INDEX($B$7:$Q$1503,$V14,COLUMNS($Z$31:AG38)))","v":250944},{"$f":"IF(ISERROR(INDEX($B$7:$Q$1503,$V14,COLUMNS($Z$31:AH38))),\"\",INDEX($B$7:$Q$1503,$V14,COLUMNS($Z$31:AH38)))","v":258435},{"$f":"IF(ISERROR(INDEX($B$7:$Q$1503,$V14,COLUMNS($Z$31:AI38))),\"\",INDEX($B$7:$Q$1503,$V14,COLUMNS($Z$31:AI38)))","v":264940},{"$f":"IF(ISERROR(INDEX($B$7:$Q$1503,$V14,COLUMNS($Z$31:AJ38))),\"\",INDEX($B$7:$Q$1503,$V14,COLUMNS($Z$31:AJ38)))","v":267298},{"$f":"IF(ISERROR(INDEX($B$7:$Q$1503,$V14,COLUMNS($Z$31:AK38))),\"\",INDEX($B$7:$Q$1503,$V14,COLUMNS($Z$31:AK38)))","v":265155},{"$f":"IF(ISERROR(INDEX($B$7:$Q$1503,$V14,COLUMNS($Z$31:AL38))),\"\",INDEX($B$7:$Q$1503,$V14,COLUMNS($Z$31:AL38)))","v":263602},{"$f":"IF(ISERROR(INDEX($B$7:$Q$1503,$V14,COLUMNS($Z$31:AM38))),\"\",INDEX($B$7:$Q$1503,$V14,COLUMNS($Z$31:AM38)))","v":260155},{"$f":"IF(ISERROR(INDEX($B$7:$Q$1503,$V14,COLUMNS($Z$31:AN38))),\"\",INDEX($B$7:$Q$1503,$V14,COLUMNS($Z$31:AN38)))","v":260995},{"$f":"IF(ISERROR(INDEX($B$7:$Q$1503,$V14,COLUMNS($Z$31:AO38))),\"\",INDEX($B$7:$Q$1503,$V14,COLUMNS($Z$31:AO38)))","v":277600}]
[null,"Kupiškio r. sav.","Neišregistruotų juridinių asmenų skaičius metų pradžioje | vnt.",780,776,769,774,799,793,800,773,780,809,813,819,830,{"$f":"HLOOKUP(B39,'[1]2023_neišreg'!$B$2:$BT$23,22,FALSE)","v":815},{"$f":"ROWS($R$7:R39)","v":33},"",{"$f":"IF(ISERROR(SMALL($S$7:$S$1504,ROWS($S$7:S39))),\"\",SMALL($S$7:$S$1504,ROWS($S$7:S39)))","v":""},"",{"$f":"IF(ISERROR(SMALL($U$7:$U$1504,ROWS(U$7:$U39))),\"\",SMALL($U$7:$U$1504,ROWS(U$7:$U39)))","v":""},"",{"$f":"IF(ISERROR(SMALL($W$7:$W$1504,ROWS($W$7:W39))),\"\",SMALL($W$7:$W$1504,ROWS($W$7:W39)))","v":""},null,{"$f":"IF(ISERROR(INDEX($B$7:$K$1503,$V15,COLUMNS($Z$31:Z39))),\"\",INDEX($B$7:$K$1503,$V15,COLUMNS($Z$31:Z39)))","v":"Vilniaus apskritis"},{"$f":"IF(ISERROR(INDEX($B$7:$K$1503,$V15,COLUMNS($Z$31:AA39))),\"\",INDEX($B$7:$K$1503,$V15,COLUMNS($Z$31:AA39)))","v":"Darbuotojų skaičius veikiančiose įmonėse metų pradžioje | vnt."},{"$f":"IF(ISERROR(INDEX($B$7:$Q$1503,$V15,COLUMNS($Z$31:AB39))),\"\",INDEX($B$7:$Q$1503,$V15,COLUMNS($Z$31:AB39)))","v":416104},{"$f":"IF(ISERROR(INDEX($B$7:$Q$1503,$V15,COLUMNS($Z$31:AC39))),\"\",INDEX($B$7:$Q$1503,$V15,COLUMNS($Z$31:AC39)))","v":344601},{"$f":"IF(ISERROR(INDEX($B$7:$Q$1503,$V15,COLUMNS($Z$31:AD39))),\"\",INDEX($B$7:$Q$1503,$V15,COLUMNS($Z$31:AD39)))","v":336914},{"$f":"IF(ISERROR(INDEX($B$7:$Q$1503,$V15,COLUMNS($Z$31:AE39))),\"\",INDEX($B$7:$Q$1503,$V15,COLUMNS($Z$31:AE39)))","v":357849},{"$f":"IF(ISERROR(INDEX($B$7:$Q$1503,$V15,COLUMNS($Z$31:AF39))),\"\",INDEX($B$7:$Q$1503,$V15,COLUMNS($Z$31:AF39)))","v":368822},{"$f":"IF(ISERROR(INDEX($B$7:$Q$1503,$V15,COLUMNS($Z$31:AG39))),\"\",INDEX($B$7:$Q$1503,$V15,COLUMNS($Z$31:AG39)))","v":387139},{"$f":"IF(ISERROR(INDEX($B$7:$Q$1503,$V15,COLUMNS($Z$31:AH39))),\"\",INDEX($B$7:$Q$1503,$V15,COLUMNS($Z$31:AH39)))","v":400873},{"$f":"IF(ISERROR(INDEX($B$7:$Q$1503,$V15,COLUMNS($Z$31:AI39))),\"\",INDEX($B$7:$Q$1503,$V15,COLUMNS($Z$31:AI39)))","v":405776},{"$f":"IF(ISERROR(INDEX($B$7:$Q$1503,$V15,COLUMNS($Z$31:AJ39))),\"\",INDEX($B$7:$Q$1503,$V15,COLUMNS($Z$31:AJ39)))","v":413423},{"$f":"IF(ISERROR(INDEX($B$7:$Q$1503,$V15,COLUMNS($Z$31:AK39))),\"\",INDEX($B$7:$Q$1503,$V15,COLUMNS($Z$31:AK39)))","v":412398},{"$f":"IF(ISERROR(INDEX($B$7:$Q$1503,$V15,COLUMNS($Z$31:AL39))),\"\",INDEX($B$7:$Q$1503,$V15,COLUMNS($Z$31:AL39)))","v":417911},{"$f":"IF(ISERROR(INDEX($B$7:$Q$1503,$V15,COLUMNS($Z$31:AM39))),\"\",INDEX($B$7:$Q$1503,$V15,COLUMNS($Z$31:AM39)))","v":419568},{"$f":"IF(ISERROR(INDEX($B$7:$Q$1503,$V15,COLUMNS($Z$31:AN39))),\"\",INDEX($B$7:$Q$1503,$V15,COLUMNS($Z$31:AN39)))","v":419521},{"$f":"IF(ISERROR(INDEX($B$7:$Q$1503,$V15,COLUMNS($Z$31:AO39))),\"\",INDEX($B$7:$Q$1503,$V15,COLUMNS($Z$31:AO39)))","v":438611}]
[null,"Panevėžio m. sav.","Neišregistruotų juridinių asmenų skaičius metų pradžioje | vnt.",6439,6404,6438,6627,6787,6915,6966,6548,6606,6605,6678,6760,6738,{"$f":"HLOOKUP(B40,'[1]2023_neišreg'!$B$2:$BT$23,22,FALSE)","v":6572},{"$f":"ROWS($R$7:R40)","v":34},"",{"$f":"IF(ISERROR(SMALL($S$7:$S$1504,ROWS($S$7:S40))),\"\",SMALL($S$7:$S$1504,ROWS($S$7:S40)))","v":""},"",{"$f":"IF(ISERROR(SMALL($U$7:$U$1504,ROWS(U$7:$U40))),\"\",SMALL($U$7:$U$1504,ROWS(U$7:$U40)))","v":""},"",{"$f":"IF(ISERROR(SMALL($W$7:$W$1504,ROWS($W$7:W40))),\"\",SMALL($W$7:$W$1504,ROWS($W$7:W40)))","v":""},null,{"$f":"IF(ISERROR(INDEX($B$7:$K$1503,$V16,COLUMNS($Z$31:Z40))),\"\",INDEX($B$7:$K$1503,$V16,COLUMNS($Z$31:Z40)))","v":"Vilniaus apskritis"},{"$f":"IF(ISERROR(INDEX($B$7:$K$1503,$V16,COLUMNS($Z$31:AA40))),\"\",INDEX($B$7:$K$1503,$V16,COLUMNS($Z$31:AA40)))","v":"Asmenys, įsigiję verslo liudijimus | vnt."},{"$f":"IF(ISERROR(INDEX($B$7:$Q$1503,$V16,COLUMNS($Z$31:AB40))),\"\",INDEX($B$7:$Q$1503,$V16,COLUMNS($Z$31:AB40)))","v":""},{"$f":"IF(ISERROR(INDEX($B$7:$Q$1503,$V16,COLUMNS($Z$31:AC40))),\"\",INDEX($B$7:$Q$1503,$V16,COLUMNS($Z$31:AC40)))","v":25450},{"$f":"IF(ISERROR(INDEX($B$7:$Q$1503,$V16,COLUMNS($Z$31:AD40))),\"\",INDEX($B$7:$Q$1503,$V16,COLUMNS($Z$31:AD40)))","v":23304},{"$f":"IF(ISERROR(INDEX($B$7:$Q$1503,$V16,COLUMNS($Z$31:AE40))),\"\",INDEX($B$7:$Q$1503,$V16,COLUMNS($Z$31:AE40)))","v":23650},{"$f":"IF(ISERROR(INDEX($B$7:$Q$1503,$V16,COLUMNS($Z$31:AF40))),\"\",INDEX($B$7:$Q$1503,$V16,COLUMNS($Z$31:AF40)))","v":26560},{"$f":"IF(ISERROR(INDEX($B$7:$Q$1503,$V16,COLUMNS($Z$31:AG40))),\"\",INDEX($B$7:$Q$1503,$V16,COLUMNS($Z$31:AG40)))","v":28619},{"$f":"IF(ISERROR(INDEX($B$7:$Q$1503,$V16,COLUMNS($Z$31:AH40))),\"\",INDEX($B$7:$Q$1503,$V16,COLUMNS($Z$31:AH40)))","v":31379},{"$f":"IF(ISERROR(INDEX($B$7:$Q$1503,$V16,COLUMNS($Z$31:AI40))),\"\",INDEX($B$7:$Q$1503,$V16,COLUMNS($Z$31:AI40)))","v":31823},{"$f":"IF(ISERROR(INDEX($B$7:$Q$1503,$V16,COLUMNS($Z$31:AJ40))),\"\",INDEX($B$7:$Q$1503,$V16,COLUMNS($Z$31:AJ40)))","v":31170},{"$f":"IF(ISERROR(INDEX($B$7:$Q$1503,$V16,COLUMNS($Z$31:AK40))),\"\",INDEX($B$7:$Q$1503,$V16,COLUMNS($Z$31:AK40)))","v":34784},{"$f":"IF(ISERROR(INDEX($B$7:$Q$1503,$V16,COLUMNS($Z$31:AL40))),\"\",INDEX($B$7:$Q$1503,$V16,COLUMNS($Z$31:AL40)))","v":31958},{"$f":"IF(ISERROR(INDEX($B$7:$Q$1503,$V16,COLUMNS($Z$31:AM40))),\"\",INDEX($B$7:$Q$1503,$V16,COLUMNS($Z$31:AM40)))","v":30808},{"$f":"IF(ISERROR(INDEX($B$7:$Q$1503,$V16,COLUMNS($Z$31:AN40))),\"\",INDEX($B$7:$Q$1503,$V16,COLUMNS($Z$31:AN40)))","v":34931},{"$f":"IF(ISERROR(INDEX($B$7:$Q$1503,$V16,COLUMNS($Z$31:AO40))),\"\",INDEX($B$7:$Q$1503,$V16,COLUMNS($Z$31:AO40)))","v":0}]
[null,"Panevėžio r. sav.","Neišregistruotų juridinių asmenų skaičius metų pradžioje | vnt.",1558,1604,1620,1664,1698,1735,1786,1729,1786,1839,1918,2000,2064,{"$f":"HLOOKUP(B41,'[1]2023_neišreg'!$B$2:$BT$23,22,FALSE)","v":2101},{"$f":"ROWS($R$7:R41)","v":35},"",{"$f":"IF(ISERROR(SMALL($S$7:$S$1504,ROWS($S$7:S41))),\"\",SMALL($S$7:$S$1504,ROWS($S$7:S41)))","v":""},"",{"$f":"IF(ISERROR(SMALL($U$7:$U$1504,ROWS(U$7:$U41))),\"\",SMALL($U$7:$U$1504,ROWS(U$7:$U41)))","v":""},"",{"$f":"IF(ISERROR(SMALL($W$7:$W$1504,ROWS($W$7:W41))),\"\",SMALL($W$7:$W$1504,ROWS($W$7:W41)))","v":""},null,{"$f":"IF(ISERROR(INDEX($B$7:$K$1503,$V17,COLUMNS($Z$31:Z41))),\"\",INDEX($B$7:$K$1503,$V17,COLUMNS($Z$31:Z41)))","v":"Vilniaus apskritis"},{"$f":"IF(ISERROR(INDEX($B$7:$K$1503,$V17,COLUMNS($Z$31:AA41))),\"\",INDEX($B$7:$K$1503,$V17,COLUMNS($Z$31:AA41)))","v":"Veikiančios MVĮ tenkančios 1000 gyventojų metų pradžioje | vnt."},{"$f":"IF(ISERROR(INDEX($B$7:$Q$1503,$V17,COLUMNS($Z$31:AB41))),\"\",INDEX($B$7:$Q$1503,$V17,COLUMNS($Z$31:AB41)))","v":28.859745229576085},{"$f":"IF(ISERROR(INDEX($B$7:$Q$1503,$V17,COLUMNS($Z$31:AC41))),\"\",INDEX($B$7:$Q$1503,$V17,COLUMNS($Z$31:AC41)))","v":30.894068501506442},{"$f":"IF(ISERROR(INDEX($B$7:$Q$1503,$V17,COLUMNS($Z$31:AD41))),\"\",INDEX($B$7:$Q$1503,$V17,COLUMNS($Z$31:AD41)))","v":29.954771905225737},{"$f":"IF(ISERROR(INDEX($B$7:$Q$1503,$V17,COLUMNS($Z$31:AE41))),\"\",INDEX($B$7:$Q$1503,$V17,COLUMNS($Z$31:AE41)))","v":32.332557781889804},{"$f":"IF(ISERROR(INDEX($B$7:$Q$1503,$V17,COLUMNS($Z$31:AF41))),\"\",INDEX($B$7:$Q$1503,$V17,COLUMNS($Z$31:AF41)))","v":34.170444085517289},{"$f":"IF(ISERROR(INDEX($B$7:$Q$1503,$V17,COLUMNS($Z$31:AG41))),\"\",INDEX($B$7:$Q$1503,$V17,COLUMNS($Z$31:AG41)))","v":39.778433555452906},{"$f":"IF(ISERROR(INDEX($B$7:$Q$1503,$V17,COLUMNS($Z$31:AH41))),\"\",INDEX($B$7:$Q$1503,$V17,COLUMNS($Z$31:AH41)))","v":42.213613449551765},{"$f":"IF(ISERROR(INDEX($B$7:$Q$1503,$V17,COLUMNS($Z$31:AI41))),\"\",INDEX($B$7:$Q$1503,$V17,COLUMNS($Z$31:AI41)))","v":43.616713426803926},{"$f":"IF(ISERROR(INDEX($B$7:$Q$1503,$V17,COLUMNS($Z$31:AJ41))),\"\",INDEX($B$7:$Q$1503,$V17,COLUMNS($Z$31:AJ41)))","v":43.362839550167813},{"$f":"IF(ISERROR(INDEX($B$7:$Q$1503,$V17,COLUMNS($Z$31:AK41))),\"\",INDEX($B$7:$Q$1503,$V17,COLUMNS($Z$31:AK41)))","v":43.654955103893954},{"$f":"IF(ISERROR(INDEX($B$7:$Q$1503,$V17,COLUMNS($Z$31:AL41))),\"\",INDEX($B$7:$Q$1503,$V17,COLUMNS($Z$31:AL41)))","v":44.446069024338236},{"$f":"IF(ISERROR(INDEX($B$7:$Q$1503,$V17,COLUMNS($Z$31:AM41))),\"\",INDEX($B$7:$Q$1503,$V17,COLUMNS($Z$31:AM41)))","v":45.566276145570342},{"$f":"IF(ISERROR(INDEX($B$7:$Q$1503,$V17,COLUMNS($Z$31:AN41))),\"\",INDEX($B$7:$Q$1503,$V17,COLUMNS($Z$31:AN41)))","v":48.461397395928849},{"$f":"IF(ISERROR(INDEX($B$7:$Q$1503,$V17,COLUMNS($Z$31:AO41))),\"\",INDEX($B$7:$Q$1503,$V17,COLUMNS($Z$31:AO41)))","v":50.242792002311631}]
[null,"Pasvalio r. sav.","Neišregistruotų juridinių asmenų skaičius metų pradžioje | vnt.",922,920,931,951,975,1004,1022,991,1014,1036,1052,1076,1113,{"$f":"HLOOKUP(B42,'[1]2023_neišreg'!$B$2:$BT$23,22,FALSE)","v":1159},{"$f":"ROWS($R$7:R42)","v":36},"",{"$f":"IF(ISERROR(SMALL($S$7:$S$1504,ROWS($S$7:S42))),\"\",SMALL($S$7:$S$1504,ROWS($S$7:S42)))","v":""},"",{"$f":"IF(ISERROR(SMALL($U$7:$U$1504,ROWS(U$7:$U42))),\"\",SMALL($U$7:$U$1504,ROWS(U$7:$U42)))","v":""},"",{"$f":"IF(ISERROR(SMALL($W$7:$W$1504,ROWS($W$7:W42))),\"\",SMALL($W$7:$W$1504,ROWS($W$7:W42)))","v":""},null,{"$f":"IF(ISERROR(INDEX($B$7:$K$1503,$V18,COLUMNS($Z$31:Z42))),\"\",INDEX($B$7:$K$1503,$V18,COLUMNS($Z$31:Z42)))","v":"Vilniaus apskritis"},{"$f":"IF(ISERROR(INDEX($B$7:$K$1503,$V18,COLUMNS($Z$31:AA42))),\"\",INDEX($B$7:$K$1503,$V18,COLUMNS($Z$31:AA42)))","v":"Išgyvenusių 1 metus ir 1 dieną ir nepakeitusių statuso iš veikianti į kitą įmonių dalis tarp visų prieš metus įregistruotų įmonių | %"},{"$f":"IF(ISERROR(INDEX($B$7:$Q$1503,$V18,COLUMNS($Z$31:AB42))),\"\",INDEX($B$7:$Q$1503,$V18,COLUMNS($Z$31:AB42)))","v":54.8095703125},{"$f":"IF(ISERROR(INDEX($B$7:$Q$1503,$V18,COLUMNS($Z$31:AC42))),\"\",INDEX($B$7:$Q$1503,$V18,COLUMNS($Z$31:AC42)))","v":52.927300021445426},{"$f":"IF(ISERROR(INDEX($B$7:$Q$1503,$V18,COLUMNS($Z$31:AD42))),\"\",INDEX($B$7:$Q$1503,$V18,COLUMNS($Z$31:AD42)))","v":47.115384615384613},{"$f":"IF(ISERROR(INDEX($B$7:$Q$1503,$V18,COLUMNS($Z$31:AE42))),\"\",INDEX($B$7:$Q$1503,$V18,COLUMNS($Z$31:AE42)))","v":31.126304426052538},{"$f":"IF(ISERROR(INDEX($B$7:$Q$1503,$V18,COLUMNS($Z$31:AF42))),\"\",INDEX($B$7:$Q$1503,$V18,COLUMNS($Z$31:AF42)))","v":29.634960094203848},{"$f":"IF(ISERROR(INDEX($B$7:$Q$1503,$V18,COLUMNS($Z$31:AG42))),\"\",INDEX($B$7:$Q$1503,$V18,COLUMNS($Z$31:AG42)))","v":29.75881261595547},{"$f":"IF(ISERROR(INDEX($B$7:$Q$1503,$V18,COLUMNS($Z$31:AH42))),\"\",INDEX($B$7:$Q$1503,$V18,COLUMNS($Z$31:AH42)))","v":38.299687233437588},{"$f":"IF(ISERROR(INDEX($B$7:$Q$1503,$V18,COLUMNS($Z$31:AI42))),\"\",INDEX($B$7:$Q$1503,$V18,COLUMNS($Z$31:AI42)))","v":42.074663402692778},{"$f":"IF(ISERROR(INDEX($B$7:$Q$1503,$V18,COLUMNS($Z$31:AJ42))),\"\",INDEX($B$7:$Q$1503,$V18,COLUMNS($Z$31:AJ42)))","v":29.725456374874227},{"$f":"IF(ISERROR(INDEX($B$7:$Q$1503,$V18,COLUMNS($Z$31:AK42))),\"\",INDEX($B$7:$Q$1503,$V18,COLUMNS($Z$31:AK42)))","v":26.941209095951191},{"$f":"IF(ISERROR(INDEX($B$7:$Q$1503,$V18,COLUMNS($Z$31:AL42))),\"\",INDEX($B$7:$Q$1503,$V18,COLUMNS($Z$31:AL42)))","v":0},{"$f":"IF(ISERROR(INDEX($B$7:$Q$1503,$V18,COLUMNS($Z$31:AM42))),\"\",INDEX($B$7:$Q$1503,$V18,COLUMNS($Z$31:AM42)))","v":0},{"$f":"IF(ISERROR(INDEX($B$7:$Q$1503,$V18,COLUMNS($Z$31:AN42))),\"\",INDEX($B$7:$Q$1503,$V18,COLUMNS($Z$31:AN42)))","v":0},{"$f":"IF(ISERROR(INDEX($B$7:$Q$1503,$V18,COLUMNS($Z$31:AO42))),\"\",INDEX($B$7:$Q$1503,$V18,COLUMNS($Z$31:AO42)))","v":0}]
[null,"Rokiškio r. sav.","Neišregistruotų juridinių asmenų skaičius metų pradžioje | vnt.",1137,1137,1157,1181,1239,1320,1338,1325,1369,1459,1539,1617,1689,{"$f":"HLOOKUP(B43,'[1]2023_neišreg'!$B$2:$BT$23,22,FALSE)","v":1713},{"$f":"ROWS($R$7:R43)","v":37},"",{"$f":"IF(ISERROR(SMALL($S$7:$S$1504,ROWS($S$7:S43))),\"\",SMALL($S$7:$S$1504,ROWS($S$7:S43)))","v":""},"",{"$f":"IF(ISERROR(SMALL($U$7:$U$1504,ROWS(U$7:$U43))),\"\",SMALL($U$7:$U$1504,ROWS(U$7:$U43)))","v":""},"",{"$f":"IF(ISERROR(SMALL($W$7:$W$1504,ROWS($W$7:W43))),\"\",SMALL($W$7:$W$1504,ROWS($W$7:W43)))","v":""},null,{"$f":"IF(ISERROR(INDEX($B$7:$K$1503,$V19,COLUMNS($Z$31:Z43))),\"\",INDEX($B$7:$K$1503,$V19,COLUMNS($Z$31:Z43)))","v":"Vilniaus apskritis"},{"$f":"IF(ISERROR(INDEX($B$7:$K$1503,$V19,COLUMNS($Z$31:AA43))),\"\",INDEX($B$7:$K$1503,$V19,COLUMNS($Z$31:AA43)))","v":"Registruoti bedarbiai | tūkst."},{"$f":"IF(ISERROR(INDEX($B$7:$Q$1503,$V19,COLUMNS($Z$31:AB43))),\"\",INDEX($B$7:$Q$1503,$V19,COLUMNS($Z$31:AB43)))","v":81.900000000000006},{"$f":"IF(ISERROR(INDEX($B$7:$Q$1503,$V19,COLUMNS($Z$31:AC43))),\"\",INDEX($B$7:$Q$1503,$V19,COLUMNS($Z$31:AC43)))","v":62.2},{"$f":"IF(ISERROR(INDEX($B$7:$Q$1503,$V19,COLUMNS($Z$31:AD43))),\"\",INDEX($B$7:$Q$1503,$V19,COLUMNS($Z$31:AD43)))","v":52.9},{"$f":"IF(ISERROR(INDEX($B$7:$Q$1503,$V19,COLUMNS($Z$31:AE43))),\"\",INDEX($B$7:$Q$1503,$V19,COLUMNS($Z$31:AE43)))","v":47.9},{"$f":"IF(ISERROR(INDEX($B$7:$Q$1503,$V19,COLUMNS($Z$31:AF43))),\"\",INDEX($B$7:$Q$1503,$V19,COLUMNS($Z$31:AF43)))","v":40.5},{"$f":"IF(ISERROR(INDEX($B$7:$Q$1503,$V19,COLUMNS($Z$31:AG43))),\"\",INDEX($B$7:$Q$1503,$V19,COLUMNS($Z$31:AG43)))","v":37.4},{"$f":"IF(ISERROR(INDEX($B$7:$Q$1503,$V19,COLUMNS($Z$31:AH43))),\"\",INDEX($B$7:$Q$1503,$V19,COLUMNS($Z$31:AH43)))","v":34.793999999999997},{"$f":"IF(ISERROR(INDEX($B$7:$Q$1503,$V19,COLUMNS($Z$31:AI43))),\"\",INDEX($B$7:$Q$1503,$V19,COLUMNS($Z$31:AI43)))","v":34.536000000000001},{"$f":"IF(ISERROR(INDEX($B$7:$Q$1503,$V19,COLUMNS($Z$31:AJ43))),\"\",INDEX($B$7:$Q$1503,$V19,COLUMNS($Z$31:AJ43)))","v":38.612000000000002},{"$f":"IF(ISERROR(INDEX($B$7:$Q$1503,$V19,COLUMNS($Z$31:AK43))),\"\",INDEX($B$7:$Q$1503,$V19,COLUMNS($Z$31:AK43)))","v":39.070999999999998},{"$f":"IF(ISERROR(INDEX($B$7:$Q$1503,$V19,COLUMNS($Z$31:AL43))),\"\",INDEX($B$7:$Q$1503,$V19,COLUMNS($Z$31:AL43)))","v":59.594999999999999},{"$f":"IF(ISERROR(INDEX($B$7:$Q$1503,$V19,COLUMNS($Z$31:AM43))),\"\",INDEX($B$7:$Q$1503,$V19,COLUMNS($Z$31:AM43)))","v":63.552999999999997},{"$f":"IF(ISERROR(INDEX($B$7:$Q$1503,$V19,COLUMNS($Z$31:AN43))),\"\",INDEX($B$7:$Q$1503,$V19,COLUMNS($Z$31:AN43)))","v":45.985999999999997},{"$f":"IF(ISERROR(INDEX($B$7:$Q$1503,$V19,COLUMNS($Z$31:AO43))),\"\",INDEX($B$7:$Q$1503,$V19,COLUMNS($Z$31:AO43)))","v":0}]
[null,"Šiaulių apskritis","Neišregistruotų juridinių asmenų skaičius metų pradžioje | vnt.",13700,13666,13948,14464,14918,15432,15564,14579,14769,14929,15228,15728,15821,{"$f":"HLOOKUP(B44,'[1]2023_neišreg'!$B$2:$BT$23,22,FALSE)","v":15464},{"$f":"ROWS($R$7:R44)","v":38},"",{"$f":"IF(ISERROR(SMALL($S$7:$S$1504,ROWS($S$7:S44))),\"\",SMALL($S$7:$S$1504,ROWS($S$7:S44)))","v":""},"",{"$f":"IF(ISERROR(SMALL($U$7:$U$1504,ROWS(U$7:$U44))),\"\",SMALL($U$7:$U$1504,ROWS(U$7:$U44)))","v":""},"",{"$f":"IF(ISERROR(SMALL($W$7:$W$1504,ROWS($W$7:W44))),\"\",SMALL($W$7:$W$1504,ROWS($W$7:W44)))","v":""},null,{"$f":"IF(ISERROR(INDEX($B$7:$K$1503,$V20,COLUMNS($Z$31:Z44))),\"\",INDEX($B$7:$K$1503,$V20,COLUMNS($Z$31:Z44)))","v":"Vilniaus apskritis"},{"$f":"IF(ISERROR(INDEX($B$7:$K$1503,$V20,COLUMNS($Z$31:AA44))),\"\",INDEX($B$7:$K$1503,$V20,COLUMNS($Z$31:AA44)))","v":"Registruotų bedarbių ir darbingo amžiaus gyventojų santykis | %"},{"$f":"IF(ISERROR(INDEX($B$7:$Q$1503,$V20,COLUMNS($Z$31:AB44))),\"\",INDEX($B$7:$Q$1503,$V20,COLUMNS($Z$31:AB44)))","v":15.4},{"$f":"IF(ISERROR(INDEX($B$7:$Q$1503,$V20,COLUMNS($Z$31:AC44))),\"\",INDEX($B$7:$Q$1503,$V20,COLUMNS($Z$31:AC44)))","v":11.9},{"$f":"IF(ISERROR(INDEX($B$7:$Q$1503,$V20,COLUMNS($Z$31:AD44))),\"\",INDEX($B$7:$Q$1503,$V20,COLUMNS($Z$31:AD44)))","v":10.3},{"$f":"IF(ISERROR(INDEX($B$7:$Q$1503,$V20,COLUMNS($Z$31:AE44))),\"\",INDEX($B$7:$Q$1503,$V20,COLUMNS($Z$31:AE44)))","v":9.3000000000000007},{"$f":"IF(ISERROR(INDEX($B$7:$Q$1503,$V20,COLUMNS($Z$31:AF44))),\"\",INDEX($B$7:$Q$1503,$V20,COLUMNS($Z$31:AF44)))","v":7.9},{"$f":"IF(ISERROR(INDEX($B$7:$Q$1503,$V20,COLUMNS($Z$31:AG44))),\"\",INDEX($B$7:$Q$1503,$V20,COLUMNS($Z$31:AG44)))","v":7.3},{"$f":"IF(ISERROR(INDEX($B$7:$Q$1503,$V20,COLUMNS($Z$31:AH44))),\"\",INDEX($B$7:$Q$1503,$V20,COLUMNS($Z$31:AH44)))","v":6.8},{"$f":"IF(ISERROR(INDEX($B$7:$Q$1503,$V20,COLUMNS($Z$31:AI44))),\"\",INDEX($B$7:$Q$1503,$V20,COLUMNS($Z$31:AI44)))","v":6.7},{"$f":"IF(ISERROR(INDEX($B$7:$Q$1503,$V20,COLUMNS($Z$31:AJ44))),\"\",INDEX($B$7:$Q$1503,$V20,COLUMNS($Z$31:AJ44)))","v":7.6},{"$f":"IF(ISERROR(INDEX($B$7:$Q$1503,$V20,COLUMNS($Z$31:AK44))),\"\",INDEX($B$7:$Q$1503,$V20,COLUMNS($Z$31:AK44)))","v":7.6},{"$f":"IF(ISERROR(INDEX($B$7:$Q$1503,$V20,COLUMNS($Z$31:AL44))),\"\",INDEX($B$7:$Q$1503,$V20,COLUMNS($Z$31:AL44)))","v":11.5},{"$f":"IF(ISERROR(INDEX($B$7:$Q$1503,$V20,COLUMNS($Z$31:AM44))),\"\",INDEX($B$7:$Q$1503,$V20,COLUMNS($Z$31:AM44)))","v":12},{"$f":"IF(ISERROR(INDEX($B$7:$Q$1503,$V20,COLUMNS($Z$31:AN44))),\"\",INDEX($B$7:$Q$1503,$V20,COLUMNS($Z$31:AN44)))","v":8.9},{"$f":"IF(ISERROR(INDEX($B$7:$Q$1503,$V20,COLUMNS($Z$31:AO44))),\"\",INDEX($B$7:$Q$1503,$V20,COLUMNS($Z$31:AO44)))","v":0}]
[null,"Akmenės r. sav.","Neišregistruotų juridinių asmenų skaičius metų pradžioje | vnt.",781,792,795,834,905,1099,1103,1021,1037,1069,1081,1120,1155,{"$f":"HLOOKUP(B45,'[1]2023_neišreg'!$B$2:$BT$23,22,FALSE)","v":1130},{"$f":"ROWS($R$7:R45)","v":39},"",{"$f":"IF(ISERROR(SMALL($S$7:$S$1504,ROWS($S$7:S45))),\"\",SMALL($S$7:$S$1504,ROWS($S$7:S45)))","v":""},"",{"$f":"IF(ISERROR(SMALL($U$7:$U$1504,ROWS(U$7:$U45))),\"\",SMALL($U$7:$U$1504,ROWS(U$7:$U45)))","v":""},"",{"$f":"IF(ISERROR(SMALL($W$7:$W$1504,ROWS($W$7:W45))),\"\",SMALL($W$7:$W$1504,ROWS($W$7:W45)))","v":""},null,{"$f":"IF(ISERROR(INDEX($B$7:$K$1503,$V21,COLUMNS($Z$31:Z45))),\"\",INDEX($B$7:$K$1503,$V21,COLUMNS($Z$31:Z45)))","v":"Vilniaus apskritis"},{"$f":"IF(ISERROR(INDEX($B$7:$K$1503,$V21,COLUMNS($Z$31:AA45))),\"\",INDEX($B$7:$K$1503,$V21,COLUMNS($Z$31:AA45)))","v":"Darbo užmokestis | mėnesinis | bruto | EUR  (nuo 2019 m. keitėsi rodiklio skaičiavimas)"},{"$f":"IF(ISERROR(INDEX($B$7:$Q$1503,$V21,COLUMNS($Z$31:AB45))),\"\",INDEX($B$7:$Q$1503,$V21,COLUMNS($Z$31:AB45)))","v":659.9},{"$f":"IF(ISERROR(INDEX($B$7:$Q$1503,$V21,COLUMNS($Z$31:AC45))),\"\",INDEX($B$7:$Q$1503,$V21,COLUMNS($Z$31:AC45)))","v":677.2},{"$f":"IF(ISERROR(INDEX($B$7:$Q$1503,$V21,COLUMNS($Z$31:AD45))),\"\",INDEX($B$7:$Q$1503,$V21,COLUMNS($Z$31:AD45)))","v":703.8},{"$f":"IF(ISERROR(INDEX($B$7:$Q$1503,$V21,COLUMNS($Z$31:AE45))),\"\",INDEX($B$7:$Q$1503,$V21,COLUMNS($Z$31:AE45)))","v":732.9},{"$f":"IF(ISERROR(INDEX($B$7:$Q$1503,$V21,COLUMNS($Z$31:AF45))),\"\",INDEX($B$7:$Q$1503,$V21,COLUMNS($Z$31:AF45)))","v":768.3},{"$f":"IF(ISERROR(INDEX($B$7:$Q$1503,$V21,COLUMNS($Z$31:AG45))),\"\",INDEX($B$7:$Q$1503,$V21,COLUMNS($Z$31:AG45)))","v":803.7},{"$f":"IF(ISERROR(INDEX($B$7:$Q$1503,$V21,COLUMNS($Z$31:AH45))),\"\",INDEX($B$7:$Q$1503,$V21,COLUMNS($Z$31:AH45)))","v":863.7},{"$f":"IF(ISERROR(INDEX($B$7:$Q$1503,$V21,COLUMNS($Z$31:AI45))),\"\",INDEX($B$7:$Q$1503,$V21,COLUMNS($Z$31:AI45)))","v":939.8},{"$f":"IF(ISERROR(INDEX($B$7:$Q$1503,$V21,COLUMNS($Z$31:AJ45))),\"\",INDEX($B$7:$Q$1503,$V21,COLUMNS($Z$31:AJ45)))","v":1034.5999999999999},{"$f":"IF(ISERROR(INDEX($B$7:$Q$1503,$V21,COLUMNS($Z$31:AK45))),\"\",INDEX($B$7:$Q$1503,$V21,COLUMNS($Z$31:AK45)))","v":1452.6},{"$f":"IF(ISERROR(INDEX($B$7:$Q$1503,$V21,COLUMNS($Z$31:AL45))),\"\",INDEX($B$7:$Q$1503,$V21,COLUMNS($Z$31:AL45)))","v":1590.6},{"$f":"IF(ISERROR(INDEX($B$7:$Q$1503,$V21,COLUMNS($Z$31:AM45))),\"\",INDEX($B$7:$Q$1503,$V21,COLUMNS($Z$31:AM45)))","v":1762.8},{"$f":"IF(ISERROR(INDEX($B$7:$Q$1503,$V21,COLUMNS($Z$31:AN45))),\"\",INDEX($B$7:$Q$1503,$V21,COLUMNS($Z$31:AN45)))","v":2002},{"$f":"IF(ISERROR(INDEX($B$7:$Q$1503,$V21,COLUMNS($Z$31:AO45))),\"\",INDEX($B$7:$Q$1503,$V21,COLUMNS($Z$31:AO45)))","v":0}]
[null,"Joniškio r. sav.","Neišregistruotų juridinių asmenų skaičius metų pradžioje | vnt.",881,884,901,929,957,983,987,908,912,916,946,993,1007,{"$f":"HLOOKUP(B46,'[1]2023_neišreg'!$B$2:$BT$23,22,FALSE)","v":984},{"$f":"ROWS($R$7:R46)","v":40},"",{"$f":"IF(ISERROR(SMALL($S$7:$S$1504,ROWS($S$7:S46))),\"\",SMALL($S$7:$S$1504,ROWS($S$7:S46)))","v":""},"",{"$f":"IF(ISERROR(SMALL($U$7:$U$1504,ROWS(U$7:$U46))),\"\",SMALL($U$7:$U$1504,ROWS(U$7:$U46)))","v":""},"",{"$f":"IF(ISERROR(SMALL($W$7:$W$1504,ROWS($W$7:W46))),\"\",SMALL($W$7:$W$1504,ROWS($W$7:W46)))","v":""},null,{"$f":"IF(ISERROR(INDEX($B$7:$K$1503,$V22,COLUMNS($Z$31:Z46))),\"\",INDEX($B$7:$K$1503,$V22,COLUMNS($Z$31:Z46)))","v":"Vilniaus apskritis"},{"$f":"IF(ISERROR(INDEX($B$7:$K$1503,$V22,COLUMNS($Z$31:AA46))),\"\",INDEX($B$7:$K$1503,$V22,COLUMNS($Z$31:AA46)))","v":"Darbo užmokestis | mėnesinis | neto | EUR"},{"$f":"IF(ISERROR(INDEX($B$7:$Q$1503,$V22,COLUMNS($Z$31:AB46))),\"\",INDEX($B$7:$Q$1503,$V22,COLUMNS($Z$31:AB46)))","v":511},{"$f":"IF(ISERROR(INDEX($B$7:$Q$1503,$V22,COLUMNS($Z$31:AC46))),\"\",INDEX($B$7:$Q$1503,$V22,COLUMNS($Z$31:AC46)))","v":523.70000000000005},{"$f":"IF(ISERROR(INDEX($B$7:$Q$1503,$V22,COLUMNS($Z$31:AD46))),\"\",INDEX($B$7:$Q$1503,$V22,COLUMNS($Z$31:AD46)))","v":543.1},{"$f":"IF(ISERROR(INDEX($B$7:$Q$1503,$V22,COLUMNS($Z$31:AE46))),\"\",INDEX($B$7:$Q$1503,$V22,COLUMNS($Z$31:AE46)))","v":564.29999999999995},{"$f":"IF(ISERROR(INDEX($B$7:$Q$1503,$V22,COLUMNS($Z$31:AF46))),\"\",INDEX($B$7:$Q$1503,$V22,COLUMNS($Z$31:AF46)))","v":592.70000000000005},{"$f":"IF(ISERROR(INDEX($B$7:$Q$1503,$V22,COLUMNS($Z$31:AG46))),\"\",INDEX($B$7:$Q$1503,$V22,COLUMNS($Z$31:AG46)))","v":618.5},{"$f":"IF(ISERROR(INDEX($B$7:$Q$1503,$V22,COLUMNS($Z$31:AH46))),\"\",INDEX($B$7:$Q$1503,$V22,COLUMNS($Z$31:AH46)))","v":665.9},{"$f":"IF(ISERROR(INDEX($B$7:$Q$1503,$V22,COLUMNS($Z$31:AI46))),\"\",INDEX($B$7:$Q$1503,$V22,COLUMNS($Z$31:AI46)))","v":728.2},{"$f":"IF(ISERROR(INDEX($B$7:$Q$1503,$V22,COLUMNS($Z$31:AJ46))),\"\",INDEX($B$7:$Q$1503,$V22,COLUMNS($Z$31:AJ46)))","v":795.7},{"$f":"IF(ISERROR(INDEX($B$7:$Q$1503,$V22,COLUMNS($Z$31:AK46))),\"\",INDEX($B$7:$Q$1503,$V22,COLUMNS($Z$31:AK46)))","v":911.9},{"$f":"IF(ISERROR(INDEX($B$7:$Q$1503,$V22,COLUMNS($Z$31:AL46))),\"\",INDEX($B$7:$Q$1503,$V22,COLUMNS($Z$31:AL46)))","v":1004.9},{"$f":"IF(ISERROR(INDEX($B$7:$Q$1503,$V22,COLUMNS($Z$31:AM46))),\"\",INDEX($B$7:$Q$1503,$V22,COLUMNS($Z$31:AM46)))","v":1106.0999999999999},{"$f":"IF(ISERROR(INDEX($B$7:$Q$1503,$V22,COLUMNS($Z$31:AN46))),\"\",INDEX($B$7:$Q$1503,$V22,COLUMNS($Z$31:AN46)))","v":1242.2},{"$f":"IF(ISERROR(INDEX($B$7:$Q$1503,$V22,COLUMNS($Z$31:AO46))),\"\",INDEX($B$7:$Q$1503,$V22,COLUMNS($Z$31:AO46)))","v":0}]
[null,"Kelmės r. sav.","Neišregistruotų juridinių asmenų skaičius metų pradžioje | vnt.",1101,1100,1131,1154,1173,1181,1207,1083,1128,1172,1211,1264,1293,{"$f":"HLOOKUP(B47,'[1]2023_neišreg'!$B$2:$BT$23,22,FALSE)","v":1277},{"$f":"ROWS($R$7:R47)","v":41},"",{"$f":"IF(ISERROR(SMALL($S$7:$S$1504,ROWS($S$7:S47))),\"\",SMALL($S$7:$S$1504,ROWS($S$7:S47)))","v":""},"",{"$f":"IF(ISERROR(SMALL($U$7:$U$1504,ROWS(U$7:$U47))),\"\",SMALL($U$7:$U$1504,ROWS(U$7:$U47)))","v":""},"",{"$f":"IF(ISERROR(SMALL($W$7:$W$1504,ROWS($W$7:W47))),\"\",SMALL($W$7:$W$1504,ROWS($W$7:W47)))","v":""},null,{"$f":"IF(ISERROR(INDEX($B$7:$K$1503,$V23,COLUMNS($Z$31:Z47))),\"\",INDEX($B$7:$K$1503,$V23,COLUMNS($Z$31:Z47)))","v":"Vilniaus apskritis"},{"$f":"IF(ISERROR(INDEX($B$7:$K$1503,$V23,COLUMNS($Z$31:AA47))),\"\",INDEX($B$7:$K$1503,$V23,COLUMNS($Z$31:AA47)))","v":"Materialinės investicijos to meto kainomis | mln. EUR"},{"$f":"IF(ISERROR(INDEX($B$7:$Q$1503,$V23,COLUMNS($Z$31:AB47))),\"\",INDEX($B$7:$Q$1503,$V23,COLUMNS($Z$31:AB47)))","v":1583.9649999999999},{"$f":"IF(ISERROR(INDEX($B$7:$Q$1503,$V23,COLUMNS($Z$31:AC47))),\"\",INDEX($B$7:$Q$1503,$V23,COLUMNS($Z$31:AC47)))","v":1846.942},{"$f":"IF(ISERROR(INDEX($B$7:$Q$1503,$V23,COLUMNS($Z$31:AD47))),\"\",INDEX($B$7:$Q$1503,$V23,COLUMNS($Z$31:AD47)))","v":2156.038},{"$f":"IF(ISERROR(INDEX($B$7:$Q$1503,$V23,COLUMNS($Z$31:AE47))),\"\",INDEX($B$7:$Q$1503,$V23,COLUMNS($Z$31:AE47)))","v":2367.567},{"$f":"IF(ISERROR(INDEX($B$7:$Q$1503,$V23,COLUMNS($Z$31:AF47))),\"\",INDEX($B$7:$Q$1503,$V23,COLUMNS($Z$31:AF47)))","v":2475.8960000000002},{"$f":"IF(ISERROR(INDEX($B$7:$Q$1503,$V23,COLUMNS($Z$31:AG47))),\"\",INDEX($B$7:$Q$1503,$V23,COLUMNS($Z$31:AG47)))","v":2724.4749999999999},{"$f":"IF(ISERROR(INDEX($B$7:$Q$1503,$V23,COLUMNS($Z$31:AH47))),\"\",INDEX($B$7:$Q$1503,$V23,COLUMNS($Z$31:AH47)))","v":2882.7109999999998},{"$f":"IF(ISERROR(INDEX($B$7:$Q$1503,$V23,COLUMNS($Z$31:AI47))),\"\",INDEX($B$7:$Q$1503,$V23,COLUMNS($Z$31:AI47)))","v":2937.5230000000001},{"$f":"IF(ISERROR(INDEX($B$7:$Q$1503,$V23,COLUMNS($Z$31:AJ47))),\"\",INDEX($B$7:$Q$1503,$V23,COLUMNS($Z$31:AJ47)))","v":3591.1190000000001},{"$f":"IF(ISERROR(INDEX($B$7:$Q$1503,$V23,COLUMNS($Z$31:AK47))),\"\",INDEX($B$7:$Q$1503,$V23,COLUMNS($Z$31:AK47)))","v":3952.5569999999998},{"$f":"IF(ISERROR(INDEX($B$7:$Q$1503,$V23,COLUMNS($Z$31:AL47))),\"\",INDEX($B$7:$Q$1503,$V23,COLUMNS($Z$31:AL47)))","v":3771.335},{"$f":"IF(ISERROR(INDEX($B$7:$Q$1503,$V23,COLUMNS($Z$31:AM47))),\"\",INDEX($B$7:$Q$1503,$V23,COLUMNS($Z$31:AM47)))","v":4777.7719999999999},{"$f":"IF(ISERROR(INDEX($B$7:$Q$1503,$V23,COLUMNS($Z$31:AN47))),\"\",INDEX($B$7:$Q$1503,$V23,COLUMNS($Z$31:AN47)))","v":0},{"$f":"IF(ISERROR(INDEX($B$7:$Q$1503,$V23,COLUMNS($Z$31:AO47))),\"\",INDEX($B$7:$Q$1503,$V23,COLUMNS($Z$31:AO47)))","v":0}]
[null,"Pakruojo r. sav.","Neišregistruotų juridinių asmenų skaičius metų pradžioje | vnt.",823,790,787,791,808,818,821,786,787,797,805,827,841,{"$f":"HLOOKUP(B48,'[1]2023_neišreg'!$B$2:$BT$23,22,FALSE)","v":837},{"$f":"ROWS($R$7:R48)","v":42},"",{"$f":"IF(ISERROR(SMALL($S$7:$S$1504,ROWS($S$7:S48))),\"\",SMALL($S$7:$S$1504,ROWS($S$7:S48)))","v":""},"",{"$f":"IF(ISERROR(SMALL($U$7:$U$1504,ROWS(U$7:$U48))),\"\",SMALL($U$7:$U$1504,ROWS(U$7:$U48)))","v":""},"",{"$f":"IF(ISERROR(SMALL($W$7:$W$1504,ROWS($W$7:W48))),\"\",SMALL($W$7:$W$1504,ROWS($W$7:W48)))","v":""},null,{"$f":"IF(ISERROR(INDEX($B$7:$K$1503,$V24,COLUMNS($Z$31:Z48))),\"\",INDEX($B$7:$K$1503,$V24,COLUMNS($Z$31:Z48)))","v":"Vilniaus apskritis"},{"$f":"IF(ISERROR(INDEX($B$7:$K$1503,$V24,COLUMNS($Z$31:AA48))),\"\",INDEX($B$7:$K$1503,$V24,COLUMNS($Z$31:AA48)))","v":"Apyvarta pagal veiklos vykdymo vietą | mln. EUR"},{"$f":"IF(ISERROR(INDEX($B$7:$Q$1503,$V24,COLUMNS($Z$31:AB48))),\"\",INDEX($B$7:$Q$1503,$V24,COLUMNS($Z$31:AB48)))","v":18853.001},{"$f":"IF(ISERROR(INDEX($B$7:$Q$1503,$V24,COLUMNS($Z$31:AC48))),\"\",INDEX($B$7:$Q$1503,$V24,COLUMNS($Z$31:AC48)))","v":22118.242999999999},{"$f":"IF(ISERROR(INDEX($B$7:$Q$1503,$V24,COLUMNS($Z$31:AD48))),\"\",INDEX($B$7:$Q$1503,$V24,COLUMNS($Z$31:AD48)))","v":25001.405999999999},{"$f":"IF(ISERROR(INDEX($B$7:$Q$1503,$V24,COLUMNS($Z$31:AE48))),\"\",INDEX($B$7:$Q$1503,$V24,COLUMNS($Z$31:AE48)))","v":27340.916000000001},{"$f":"IF(ISERROR(INDEX($B$7:$Q$1503,$V24,COLUMNS($Z$31:AF48))),\"\",INDEX($B$7:$Q$1503,$V24,COLUMNS($Z$31:AF48)))","v":28918.966},{"$f":"IF(ISERROR(INDEX($B$7:$Q$1503,$V24,COLUMNS($Z$31:AG48))),\"\",INDEX($B$7:$Q$1503,$V24,COLUMNS($Z$31:AG48)))","v":30542.642},{"$f":"IF(ISERROR(INDEX($B$7:$Q$1503,$V24,COLUMNS($Z$31:AH48))),\"\",INDEX($B$7:$Q$1503,$V24,COLUMNS($Z$31:AH48)))","v":31696.718000000001},{"$f":"IF(ISERROR(INDEX($B$7:$Q$1503,$V24,COLUMNS($Z$31:AI48))),\"\",INDEX($B$7:$Q$1503,$V24,COLUMNS($Z$31:AI48)))","v":34787.303999999996},{"$f":"IF(ISERROR(INDEX($B$7:$Q$1503,$V24,COLUMNS($Z$31:AJ48))),\"\",INDEX($B$7:$Q$1503,$V24,COLUMNS($Z$31:AJ48)))","v":38477.197},{"$f":"IF(ISERROR(INDEX($B$7:$Q$1503,$V24,COLUMNS($Z$31:AK48))),\"\",INDEX($B$7:$Q$1503,$V24,COLUMNS($Z$31:AK48)))","v":42205.447},{"$f":"IF(ISERROR(INDEX($B$7:$Q$1503,$V24,COLUMNS($Z$31:AL48))),\"\",INDEX($B$7:$Q$1503,$V24,COLUMNS($Z$31:AL48)))","v":42787.618999999999},{"$f":"IF(ISERROR(INDEX($B$7:$Q$1503,$V24,COLUMNS($Z$31:AM48))),\"\",INDEX($B$7:$Q$1503,$V24,COLUMNS($Z$31:AM48)))","v":53365.016000000003},{"$f":"IF(ISERROR(INDEX($B$7:$Q$1503,$V24,COLUMNS($Z$31:AN48))),\"\",INDEX($B$7:$Q$1503,$V24,COLUMNS($Z$31:AN48)))","v":0},{"$f":"IF(ISERROR(INDEX($B$7:$Q$1503,$V24,COLUMNS($Z$31:AO48))),\"\",INDEX($B$7:$Q$1503,$V24,COLUMNS($Z$31:AO48)))","v":0}]
[null,"Radviliškio r. sav.","Neišregistruotų juridinių asmenų skaičius metų pradžioje | vnt.",1303,1236,1265,1334,1393,1431,1489,1423,1454,1462,1489,1537,1570,{"$f":"HLOOKUP(B49,'[1]2023_neišreg'!$B$2:$BT$23,22,FALSE)","v":1548},{"$f":"ROWS($R$7:R49)","v":43},"",{"$f":"IF(ISERROR(SMALL($S$7:$S$1504,ROWS($S$7:S49))),\"\",SMALL($S$7:$S$1504,ROWS($S$7:S49)))","v":""},"",{"$f":"IF(ISERROR(SMALL($U$7:$U$1504,ROWS(U$7:$U49))),\"\",SMALL($U$7:$U$1504,ROWS(U$7:$U49)))","v":""},"",{"$f":"IF(ISERROR(SMALL($W$7:$W$1504,ROWS($W$7:W49))),\"\",SMALL($W$7:$W$1504,ROWS($W$7:W49)))","v":""},null,{"$f":"IF(ISERROR(INDEX($B$7:$K$1503,$V25,COLUMNS($Z$31:Z49))),\"\",INDEX($B$7:$K$1503,$V25,COLUMNS($Z$31:Z49)))","v":"Vilniaus apskritis"},{"$f":"IF(ISERROR(INDEX($B$7:$K$1503,$V25,COLUMNS($Z$31:AA49))),\"\",INDEX($B$7:$K$1503,$V25,COLUMNS($Z$31:AA49)))","v":"Pridėtinė vertė gamybos kainomis pagal veiklos vykdymo vietą | mln. EUR"},{"$f":"IF(ISERROR(INDEX($B$7:$Q$1503,$V25,COLUMNS($Z$31:AB49))),\"\",INDEX($B$7:$Q$1503,$V25,COLUMNS($Z$31:AB49)))","v":3894.922},{"$f":"IF(ISERROR(INDEX($B$7:$Q$1503,$V25,COLUMNS($Z$31:AC49))),\"\",INDEX($B$7:$Q$1503,$V25,COLUMNS($Z$31:AC49)))","v":4716.2820000000002},{"$f":"IF(ISERROR(INDEX($B$7:$Q$1503,$V25,COLUMNS($Z$31:AD49))),\"\",INDEX($B$7:$Q$1503,$V25,COLUMNS($Z$31:AD49)))","v":5323.299},{"$f":"IF(ISERROR(INDEX($B$7:$Q$1503,$V25,COLUMNS($Z$31:AE49))),\"\",INDEX($B$7:$Q$1503,$V25,COLUMNS($Z$31:AE49)))","v":5642.2420000000002},{"$f":"IF(ISERROR(INDEX($B$7:$Q$1503,$V25,COLUMNS($Z$31:AF49))),\"\",INDEX($B$7:$Q$1503,$V25,COLUMNS($Z$31:AF49)))","v":6568.759},{"$f":"IF(ISERROR(INDEX($B$7:$Q$1503,$V25,COLUMNS($Z$31:AG49))),\"\",INDEX($B$7:$Q$1503,$V25,COLUMNS($Z$31:AG49)))","v":6984.6729999999998},{"$f":"IF(ISERROR(INDEX($B$7:$Q$1503,$V25,COLUMNS($Z$31:AH49))),\"\",INDEX($B$7:$Q$1503,$V25,COLUMNS($Z$31:AH49)))","v":7743.9449999999997},{"$f":"IF(ISERROR(INDEX($B$7:$Q$1503,$V25,COLUMNS($Z$31:AI49))),\"\",INDEX($B$7:$Q$1503,$V25,COLUMNS($Z$31:AI49)))","v":8510.8629999999994},{"$f":"IF(ISERROR(INDEX($B$7:$Q$1503,$V25,COLUMNS($Z$31:AJ49))),\"\",INDEX($B$7:$Q$1503,$V25,COLUMNS($Z$31:AJ49)))","v":9634.8649999999998},{"$f":"IF(ISERROR(INDEX($B$7:$Q$1503,$V25,COLUMNS($Z$31:AK49))),\"\",INDEX($B$7:$Q$1503,$V25,COLUMNS($Z$31:AK49)))","v":11006.246999999999},{"$f":"IF(ISERROR(INDEX($B$7:$Q$1503,$V25,COLUMNS($Z$31:AL49))),\"\",INDEX($B$7:$Q$1503,$V25,COLUMNS($Z$31:AL49)))","v":11616.342000000001},{"$f":"IF(ISERROR(INDEX($B$7:$Q$1503,$V25,COLUMNS($Z$31:AM49))),\"\",INDEX($B$7:$Q$1503,$V25,COLUMNS($Z$31:AM49)))","v":13990.178},{"$f":"IF(ISERROR(INDEX($B$7:$Q$1503,$V25,COLUMNS($Z$31:AN49))),\"\",INDEX($B$7:$Q$1503,$V25,COLUMNS($Z$31:AN49)))","v":0},{"$f":"IF(ISERROR(INDEX($B$7:$Q$1503,$V25,COLUMNS($Z$31:AO49))),\"\",INDEX($B$7:$Q$1503,$V25,COLUMNS($Z$31:AO49)))","v":0}]
[null,"Šiaulių m. sav.","Neišregistruotų juridinių asmenų skaičius metų pradžioje | vnt.",7190,7215,7344,7606,7805,7980,7985,7477,7474,7494,7614,7796,7678,{"$f":"HLOOKUP(B50,'[1]2023_neišreg'!$B$2:$BT$23,22,FALSE)","v":7415},{"$f":"ROWS($R$7:R50)","v":44},"",{"$f":"IF(ISERROR(SMALL($S$7:$S$1504,ROWS($S$7:S50))),\"\",SMALL($S$7:$S$1504,ROWS($S$7:S50)))","v":""},"",{"$f":"IF(ISERROR(SMALL($U$7:$U$1504,ROWS(U$7:$U50))),\"\",SMALL($U$7:$U$1504,ROWS(U$7:$U50)))","v":""},"",{"$f":"IF(ISERROR(SMALL($W$7:$W$1504,ROWS($W$7:W50))),\"\",SMALL($W$7:$W$1504,ROWS($W$7:W50)))","v":""},null,{"$f":"IF(ISERROR(INDEX($B$7:$K$1503,$V26,COLUMNS($Z$31:Z50))),\"\",INDEX($B$7:$K$1503,$V26,COLUMNS($Z$31:Z50)))","v":"Vilniaus apskritis"},{"$f":"IF(ISERROR(INDEX($B$7:$K$1503,$V26,COLUMNS($Z$31:AA50))),\"\",INDEX($B$7:$K$1503,$V26,COLUMNS($Z$31:AA50)))","v":"Tarptautinės emigracijos lygis | %"},{"$f":"IF(ISERROR(INDEX($B$7:$Q$1503,$V26,COLUMNS($Z$31:AB50))),\"\",INDEX($B$7:$Q$1503,$V26,COLUMNS($Z$31:AB50)))","v":1.9805490955598433},{"$f":"IF(ISERROR(INDEX($B$7:$Q$1503,$V26,COLUMNS($Z$31:AC50))),\"\",INDEX($B$7:$Q$1503,$V26,COLUMNS($Z$31:AC50)))","v":1.5110391176125089},{"$f":"IF(ISERROR(INDEX($B$7:$Q$1503,$V26,COLUMNS($Z$31:AD50))),\"\",INDEX($B$7:$Q$1503,$V26,COLUMNS($Z$31:AD50)))","v":1.1699381350707285},{"$f":"IF(ISERROR(INDEX($B$7:$Q$1503,$V26,COLUMNS($Z$31:AE50))),\"\",INDEX($B$7:$Q$1503,$V26,COLUMNS($Z$31:AE50)))","v":1.1513172175384236},{"$f":"IF(ISERROR(INDEX($B$7:$Q$1503,$V26,COLUMNS($Z$31:AF50))),\"\",INDEX($B$7:$Q$1503,$V26,COLUMNS($Z$31:AF50)))","v":1.1166142382259108},{"$f":"IF(ISERROR(INDEX($B$7:$Q$1503,$V26,COLUMNS($Z$31:AG50))),\"\",INDEX($B$7:$Q$1503,$V26,COLUMNS($Z$31:AG50)))","v":1.549629177718175},{"$f":"IF(ISERROR(INDEX($B$7:$Q$1503,$V26,COLUMNS($Z$31:AH50))),\"\",INDEX($B$7:$Q$1503,$V26,COLUMNS($Z$31:AH50)))","v":1.5089236485378925},{"$f":"IF(ISERROR(INDEX($B$7:$Q$1503,$V26,COLUMNS($Z$31:AI50))),\"\",INDEX($B$7:$Q$1503,$V26,COLUMNS($Z$31:AI50)))","v":1.3792889341463113},{"$f":"IF(ISERROR(INDEX($B$7:$Q$1503,$V26,COLUMNS($Z$31:AJ50))),\"\",INDEX($B$7:$Q$1503,$V26,COLUMNS($Z$31:AJ50)))","v":1.0269161696286788},{"$f":"IF(ISERROR(INDEX($B$7:$Q$1503,$V26,COLUMNS($Z$31:AK50))),\"\",INDEX($B$7:$Q$1503,$V26,COLUMNS($Z$31:AK50)))","v":0.96661239382466602},{"$f":"IF(ISERROR(INDEX($B$7:$Q$1503,$V26,COLUMNS($Z$31:AL50))),\"\",INDEX($B$7:$Q$1503,$V26,COLUMNS($Z$31:AL50)))","v":0.85270895065655927},{"$f":"IF(ISERROR(INDEX($B$7:$Q$1503,$V26,COLUMNS($Z$31:AM50))),\"\",INDEX($B$7:$Q$1503,$V26,COLUMNS($Z$31:AM50)))","v":0.89676242119714045},{"$f":"IF(ISERROR(INDEX($B$7:$Q$1503,$V26,COLUMNS($Z$31:AN50))),\"\",INDEX($B$7:$Q$1503,$V26,COLUMNS($Z$31:AN50)))","v":0.9013380490937497},{"$f":"IF(ISERROR(INDEX($B$7:$Q$1503,$V26,COLUMNS($Z$31:AO50))),\"\",INDEX($B$7:$Q$1503,$V26,COLUMNS($Z$31:AO50)))","v":0}]
[null,"Šiaulių r. sav.","Neišregistruotų juridinių asmenų skaičius metų pradžioje | vnt.",1621,1649,1725,1816,1877,1940,1972,1881,1977,2019,2082,2191,2277,{"$f":"HLOOKUP(B51,'[1]2023_neišreg'!$B$2:$BT$23,22,FALSE)","v":2273},{"$f":"ROWS($R$7:R51)","v":45},"",{"$f":"IF(ISERROR(SMALL($S$7:$S$1504,ROWS($S$7:S51))),\"\",SMALL($S$7:$S$1504,ROWS($S$7:S51)))","v":""},"",{"$f":"IF(ISERROR(SMALL($U$7:$U$1504,ROWS(U$7:$U51))),\"\",SMALL($U$7:$U$1504,ROWS(U$7:$U51)))","v":""},"",{"$f":"IF(ISERROR(SMALL($W$7:$W$1504,ROWS($W$7:W51))),\"\",SMALL($W$7:$W$1504,ROWS($W$7:W51)))","v":""},null,{"$f":"IF(ISERROR(INDEX($B$7:$K$1503,$V27,COLUMNS($Z$31:Z51))),\"\",INDEX($B$7:$K$1503,$V27,COLUMNS($Z$31:Z51)))","v":"Vilniaus apskritis"},{"$f":"IF(ISERROR(INDEX($B$7:$K$1503,$V27,COLUMNS($Z$31:AA51))),\"\",INDEX($B$7:$K$1503,$V27,COLUMNS($Z$31:AA51)))","v":"Tarptautinės imigracijos lygis | %"},{"$f":"IF(ISERROR(INDEX($B$7:$Q$1503,$V27,COLUMNS($Z$31:AB51))),\"\",INDEX($B$7:$Q$1503,$V27,COLUMNS($Z$31:AB51)))","v":0.17448101983972689},{"$f":"IF(ISERROR(INDEX($B$7:$Q$1503,$V27,COLUMNS($Z$31:AC51))),\"\",INDEX($B$7:$Q$1503,$V27,COLUMNS($Z$31:AC51)))","v":0.48941839832326595},{"$f":"IF(ISERROR(INDEX($B$7:$Q$1503,$V27,COLUMNS($Z$31:AD51))),\"\",INDEX($B$7:$Q$1503,$V27,COLUMNS($Z$31:AD51)))","v":0.63862172827315344},{"$f":"IF(ISERROR(INDEX($B$7:$Q$1503,$V27,COLUMNS($Z$31:AE51))),\"\",INDEX($B$7:$Q$1503,$V27,COLUMNS($Z$31:AE51)))","v":0.75762180184493555},{"$f":"IF(ISERROR(INDEX($B$7:$Q$1503,$V27,COLUMNS($Z$31:AF51))),\"\",INDEX($B$7:$Q$1503,$V27,COLUMNS($Z$31:AF51)))","v":0.92921044999219149},{"$f":"IF(ISERROR(INDEX($B$7:$Q$1503,$V27,COLUMNS($Z$31:AG51))),\"\",INDEX($B$7:$Q$1503,$V27,COLUMNS($Z$31:AG51)))","v":0.76669258268636287},{"$f":"IF(ISERROR(INDEX($B$7:$Q$1503,$V27,COLUMNS($Z$31:AH51))),\"\",INDEX($B$7:$Q$1503,$V27,COLUMNS($Z$31:AH51)))","v":0.84343752949299378},{"$f":"IF(ISERROR(INDEX($B$7:$Q$1503,$V27,COLUMNS($Z$31:AI51))),\"\",INDEX($B$7:$Q$1503,$V27,COLUMNS($Z$31:AI51)))","v":0.84667254461236596},{"$f":"IF(ISERROR(INDEX($B$7:$Q$1503,$V27,COLUMNS($Z$31:AJ51))),\"\",INDEX($B$7:$Q$1503,$V27,COLUMNS($Z$31:AJ51)))","v":1.1394227139449942},{"$f":"IF(ISERROR(INDEX($B$7:$Q$1503,$V27,COLUMNS($Z$31:AK51))),\"\",INDEX($B$7:$Q$1503,$V27,COLUMNS($Z$31:AK51)))","v":1.6082007572042294},{"$f":"IF(ISERROR(INDEX($B$7:$Q$1503,$V27,COLUMNS($Z$31:AL51))),\"\",INDEX($B$7:$Q$1503,$V27,COLUMNS($Z$31:AL51)))","v":1.7322013973471009},{"$f":"IF(ISERROR(INDEX($B$7:$Q$1503,$V27,COLUMNS($Z$31:AM51))),\"\",INDEX($B$7:$Q$1503,$V27,COLUMNS($Z$31:AM51)))","v":1.8388357192150044},{"$f":"IF(ISERROR(INDEX($B$7:$Q$1503,$V27,COLUMNS($Z$31:AN51))),\"\",INDEX($B$7:$Q$1503,$V27,COLUMNS($Z$31:AN51)))","v":4.4252187748607801},{"$f":"IF(ISERROR(INDEX($B$7:$Q$1503,$V27,COLUMNS($Z$31:AO51))),\"\",INDEX($B$7:$Q$1503,$V27,COLUMNS($Z$31:AO51)))","v":0}]
[null,"Tauragės apskritis","Neišregistruotų juridinių asmenų skaičius metų pradžioje | vnt.",3770,3794,3870,4090,4167,4232,4208,4106,4191,4274,4365,4446,4519,{"$f":"HLOOKUP(B52,'[1]2023_neišreg'!$B$2:$BT$23,22,FALSE)","v":4584},{"$f":"ROWS($R$7:R52)","v":46},"",{"$f":"IF(ISERROR(SMALL($S$7:$S$1504,ROWS($S$7:S52))),\"\",SMALL($S$7:$S$1504,ROWS($S$7:S52)))","v":""},"",{"$f":"IF(ISERROR(SMALL($U$7:$U$1504,ROWS(U$7:$U52))),\"\",SMALL($U$7:$U$1504,ROWS(U$7:$U52)))","v":""},"",{"$f":"IF(ISERROR(SMALL($W$7:$W$1504,ROWS($W$7:W52))),\"\",SMALL($W$7:$W$1504,ROWS($W$7:W52)))","v":""},null,{"$f":"IF(ISERROR(INDEX($B$7:$K$1503,$V28,COLUMNS($Z$31:Z52))),\"\",INDEX($B$7:$K$1503,$V28,COLUMNS($Z$31:Z52)))","v":""},{"$f":"IF(ISERROR(INDEX($B$7:$K$1503,$V28,COLUMNS($Z$31:AA52))),\"\",INDEX($B$7:$K$1503,$V28,COLUMNS($Z$31:AA52)))","v":""},{"$f":"IF(ISERROR(INDEX($B$7:$O$1503,$V28,COLUMNS($Z$31:AB52))),\"\",INDEX($B$7:$O$1503,$V28,COLUMNS($Z$31:AB52)))","v":""},{"$f":"IF(ISERROR(INDEX($B$7:$O$1503,$V28,COLUMNS($Z$31:AC52))),\"\",INDEX($B$7:$O$1503,$V28,COLUMNS($Z$31:AC52)))","v":""},{"$f":"IF(ISERROR(INDEX($B$7:$O$1503,$V28,COLUMNS($Z$31:AD52))),\"\",INDEX($B$7:$O$1503,$V28,COLUMNS($Z$31:AD52)))","v":""},{"$f":"IF(ISERROR(INDEX($B$7:$O$1503,$V28,COLUMNS($Z$31:AE52))),\"\",INDEX($B$7:$O$1503,$V28,COLUMNS($Z$31:AE52)))","v":""},{"$f":"IF(ISERROR(INDEX($B$7:$O$1503,$V28,COLUMNS($Z$31:AF52))),\"\",INDEX($B$7:$O$1503,$V28,COLUMNS($Z$31:AF52)))","v":""},{"$f":"IF(ISERROR(INDEX($B$7:$O$1503,$V28,COLUMNS($Z$31:AG52))),\"\",INDEX($B$7:$O$1503,$V28,COLUMNS($Z$31:AG52)))","v":""},{"$f":"IF(ISERROR(INDEX($B$7:$O$1503,$V28,COLUMNS($Z$31:AH52))),\"\",INDEX($B$7:$O$1503,$V28,COLUMNS($Z$31:AH52)))","v":""},{"$f":"IF(ISERROR(INDEX($B$7:$O$1503,$V28,COLUMNS($Z$31:AI52))),\"\",INDEX($B$7:$O$1503,$V28,COLUMNS($Z$31:AI52)))","v":""}]
[null,"Jurbarko r. sav.","Neišregistruotų juridinių asmenų skaičius metų pradžioje | vnt.",1095,1096,1118,1137,1165,1164,1185,1146,1167,1201,1223,1245,1263,{"$f":"HLOOKUP(B53,'[1]2023_neišreg'!$B$2:$BT$23,22,FALSE)","v":1274},{"$f":"ROWS($R$7:R53)","v":47},"",{"$f":"IF(ISERROR(SMALL($S$7:$S$1504,ROWS($S$7:S53))),\"\",SMALL($S$7:$S$1504,ROWS($S$7:S53)))","v":""},"",{"$f":"IF(ISERROR(SMALL($U$7:$U$1504,ROWS(U$7:$U53))),\"\",SMALL($U$7:$U$1504,ROWS(U$7:$U53)))","v":""},"",{"$f":"IF(ISERROR(SMALL($W$7:$W$1504,ROWS($W$7:W53))),\"\",SMALL($W$7:$W$1504,ROWS($W$7:W53)))","v":""}]
[null,"Pagėgių sav.","Neišregistruotų juridinių asmenų skaičius metų pradžioje | vnt.",289,293,299,328,334,339,338,333,340,336,345,348,354,{"$f":"HLOOKUP(B54,'[1]2023_neišreg'!$B$2:$BT$23,22,FALSE)","v":358},{"$f":"ROWS($R$7:R54)","v":48},"",{"$f":"IF(ISERROR(SMALL($S$7:$S$1504,ROWS($S$7:S54))),\"\",SMALL($S$7:$S$1504,ROWS($S$7:S54)))","v":""},"",{"$f":"IF(ISERROR(SMALL($U$7:$U$1504,ROWS(U$7:$U54))),\"\",SMALL($U$7:$U$1504,ROWS(U$7:$U54)))","v":""},"",{"$f":"IF(ISERROR(SMALL($W$7:$W$1504,ROWS($W$7:W54))),\"\",SMALL($W$7:$W$1504,ROWS($W$7:W54)))","v":""},null,{"$f":"+Z6","v":"Administracinė teritorija"},{"$f":"+AA6","v":"Rodiklis"},"2010","2011","2012","2013","2014","2015","2016","2017","2018",{"$f":"+AK6","v":2019},{"$f":"+AL6","v":2020},{"$f":"+AM6","v":2021},{"$f":"+AN6","v":2022},{"$f":"+AO6","v":2023}]
[null,"Šilalės r. sav.","Neišregistruotų juridinių asmenų skaičius metų pradžioje | vnt.",731,726,754,770,790,806,803,792,825,835,862,873,910,{"$f":"HLOOKUP(B55,'[1]2023_neišreg'!$B$2:$BT$23,22,FALSE)","v":944},{"$f":"ROWS($R$7:R55)","v":49},"",{"$f":"IF(ISERROR(SMALL($S$7:$S$1504,ROWS($S$7:S55))),\"\",SMALL($S$7:$S$1504,ROWS($S$7:S55)))","v":""},"",{"$f":"IF(ISERROR(SMALL($U$7:$U$1504,ROWS(U$7:$U55))),\"\",SMALL($U$7:$U$1504,ROWS(U$7:$U55)))","v":""},"",{"$f":"IF(ISERROR(SMALL($W$7:$W$1504,ROWS($W$7:W55))),\"\",SMALL($W$7:$W$1504,ROWS($W$7:W55)))","v":""},null,{"$f":"IF(ISERROR(INDEX($B$7:$K$1503,$X7,COLUMNS($Z$31:Z53))),\"\",INDEX($B$7:$K$1503,$X7,COLUMNS($Z$31:Z53)))","v":"Lietuvos Respublika"},{"$f":"IF(ISERROR(INDEX($B$7:$K$1503,$X7,COLUMNS($Z$31:AA55))),\"\",INDEX($B$7:$K$1503,$X7,COLUMNS($Z$31:AA55)))","v":"Neišregistruotų juridinių asmenų skaičius metų pradžioje | vnt."},{"$f":"IF(ISERROR(INDEX($B$7:$Q$1503,$X7,COLUMNS($Z$55:AB55))),\"\",INDEX($B$7:$Q$1503,$X7,COLUMNS($Z$55:AB55)))","v":181574},{"$f":"IF(ISERROR(INDEX($B$7:$Q$1503,$X7,COLUMNS($Z$55:AC55))),\"\",INDEX($B$7:$Q$1503,$X7,COLUMNS($Z$55:AC55)))","v":184714},{"$f":"IF(ISERROR(INDEX($B$7:$Q$1503,$X7,COLUMNS($Z$55:AD55))),\"\",INDEX($B$7:$Q$1503,$X7,COLUMNS($Z$55:AD55)))","v":191882},{"$f":"IF(ISERROR(INDEX($B$7:$Q$1503,$X7,COLUMNS($Z$55:AE55))),\"\",INDEX($B$7:$Q$1503,$X7,COLUMNS($Z$55:AE55)))","v":203557},{"$f":"IF(ISERROR(INDEX($B$7:$Q$1503,$X7,COLUMNS($Z$55:AF55))),\"\",INDEX($B$7:$Q$1503,$X7,COLUMNS($Z$55:AF55)))","v":213846},{"$f":"IF(ISERROR(INDEX($B$7:$Q$1503,$X7,COLUMNS($Z$55:AG55))),\"\",INDEX($B$7:$Q$1503,$X7,COLUMNS($Z$55:AG55)))","v":223644},{"$f":"IF(ISERROR(INDEX($B$7:$Q$1503,$X7,COLUMNS($Z$55:AH55))),\"\",INDEX($B$7:$Q$1503,$X7,COLUMNS($Z$55:AH55)))","v":228925},{"$f":"IF(ISERROR(INDEX($B$7:$Q$1503,$X7,COLUMNS($Z$55:AI55))),\"\",INDEX($B$7:$Q$1503,$X7,COLUMNS($Z$55:AI55)))","v":222066},{"$f":"IF(ISERROR(INDEX($B$7:$Q$1503,$X7,COLUMNS($Z$55:AJ55))),\"\",INDEX($B$7:$Q$1503,$X7,COLUMNS($Z$55:AJ55)))","v":228625},{"$f":"IF(ISERROR(INDEX($B$7:$Q$1503,$X7,COLUMNS($Z$55:AK55))),\"\",INDEX($B$7:$Q$1503,$X7,COLUMNS($Z$55:AK55)))","v":235554},{"$f":"IF(ISERROR(INDEX($B$7:$Q$1503,$X7,COLUMNS($Z$55:AL55))),\"\",INDEX($B$7:$Q$1503,$X7,COLUMNS($Z$55:AL55)))","v":243459},{"$f":"IF(ISERROR(INDEX($B$7:$Q$1503,$X7,COLUMNS($Z$55:AM55))),\"\",INDEX($B$7:$Q$1503,$X7,COLUMNS($Z$55:AM55)))","v":253197},{"$f":"IF(ISERROR(INDEX($B$7:$Q$1503,$X7,COLUMNS($Z$55:AN55))),\"\",INDEX($B$7:$Q$1503,$X7,COLUMNS($Z$55:AN55)))","v":258399},{"$f":"IF(ISERROR(INDEX($B$7:$Q$1503,$X7,COLUMNS($Z$55:AO55))),\"\",INDEX($B$7:$Q$1503,$X7,COLUMNS($Z$55:AO55)))","v":250338}]
[null,"Tauragės r. sav.","Neišregistruotų juridinių asmenų skaičius metų pradžioje | vnt.",1655,1679,1699,1855,1878,1923,1882,1835,1859,1902,1935,1980,1992,{"$f":"HLOOKUP(B56,'[1]2023_neišreg'!$B$2:$BT$23,22,FALSE)","v":2008},{"$f":"ROWS($R$7:R56)","v":50},"",{"$f":"IF(ISERROR(SMALL($S$7:$S$1504,ROWS($S$7:S56))),\"\",SMALL($S$7:$S$1504,ROWS($S$7:S56)))","v":""},"",{"$f":"IF(ISERROR(SMALL($U$7:$U$1504,ROWS(U$7:$U56))),\"\",SMALL($U$7:$U$1504,ROWS(U$7:$U56)))","v":""},"",{"$f":"IF(ISERROR(SMALL($W$7:$W$1504,ROWS($W$7:W56))),\"\",SMALL($W$7:$W$1504,ROWS($W$7:W56)))","v":""},null,{"$f":"IF(ISERROR(INDEX($B$7:$K$1503,$X8,COLUMNS($Z$31:Z54))),\"\",INDEX($B$7:$K$1503,$X8,COLUMNS($Z$31:Z54)))","v":"Lietuvos Respublika"},{"$f":"IF(ISERROR(INDEX($B$7:$K$1503,$X8,COLUMNS($Z$31:AA56))),\"\",INDEX($B$7:$K$1503,$X8,COLUMNS($Z$31:AA56)))","v":"Per metus įregistruota juridinių asmenų skaičius | vnt."},{"$f":"IF(ISERROR(INDEX($B$7:$Q$1503,$X8,COLUMNS($Z$55:AB56))),\"\",INDEX($B$7:$Q$1503,$X8,COLUMNS($Z$55:AB56)))","v":9198},{"$f":"IF(ISERROR(INDEX($B$7:$Q$1503,$X8,COLUMNS($Z$55:AC56))),\"\",INDEX($B$7:$Q$1503,$X8,COLUMNS($Z$55:AC56)))","v":10391},{"$f":"IF(ISERROR(INDEX($B$7:$Q$1503,$X8,COLUMNS($Z$55:AD56))),\"\",INDEX($B$7:$Q$1503,$X8,COLUMNS($Z$55:AD56)))","v":14866},{"$f":"IF(ISERROR(INDEX($B$7:$Q$1503,$X8,COLUMNS($Z$55:AE56))),\"\",INDEX($B$7:$Q$1503,$X8,COLUMNS($Z$55:AE56)))","v":13471},{"$f":"IF(ISERROR(INDEX($B$7:$Q$1503,$X8,COLUMNS($Z$55:AF56))),\"\",INDEX($B$7:$Q$1503,$X8,COLUMNS($Z$55:AF56)))","v":13858},{"$f":"IF(ISERROR(INDEX($B$7:$Q$1503,$X8,COLUMNS($Z$55:AG56))),\"\",INDEX($B$7:$Q$1503,$X8,COLUMNS($Z$55:AG56)))","v":10167},{"$f":"IF(ISERROR(INDEX($B$7:$Q$1503,$X8,COLUMNS($Z$55:AH56))),\"\",INDEX($B$7:$Q$1503,$X8,COLUMNS($Z$55:AH56)))","v":10481},{"$f":"IF(ISERROR(INDEX($B$7:$Q$1503,$X8,COLUMNS($Z$55:AI56))),\"\",INDEX($B$7:$Q$1503,$X8,COLUMNS($Z$55:AI56)))","v":11381},{"$f":"IF(ISERROR(INDEX($B$7:$Q$1503,$X8,COLUMNS($Z$55:AJ56))),\"\",INDEX($B$7:$Q$1503,$X8,COLUMNS($Z$55:AJ56)))","v":11789},{"$f":"IF(ISERROR(INDEX($B$7:$Q$1503,$X8,COLUMNS($Z$55:AK56))),\"\",INDEX($B$7:$Q$1503,$X8,COLUMNS($Z$55:AK56)))","v":12692},{"$f":"IF(ISERROR(INDEX($B$7:$Q$1503,$X8,COLUMNS($Z$55:AL56))),\"\",INDEX($B$7:$Q$1503,$X8,COLUMNS($Z$55:AL56)))","v":13363},{"$f":"IF(ISERROR(INDEX($B$7:$Q$1503,$X8,COLUMNS($Z$55:AM56))),\"\",INDEX($B$7:$Q$1503,$X8,COLUMNS($Z$55:AM56)))","v":15113},{"$f":"IF(ISERROR(INDEX($B$7:$Q$1503,$X8,COLUMNS($Z$55:AN56))),\"\",INDEX($B$7:$Q$1503,$X8,COLUMNS($Z$55:AN56)))","v":14543},{"$f":"IF(ISERROR(INDEX($B$7:$Q$1503,$X8,COLUMNS($Z$55:AO56))),\"\",INDEX($B$7:$Q$1503,$X8,COLUMNS($Z$55:AO56)))","v":0}]
[null,"Telšių apskritis","Neišregistruotų juridinių asmenų skaičius metų pradžioje | vnt.",6124,6095,6221,6428,6617,6674,6710,6385,6480,6666,6810,7027,6977,{"$f":"HLOOKUP(B57,'[1]2023_neišreg'!$B$2:$BT$23,22,FALSE)","v":7138},{"$f":"ROWS($R$7:R57)","v":51},"",{"$f":"IF(ISERROR(SMALL($S$7:$S$1504,ROWS($S$7:S57))),\"\",SMALL($S$7:$S$1504,ROWS($S$7:S57)))","v":""},"",{"$f":"IF(ISERROR(SMALL($U$7:$U$1504,ROWS(U$7:$U57))),\"\",SMALL($U$7:$U$1504,ROWS(U$7:$U57)))","v":""},"",{"$f":"IF(ISERROR(SMALL($W$7:$W$1504,ROWS($W$7:W57))),\"\",SMALL($W$7:$W$1504,ROWS($W$7:W57)))","v":""},null,{"$f":"IF(ISERROR(INDEX($B$7:$K$1503,$X9,COLUMNS($Z$31:Z55))),\"\",INDEX($B$7:$K$1503,$X9,COLUMNS($Z$31:Z55)))","v":"Lietuvos Respublika"},{"$f":"IF(ISERROR(INDEX($B$7:$K$1503,$X9,COLUMNS($Z$31:AA57))),\"\",INDEX($B$7:$K$1503,$X9,COLUMNS($Z$31:AA57)))","v":"Per metus išregistruota juridinių asmenų skaičius | vnt."},{"$f":"IF(ISERROR(INDEX($B$7:$Q$1503,$X9,COLUMNS($Z$55:AB57))),\"\",INDEX($B$7:$Q$1503,$X9,COLUMNS($Z$55:AB57)))","v":6057},{"$f":"IF(ISERROR(INDEX($B$7:$Q$1503,$X9,COLUMNS($Z$55:AC57))),\"\",INDEX($B$7:$Q$1503,$X9,COLUMNS($Z$55:AC57)))","v":3213},{"$f":"IF(ISERROR(INDEX($B$7:$Q$1503,$X9,COLUMNS($Z$55:AD57))),\"\",INDEX($B$7:$Q$1503,$X9,COLUMNS($Z$55:AD57)))","v":3160},{"$f":"IF(ISERROR(INDEX($B$7:$Q$1503,$X9,COLUMNS($Z$55:AE57))),\"\",INDEX($B$7:$Q$1503,$X9,COLUMNS($Z$55:AE57)))","v":3165},{"$f":"IF(ISERROR(INDEX($B$7:$Q$1503,$X9,COLUMNS($Z$55:AF57))),\"\",INDEX($B$7:$Q$1503,$X9,COLUMNS($Z$55:AF57)))","v":4033},{"$f":"IF(ISERROR(INDEX($B$7:$Q$1503,$X9,COLUMNS($Z$55:AG57))),\"\",INDEX($B$7:$Q$1503,$X9,COLUMNS($Z$55:AG57)))","v":4879},{"$f":"IF(ISERROR(INDEX($B$7:$Q$1503,$X9,COLUMNS($Z$55:AH57))),\"\",INDEX($B$7:$Q$1503,$X9,COLUMNS($Z$55:AH57)))","v":17336},{"$f":"IF(ISERROR(INDEX($B$7:$Q$1503,$X9,COLUMNS($Z$55:AI57))),\"\",INDEX($B$7:$Q$1503,$X9,COLUMNS($Z$55:AI57)))","v":4811},{"$f":"IF(ISERROR(INDEX($B$7:$Q$1503,$X9,COLUMNS($Z$55:AJ57))),\"\",INDEX($B$7:$Q$1503,$X9,COLUMNS($Z$55:AJ57)))","v":4850},{"$f":"IF(ISERROR(INDEX($B$7:$Q$1503,$X9,COLUMNS($Z$55:AK57))),\"\",INDEX($B$7:$Q$1503,$X9,COLUMNS($Z$55:AK57)))","v":4776},{"$f":"IF(ISERROR(INDEX($B$7:$Q$1503,$X9,COLUMNS($Z$55:AL57))),\"\",INDEX($B$7:$Q$1503,$X9,COLUMNS($Z$55:AL57)))","v":3615},{"$f":"IF(ISERROR(INDEX($B$7:$Q$1503,$X9,COLUMNS($Z$55:AM57))),\"\",INDEX($B$7:$Q$1503,$X9,COLUMNS($Z$55:AM57)))","v":9916},{"$f":"IF(ISERROR(INDEX($B$7:$Q$1503,$X9,COLUMNS($Z$55:AN57))),\"\",INDEX($B$7:$Q$1503,$X9,COLUMNS($Z$55:AN57)))","v":22611},{"$f":"IF(ISERROR(INDEX($B$7:$Q$1503,$X9,COLUMNS($Z$55:AO57))),\"\",INDEX($B$7:$Q$1503,$X9,COLUMNS($Z$55:AO57)))","v":0}]
[null,"Mažeikių r. sav.","Neišregistruotų juridinių asmenų skaičius metų pradžioje | vnt.",2566,2540,2552,2669,2732,2715,2721,2535,2576,2636,2661,2731,2674,{"$f":"HLOOKUP(B58,'[1]2023_neišreg'!$B$2:$BT$23,22,FALSE)","v":2732},{"$f":"ROWS($R$7:R58)","v":52},"",{"$f":"IF(ISERROR(SMALL($S$7:$S$1504,ROWS($S$7:S58))),\"\",SMALL($S$7:$S$1504,ROWS($S$7:S58)))","v":""},"",{"$f":"IF(ISERROR(SMALL($U$7:$U$1504,ROWS(U$7:$U58))),\"\",SMALL($U$7:$U$1504,ROWS(U$7:$U58)))","v":""},"",{"$f":"IF(ISERROR(SMALL($W$7:$W$1504,ROWS($W$7:W58))),\"\",SMALL($W$7:$W$1504,ROWS($W$7:W58)))","v":""},null,{"$f":"IF(ISERROR(INDEX($B$7:$K$1503,$X10,COLUMNS($Z$31:Z56))),\"\",INDEX($B$7:$K$1503,$X10,COLUMNS($Z$31:Z56)))","v":"Lietuvos Respublika"},{"$f":"IF(ISERROR(INDEX($B$7:$K$1503,$X10,COLUMNS($Z$31:AA58))),\"\",INDEX($B$7:$K$1503,$X10,COLUMNS($Z$31:AA58)))","v":"Per metus įregistruota mažų ir vidutinių įmonių | vnt."},{"$f":"IF(ISERROR(INDEX($B$7:$Q$1503,$X10,COLUMNS($Z$55:AB58))),\"\",INDEX($B$7:$Q$1503,$X10,COLUMNS($Z$55:AB58)))","v":7173},{"$f":"IF(ISERROR(INDEX($B$7:$Q$1503,$X10,COLUMNS($Z$55:AC58))),\"\",INDEX($B$7:$Q$1503,$X10,COLUMNS($Z$55:AC58)))","v":8634},{"$f":"IF(ISERROR(INDEX($B$7:$Q$1503,$X10,COLUMNS($Z$55:AD58))),\"\",INDEX($B$7:$Q$1503,$X10,COLUMNS($Z$55:AD58)))","v":13018},{"$f":"IF(ISERROR(INDEX($B$7:$Q$1503,$X10,COLUMNS($Z$55:AE58))),\"\",INDEX($B$7:$Q$1503,$X10,COLUMNS($Z$55:AE58)))","v":11663},{"$f":"IF(ISERROR(INDEX($B$7:$Q$1503,$X10,COLUMNS($Z$55:AF58))),\"\",INDEX($B$7:$Q$1503,$X10,COLUMNS($Z$55:AF58)))","v":12143},{"$f":"IF(ISERROR(INDEX($B$7:$Q$1503,$X10,COLUMNS($Z$55:AG58))),\"\",INDEX($B$7:$Q$1503,$X10,COLUMNS($Z$55:AG58)))","v":8274},{"$f":"IF(ISERROR(INDEX($B$7:$Q$1503,$X10,COLUMNS($Z$55:AH58))),\"\",INDEX($B$7:$Q$1503,$X10,COLUMNS($Z$55:AH58)))","v":8887},{"$f":"IF(ISERROR(INDEX($B$7:$Q$1503,$X10,COLUMNS($Z$55:AI58))),\"\",INDEX($B$7:$Q$1503,$X10,COLUMNS($Z$55:AI58)))","v":9881},{"$f":"IF(ISERROR(INDEX($B$7:$Q$1503,$X10,COLUMNS($Z$55:AJ58))),\"\",INDEX($B$7:$Q$1503,$X10,COLUMNS($Z$55:AJ58)))","v":10457},{"$f":"IF(ISERROR(INDEX($B$7:$Q$1503,$X10,COLUMNS($Z$55:AK58))),\"\",INDEX($B$7:$Q$1503,$X10,COLUMNS($Z$55:AK58)))","v":11153},{"$f":"IF(ISERROR(INDEX($B$7:$Q$1503,$X10,COLUMNS($Z$55:AL58))),\"\",INDEX($B$7:$Q$1503,$X10,COLUMNS($Z$55:AL58)))","v":11830},{"$f":"IF(ISERROR(INDEX($B$7:$Q$1503,$X10,COLUMNS($Z$55:AM58))),\"\",INDEX($B$7:$Q$1503,$X10,COLUMNS($Z$55:AM58)))","v":13767},{"$f":"IF(ISERROR(INDEX($B$7:$Q$1503,$X10,COLUMNS($Z$55:AN58))),\"\",INDEX($B$7:$Q$1503,$X10,COLUMNS($Z$55:AN58)))","v":12716},{"$f":"IF(ISERROR(INDEX($B$7:$Q$1503,$X10,COLUMNS($Z$55:AO58))),\"\",INDEX($B$7:$Q$1503,$X10,COLUMNS($Z$55:AO58)))","v":0}]
[null,"Plungės r. sav.","Neišregistruotų juridinių asmenų skaičius metų pradžioje | vnt.",1498,1501,1561,1608,1661,1694,1683,1606,1627,1671,1739,1802,1784,{"$f":"HLOOKUP(B59,'[1]2023_neišreg'!$B$2:$BT$23,22,FALSE)","v":1829},{"$f":"ROWS($R$7:R59)","v":53},"",{"$f":"IF(ISERROR(SMALL($S$7:$S$1504,ROWS($S$7:S59))),\"\",SMALL($S$7:$S$1504,ROWS($S$7:S59)))","v":""},"",{"$f":"IF(ISERROR(SMALL($U$7:$U$1504,ROWS(U$7:$U59))),\"\",SMALL($U$7:$U$1504,ROWS(U$7:$U59)))","v":""},"",{"$f":"IF(ISERROR(SMALL($W$7:$W$1504,ROWS($W$7:W59))),\"\",SMALL($W$7:$W$1504,ROWS($W$7:W59)))","v":""},null,{"$f":"IF(ISERROR(INDEX($B$7:$K$1503,$X11,COLUMNS($Z$31:Z57))),\"\",INDEX($B$7:$K$1503,$X11,COLUMNS($Z$31:Z57)))","v":"Lietuvos Respublika"},{"$f":"IF(ISERROR(INDEX($B$7:$K$1503,$X11,COLUMNS($Z$31:AA59))),\"\",INDEX($B$7:$K$1503,$X11,COLUMNS($Z$31:AA59)))","v":"Per metus išregistruota mažų ir vidutinių įmonių | vnt."},{"$f":"IF(ISERROR(INDEX($B$7:$Q$1503,$X11,COLUMNS($Z$55:AB59))),\"\",INDEX($B$7:$Q$1503,$X11,COLUMNS($Z$55:AB59)))","v":6689},{"$f":"IF(ISERROR(INDEX($B$7:$Q$1503,$X11,COLUMNS($Z$55:AC59))),\"\",INDEX($B$7:$Q$1503,$X11,COLUMNS($Z$55:AC59)))","v":4166},{"$f":"IF(ISERROR(INDEX($B$7:$Q$1503,$X11,COLUMNS($Z$55:AD59))),\"\",INDEX($B$7:$Q$1503,$X11,COLUMNS($Z$55:AD59)))","v":4118},{"$f":"IF(ISERROR(INDEX($B$7:$Q$1503,$X11,COLUMNS($Z$55:AE59))),\"\",INDEX($B$7:$Q$1503,$X11,COLUMNS($Z$55:AE59)))","v":4078},{"$f":"IF(ISERROR(INDEX($B$7:$Q$1503,$X11,COLUMNS($Z$55:AF59))),\"\",INDEX($B$7:$Q$1503,$X11,COLUMNS($Z$55:AF59)))","v":4950},{"$f":"IF(ISERROR(INDEX($B$7:$Q$1503,$X11,COLUMNS($Z$55:AG59))),\"\",INDEX($B$7:$Q$1503,$X11,COLUMNS($Z$55:AG59)))","v":5598},{"$f":"IF(ISERROR(INDEX($B$7:$Q$1503,$X11,COLUMNS($Z$55:AH59))),\"\",INDEX($B$7:$Q$1503,$X11,COLUMNS($Z$55:AH59)))","v":17982},{"$f":"IF(ISERROR(INDEX($B$7:$Q$1503,$X11,COLUMNS($Z$55:AI59))),\"\",INDEX($B$7:$Q$1503,$X11,COLUMNS($Z$55:AI59)))","v":4199},{"$f":"IF(ISERROR(INDEX($B$7:$Q$1503,$X11,COLUMNS($Z$55:AJ59))),\"\",INDEX($B$7:$Q$1503,$X11,COLUMNS($Z$55:AJ59)))","v":4188},{"$f":"IF(ISERROR(INDEX($B$7:$Q$1503,$X11,COLUMNS($Z$55:AK59))),\"\",INDEX($B$7:$Q$1503,$X11,COLUMNS($Z$55:AK59)))","v":4038},{"$f":"IF(ISERROR(INDEX($B$7:$Q$1503,$X11,COLUMNS($Z$55:AL59))),\"\",INDEX($B$7:$Q$1503,$X11,COLUMNS($Z$55:AL59)))","v":2968},{"$f":"IF(ISERROR(INDEX($B$7:$Q$1503,$X11,COLUMNS($Z$55:AM59))),\"\",INDEX($B$7:$Q$1503,$X11,COLUMNS($Z$55:AM59)))","v":8307},{"$f":"IF(ISERROR(INDEX($B$7:$Q$1503,$X11,COLUMNS($Z$55:AN59))),\"\",INDEX($B$7:$Q$1503,$X11,COLUMNS($Z$55:AN59)))","v":16100},{"$f":"IF(ISERROR(INDEX($B$7:$Q$1503,$X11,COLUMNS($Z$55:AO59))),\"\",INDEX($B$7:$Q$1503,$X11,COLUMNS($Z$55:AO59)))","v":0}]
[null,"Rietavo sav.","Neišregistruotų juridinių asmenų skaičius metų pradžioje | vnt.",331,327,342,347,356,367,376,369,368,376,380,400,407,{"$f":"HLOOKUP(B60,'[1]2023_neišreg'!$B$2:$BT$23,22,FALSE)","v":425},{"$f":"ROWS($R$7:R60)","v":54},"",{"$f":"IF(ISERROR(SMALL($S$7:$S$1504,ROWS($S$7:S60))),\"\",SMALL($S$7:$S$1504,ROWS($S$7:S60)))","v":""},"",{"$f":"IF(ISERROR(SMALL($U$7:$U$1504,ROWS(U$7:$U60))),\"\",SMALL($U$7:$U$1504,ROWS(U$7:$U60)))","v":""},"",{"$f":"IF(ISERROR(SMALL($W$7:$W$1504,ROWS($W$7:W60))),\"\",SMALL($W$7:$W$1504,ROWS($W$7:W60)))","v":""},null,{"$f":"IF(ISERROR(INDEX($B$7:$K$1503,$X12,COLUMNS($Z$31:Z58))),\"\",INDEX($B$7:$K$1503,$X12,COLUMNS($Z$31:Z58)))","v":"Lietuvos Respublika"},{"$f":"IF(ISERROR(INDEX($B$7:$K$1503,$X12,COLUMNS($Z$31:AA60))),\"\",INDEX($B$7:$K$1503,$X12,COLUMNS($Z$31:AA60)))","v":"Veikiančių mažų ir vidutinių įmonių skaičius metų pradžioje | vnt."},{"$f":"IF(ISERROR(INDEX($B$7:$Q$1503,$X12,COLUMNS($Z$55:AB60))),\"\",INDEX($B$7:$Q$1503,$X12,COLUMNS($Z$55:AB60)))","v":63447},{"$f":"IF(ISERROR(INDEX($B$7:$Q$1503,$X12,COLUMNS($Z$55:AC60))),\"\",INDEX($B$7:$Q$1503,$X12,COLUMNS($Z$55:AC60)))","v":66534},{"$f":"IF(ISERROR(INDEX($B$7:$Q$1503,$X12,COLUMNS($Z$55:AD60))),\"\",INDEX($B$7:$Q$1503,$X12,COLUMNS($Z$55:AD60)))","v":62586},{"$f":"IF(ISERROR(INDEX($B$7:$Q$1503,$X12,COLUMNS($Z$55:AE60))),\"\",INDEX($B$7:$Q$1503,$X12,COLUMNS($Z$55:AE60)))","v":65461},{"$f":"IF(ISERROR(INDEX($B$7:$Q$1503,$X12,COLUMNS($Z$55:AF60))),\"\",INDEX($B$7:$Q$1503,$X12,COLUMNS($Z$55:AF60)))","v":67943},{"$f":"IF(ISERROR(INDEX($B$7:$Q$1503,$X12,COLUMNS($Z$55:AG60))),\"\",INDEX($B$7:$Q$1503,$X12,COLUMNS($Z$55:AG60)))","v":76076},{"$f":"IF(ISERROR(INDEX($B$7:$Q$1503,$X12,COLUMNS($Z$55:AH60))),\"\",INDEX($B$7:$Q$1503,$X12,COLUMNS($Z$55:AH60)))","v":79472},{"$f":"IF(ISERROR(INDEX($B$7:$Q$1503,$X12,COLUMNS($Z$55:AI60))),\"\",INDEX($B$7:$Q$1503,$X12,COLUMNS($Z$55:AI60)))","v":82885},{"$f":"IF(ISERROR(INDEX($B$7:$Q$1503,$X12,COLUMNS($Z$55:AJ60))),\"\",INDEX($B$7:$Q$1503,$X12,COLUMNS($Z$55:AJ60)))","v":83069},{"$f":"IF(ISERROR(INDEX($B$7:$Q$1503,$X12,COLUMNS($Z$55:AK60))),\"\",INDEX($B$7:$Q$1503,$X12,COLUMNS($Z$55:AK60)))","v":84510},{"$f":"IF(ISERROR(INDEX($B$7:$Q$1503,$X12,COLUMNS($Z$55:AL60))),\"\",INDEX($B$7:$Q$1503,$X12,COLUMNS($Z$55:AL60)))","v":86738},{"$f":"IF(ISERROR(INDEX($B$7:$Q$1503,$X12,COLUMNS($Z$55:AM60))),\"\",INDEX($B$7:$Q$1503,$X12,COLUMNS($Z$55:AM60)))","v":87284},{"$f":"IF(ISERROR(INDEX($B$7:$Q$1503,$X12,COLUMNS($Z$55:AN60))),\"\",INDEX($B$7:$Q$1503,$X12,COLUMNS($Z$55:AN60)))","v":92628},{"$f":"IF(ISERROR(INDEX($B$7:$Q$1503,$X12,COLUMNS($Z$55:AO60))),\"\",INDEX($B$7:$Q$1503,$X12,COLUMNS($Z$55:AO60)))","v":100045}]
[null,"Telšių r. sav.","Neišregistruotų juridinių asmenų skaičius metų pradžioje | vnt.",1729,1727,1766,1804,1868,1898,1930,1875,1909,1983,2030,2094,2112,{"$f":"HLOOKUP(B61,'[1]2023_neišreg'!$B$2:$BT$23,22,FALSE)","v":2152},{"$f":"ROWS($R$7:R61)","v":55},"",{"$f":"IF(ISERROR(SMALL($S$7:$S$1504,ROWS($S$7:S61))),\"\",SMALL($S$7:$S$1504,ROWS($S$7:S61)))","v":""},"",{"$f":"IF(ISERROR(SMALL($U$7:$U$1504,ROWS(U$7:$U61))),\"\",SMALL($U$7:$U$1504,ROWS(U$7:$U61)))","v":""},"",{"$f":"IF(ISERROR(SMALL($W$7:$W$1504,ROWS($W$7:W61))),\"\",SMALL($W$7:$W$1504,ROWS($W$7:W61)))","v":""},null,{"$f":"IF(ISERROR(INDEX($B$7:$K$1503,$X13,COLUMNS($Z$31:Z59))),\"\",INDEX($B$7:$K$1503,$X13,COLUMNS($Z$31:Z59)))","v":"Lietuvos Respublika"},{"$f":"IF(ISERROR(INDEX($B$7:$K$1503,$X13,COLUMNS($Z$31:AA61))),\"\",INDEX($B$7:$K$1503,$X13,COLUMNS($Z$31:AA61)))","v":"Veikiančių įmonių skaičius metų pradžioje | vnt."},{"$f":"IF(ISERROR(INDEX($B$7:$Q$1503,$X13,COLUMNS($Z$55:AB61))),\"\",INDEX($B$7:$Q$1503,$X13,COLUMNS($Z$55:AB61)))","v":63840},{"$f":"IF(ISERROR(INDEX($B$7:$Q$1503,$X13,COLUMNS($Z$55:AC61))),\"\",INDEX($B$7:$Q$1503,$X13,COLUMNS($Z$55:AC61)))","v":66840},{"$f":"IF(ISERROR(INDEX($B$7:$Q$1503,$X13,COLUMNS($Z$55:AD61))),\"\",INDEX($B$7:$Q$1503,$X13,COLUMNS($Z$55:AD61)))","v":62889},{"$f":"IF(ISERROR(INDEX($B$7:$Q$1503,$X13,COLUMNS($Z$55:AE61))),\"\",INDEX($B$7:$Q$1503,$X13,COLUMNS($Z$55:AE61)))","v":65779},{"$f":"IF(ISERROR(INDEX($B$7:$Q$1503,$X13,COLUMNS($Z$55:AF61))),\"\",INDEX($B$7:$Q$1503,$X13,COLUMNS($Z$55:AF61)))","v":68279},{"$f":"IF(ISERROR(INDEX($B$7:$Q$1503,$X13,COLUMNS($Z$55:AG61))),\"\",INDEX($B$7:$Q$1503,$X13,COLUMNS($Z$55:AG61)))","v":76427},{"$f":"IF(ISERROR(INDEX($B$7:$Q$1503,$X13,COLUMNS($Z$55:AH61))),\"\",INDEX($B$7:$Q$1503,$X13,COLUMNS($Z$55:AH61)))","v":79840},{"$f":"IF(ISERROR(INDEX($B$7:$Q$1503,$X13,COLUMNS($Z$55:AI61))),\"\",INDEX($B$7:$Q$1503,$X13,COLUMNS($Z$55:AI61)))","v":83256},{"$f":"IF(ISERROR(INDEX($B$7:$Q$1503,$X13,COLUMNS($Z$55:AJ61))),\"\",INDEX($B$7:$Q$1503,$X13,COLUMNS($Z$55:AJ61)))","v":83439},{"$f":"IF(ISERROR(INDEX($B$7:$Q$1503,$X13,COLUMNS($Z$55:AK61))),\"\",INDEX($B$7:$Q$1503,$X13,COLUMNS($Z$55:AK61)))","v":84890},{"$f":"IF(ISERROR(INDEX($B$7:$Q$1503,$X13,COLUMNS($Z$55:AL61))),\"\",INDEX($B$7:$Q$1503,$X13,COLUMNS($Z$55:AL61)))","v":87143},{"$f":"IF(ISERROR(INDEX($B$7:$Q$1503,$X13,COLUMNS($Z$55:AM61))),\"\",INDEX($B$7:$Q$1503,$X13,COLUMNS($Z$55:AM61)))","v":87707},{"$f":"IF(ISERROR(INDEX($B$7:$Q$1503,$X13,COLUMNS($Z$55:AN61))),\"\",INDEX($B$7:$Q$1503,$X13,COLUMNS($Z$55:AN61)))","v":93059},{"$f":"IF(ISERROR(INDEX($B$7:$Q$1503,$X13,COLUMNS($Z$55:AO61))),\"\",INDEX($B$7:$Q$1503,$X13,COLUMNS($Z$55:AO61)))","v":100488}]
[null,"Utenos apskritis","Neišregistruotų juridinių asmenų skaičius metų pradžioje | vnt.",5949,5957,6087,6266,6392,6455,6564,6284,6349,6538,6760,7026,7025,{"$f":"HLOOKUP(B62,'[1]2023_neišreg'!$B$2:$BT$23,22,FALSE)","v":7053},{"$f":"ROWS($R$7:R62)","v":56},"",{"$f":"IF(ISERROR(SMALL($S$7:$S$1504,ROWS($S$7:S62))),\"\",SMALL($S$7:$S$1504,ROWS($S$7:S62)))","v":""},"",{"$f":"IF(ISERROR(SMALL($U$7:$U$1504,ROWS(U$7:$U62))),\"\",SMALL($U$7:$U$1504,ROWS(U$7:$U62)))","v":""},"",{"$f":"IF(ISERROR(SMALL($W$7:$W$1504,ROWS($W$7:W62))),\"\",SMALL($W$7:$W$1504,ROWS($W$7:W62)))","v":""},null,{"$f":"IF(ISERROR(INDEX($B$7:$K$1503,$X14,COLUMNS($Z$31:Z59))),\"\",INDEX($B$7:$K$1503,$X14,COLUMNS($Z$31:Z59)))","v":"Lietuvos Respublika"},{"$f":"IF(ISERROR(INDEX($B$7:$K$1503,$X14,COLUMNS($Z$31:AA62))),\"\",INDEX($B$7:$K$1503,$X14,COLUMNS($Z$31:AA62)))","v":"Darbuotojų skaičius veikiančiose mažose ir vidutinėse įmonėse metų pradžioje | vnt."},{"$f":"IF(ISERROR(INDEX($B$7:$Q$1503,$X14,COLUMNS($Z$55:AB62))),\"\",INDEX($B$7:$Q$1503,$X14,COLUMNS($Z$55:AB62)))","v":720489},{"$f":"IF(ISERROR(INDEX($B$7:$Q$1503,$X14,COLUMNS($Z$55:AC62))),\"\",INDEX($B$7:$Q$1503,$X14,COLUMNS($Z$55:AC62)))","v":630270},{"$f":"IF(ISERROR(INDEX($B$7:$Q$1503,$X14,COLUMNS($Z$55:AD62))),\"\",INDEX($B$7:$Q$1503,$X14,COLUMNS($Z$55:AD62)))","v":608232},{"$f":"IF(ISERROR(INDEX($B$7:$Q$1503,$X14,COLUMNS($Z$55:AE62))),\"\",INDEX($B$7:$Q$1503,$X14,COLUMNS($Z$55:AE62)))","v":636340},{"$f":"IF(ISERROR(INDEX($B$7:$Q$1503,$X14,COLUMNS($Z$55:AF62))),\"\",INDEX($B$7:$Q$1503,$X14,COLUMNS($Z$55:AF62)))","v":646017},{"$f":"IF(ISERROR(INDEX($B$7:$Q$1503,$X14,COLUMNS($Z$55:AG62))),\"\",INDEX($B$7:$Q$1503,$X14,COLUMNS($Z$55:AG62)))","v":671862},{"$f":"IF(ISERROR(INDEX($B$7:$Q$1503,$X14,COLUMNS($Z$55:AH62))),\"\",INDEX($B$7:$Q$1503,$X14,COLUMNS($Z$55:AH62)))","v":686412},{"$f":"IF(ISERROR(INDEX($B$7:$Q$1503,$X14,COLUMNS($Z$55:AI62))),\"\",INDEX($B$7:$Q$1503,$X14,COLUMNS($Z$55:AI62)))","v":696118},{"$f":"IF(ISERROR(INDEX($B$7:$Q$1503,$X14,COLUMNS($Z$55:AJ62))),\"\",INDEX($B$7:$Q$1503,$X14,COLUMNS($Z$55:AJ62)))","v":700080},{"$f":"IF(ISERROR(INDEX($B$7:$Q$1503,$X14,COLUMNS($Z$55:AK62))),\"\",INDEX($B$7:$Q$1503,$X14,COLUMNS($Z$55:AK62)))","v":694455},{"$f":"IF(ISERROR(INDEX($B$7:$Q$1503,$X14,COLUMNS($Z$55:AL62))),\"\",INDEX($B$7:$Q$1503,$X14,COLUMNS($Z$55:AL62)))","v":686952},{"$f":"IF(ISERROR(INDEX($B$7:$Q$1503,$X14,COLUMNS($Z$55:AM62))),\"\",INDEX($B$7:$Q$1503,$X14,COLUMNS($Z$55:AM62)))","v":674337},{"$f":"IF(ISERROR(INDEX($B$7:$Q$1503,$X14,COLUMNS($Z$55:AN62))),\"\",INDEX($B$7:$Q$1503,$X14,COLUMNS($Z$55:AN62)))","v":668249},{"$f":"IF(ISERROR(INDEX($B$7:$Q$1503,$X14,COLUMNS($Z$55:AO62))),\"\",INDEX($B$7:$Q$1503,$X14,COLUMNS($Z$55:AO62)))","v":701866}]
[null,"Anykščių r. sav.","Neišregistruotų juridinių asmenų skaičius metų pradžioje | vnt.",1058,1051,1082,1116,1138,1161,1182,1144,1158,1186,1236,1287,1309,{"$f":"HLOOKUP(B63,'[1]2023_neišreg'!$B$2:$BT$23,22,FALSE)","v":1321},{"$f":"ROWS($R$7:R63)","v":57},"",{"$f":"IF(ISERROR(SMALL($S$7:$S$1504,ROWS($S$7:S63))),\"\",SMALL($S$7:$S$1504,ROWS($S$7:S63)))","v":""},"",{"$f":"IF(ISERROR(SMALL($U$7:$U$1504,ROWS(U$7:$U63))),\"\",SMALL($U$7:$U$1504,ROWS(U$7:$U63)))","v":""},"",{"$f":"IF(ISERROR(SMALL($W$7:$W$1504,ROWS($W$7:W63))),\"\",SMALL($W$7:$W$1504,ROWS($W$7:W63)))","v":""},null,{"$f":"IF(ISERROR(INDEX($B$7:$K$1503,$X15,COLUMNS($Z$31:Z60))),\"\",INDEX($B$7:$K$1503,$X15,COLUMNS($Z$31:Z60)))","v":"Lietuvos Respublika"},{"$f":"IF(ISERROR(INDEX($B$7:$K$1503,$X15,COLUMNS($Z$31:AA63))),\"\",INDEX($B$7:$K$1503,$X15,COLUMNS($Z$31:AA63)))","v":"Darbuotojų skaičius veikiančiose įmonėse metų pradžioje | vnt."},{"$f":"IF(ISERROR(INDEX($B$7:$Q$1503,$X15,COLUMNS($Z$55:AB63))),\"\",INDEX($B$7:$Q$1503,$X15,COLUMNS($Z$55:AB63)))","v":995148},{"$f":"IF(ISERROR(INDEX($B$7:$Q$1503,$X15,COLUMNS($Z$55:AC63))),\"\",INDEX($B$7:$Q$1503,$X15,COLUMNS($Z$55:AC63)))","v":834408},{"$f":"IF(ISERROR(INDEX($B$7:$Q$1503,$X15,COLUMNS($Z$55:AD63))),\"\",INDEX($B$7:$Q$1503,$X15,COLUMNS($Z$55:AD63)))","v":806359},{"$f":"IF(ISERROR(INDEX($B$7:$Q$1503,$X15,COLUMNS($Z$55:AE63))),\"\",INDEX($B$7:$Q$1503,$X15,COLUMNS($Z$55:AE63)))","v":847365},{"$f":"IF(ISERROR(INDEX($B$7:$Q$1503,$X15,COLUMNS($Z$55:AF63))),\"\",INDEX($B$7:$Q$1503,$X15,COLUMNS($Z$55:AF63)))","v":865974},{"$f":"IF(ISERROR(INDEX($B$7:$Q$1503,$X15,COLUMNS($Z$55:AG63))),\"\",INDEX($B$7:$Q$1503,$X15,COLUMNS($Z$55:AG63)))","v":901324},{"$f":"IF(ISERROR(INDEX($B$7:$Q$1503,$X15,COLUMNS($Z$55:AH63))),\"\",INDEX($B$7:$Q$1503,$X15,COLUMNS($Z$55:AH63)))","v":928022},{"$f":"IF(ISERROR(INDEX($B$7:$Q$1503,$X15,COLUMNS($Z$55:AI63))),\"\",INDEX($B$7:$Q$1503,$X15,COLUMNS($Z$55:AI63)))","v":939388},{"$f":"IF(ISERROR(INDEX($B$7:$Q$1503,$X15,COLUMNS($Z$55:AJ63))),\"\",INDEX($B$7:$Q$1503,$X15,COLUMNS($Z$55:AJ63)))","v":951548},{"$f":"IF(ISERROR(INDEX($B$7:$Q$1503,$X15,COLUMNS($Z$55:AK63))),\"\",INDEX($B$7:$Q$1503,$X15,COLUMNS($Z$55:AK63)))","v":948024},{"$f":"IF(ISERROR(INDEX($B$7:$Q$1503,$X15,COLUMNS($Z$55:AL63))),\"\",INDEX($B$7:$Q$1503,$X15,COLUMNS($Z$55:AL63)))","v":960147},{"$f":"IF(ISERROR(INDEX($B$7:$Q$1503,$X15,COLUMNS($Z$55:AM63))),\"\",INDEX($B$7:$Q$1503,$X15,COLUMNS($Z$55:AM63)))","v":958041},{"$f":"IF(ISERROR(INDEX($B$7:$Q$1503,$X15,COLUMNS($Z$55:AN63))),\"\",INDEX($B$7:$Q$1503,$X15,COLUMNS($Z$55:AN63)))","v":952156},{"$f":"IF(ISERROR(INDEX($B$7:$Q$1503,$X15,COLUMNS($Z$55:AO63))),\"\",INDEX($B$7:$Q$1503,$X15,COLUMNS($Z$55:AO63)))","v":992770}]
[null,"Ignalinos r. sav.","Neišregistruotų juridinių asmenų skaičius metų pradžioje | vnt.",534,531,529,536,544,549,578,585,600,626,655,696,732,{"$f":"HLOOKUP(B64,'[1]2023_neišreg'!$B$2:$BT$23,22,FALSE)","v":750},{"$f":"ROWS($R$7:R64)","v":58},"",{"$f":"IF(ISERROR(SMALL($S$7:$S$1504,ROWS($S$7:S64))),\"\",SMALL($S$7:$S$1504,ROWS($S$7:S64)))","v":""},"",{"$f":"IF(ISERROR(SMALL($U$7:$U$1504,ROWS(U$7:$U64))),\"\",SMALL($U$7:$U$1504,ROWS(U$7:$U64)))","v":""},"",{"$f":"IF(ISERROR(SMALL($W$7:$W$1504,ROWS($W$7:W64))),\"\",SMALL($W$7:$W$1504,ROWS($W$7:W64)))","v":""},null,{"$f":"IF(ISERROR(INDEX($B$7:$K$1503,$X16,COLUMNS($Z$31:Z61))),\"\",INDEX($B$7:$K$1503,$X16,COLUMNS($Z$31:Z61)))","v":"Lietuvos Respublika"},{"$f":"IF(ISERROR(INDEX($B$7:$K$1503,$X16,COLUMNS($Z$31:AA64))),\"\",INDEX($B$7:$K$1503,$X16,COLUMNS($Z$31:AA64)))","v":"Asmenys, įsigiję verslo liudijimus | vnt."},{"$f":"IF(ISERROR(INDEX($B$7:$Q$1503,$X16,COLUMNS($Z$55:AB64))),\"\",INDEX($B$7:$Q$1503,$X16,COLUMNS($Z$55:AB64)))","v":""},{"$f":"IF(ISERROR(INDEX($B$7:$Q$1503,$X16,COLUMNS($Z$55:AC64))),\"\",INDEX($B$7:$Q$1503,$X16,COLUMNS($Z$55:AC64)))","v":85754},{"$f":"IF(ISERROR(INDEX($B$7:$Q$1503,$X16,COLUMNS($Z$55:AD64))),\"\",INDEX($B$7:$Q$1503,$X16,COLUMNS($Z$55:AD64)))","v":78253},{"$f":"IF(ISERROR(INDEX($B$7:$Q$1503,$X16,COLUMNS($Z$55:AE64))),\"\",INDEX($B$7:$Q$1503,$X16,COLUMNS($Z$55:AE64)))","v":80886},{"$f":"IF(ISERROR(INDEX($B$7:$Q$1503,$X16,COLUMNS($Z$55:AF64))),\"\",INDEX($B$7:$Q$1503,$X16,COLUMNS($Z$55:AF64)))","v":89451},{"$f":"IF(ISERROR(INDEX($B$7:$Q$1503,$X16,COLUMNS($Z$55:AG64))),\"\",INDEX($B$7:$Q$1503,$X16,COLUMNS($Z$55:AG64)))","v":94067},{"$f":"IF(ISERROR(INDEX($B$7:$Q$1503,$X16,COLUMNS($Z$55:AH64))),\"\",INDEX($B$7:$Q$1503,$X16,COLUMNS($Z$55:AH64)))","v":101816},{"$f":"IF(ISERROR(INDEX($B$7:$Q$1503,$X16,COLUMNS($Z$55:AI64))),\"\",INDEX($B$7:$Q$1503,$X16,COLUMNS($Z$55:AI64)))","v":101039},{"$f":"IF(ISERROR(INDEX($B$7:$Q$1503,$X16,COLUMNS($Z$55:AJ64))),\"\",INDEX($B$7:$Q$1503,$X16,COLUMNS($Z$55:AJ64)))","v":96796},{"$f":"IF(ISERROR(INDEX($B$7:$Q$1503,$X16,COLUMNS($Z$55:AK64))),\"\",INDEX($B$7:$Q$1503,$X16,COLUMNS($Z$55:AK64)))","v":105107},{"$f":"IF(ISERROR(INDEX($B$7:$Q$1503,$X16,COLUMNS($Z$55:AL64))),\"\",INDEX($B$7:$Q$1503,$X16,COLUMNS($Z$55:AL64)))","v":96094},{"$f":"IF(ISERROR(INDEX($B$7:$Q$1503,$X16,COLUMNS($Z$55:AM64))),\"\",INDEX($B$7:$Q$1503,$X16,COLUMNS($Z$55:AM64)))","v":91185},{"$f":"IF(ISERROR(INDEX($B$7:$Q$1503,$X16,COLUMNS($Z$55:AN64))),\"\",INDEX($B$7:$Q$1503,$X16,COLUMNS($Z$55:AN64)))","v":99193},{"$f":"IF(ISERROR(INDEX($B$7:$Q$1503,$X16,COLUMNS($Z$55:AO64))),\"\",INDEX($B$7:$Q$1503,$X16,COLUMNS($Z$55:AO64)))","v":0}]
[null,"Molėtų r. sav.","Neišregistruotų juridinių asmenų skaičius metų pradžioje | vnt.",738,749,770,832,861,890,917,875,911,949,973,1029,1057,{"$f":"HLOOKUP(B65,'[1]2023_neišreg'!$B$2:$BT$23,22,FALSE)","v":1094},{"$f":"ROWS($R$7:R65)","v":59},"",{"$f":"IF(ISERROR(SMALL($S$7:$S$1504,ROWS($S$7:S65))),\"\",SMALL($S$7:$S$1504,ROWS($S$7:S65)))","v":""},"",{"$f":"IF(ISERROR(SMALL($U$7:$U$1504,ROWS(U$7:$U65))),\"\",SMALL($U$7:$U$1504,ROWS(U$7:$U65)))","v":""},"",{"$f":"IF(ISERROR(SMALL($W$7:$W$1504,ROWS($W$7:W65))),\"\",SMALL($W$7:$W$1504,ROWS($W$7:W65)))","v":""},null,{"$f":"IF(ISERROR(INDEX($B$7:$K$1503,$X17,COLUMNS($Z$31:Z62))),\"\",INDEX($B$7:$K$1503,$X17,COLUMNS($Z$31:Z62)))","v":"Lietuvos Respublika"},{"$f":"IF(ISERROR(INDEX($B$7:$K$1503,$X17,COLUMNS($Z$31:AA65))),\"\",INDEX($B$7:$K$1503,$X17,COLUMNS($Z$31:AA65)))","v":"Veikiančios MVĮ tenkančios 1000 gyventojų metų pradžioje | vnt."},{"$f":"IF(ISERROR(INDEX($B$7:$Q$1503,$X17,COLUMNS($Z$55:AB65))),\"\",INDEX($B$7:$Q$1503,$X17,COLUMNS($Z$55:AB65)))","v":20.193343297338998},{"$f":"IF(ISERROR(INDEX($B$7:$Q$1503,$X17,COLUMNS($Z$55:AC65))),\"\",INDEX($B$7:$Q$1503,$X17,COLUMNS($Z$55:AC65)))","v":21.795931845371861},{"$f":"IF(ISERROR(INDEX($B$7:$Q$1503,$X17,COLUMNS($Z$55:AD65))),\"\",INDEX($B$7:$Q$1503,$X17,COLUMNS($Z$55:AD65)))","v":20.836711178200055},{"$f":"IF(ISERROR(INDEX($B$7:$Q$1503,$X17,COLUMNS($Z$55:AE65))),\"\",INDEX($B$7:$Q$1503,$X17,COLUMNS($Z$55:AE65)))","v":22.026612559957336},{"$f":"IF(ISERROR(INDEX($B$7:$Q$1503,$X17,COLUMNS($Z$55:AF65))),\"\",INDEX($B$7:$Q$1503,$X17,COLUMNS($Z$55:AF65)))","v":23.082604488848546},{"$f":"IF(ISERROR(INDEX($B$7:$Q$1503,$X17,COLUMNS($Z$55:AG65))),\"\",INDEX($B$7:$Q$1503,$X17,COLUMNS($Z$55:AG65)))","v":26.042169445944939},{"$f":"IF(ISERROR(INDEX($B$7:$Q$1503,$X17,COLUMNS($Z$55:AH65))),\"\",INDEX($B$7:$Q$1503,$X17,COLUMNS($Z$55:AH65)))","v":27.512689722692084},{"$f":"IF(ISERROR(INDEX($B$7:$Q$1503,$X17,COLUMNS($Z$55:AI65))),\"\",INDEX($B$7:$Q$1503,$X17,COLUMNS($Z$55:AI65)))","v":29.103860242480085},{"$f":"IF(ISERROR(INDEX($B$7:$Q$1503,$X17,COLUMNS($Z$55:AJ65))),\"\",INDEX($B$7:$Q$1503,$X17,COLUMNS($Z$55:AJ65)))","v":29.573487994058887},{"$f":"IF(ISERROR(INDEX($B$7:$Q$1503,$X17,COLUMNS($Z$55:AK65))),\"\",INDEX($B$7:$Q$1503,$X17,COLUMNS($Z$55:AK65)))","v":30.244965972176491},{"$f":"IF(ISERROR(INDEX($B$7:$Q$1503,$X17,COLUMNS($Z$55:AL65))),\"\",INDEX($B$7:$Q$1503,$X17,COLUMNS($Z$55:AL65)))","v":31.040725698369805},{"$f":"IF(ISERROR(INDEX($B$7:$Q$1503,$X17,COLUMNS($Z$55:AM65))),\"\",INDEX($B$7:$Q$1503,$X17,COLUMNS($Z$55:AM65)))","v":31.053511842522362},{"$f":"IF(ISERROR(INDEX($B$7:$Q$1503,$X17,COLUMNS($Z$55:AN65))),\"\",INDEX($B$7:$Q$1503,$X17,COLUMNS($Z$55:AN65)))","v":33.010714904287177},{"$f":"IF(ISERROR(INDEX($B$7:$Q$1503,$X17,COLUMNS($Z$55:AO65))),\"\",INDEX($B$7:$Q$1503,$X17,COLUMNS($Z$55:AO65)))","v":34.980744768709954}]
[null,"Utenos r. sav.","Neišregistruotų juridinių asmenų skaičius metų pradžioje | vnt.",1801,1812,1841,1872,1911,1936,1971,1897,1906,1925,1955,2004,1996,{"$f":"HLOOKUP(B66,'[1]2023_neišreg'!$B$2:$BT$23,22,FALSE)","v":2010},{"$f":"ROWS($R$7:R66)","v":60},"",{"$f":"IF(ISERROR(SMALL($S$7:$S$1504,ROWS($S$7:S66))),\"\",SMALL($S$7:$S$1504,ROWS($S$7:S66)))","v":""},"",{"$f":"IF(ISERROR(SMALL($U$7:$U$1504,ROWS(U$7:$U66))),\"\",SMALL($U$7:$U$1504,ROWS(U$7:$U66)))","v":""},"",{"$f":"IF(ISERROR(SMALL($W$7:$W$1504,ROWS($W$7:W66))),\"\",SMALL($W$7:$W$1504,ROWS($W$7:W66)))","v":""},null,{"$f":"IF(ISERROR(INDEX($B$7:$K$1503,$X18,COLUMNS($Z$31:Z63))),\"\",INDEX($B$7:$K$1503,$X18,COLUMNS($Z$31:Z63)))","v":"Lietuvos Respublika"},{"$f":"IF(ISERROR(INDEX($B$7:$K$1503,$X18,COLUMNS($Z$31:AA66))),\"\",INDEX($B$7:$K$1503,$X18,COLUMNS($Z$31:AA66)))","v":"Išgyvenusių 1 metus ir 1 dieną ir nepakeitusių statuso iš veikianti į kitą įmonių dalis tarp visų prieš metus įregistruotų įmonių | %"},{"$f":"IF(ISERROR(INDEX($B$7:$Q$1503,$X18,COLUMNS($Z$55:AB66))),\"\",INDEX($B$7:$Q$1503,$X18,COLUMNS($Z$55:AB66)))","v":72.743321172178426},{"$f":"IF(ISERROR(INDEX($B$7:$Q$1503,$X18,COLUMNS($Z$55:AC66))),\"\",INDEX($B$7:$Q$1503,$X18,COLUMNS($Z$55:AC66)))","v":71.454584404455872},{"$f":"IF(ISERROR(INDEX($B$7:$Q$1503,$X18,COLUMNS($Z$55:AD66))),\"\",INDEX($B$7:$Q$1503,$X18,COLUMNS($Z$55:AD66)))","v":67.190904784462333},{"$f":"IF(ISERROR(INDEX($B$7:$Q$1503,$X18,COLUMNS($Z$55:AE66))),\"\",INDEX($B$7:$Q$1503,$X18,COLUMNS($Z$55:AE66)))","v":51.773428628682119},{"$f":"IF(ISERROR(INDEX($B$7:$Q$1503,$X18,COLUMNS($Z$55:AF66))),\"\",INDEX($B$7:$Q$1503,$X18,COLUMNS($Z$55:AF66)))","v":52.524810274372449},{"$f":"IF(ISERROR(INDEX($B$7:$Q$1503,$X18,COLUMNS($Z$55:AG66))),\"\",INDEX($B$7:$Q$1503,$X18,COLUMNS($Z$55:AG66)))","v":52.384326507475379},{"$f":"IF(ISERROR(INDEX($B$7:$Q$1503,$X18,COLUMNS($Z$55:AH66))),\"\",INDEX($B$7:$Q$1503,$X18,COLUMNS($Z$55:AH66)))","v":59.59941377625794},{"$f":"IF(ISERROR(INDEX($B$7:$Q$1503,$X18,COLUMNS($Z$55:AI66))),\"\",INDEX($B$7:$Q$1503,$X18,COLUMNS($Z$55:AI66)))","v":63.414429530201346},{"$f":"IF(ISERROR(INDEX($B$7:$Q$1503,$X18,COLUMNS($Z$55:AJ66))),\"\",INDEX($B$7:$Q$1503,$X18,COLUMNS($Z$55:AJ66)))","v":52.556593319613739},{"$f":"IF(ISERROR(INDEX($B$7:$Q$1503,$X18,COLUMNS($Z$55:AK66))),\"\",INDEX($B$7:$Q$1503,$X18,COLUMNS($Z$55:AK66)))","v":50.508091832894245},{"$f":"IF(ISERROR(INDEX($B$7:$Q$1503,$X18,COLUMNS($Z$55:AL66))),\"\",INDEX($B$7:$Q$1503,$X18,COLUMNS($Z$55:AL66)))","v":0},{"$f":"IF(ISERROR(INDEX($B$7:$Q$1503,$X18,COLUMNS($Z$55:AM66))),\"\",INDEX($B$7:$Q$1503,$X18,COLUMNS($Z$55:AM66)))","v":0},{"$f":"IF(ISERROR(INDEX($B$7:$Q$1503,$X18,COLUMNS($Z$55:AN66))),\"\",INDEX($B$7:$Q$1503,$X18,COLUMNS($Z$55:AN66)))","v":0},{"$f":"IF(ISERROR(INDEX($B$7:$Q$1503,$X18,COLUMNS($Z$55:AO66))),\"\",INDEX($B$7:$Q$1503,$X18,COLUMNS($Z$55:AO66)))","v":0}]
[null,"Visagino sav.","Neišregistruotų juridinių asmenų skaičius metų pradžioje | vnt.",1234,1212,1246,1260,1268,1245,1222,1077,1055,1079,1089,1101,1012,{"$f":"HLOOKUP(B67,'[1]2023_neišreg'!$B$2:$BT$23,22,FALSE)","v":961},{"$f":"ROWS($R$7:R67)","v":61},"",{"$f":"IF(ISERROR(SMALL($S$7:$S$1504,ROWS($S$7:S67))),\"\",SMALL($S$7:$S$1504,ROWS($S$7:S67)))","v":""},"",{"$f":"IF(ISERROR(SMALL($U$7:$U$1504,ROWS(U$7:$U67))),\"\",SMALL($U$7:$U$1504,ROWS(U$7:$U67)))","v":""},"",{"$f":"IF(ISERROR(SMALL($W$7:$W$1504,ROWS($W$7:W67))),\"\",SMALL($W$7:$W$1504,ROWS($W$7:W67)))","v":""},null,{"$f":"IF(ISERROR(INDEX($B$7:$K$1503,$X19,COLUMNS($Z$31:Z65))),\"\",INDEX($B$7:$K$1503,$X19,COLUMNS($Z$31:Z65)))","v":"Lietuvos Respublika"},{"$f":"IF(ISERROR(INDEX($B$7:$K$1503,$X19,COLUMNS($Z$31:AA67))),\"\",INDEX($B$7:$K$1503,$X19,COLUMNS($Z$31:AA67)))","v":"Registruoti bedarbiai | tūkst."},{"$f":"IF(ISERROR(INDEX($B$7:$Q$1503,$X19,COLUMNS($Z$55:AB67))),\"\",INDEX($B$7:$Q$1503,$X19,COLUMNS($Z$55:AB67)))","v":312.10000000000002},{"$f":"IF(ISERROR(INDEX($B$7:$Q$1503,$X19,COLUMNS($Z$55:AC67))),\"\",INDEX($B$7:$Q$1503,$X19,COLUMNS($Z$55:AC67)))","v":247.2},{"$f":"IF(ISERROR(INDEX($B$7:$Q$1503,$X19,COLUMNS($Z$55:AD67))),\"\",INDEX($B$7:$Q$1503,$X19,COLUMNS($Z$55:AD67)))","v":216.9},{"$f":"IF(ISERROR(INDEX($B$7:$Q$1503,$X19,COLUMNS($Z$55:AE67))),\"\",INDEX($B$7:$Q$1503,$X19,COLUMNS($Z$55:AE67)))","v":201.3},{"$f":"IF(ISERROR(INDEX($B$7:$Q$1503,$X19,COLUMNS($Z$55:AF67))),\"\",INDEX($B$7:$Q$1503,$X19,COLUMNS($Z$55:AF67)))","v":173},{"$f":"IF(ISERROR(INDEX($B$7:$Q$1503,$X19,COLUMNS($Z$55:AG67))),\"\",INDEX($B$7:$Q$1503,$X19,COLUMNS($Z$55:AG67)))","v":158.19999999999999},{"$f":"IF(ISERROR(INDEX($B$7:$Q$1503,$X19,COLUMNS($Z$55:AH67))),\"\",INDEX($B$7:$Q$1503,$X19,COLUMNS($Z$55:AH67)))","v":144.864},{"$f":"IF(ISERROR(INDEX($B$7:$Q$1503,$X19,COLUMNS($Z$55:AI67))),\"\",INDEX($B$7:$Q$1503,$X19,COLUMNS($Z$55:AI67)))","v":139.61500000000001},{"$f":"IF(ISERROR(INDEX($B$7:$Q$1503,$X19,COLUMNS($Z$55:AJ67))),\"\",INDEX($B$7:$Q$1503,$X19,COLUMNS($Z$55:AJ67)))","v":148.24199999999999},{"$f":"IF(ISERROR(INDEX($B$7:$Q$1503,$X19,COLUMNS($Z$55:AK67))),\"\",INDEX($B$7:$Q$1503,$X19,COLUMNS($Z$55:AK67)))","v":144.898},{"$f":"IF(ISERROR(INDEX($B$7:$Q$1503,$X19,COLUMNS($Z$55:AL67))),\"\",INDEX($B$7:$Q$1503,$X19,COLUMNS($Z$55:AL67)))","v":216.18700000000001},{"$f":"IF(ISERROR(INDEX($B$7:$Q$1503,$X19,COLUMNS($Z$55:AM67))),\"\",INDEX($B$7:$Q$1503,$X19,COLUMNS($Z$55:AM67)))","v":225.22499999999999},{"$f":"IF(ISERROR(INDEX($B$7:$Q$1503,$X19,COLUMNS($Z$55:AN67))),\"\",INDEX($B$7:$Q$1503,$X19,COLUMNS($Z$55:AN67)))","v":157.34399999999999},{"$f":"IF(ISERROR(INDEX($B$7:$Q$1503,$X19,COLUMNS($Z$55:AO67))),\"\",INDEX($B$7:$Q$1503,$X19,COLUMNS($Z$55:AO67)))","v":0}]
[null,"Zarasų r. sav.","Neišregistruotų juridinių asmenų skaičius metų pradžioje | vnt.",584,602,619,650,670,674,694,706,719,773,852,909,919,{"$f":"HLOOKUP(B68,'[1]2023_neišreg'!$B$2:$BT$23,22,FALSE)","v":917},{"$f":"ROWS($R$7:R68)","v":62},"",{"$f":"IF(ISERROR(SMALL($S$7:$S$1504,ROWS($S$7:S68))),\"\",SMALL($S$7:$S$1504,ROWS($S$7:S68)))","v":""},"",{"$f":"IF(ISERROR(SMALL($U$7:$U$1504,ROWS(U$7:$U68))),\"\",SMALL($U$7:$U$1504,ROWS(U$7:$U68)))","v":""},"",{"$f":"IF(ISERROR(SMALL($W$7:$W$1504,ROWS($W$7:W68))),\"\",SMALL($W$7:$W$1504,ROWS($W$7:W68)))","v":""},null,{"$f":"IF(ISERROR(INDEX($B$7:$K$1503,$X20,COLUMNS($Z$31:Z66))),\"\",INDEX($B$7:$K$1503,$X20,COLUMNS($Z$31:Z66)))","v":"Lietuvos Respublika"},{"$f":"IF(ISERROR(INDEX($B$7:$K$1503,$X20,COLUMNS($Z$31:AA68))),\"\",INDEX($B$7:$K$1503,$X20,COLUMNS($Z$31:AA68)))","v":"Registruotų bedarbių ir darbingo amžiaus gyventojų santykis | %"},{"$f":"IF(ISERROR(INDEX($B$7:$Q$1503,$X20,COLUMNS($Z$55:AB68))),\"\",INDEX($B$7:$Q$1503,$X20,COLUMNS($Z$55:AB68)))","v":15.9},{"$f":"IF(ISERROR(INDEX($B$7:$Q$1503,$X20,COLUMNS($Z$55:AC68))),\"\",INDEX($B$7:$Q$1503,$X20,COLUMNS($Z$55:AC68)))","v":13.1},{"$f":"IF(ISERROR(INDEX($B$7:$Q$1503,$X20,COLUMNS($Z$55:AD68))),\"\",INDEX($B$7:$Q$1503,$X20,COLUMNS($Z$55:AD68)))","v":11.7},{"$f":"IF(ISERROR(INDEX($B$7:$Q$1503,$X20,COLUMNS($Z$55:AE68))),\"\",INDEX($B$7:$Q$1503,$X20,COLUMNS($Z$55:AE68)))","v":10.9},{"$f":"IF(ISERROR(INDEX($B$7:$Q$1503,$X20,COLUMNS($Z$55:AF68))),\"\",INDEX($B$7:$Q$1503,$X20,COLUMNS($Z$55:AF68)))","v":9.5},{"$f":"IF(ISERROR(INDEX($B$7:$Q$1503,$X20,COLUMNS($Z$55:AG68))),\"\",INDEX($B$7:$Q$1503,$X20,COLUMNS($Z$55:AG68)))","v":8.6999999999999993},{"$f":"IF(ISERROR(INDEX($B$7:$Q$1503,$X20,COLUMNS($Z$55:AH68))),\"\",INDEX($B$7:$Q$1503,$X20,COLUMNS($Z$55:AH68)))","v":8.1},{"$f":"IF(ISERROR(INDEX($B$7:$Q$1503,$X20,COLUMNS($Z$55:AI68))),\"\",INDEX($B$7:$Q$1503,$X20,COLUMNS($Z$55:AI68)))","v":7.9},{"$f":"IF(ISERROR(INDEX($B$7:$Q$1503,$X20,COLUMNS($Z$55:AJ68))),\"\",INDEX($B$7:$Q$1503,$X20,COLUMNS($Z$55:AJ68)))","v":8.5},{"$f":"IF(ISERROR(INDEX($B$7:$Q$1503,$X20,COLUMNS($Z$55:AK68))),\"\",INDEX($B$7:$Q$1503,$X20,COLUMNS($Z$55:AK68)))","v":8.4},{"$f":"IF(ISERROR(INDEX($B$7:$Q$1503,$X20,COLUMNS($Z$55:AL68))),\"\",INDEX($B$7:$Q$1503,$X20,COLUMNS($Z$55:AL68)))","v":12.6},{"$f":"IF(ISERROR(INDEX($B$7:$Q$1503,$X20,COLUMNS($Z$55:AM68))),\"\",INDEX($B$7:$Q$1503,$X20,COLUMNS($Z$55:AM68)))","v":13},{"$f":"IF(ISERROR(INDEX($B$7:$Q$1503,$X20,COLUMNS($Z$55:AN68))),\"\",INDEX($B$7:$Q$1503,$X20,COLUMNS($Z$55:AN68)))","v":9},{"$f":"IF(ISERROR(INDEX($B$7:$Q$1503,$X20,COLUMNS($Z$55:AO68))),\"\",INDEX($B$7:$Q$1503,$X20,COLUMNS($Z$55:AO68)))","v":0}]
[null,"Vilniaus apskritis","Neišregistruotų juridinių asmenų skaičius metų pradžioje | vnt.",69193,71414,75825,82959,89424,96097,99501,98305,102222,106079,110319,115349,120821,{"$f":"HLOOKUP(B69,'[1]2023_neišreg'!$B$2:$BT$23,22,FALSE)","v":114151},{"$f":"ROWS($R$7:R69)","v":63},"",{"$f":"IF(ISERROR(SMALL($S$7:$S$1504,ROWS($S$7:S69))),\"\",SMALL($S$7:$S$1504,ROWS($S$7:S69)))","v":""},63,{"$f":"IF(ISERROR(SMALL($U$7:$U$1504,ROWS(U$7:$U69))),\"\",SMALL($U$7:$U$1504,ROWS(U$7:$U69)))","v":""},"",{"$f":"IF(ISERROR(SMALL($W$7:$W$1504,ROWS($W$7:W69))),\"\",SMALL($W$7:$W$1504,ROWS($W$7:W69)))","v":""},null,{"$f":"IF(ISERROR(INDEX($B$7:$K$1503,$X21,COLUMNS($Z$31:Z67))),\"\",INDEX($B$7:$K$1503,$X21,COLUMNS($Z$31:Z67)))","v":"Lietuvos Respublika"},{"$f":"IF(ISERROR(INDEX($B$7:$K$1503,$X21,COLUMNS($Z$31:AA69))),\"\",INDEX($B$7:$K$1503,$X21,COLUMNS($Z$31:AA69)))","v":"Darbo užmokestis | mėnesinis | bruto | EUR  (nuo 2019 m. keitėsi rodiklio skaičiavimas)"},{"$f":"IF(ISERROR(INDEX($B$7:$Q$1503,$X21,COLUMNS($Z$55:AB69))),\"\",INDEX($B$7:$Q$1503,$X21,COLUMNS($Z$55:AB69)))","v":575.79999999999995},{"$f":"IF(ISERROR(INDEX($B$7:$Q$1503,$X21,COLUMNS($Z$55:AC69))),\"\",INDEX($B$7:$Q$1503,$X21,COLUMNS($Z$55:AC69)))","v":592.5},{"$f":"IF(ISERROR(INDEX($B$7:$Q$1503,$X21,COLUMNS($Z$55:AD69))),\"\",INDEX($B$7:$Q$1503,$X21,COLUMNS($Z$55:AD69)))","v":615.1},{"$f":"IF(ISERROR(INDEX($B$7:$Q$1503,$X21,COLUMNS($Z$55:AE69))),\"\",INDEX($B$7:$Q$1503,$X21,COLUMNS($Z$55:AE69)))","v":646.29999999999995},{"$f":"IF(ISERROR(INDEX($B$7:$Q$1503,$X21,COLUMNS($Z$55:AF69))),\"\",INDEX($B$7:$Q$1503,$X21,COLUMNS($Z$55:AF69)))","v":677.4},{"$f":"IF(ISERROR(INDEX($B$7:$Q$1503,$X21,COLUMNS($Z$55:AG69))),\"\",INDEX($B$7:$Q$1503,$X21,COLUMNS($Z$55:AG69)))","v":714.1},{"$f":"IF(ISERROR(INDEX($B$7:$Q$1503,$X21,COLUMNS($Z$55:AH69))),\"\",INDEX($B$7:$Q$1503,$X21,COLUMNS($Z$55:AH69)))","v":774},{"$f":"IF(ISERROR(INDEX($B$7:$Q$1503,$X21,COLUMNS($Z$55:AI69))),\"\",INDEX($B$7:$Q$1503,$X21,COLUMNS($Z$55:AI69)))","v":840.4},{"$f":"IF(ISERROR(INDEX($B$7:$Q$1503,$X21,COLUMNS($Z$55:AJ69))),\"\",INDEX($B$7:$Q$1503,$X21,COLUMNS($Z$55:AJ69)))","v":924.1},{"$f":"IF(ISERROR(INDEX($B$7:$Q$1503,$X21,COLUMNS($Z$55:AK69))),\"\",INDEX($B$7:$Q$1503,$X21,COLUMNS($Z$55:AK69)))","v":1296.4000000000001},{"$f":"IF(ISERROR(INDEX($B$7:$Q$1503,$X21,COLUMNS($Z$55:AL69))),\"\",INDEX($B$7:$Q$1503,$X21,COLUMNS($Z$55:AL69)))","v":1428.6},{"$f":"IF(ISERROR(INDEX($B$7:$Q$1503,$X21,COLUMNS($Z$55:AM69))),\"\",INDEX($B$7:$Q$1503,$X21,COLUMNS($Z$55:AM69)))","v":1579.4},{"$f":"IF(ISERROR(INDEX($B$7:$Q$1503,$X21,COLUMNS($Z$55:AN69))),\"\",INDEX($B$7:$Q$1503,$X21,COLUMNS($Z$55:AN69)))","v":1789},{"$f":"IF(ISERROR(INDEX($B$7:$Q$1503,$X21,COLUMNS($Z$55:AO69))),\"\",INDEX($B$7:$Q$1503,$X21,COLUMNS($Z$55:AO69)))","v":0}]
[null,"Elektrėnų sav.","Neišregistruotų juridinių asmenų skaičius metų pradžioje | vnt.",762,779,808,847,878,925,950,923,958,1019,1073,1154,1201,{"$f":"HLOOKUP(B70,'[1]2023_neišreg'!$B$2:$BT$23,22,FALSE)","v":1193},{"$f":"ROWS($R$7:R70)","v":64},"",{"$f":"IF(ISERROR(SMALL($S$7:$S$1504,ROWS($S$7:S70))),\"\",SMALL($S$7:$S$1504,ROWS($S$7:S70)))","v":""},"",{"$f":"IF(ISERROR(SMALL($U$7:$U$1504,ROWS(U$7:$U70))),\"\",SMALL($U$7:$U$1504,ROWS(U$7:$U70)))","v":""},"",{"$f":"IF(ISERROR(SMALL($W$7:$W$1504,ROWS($W$7:W70))),\"\",SMALL($W$7:$W$1504,ROWS($W$7:W70)))","v":""},null,{"$f":"IF(ISERROR(INDEX($B$7:$K$1503,$X22,COLUMNS($Z$31:Z68))),\"\",INDEX($B$7:$K$1503,$X22,COLUMNS($Z$31:Z68)))","v":"Lietuvos Respublika"},{"$f":"IF(ISERROR(INDEX($B$7:$K$1503,$X22,COLUMNS($Z$31:AA70))),\"\",INDEX($B$7:$K$1503,$X22,COLUMNS($Z$31:AA70)))","v":"Darbo užmokestis | mėnesinis | neto | EUR"},{"$f":"IF(ISERROR(INDEX($B$7:$Q$1503,$X22,COLUMNS($Z$55:AB70))),\"\",INDEX($B$7:$Q$1503,$X22,COLUMNS($Z$55:AB70)))","v":449.6},{"$f":"IF(ISERROR(INDEX($B$7:$Q$1503,$X22,COLUMNS($Z$55:AC70))),\"\",INDEX($B$7:$Q$1503,$X22,COLUMNS($Z$55:AC70)))","v":461.8},{"$f":"IF(ISERROR(INDEX($B$7:$Q$1503,$X22,COLUMNS($Z$55:AD70))),\"\",INDEX($B$7:$Q$1503,$X22,COLUMNS($Z$55:AD70)))","v":478.3},{"$f":"IF(ISERROR(INDEX($B$7:$Q$1503,$X22,COLUMNS($Z$55:AE70))),\"\",INDEX($B$7:$Q$1503,$X22,COLUMNS($Z$55:AE70)))","v":501.1},{"$f":"IF(ISERROR(INDEX($B$7:$Q$1503,$X22,COLUMNS($Z$55:AF70))),\"\",INDEX($B$7:$Q$1503,$X22,COLUMNS($Z$55:AF70)))","v":527.20000000000005},{"$f":"IF(ISERROR(INDEX($B$7:$Q$1503,$X22,COLUMNS($Z$55:AG70))),\"\",INDEX($B$7:$Q$1503,$X22,COLUMNS($Z$55:AG70)))","v":553.9},{"$f":"IF(ISERROR(INDEX($B$7:$Q$1503,$X22,COLUMNS($Z$55:AH70))),\"\",INDEX($B$7:$Q$1503,$X22,COLUMNS($Z$55:AH70)))","v":602.29999999999995},{"$f":"IF(ISERROR(INDEX($B$7:$Q$1503,$X22,COLUMNS($Z$55:AI70))),\"\",INDEX($B$7:$Q$1503,$X22,COLUMNS($Z$55:AI70)))","v":660.2},{"$f":"IF(ISERROR(INDEX($B$7:$Q$1503,$X22,COLUMNS($Z$55:AJ70))),\"\",INDEX($B$7:$Q$1503,$X22,COLUMNS($Z$55:AJ70)))","v":720},{"$f":"IF(ISERROR(INDEX($B$7:$Q$1503,$X22,COLUMNS($Z$55:AK70))),\"\",INDEX($B$7:$Q$1503,$X22,COLUMNS($Z$55:AK70)))","v":822.1},{"$f":"IF(ISERROR(INDEX($B$7:$Q$1503,$X22,COLUMNS($Z$55:AL70))),\"\",INDEX($B$7:$Q$1503,$X22,COLUMNS($Z$55:AL70)))","v":913.1},{"$f":"IF(ISERROR(INDEX($B$7:$Q$1503,$X22,COLUMNS($Z$55:AM70))),\"\",INDEX($B$7:$Q$1503,$X22,COLUMNS($Z$55:AM70)))","v":1001.8},{"$f":"IF(ISERROR(INDEX($B$7:$Q$1503,$X22,COLUMNS($Z$55:AN70))),\"\",INDEX($B$7:$Q$1503,$X22,COLUMNS($Z$55:AN70)))","v":1121.0999999999999},{"$f":"IF(ISERROR(INDEX($B$7:$Q$1503,$X22,COLUMNS($Z$55:AO70))),\"\",INDEX($B$7:$Q$1503,$X22,COLUMNS($Z$55:AO70)))","v":0}]
[null,"Šalčininkų r. sav.","Neišregistruotų juridinių asmenų skaičius metų pradžioje | vnt.",956,961,994,1021,1078,1188,1208,1167,1197,1223,1267,1300,1346,{"$f":"HLOOKUP(B71,'[1]2023_neišreg'!$B$2:$BT$23,22,FALSE)","v":1310},{"$f":"ROWS($R$7:R71)","v":65},{"$f":"IF(ISNUMBER(SEARCH($R$3,B71)),R71,\"\")","v":""},{"$f":"IF(ISERROR(SMALL($S$7:$S$1504,ROWS($S$7:S71))),\"\",SMALL($S$7:$S$1504,ROWS($S$7:S71)))","v":""},{"$f":"IF($R$4=B71,R71,\"\")","v":""},{"$f":"IF(ISERROR(SMALL($U$7:$U$1504,ROWS(U$7:$U71))),\"\",SMALL($U$7:$U$1504,ROWS(U$7:$U71)))","v":""},{"$f":"IF(\"Lietuvos Respublika\"=B71,R71,\"\")","v":""},{"$f":"IF(ISERROR(SMALL($W$7:$W$1504,ROWS($W$7:W71))),\"\",SMALL($W$7:$W$1504,ROWS($W$7:W71)))","v":""},null,{"$f":"IF(ISERROR(INDEX($B$7:$K$1503,$X23,COLUMNS($Z$31:Z69))),\"\",INDEX($B$7:$K$1503,$X23,COLUMNS($Z$31:Z69)))","v":"Lietuvos Respublika"},{"$f":"IF(ISERROR(INDEX($B$7:$K$1503,$X23,COLUMNS($Z$31:AA71))),\"\",INDEX($B$7:$K$1503,$X23,COLUMNS($Z$31:AA71)))","v":"Materialinės investicijos to meto kainomis | mln. EUR"},{"$f":"IF(ISERROR(INDEX($B$7:$Q$1503,$X23,COLUMNS($Z$55:AB71))),\"\",INDEX($B$7:$Q$1503,$X23,COLUMNS($Z$55:AB71)))","v":4153.6790000000001},{"$f":"IF(ISERROR(INDEX($B$7:$Q$1503,$X23,COLUMNS($Z$55:AC71))),\"\",INDEX($B$7:$Q$1503,$X23,COLUMNS($Z$55:AC71)))","v":5068.9769999999999},{"$f":"IF(ISERROR(INDEX($B$7:$Q$1503,$X23,COLUMNS($Z$55:AD71))),\"\",INDEX($B$7:$Q$1503,$X23,COLUMNS($Z$55:AD71)))","v":5305.5529999999999},{"$f":"IF(ISERROR(INDEX($B$7:$Q$1503,$X23,COLUMNS($Z$55:AE71))),\"\",INDEX($B$7:$Q$1503,$X23,COLUMNS($Z$55:AE71)))","v":5933.8670000000002},{"$f":"IF(ISERROR(INDEX($B$7:$Q$1503,$X23,COLUMNS($Z$55:AF71))),\"\",INDEX($B$7:$Q$1503,$X23,COLUMNS($Z$55:AF71)))","v":6081.759},{"$f":"IF(ISERROR(INDEX($B$7:$Q$1503,$X23,COLUMNS($Z$55:AG71))),\"\",INDEX($B$7:$Q$1503,$X23,COLUMNS($Z$55:AG71)))","v":6912.7359999999999},{"$f":"IF(ISERROR(INDEX($B$7:$Q$1503,$X23,COLUMNS($Z$55:AH71))),\"\",INDEX($B$7:$Q$1503,$X23,COLUMNS($Z$55:AH71)))","v":6895.3540000000003},{"$f":"IF(ISERROR(INDEX($B$7:$Q$1503,$X23,COLUMNS($Z$55:AI71))),\"\",INDEX($B$7:$Q$1503,$X23,COLUMNS($Z$55:AI71)))","v":7315.9319999999998},{"$f":"IF(ISERROR(INDEX($B$7:$Q$1503,$X23,COLUMNS($Z$55:AJ71))),\"\",INDEX($B$7:$Q$1503,$X23,COLUMNS($Z$55:AJ71)))","v":8077.81},{"$f":"IF(ISERROR(INDEX($B$7:$Q$1503,$X23,COLUMNS($Z$55:AK71))),\"\",INDEX($B$7:$Q$1503,$X23,COLUMNS($Z$55:AK71)))","v":9539.7170000000006},{"$f":"IF(ISERROR(INDEX($B$7:$Q$1503,$X23,COLUMNS($Z$55:AL71))),\"\",INDEX($B$7:$Q$1503,$X23,COLUMNS($Z$55:AL71)))","v":9053.2530000000006},{"$f":"IF(ISERROR(INDEX($B$7:$Q$1503,$X23,COLUMNS($Z$55:AM71))),\"\",INDEX($B$7:$Q$1503,$X23,COLUMNS($Z$55:AM71)))","v":10803.374},{"$f":"IF(ISERROR(INDEX($B$7:$Q$1503,$X23,COLUMNS($Z$55:AN71))),\"\",INDEX($B$7:$Q$1503,$X23,COLUMNS($Z$55:AN71)))","v":0},{"$f":"IF(ISERROR(INDEX($B$7:$Q$1503,$X23,COLUMNS($Z$55:AO71))),\"\",INDEX($B$7:$Q$1503,$X23,COLUMNS($Z$55:AO71)))","v":0}]
[null,"Širvintų r. sav.","Neišregistruotų juridinių asmenų skaičius metų pradžioje | vnt.",663,670,691,704,735,744,770,727,751,784,820,876,933,{"$f":"HLOOKUP(B72,'[1]2023_neišreg'!$B$2:$BT$23,22,FALSE)","v":947},{"$f":"ROWS($R$7:R72)","v":66},"",{"$f":"IF(ISERROR(SMALL($S$7:$S$1504,ROWS($S$7:S72))),\"\",SMALL($S$7:$S$1504,ROWS($S$7:S72)))","v":""},"",{"$f":"IF(ISERROR(SMALL($U$7:$U$1504,ROWS(U$7:$U72))),\"\",SMALL($U$7:$U$1504,ROWS(U$7:$U72)))","v":""},"",{"$f":"IF(ISERROR(SMALL($W$7:$W$1504,ROWS($W$7:W72))),\"\",SMALL($W$7:$W$1504,ROWS($W$7:W72)))","v":""},null,{"$f":"IF(ISERROR(INDEX($B$7:$K$1503,$X24,COLUMNS($Z$31:Z70))),\"\",INDEX($B$7:$K$1503,$X24,COLUMNS($Z$31:Z70)))","v":"Lietuvos Respublika"},{"$f":"IF(ISERROR(INDEX($B$7:$K$1503,$X24,COLUMNS($Z$31:AA72))),\"\",INDEX($B$7:$K$1503,$X24,COLUMNS($Z$31:AA72)))","v":"Apyvarta pagal veiklos vykdymo vietą | mln. EUR"},{"$f":"IF(ISERROR(INDEX($B$7:$Q$1503,$X24,COLUMNS($Z$55:AB72))),\"\",INDEX($B$7:$Q$1503,$X24,COLUMNS($Z$55:AB72)))","v":52800.998},{"$f":"IF(ISERROR(INDEX($B$7:$Q$1503,$X24,COLUMNS($Z$55:AC72))),\"\",INDEX($B$7:$Q$1503,$X24,COLUMNS($Z$55:AC72)))","v":63437.506999999998},{"$f":"IF(ISERROR(INDEX($B$7:$Q$1503,$X24,COLUMNS($Z$55:AD72))),\"\",INDEX($B$7:$Q$1503,$X24,COLUMNS($Z$55:AD72)))","v":69322.489000000001},{"$f":"IF(ISERROR(INDEX($B$7:$Q$1503,$X24,COLUMNS($Z$55:AE72))),\"\",INDEX($B$7:$Q$1503,$X24,COLUMNS($Z$55:AE72)))","v":73216.409},{"$f":"IF(ISERROR(INDEX($B$7:$Q$1503,$X24,COLUMNS($Z$55:AF72))),\"\",INDEX($B$7:$Q$1503,$X24,COLUMNS($Z$55:AF72)))","v":74876.148000000001},{"$f":"IF(ISERROR(INDEX($B$7:$Q$1503,$X24,COLUMNS($Z$55:AG72))),\"\",INDEX($B$7:$Q$1503,$X24,COLUMNS($Z$55:AG72)))","v":75995.990000000005},{"$f":"IF(ISERROR(INDEX($B$7:$Q$1503,$X24,COLUMNS($Z$55:AH72))),\"\",INDEX($B$7:$Q$1503,$X24,COLUMNS($Z$55:AH72)))","v":77979.909},{"$f":"IF(ISERROR(INDEX($B$7:$Q$1503,$X24,COLUMNS($Z$55:AI72))),\"\",INDEX($B$7:$Q$1503,$X24,COLUMNS($Z$55:AI72)))","v":86986.501000000004},{"$f":"IF(ISERROR(INDEX($B$7:$Q$1503,$X24,COLUMNS($Z$55:AJ72))),\"\",INDEX($B$7:$Q$1503,$X24,COLUMNS($Z$55:AJ72)))","v":94451.705000000002},{"$f":"IF(ISERROR(INDEX($B$7:$Q$1503,$X24,COLUMNS($Z$55:AK72))),\"\",INDEX($B$7:$Q$1503,$X24,COLUMNS($Z$55:AK72)))","v":101154.27499999999},{"$f":"IF(ISERROR(INDEX($B$7:$Q$1503,$X24,COLUMNS($Z$55:AL72))),\"\",INDEX($B$7:$Q$1503,$X24,COLUMNS($Z$55:AL72)))","v":99870.067999999999},{"$f":"IF(ISERROR(INDEX($B$7:$Q$1503,$X24,COLUMNS($Z$55:AM72))),\"\",INDEX($B$7:$Q$1503,$X24,COLUMNS($Z$55:AM72)))","v":124410.463},{"$f":"IF(ISERROR(INDEX($B$7:$Q$1503,$X24,COLUMNS($Z$55:AN72))),\"\",INDEX($B$7:$Q$1503,$X24,COLUMNS($Z$55:AN72)))","v":0},{"$f":"IF(ISERROR(INDEX($B$7:$Q$1503,$X24,COLUMNS($Z$55:AO72))),\"\",INDEX($B$7:$Q$1503,$X24,COLUMNS($Z$55:AO72)))","v":0}]
[null,"Švenčionių r. sav.","Neišregistruotų juridinių asmenų skaičius metų pradžioje | vnt.",812,806,830,861,862,868,891,863,887,907,946,991,1002,{"$f":"HLOOKUP(B73,'[1]2023_neišreg'!$B$2:$BT$23,22,FALSE)","v":997},{"$f":"ROWS($R$7:R73)","v":67},"",{"$f":"IF(ISERROR(SMALL($S$7:$S$1504,ROWS($S$7:S73))),\"\",SMALL($S$7:$S$1504,ROWS($S$7:S73)))","v":""},"",{"$f":"IF(ISERROR(SMALL($U$7:$U$1504,ROWS(U$7:$U73))),\"\",SMALL($U$7:$U$1504,ROWS(U$7:$U73)))","v":""},"",{"$f":"IF(ISERROR(SMALL($W$7:$W$1504,ROWS($W$7:W73))),\"\",SMALL($W$7:$W$1504,ROWS($W$7:W73)))","v":""},null,{"$f":"IF(ISERROR(INDEX($B$7:$K$1503,$X25,COLUMNS($Z$31:Z71))),\"\",INDEX($B$7:$K$1503,$X25,COLUMNS($Z$31:Z71)))","v":"Lietuvos Respublika"},{"$f":"IF(ISERROR(INDEX($B$7:$K$1503,$X25,COLUMNS($Z$31:AA73))),\"\",INDEX($B$7:$K$1503,$X25,COLUMNS($Z$31:AA73)))","v":"Pridėtinė vertė gamybos kainomis pagal veiklos vykdymo vietą | mln. EUR"},{"$f":"IF(ISERROR(INDEX($B$7:$Q$1503,$X25,COLUMNS($Z$55:AB73))),\"\",INDEX($B$7:$Q$1503,$X25,COLUMNS($Z$55:AB73)))","v":9753.9529999999995},{"$f":"IF(ISERROR(INDEX($B$7:$Q$1503,$X25,COLUMNS($Z$55:AC73))),\"\",INDEX($B$7:$Q$1503,$X25,COLUMNS($Z$55:AC73)))","v":11878.057000000001},{"$f":"IF(ISERROR(INDEX($B$7:$Q$1503,$X25,COLUMNS($Z$55:AD73))),\"\",INDEX($B$7:$Q$1503,$X25,COLUMNS($Z$55:AD73)))","v":12560.322},{"$f":"IF(ISERROR(INDEX($B$7:$Q$1503,$X25,COLUMNS($Z$55:AE73))),\"\",INDEX($B$7:$Q$1503,$X25,COLUMNS($Z$55:AE73)))","v":13002.056},{"$f":"IF(ISERROR(INDEX($B$7:$Q$1503,$X25,COLUMNS($Z$55:AF73))),\"\",INDEX($B$7:$Q$1503,$X25,COLUMNS($Z$55:AF73)))","v":15133.377},{"$f":"IF(ISERROR(INDEX($B$7:$Q$1503,$X25,COLUMNS($Z$55:AG73))),\"\",INDEX($B$7:$Q$1503,$X25,COLUMNS($Z$55:AG73)))","v":16364.799000000001},{"$f":"IF(ISERROR(INDEX($B$7:$Q$1503,$X25,COLUMNS($Z$55:AH73))),\"\",INDEX($B$7:$Q$1503,$X25,COLUMNS($Z$55:AH73)))","v":17591.092000000001},{"$f":"IF(ISERROR(INDEX($B$7:$Q$1503,$X25,COLUMNS($Z$55:AI73))),\"\",INDEX($B$7:$Q$1503,$X25,COLUMNS($Z$55:AI73)))","v":19445.508000000002},{"$f":"IF(ISERROR(INDEX($B$7:$Q$1503,$X25,COLUMNS($Z$55:AJ73))),\"\",INDEX($B$7:$Q$1503,$X25,COLUMNS($Z$55:AJ73)))","v":21611.072},{"$f":"IF(ISERROR(INDEX($B$7:$Q$1503,$X25,COLUMNS($Z$55:AK73))),\"\",INDEX($B$7:$Q$1503,$X25,COLUMNS($Z$55:AK73)))","v":24007.458999999999},{"$f":"IF(ISERROR(INDEX($B$7:$Q$1503,$X25,COLUMNS($Z$55:AL73))),\"\",INDEX($B$7:$Q$1503,$X25,COLUMNS($Z$55:AL73)))","v":25481.777999999998},{"$f":"IF(ISERROR(INDEX($B$7:$Q$1503,$X25,COLUMNS($Z$55:AM73))),\"\",INDEX($B$7:$Q$1503,$X25,COLUMNS($Z$55:AM73)))","v":30476.312999999998},{"$f":"IF(ISERROR(INDEX($B$7:$Q$1503,$X25,COLUMNS($Z$55:AN73))),\"\",INDEX($B$7:$Q$1503,$X25,COLUMNS($Z$55:AN73)))","v":0},{"$f":"IF(ISERROR(INDEX($B$7:$Q$1503,$X25,COLUMNS($Z$55:AO73))),\"\",INDEX($B$7:$Q$1503,$X25,COLUMNS($Z$55:AO73)))","v":0}]
[null,"Trakų r. sav.","Neišregistruotų juridinių asmenų skaičius metų pradžioje | vnt.",1337,1356,1403,1526,1599,1638,1676,1639,1723,1792,1888,1984,2078,{"$f":"HLOOKUP(B74,'[1]2023_neišreg'!$B$2:$BT$23,22,FALSE)","v":2102},{"$f":"ROWS($R$7:R74)","v":68},"",{"$f":"IF(ISERROR(SMALL($S$7:$S$1504,ROWS($S$7:S74))),\"\",SMALL($S$7:$S$1504,ROWS($S$7:S74)))","v":""},"",{"$f":"IF(ISERROR(SMALL($U$7:$U$1504,ROWS(U$7:$U74))),\"\",SMALL($U$7:$U$1504,ROWS(U$7:$U74)))","v":""},"",{"$f":"IF(ISERROR(SMALL($W$7:$W$1504,ROWS($W$7:W74))),\"\",SMALL($W$7:$W$1504,ROWS($W$7:W74)))","v":""},null,{"$f":"IF(ISERROR(INDEX($B$7:$K$1503,$X26,COLUMNS($Z$31:Z72))),\"\",INDEX($B$7:$K$1503,$X26,COLUMNS($Z$31:Z72)))","v":"Lietuvos Respublika"},{"$f":"IF(ISERROR(INDEX($B$7:$K$1503,$X26,COLUMNS($Z$31:AA74))),\"\",INDEX($B$7:$K$1503,$X26,COLUMNS($Z$31:AA74)))","v":"Tarptautinės emigracijos lygis | %"},{"$f":"IF(ISERROR(INDEX($B$7:$Q$1503,$X26,COLUMNS($Z$55:AB74))),\"\",INDEX($B$7:$Q$1503,$X26,COLUMNS($Z$55:AB74)))","v":2.6848378675238482},{"$f":"IF(ISERROR(INDEX($B$7:$Q$1503,$X26,COLUMNS($Z$55:AC74))),\"\",INDEX($B$7:$Q$1503,$X26,COLUMNS($Z$55:AC74)))","v":1.7787633560812584},{"$f":"IF(ISERROR(INDEX($B$7:$Q$1503,$X26,COLUMNS($Z$55:AD74))),\"\",INDEX($B$7:$Q$1503,$X26,COLUMNS($Z$55:AD74)))","v":1.3756065136139861},{"$f":"IF(ISERROR(INDEX($B$7:$Q$1503,$X26,COLUMNS($Z$55:AE74))),\"\",INDEX($B$7:$Q$1503,$X26,COLUMNS($Z$55:AE74)))","v":1.312443600392063},{"$f":"IF(ISERROR(INDEX($B$7:$Q$1503,$X26,COLUMNS($Z$55:AF74))),\"\",INDEX($B$7:$Q$1503,$X26,COLUMNS($Z$55:AF74)))","v":1.2488545942578129},{"$f":"IF(ISERROR(INDEX($B$7:$Q$1503,$X26,COLUMNS($Z$55:AG74))),\"\",INDEX($B$7:$Q$1503,$X26,COLUMNS($Z$55:AG74)))","v":1.5330251195389875},{"$f":"IF(ISERROR(INDEX($B$7:$Q$1503,$X26,COLUMNS($Z$55:AH74))),\"\",INDEX($B$7:$Q$1503,$X26,COLUMNS($Z$55:AH74)))","v":1.7548447109036895},{"$f":"IF(ISERROR(INDEX($B$7:$Q$1503,$X26,COLUMNS($Z$55:AI74))),\"\",INDEX($B$7:$Q$1503,$X26,COLUMNS($Z$55:AI74)))","v":1.6944190767722986},{"$f":"IF(ISERROR(INDEX($B$7:$Q$1503,$X26,COLUMNS($Z$55:AJ74))),\"\",INDEX($B$7:$Q$1503,$X26,COLUMNS($Z$55:AJ74)))","v":1.149580784589064},{"$f":"IF(ISERROR(INDEX($B$7:$Q$1503,$X26,COLUMNS($Z$55:AK74))),\"\",INDEX($B$7:$Q$1503,$X26,COLUMNS($Z$55:AK74)))","v":1.047613014837218},{"$f":"IF(ISERROR(INDEX($B$7:$Q$1503,$X26,COLUMNS($Z$55:AL74))),\"\",INDEX($B$7:$Q$1503,$X26,COLUMNS($Z$55:AL74)))","v":0.82669173376253691},{"$f":"IF(ISERROR(INDEX($B$7:$Q$1503,$X26,COLUMNS($Z$55:AM74))),\"\",INDEX($B$7:$Q$1503,$X26,COLUMNS($Z$55:AM74)))","v":0.8974925045755916},{"$f":"IF(ISERROR(INDEX($B$7:$Q$1503,$X26,COLUMNS($Z$55:AN74))),\"\",INDEX($B$7:$Q$1503,$X26,COLUMNS($Z$55:AN74)))","v":0.8126014825273562},{"$f":"IF(ISERROR(INDEX($B$7:$Q$1503,$X26,COLUMNS($Z$55:AO74))),\"\",INDEX($B$7:$Q$1503,$X26,COLUMNS($Z$55:AO74)))","v":0}]
[null,"Ukmergės r. sav.","Neišregistruotų juridinių asmenų skaičius metų pradžioje | vnt.",1594,1609,1641,1686,1717,1726,1722,1626,1671,1712,1784,1841,1913,{"$f":"HLOOKUP(B75,'[1]2023_neišreg'!$B$2:$BT$23,22,FALSE)","v":1909},{"$f":"ROWS($R$7:R75)","v":69},"",{"$f":"IF(ISERROR(SMALL($S$7:$S$1504,ROWS($S$7:S75))),\"\",SMALL($S$7:$S$1504,ROWS($S$7:S75)))","v":""},"",{"$f":"IF(ISERROR(SMALL($U$7:$U$1504,ROWS(U$7:$U75))),\"\",SMALL($U$7:$U$1504,ROWS(U$7:$U75)))","v":""},"",{"$f":"IF(ISERROR(SMALL($W$7:$W$1504,ROWS($W$7:W75))),\"\",SMALL($W$7:$W$1504,ROWS($W$7:W75)))","v":""},null,{"$f":"IF(ISERROR(INDEX($B$7:$K$1503,$X27,COLUMNS($Z$31:Z73))),\"\",INDEX($B$7:$K$1503,$X27,COLUMNS($Z$31:Z73)))","v":"Lietuvos Respublika"},{"$f":"IF(ISERROR(INDEX($B$7:$K$1503,$X27,COLUMNS($Z$31:AA75))),\"\",INDEX($B$7:$K$1503,$X27,COLUMNS($Z$31:AA75)))","v":"Tarptautinės imigracijos lygis | %"},{"$f":"IF(ISERROR(INDEX($B$7:$Q$1503,$X27,COLUMNS($Z$55:AB75))),\"\",INDEX($B$7:$Q$1503,$X27,COLUMNS($Z$55:AB75)))","v":0.16830885918686125},{"$f":"IF(ISERROR(INDEX($B$7:$Q$1503,$X27,COLUMNS($Z$55:AC75))),\"\",INDEX($B$7:$Q$1503,$X27,COLUMNS($Z$55:AC75)))","v":0.51797900674181796},{"$f":"IF(ISERROR(INDEX($B$7:$Q$1503,$X27,COLUMNS($Z$55:AD75))),\"\",INDEX($B$7:$Q$1503,$X27,COLUMNS($Z$55:AD75)))","v":0.66414014719324388},{"$f":"IF(ISERROR(INDEX($B$7:$Q$1503,$X27,COLUMNS($Z$55:AE75))),\"\",INDEX($B$7:$Q$1503,$X27,COLUMNS($Z$55:AE75)))","v":0.74419589077823933},{"$f":"IF(ISERROR(INDEX($B$7:$Q$1503,$X27,COLUMNS($Z$55:AF75))),\"\",INDEX($B$7:$Q$1503,$X27,COLUMNS($Z$55:AF75)))","v":0.82847747229456614},{"$f":"IF(ISERROR(INDEX($B$7:$Q$1503,$X27,COLUMNS($Z$55:AG75))),\"\",INDEX($B$7:$Q$1503,$X27,COLUMNS($Z$55:AG75)))","v":0.76181361901057176},{"$f":"IF(ISERROR(INDEX($B$7:$Q$1503,$X27,COLUMNS($Z$55:AH75))),\"\",INDEX($B$7:$Q$1503,$X27,COLUMNS($Z$55:AH75)))","v":0.70294198758747117},{"$f":"IF(ISERROR(INDEX($B$7:$Q$1503,$X27,COLUMNS($Z$55:AI75))),\"\",INDEX($B$7:$Q$1503,$X27,COLUMNS($Z$55:AI75)))","v":0.72012368817314931},{"$f":"IF(ISERROR(INDEX($B$7:$Q$1503,$X27,COLUMNS($Z$55:AJ75))),\"\",INDEX($B$7:$Q$1503,$X27,COLUMNS($Z$55:AJ75)))","v":1.0320741105883438},{"$f":"IF(ISERROR(INDEX($B$7:$Q$1503,$X27,COLUMNS($Z$55:AK75))),\"\",INDEX($B$7:$Q$1503,$X27,COLUMNS($Z$55:AK75)))","v":1.4339053279637484},{"$f":"IF(ISERROR(INDEX($B$7:$Q$1503,$X27,COLUMNS($Z$55:AL75))),\"\",INDEX($B$7:$Q$1503,$X27,COLUMNS($Z$55:AL75)))","v":1.5420987299584596},{"$f":"IF(ISERROR(INDEX($B$7:$Q$1503,$X27,COLUMNS($Z$55:AM75))),\"\",INDEX($B$7:$Q$1503,$X27,COLUMNS($Z$55:AM75)))","v":1.5972909648979128},{"$f":"IF(ISERROR(INDEX($B$7:$Q$1503,$X27,COLUMNS($Z$55:AN75))),\"\",INDEX($B$7:$Q$1503,$X27,COLUMNS($Z$55:AN75)))","v":3.367207906812566},{"$f":"IF(ISERROR(INDEX($B$7:$Q$1503,$X27,COLUMNS($Z$55:AO75))),\"\",INDEX($B$7:$Q$1503,$X27,COLUMNS($Z$55:AO75)))","v":0}]
[null,"Vilniaus m. sav.","Neišregistruotų juridinių asmenų skaičius metų pradžioje | vnt.",60021,62033,65950,72477,78380,84455,87443,86420,89789,93043,96518,100701,105301,{"$f":"HLOOKUP(B76,'[1]2023_neišreg'!$B$2:$BT$23,22,FALSE)","v":98540},{"$f":"ROWS($R$7:R76)","v":70},70,{"$f":"IF(ISERROR(SMALL($S$7:$S$1504,ROWS($S$7:S76))),\"\",SMALL($S$7:$S$1504,ROWS($S$7:S76)))","v":""},"",{"$f":"IF(ISERROR(SMALL($U$7:$U$1504,ROWS(U$7:$U76))),\"\",SMALL($U$7:$U$1504,ROWS(U$7:$U76)))","v":""},"",{"$f":"IF(ISERROR(SMALL($W$7:$W$1504,ROWS($W$7:W76))),\"\",SMALL($W$7:$W$1504,ROWS($W$7:W76)))","v":""},null,{"$f":"IF(ISERROR(INDEX($B$7:$K$1503,$X28,COLUMNS($Z$31:Z74))),\"\",INDEX($B$7:$K$1503,$X28,COLUMNS($Z$31:Z74)))","v":""},{"$f":"IF(ISERROR(INDEX($B$7:$K$1503,$X28,COLUMNS($Z$31:AA76))),\"\",INDEX($B$7:$K$1503,$X28,COLUMNS($Z$31:AA76)))","v":""},{"$f":"IF(ISERROR(INDEX($B$7:$O$1503,$X28,COLUMNS($Z$55:AB76))),\"\",INDEX($B$7:$O$1503,$X28,COLUMNS($Z$55:AB76)))","v":""},{"$f":"IF(ISERROR(INDEX($B$7:$O$1503,$X28,COLUMNS($Z$55:AC76))),\"\",INDEX($B$7:$O$1503,$X28,COLUMNS($Z$55:AC76)))","v":""},{"$f":"IF(ISERROR(INDEX($B$7:$O$1503,$X28,COLUMNS($Z$55:AD76))),\"\",INDEX($B$7:$O$1503,$X28,COLUMNS($Z$55:AD76)))","v":""},{"$f":"IF(ISERROR(INDEX($B$7:$O$1503,$X28,COLUMNS($Z$55:AE76))),\"\",INDEX($B$7:$O$1503,$X28,COLUMNS($Z$55:AE76)))","v":""},{"$f":"IF(ISERROR(INDEX($B$7:$O$1503,$X28,COLUMNS($Z$55:AF76))),\"\",INDEX($B$7:$O$1503,$X28,COLUMNS($Z$55:AF76)))","v":""},{"$f":"IF(ISERROR(INDEX($B$7:$O$1503,$X28,COLUMNS($Z$55:AG76))),\"\",INDEX($B$7:$O$1503,$X28,COLUMNS($Z$55:AG76)))","v":""},{"$f":"IF(ISERROR(INDEX($B$7:$O$1503,$X28,COLUMNS($Z$55:AH76))),\"\",INDEX($B$7:$O$1503,$X28,COLUMNS($Z$55:AH76)))","v":""},{"$f":"IF(ISERROR(INDEX($B$7:$O$1503,$X28,COLUMNS($Z$55:AI76))),\"\",INDEX($B$7:$O$1503,$X28,COLUMNS($Z$55:AI76)))","v":""}]
[null,"Vilniaus r. sav.","Neišregistruotų juridinių asmenų skaičius metų pradžioje | vnt.",3048,3200,3508,3837,4175,4553,4841,4940,5246,5599,6023,6502,7047,{"$f":"HLOOKUP(B77,'[1]2023_neišreg'!$B$2:$BT$23,22,FALSE)","v":7153},{"$f":"ROWS($R$7:R77)","v":71},"",{"$f":"IF(ISERROR(SMALL($S$7:$S$1504,ROWS($S$7:S77))),\"\",SMALL($S$7:$S$1504,ROWS($S$7:S77)))","v":""},"",{"$f":"IF(ISERROR(SMALL($U$7:$U$1504,ROWS(U$7:$U77))),\"\",SMALL($U$7:$U$1504,ROWS(U$7:$U77)))","v":""},"",{"$f":"IF(ISERROR(SMALL($W$7:$W$1504,ROWS($W$7:W77))),\"\",SMALL($W$7:$W$1504,ROWS($W$7:W77)))","v":""}]
[null,"Lietuvos Respublika","Per metus įregistruota juridinių asmenų skaičius | vnt.",9198,10391,14866,13471,13858,10167,10481,11381,11789,12692,13363,15113,14543,null,{"$f":"ROWS($R$7:R78)","v":72},"",{"$f":"IF(ISERROR(SMALL($S$7:$S$1504,ROWS($S$7:S78))),\"\",SMALL($S$7:$S$1504,ROWS($S$7:S78)))","v":""},"",{"$f":"IF(ISERROR(SMALL($U$7:$U$1504,ROWS(U$7:$U78))),\"\",SMALL($U$7:$U$1504,ROWS(U$7:$U78)))","v":""},72,{"$f":"IF(ISERROR(SMALL($W$7:$W$1504,ROWS($W$7:W78))),\"\",SMALL($W$7:$W$1504,ROWS($W$7:W78)))","v":""}]
[null,"Alytaus apskritis","Per metus įregistruota juridinių asmenų skaičius | vnt.",302,388,619,460,511,345,334,341,372,417,404,359,358,null,{"$f":"ROWS($R$7:R79)","v":73},"",{"$f":"IF(ISERROR(SMALL($S$7:$S$1504,ROWS($S$7:S79))),\"\",SMALL($S$7:$S$1504,ROWS($S$7:S79)))","v":""},"",{"$f":"IF(ISERROR(SMALL($U$7:$U$1504,ROWS(U$7:$U79))),\"\",SMALL($U$7:$U$1504,ROWS(U$7:$U79)))","v":""},"",{"$f":"IF(ISERROR(SMALL($W$7:$W$1504,ROWS($W$7:W79))),\"\",SMALL($W$7:$W$1504,ROWS($W$7:W79)))","v":""},null,1,{"$f":"+INDEX($AA$7:$AA$28,Z79)","v":"Neišregistruotų juridinių asmenų skaičius metų pradžioje | vnt."}]
[null,"Alytaus m. sav.","Per metus įregistruota juridinių asmenų skaičius | vnt.",140,181,388,263,314,187,155,157,170,173,142,144,127,null,{"$f":"ROWS($R$7:R80)","v":74},"",{"$f":"IF(ISERROR(SMALL($S$7:$S$1504,ROWS($S$7:S80))),\"\",SMALL($S$7:$S$1504,ROWS($S$7:S80)))","v":""},"",{"$f":"IF(ISERROR(SMALL($U$7:$U$1504,ROWS(U$7:$U80))),\"\",SMALL($U$7:$U$1504,ROWS(U$7:$U80)))","v":""},"",{"$f":"IF(ISERROR(SMALL($W$7:$W$1504,ROWS($W$7:W80))),\"\",SMALL($W$7:$W$1504,ROWS($W$7:W80)))","v":""},null,null,null,{"$f":"+AB$6","v":"2010"},"2011","2012","2013","2014","2015","2016","2017","2018",2019,2020,2021,2022,2023]
[null,"Alytaus r. sav.","Per metus įregistruota juridinių asmenų skaičius | vnt.",44,45,53,53,61,59,74,69,82,103,106,87,98,null,{"$f":"ROWS($R$7:R81)","v":75},"",{"$f":"IF(ISERROR(SMALL($S$7:$S$1504,ROWS($S$7:S81))),\"\",SMALL($S$7:$S$1504,ROWS($S$7:S81)))","v":""},"",{"$f":"IF(ISERROR(SMALL($U$7:$U$1504,ROWS(U$7:$U81))),\"\",SMALL($U$7:$U$1504,ROWS(U$7:$U81)))","v":""},"",{"$f":"IF(ISERROR(SMALL($W$7:$W$1504,ROWS($W$7:W81))),\"\",SMALL($W$7:$W$1504,ROWS($W$7:W81)))","v":""},null,null,{"$f":"+INDEX($Z$7:$Z$28,MATCH($AA79,$AA$7:$AA$28,0))","v":"Vilniaus m. sav."},{"$f":"+INDEX(AB$7:AB$28,MATCH($AA79,$AA$7:$AA$28,0))","v":60021},62033,65950,72477,78380,84455,87443,86420,89789,{"$f":"+INDEX(AK$7:AK$28,MATCH($AA79,$AA$7:$AA$28,0))","v":93043},{"$f":"+INDEX(AL$7:AL$28,MATCH($AA79,$AA$7:$AA$28,0))","v":96518},{"$f":"+INDEX(AM$7:AM$28,MATCH($AA79,$AA$7:$AA$28,0))","v":100701},{"$f":"+INDEX(AN$7:AN$28,MATCH($AA79,$AA$7:$AA$28,0))","v":105301}]
[null,"Druskininkų sav.","Per metus įregistruota juridinių asmenų skaičius | vnt.",55,86,114,87,87,45,49,48,44,43,46,41,51,null,{"$f":"ROWS($R$7:R82)","v":76},"",{"$f":"IF(ISERROR(SMALL($S$7:$S$1504,ROWS($S$7:S82))),\"\",SMALL($S$7:$S$1504,ROWS($S$7:S82)))","v":""},"",{"$f":"IF(ISERROR(SMALL($U$7:$U$1504,ROWS(U$7:$U82))),\"\",SMALL($U$7:$U$1504,ROWS(U$7:$U82)))","v":""},"",{"$f":"IF(ISERROR(SMALL($W$7:$W$1504,ROWS($W$7:W82))),\"\",SMALL($W$7:$W$1504,ROWS($W$7:W82)))","v":""},null,null,{"$f":"IF(ISERROR(INDEX($Z$31:$Z$52,MATCH(AA79,$AA$31:$AA$52,0))),\"\",INDEX($Z$31:$Z$52,MATCH(AA79,$AA$31:$AA$52,0)))","v":"Vilniaus apskritis"},{"$f":"IF(ISERROR(INDEX(AB$31:AB$52,MATCH($AA79,$AA$31:$AA$52,0))),\"\",INDEX(AB$31:AB$52,MATCH($AA79,$AA$31:$AA$52,0)))","v":69193},71414,75825,82959,89424,96097,99501,98305,102222,{"$f":"IF(ISERROR(INDEX(AK$31:AK$52,MATCH($AA79,$AA$31:$AA$52,0))),\"\",INDEX(AK$31:AK$52,MATCH($AA79,$AA$31:$AA$52,0)))","v":106079},{"$f":"IF(ISERROR(INDEX(AL$31:AL$52,MATCH($AA79,$AA$31:$AA$52,0))),\"\",INDEX(AL$31:AL$52,MATCH($AA79,$AA$31:$AA$52,0)))","v":110319},{"$f":"IF(ISERROR(INDEX(AM$31:AM$52,MATCH($AA79,$AA$31:$AA$52,0))),\"\",INDEX(AM$31:AM$52,MATCH($AA79,$AA$31:$AA$52,0)))","v":115349},{"$f":"IF(ISERROR(INDEX(AN$31:AN$52,MATCH($AA79,$AA$31:$AA$52,0))),\"\",INDEX(AN$31:AN$52,MATCH($AA79,$AA$31:$AA$52,0)))","v":120821}]
[null,"Lazdijų r. sav.","Per metus įregistruota juridinių asmenų skaičius | vnt.",22,33,24,33,24,24,25,21,44,48,57,36,32,null,{"$f":"ROWS($R$7:R83)","v":77},"",{"$f":"IF(ISERROR(SMALL($S$7:$S$1504,ROWS($S$7:S83))),\"\",SMALL($S$7:$S$1504,ROWS($S$7:S83)))","v":""},"",{"$f":"IF(ISERROR(SMALL($U$7:$U$1504,ROWS(U$7:$U83))),\"\",SMALL($U$7:$U$1504,ROWS(U$7:$U83)))","v":""},"",{"$f":"IF(ISERROR(SMALL($W$7:$W$1504,ROWS($W$7:W83))),\"\",SMALL($W$7:$W$1504,ROWS($W$7:W83)))","v":""},null,null,{"$f":"IF(ISERROR(INDEX($Z$55:$Z$76,MATCH(AA79,$AA$55:$AA$76,0))),\"\",INDEX($Z$55:$Z$76,MATCH(AA79,$AA$55:$AA$76,0)))","v":"Lietuvos Respublika"},{"$f":"IF(ISERROR(INDEX(AB$55:AB$76,MATCH($AA79,$AA$55:$AA$76,0))),\"\",INDEX(AB$55:AB$76,MATCH($AA79,$AA$55:$AA$76,0)))","v":181574},184714,191882,203557,213846,223644,228925,222066,228625,{"$f":"IF(ISERROR(INDEX(AK$55:AK$76,MATCH($AA79,$AA$55:$AA$76,0))),\"\",INDEX(AK$55:AK$76,MATCH($AA79,$AA$55:$AA$76,0)))","v":235554},{"$f":"IF(ISERROR(INDEX(AL$55:AL$76,MATCH($AA79,$AA$55:$AA$76,0))),\"\",INDEX(AL$55:AL$76,MATCH($AA79,$AA$55:$AA$76,0)))","v":243459},{"$f":"IF(ISERROR(INDEX(AM$55:AM$76,MATCH($AA79,$AA$55:$AA$76,0))),\"\",INDEX(AM$55:AM$76,MATCH($AA79,$AA$55:$AA$76,0)))","v":253197},{"$f":"IF(ISERROR(INDEX(AN$55:AN$76,MATCH($AA79,$AA$55:$AA$76,0))),\"\",INDEX(AN$55:AN$76,MATCH($AA79,$AA$55:$AA$76,0)))","v":258399}]
[null,"Varėnos r. sav.","Per metus įregistruota juridinių asmenų skaičius | vnt.",41,43,40,24,25,30,31,46,32,50,53,51,50,null,{"$f":"ROWS($R$7:R84)","v":78},"",{"$f":"IF(ISERROR(SMALL($S$7:$S$1504,ROWS($S$7:S84))),\"\",SMALL($S$7:$S$1504,ROWS($S$7:S84)))","v":""},"",{"$f":"IF(ISERROR(SMALL($U$7:$U$1504,ROWS(U$7:$U84))),\"\",SMALL($U$7:$U$1504,ROWS(U$7:$U84)))","v":""},"",{"$f":"IF(ISERROR(SMALL($W$7:$W$1504,ROWS($W$7:W84))),\"\",SMALL($W$7:$W$1504,ROWS($W$7:W84)))","v":""}]
[null,"Kauno apskritis","Per metus įregistruota juridinių asmenų skaičius | vnt.",1552,1673,2260,2185,2269,2115,2195,2362,2507,2693,2906,3277,3123,null,{"$f":"ROWS($R$7:R85)","v":79},"",{"$f":"IF(ISERROR(SMALL($S$7:$S$1504,ROWS($S$7:S85))),\"\",SMALL($S$7:$S$1504,ROWS($S$7:S85)))","v":""},"",{"$f":"IF(ISERROR(SMALL($U$7:$U$1504,ROWS(U$7:$U85))),\"\",SMALL($U$7:$U$1504,ROWS(U$7:$U85)))","v":""},"",{"$f":"IF(ISERROR(SMALL($W$7:$W$1504,ROWS($W$7:W85))),\"\",SMALL($W$7:$W$1504,ROWS($W$7:W85)))","v":""}]
[null,"Birštono sav.","Per metus įregistruota juridinių asmenų skaičius | vnt.",8,6,11,9,12,10,12,21,17,17,12,19,13,null,{"$f":"ROWS($R$7:R86)","v":80},"",{"$f":"IF(ISERROR(SMALL($S$7:$S$1504,ROWS($S$7:S86))),\"\",SMALL($S$7:$S$1504,ROWS($S$7:S86)))","v":""},"",{"$f":"IF(ISERROR(SMALL($U$7:$U$1504,ROWS(U$7:$U86))),\"\",SMALL($U$7:$U$1504,ROWS(U$7:$U86)))","v":""},"",{"$f":"IF(ISERROR(SMALL($W$7:$W$1504,ROWS($W$7:W86))),\"\",SMALL($W$7:$W$1504,ROWS($W$7:W86)))","v":""}]
[null,"Jonavos r. sav.","Per metus įregistruota juridinių asmenų skaičius | vnt.",64,49,57,89,83,58,69,71,75,107,108,126,112,null,{"$f":"ROWS($R$7:R87)","v":81},"",{"$f":"IF(ISERROR(SMALL($S$7:$S$1504,ROWS($S$7:S87))),\"\",SMALL($S$7:$S$1504,ROWS($S$7:S87)))","v":""},"",{"$f":"IF(ISERROR(SMALL($U$7:$U$1504,ROWS(U$7:$U87))),\"\",SMALL($U$7:$U$1504,ROWS(U$7:$U87)))","v":""},"",{"$f":"IF(ISERROR(SMALL($W$7:$W$1504,ROWS($W$7:W87))),\"\",SMALL($W$7:$W$1504,ROWS($W$7:W87)))","v":""}]
[null,"Kaišiadorių r. sav.","Per metus įregistruota juridinių asmenų skaičius | vnt.",43,46,64,51,45,42,52,54,50,65,77,94,84,null,{"$f":"ROWS($R$7:R88)","v":82},"",{"$f":"IF(ISERROR(SMALL($S$7:$S$1504,ROWS($S$7:S88))),\"\",SMALL($S$7:$S$1504,ROWS($S$7:S88)))","v":""},"",{"$f":"IF(ISERROR(SMALL($U$7:$U$1504,ROWS(U$7:$U88))),\"\",SMALL($U$7:$U$1504,ROWS(U$7:$U88)))","v":""},"",{"$f":"IF(ISERROR(SMALL($W$7:$W$1504,ROWS($W$7:W88))),\"\",SMALL($W$7:$W$1504,ROWS($W$7:W88)))","v":""}]
[null,"Kauno m. sav.","Per metus įregistruota juridinių asmenų skaičius | vnt.",1039,1066,1504,1578,1669,1530,1592,1706,1769,1839,1934,2150,2141,null,{"$f":"ROWS($R$7:R89)","v":83},"",{"$f":"IF(ISERROR(SMALL($S$7:$S$1504,ROWS($S$7:S89))),\"\",SMALL($S$7:$S$1504,ROWS($S$7:S89)))","v":""},"",{"$f":"IF(ISERROR(SMALL($U$7:$U$1504,ROWS(U$7:$U89))),\"\",SMALL($U$7:$U$1504,ROWS(U$7:$U89)))","v":""},"",{"$f":"IF(ISERROR(SMALL($W$7:$W$1504,ROWS($W$7:W89))),\"\",SMALL($W$7:$W$1504,ROWS($W$7:W89)))","v":""}]
[null,"Kauno r. sav.","Per metus įregistruota juridinių asmenų skaičius | vnt.",231,322,438,301,301,310,304,345,410,448,516,585,499,null,{"$f":"ROWS($R$7:R90)","v":84},"",{"$f":"IF(ISERROR(SMALL($S$7:$S$1504,ROWS($S$7:S90))),\"\",SMALL($S$7:$S$1504,ROWS($S$7:S90)))","v":""},"",{"$f":"IF(ISERROR(SMALL($U$7:$U$1504,ROWS(U$7:$U90))),\"\",SMALL($U$7:$U$1504,ROWS(U$7:$U90)))","v":""},"",{"$f":"IF(ISERROR(SMALL($W$7:$W$1504,ROWS($W$7:W90))),\"\",SMALL($W$7:$W$1504,ROWS($W$7:W90)))","v":""}]
[null,"Kėdainių r. sav.","Per metus įregistruota juridinių asmenų skaičius | vnt.",69,89,83,74,79,80,62,70,73,96,115,127,128,null,{"$f":"ROWS($R$7:R91)","v":85},"",{"$f":"IF(ISERROR(SMALL($S$7:$S$1504,ROWS($S$7:S91))),\"\",SMALL($S$7:$S$1504,ROWS($S$7:S91)))","v":""},"",{"$f":"IF(ISERROR(SMALL($U$7:$U$1504,ROWS(U$7:$U91))),\"\",SMALL($U$7:$U$1504,ROWS(U$7:$U91)))","v":""},"",{"$f":"IF(ISERROR(SMALL($W$7:$W$1504,ROWS($W$7:W91))),\"\",SMALL($W$7:$W$1504,ROWS($W$7:W91)))","v":""}]
[null,"Prienų r. sav.","Per metus įregistruota juridinių asmenų skaičius | vnt.",40,38,41,38,31,36,43,39,68,59,76,92,96,null,{"$f":"ROWS($R$7:R92)","v":86},"",{"$f":"IF(ISERROR(SMALL($S$7:$S$1504,ROWS($S$7:S92))),\"\",SMALL($S$7:$S$1504,ROWS($S$7:S92)))","v":""},"",{"$f":"IF(ISERROR(SMALL($U$7:$U$1504,ROWS(U$7:$U92))),\"\",SMALL($U$7:$U$1504,ROWS(U$7:$U92)))","v":""},"",{"$f":"IF(ISERROR(SMALL($W$7:$W$1504,ROWS($W$7:W92))),\"\",SMALL($W$7:$W$1504,ROWS($W$7:W92)))","v":""}]
[null,"Raseinių r. sav.","Per metus įregistruota juridinių asmenų skaičius | vnt.",58,57,62,45,49,49,61,56,45,62,68,84,50,null,{"$f":"ROWS($R$7:R93)","v":87},"",{"$f":"IF(ISERROR(SMALL($S$7:$S$1504,ROWS($S$7:S93))),\"\",SMALL($S$7:$S$1504,ROWS($S$7:S93)))","v":""},"",{"$f":"IF(ISERROR(SMALL($U$7:$U$1504,ROWS(U$7:$U93))),\"\",SMALL($U$7:$U$1504,ROWS(U$7:$U93)))","v":""},"",{"$f":"IF(ISERROR(SMALL($W$7:$W$1504,ROWS($W$7:W93))),\"\",SMALL($W$7:$W$1504,ROWS($W$7:W93)))","v":""}]
[null,"Klaipėdos apskritis","Per metus įregistruota juridinių asmenų skaičius | vnt.",967,1000,1307,1147,1017,962,937,1001,1063,1159,1238,1491,1396,null,{"$f":"ROWS($R$7:R94)","v":88},"",{"$f":"IF(ISERROR(SMALL($S$7:$S$1504,ROWS($S$7:S94))),\"\",SMALL($S$7:$S$1504,ROWS($S$7:S94)))","v":""},"",{"$f":"IF(ISERROR(SMALL($U$7:$U$1504,ROWS(U$7:$U94))),\"\",SMALL($U$7:$U$1504,ROWS(U$7:$U94)))","v":""},"",{"$f":"IF(ISERROR(SMALL($W$7:$W$1504,ROWS($W$7:W94))),\"\",SMALL($W$7:$W$1504,ROWS($W$7:W94)))","v":""}]
[null,"Klaipėdos m. sav.","Per metus įregistruota juridinių asmenų skaičius | vnt.",601,584,841,688,626,510,506,535,556,591,598,715,694,null,{"$f":"ROWS($R$7:R95)","v":89},"",{"$f":"IF(ISERROR(SMALL($S$7:$S$1504,ROWS($S$7:S95))),\"\",SMALL($S$7:$S$1504,ROWS($S$7:S95)))","v":""},"",{"$f":"IF(ISERROR(SMALL($U$7:$U$1504,ROWS(U$7:$U95))),\"\",SMALL($U$7:$U$1504,ROWS(U$7:$U95)))","v":""},"",{"$f":"IF(ISERROR(SMALL($W$7:$W$1504,ROWS($W$7:W95))),\"\",SMALL($W$7:$W$1504,ROWS($W$7:W95)))","v":""}]
[null,"Klaipėdos r. sav.","Per metus įregistruota juridinių asmenų skaičius | vnt.",141,189,212,178,165,183,175,199,219,255,297,372,365,null,{"$f":"ROWS($R$7:R96)","v":90},"",{"$f":"IF(ISERROR(SMALL($S$7:$S$1504,ROWS($S$7:S96))),\"\",SMALL($S$7:$S$1504,ROWS($S$7:S96)))","v":""},"",{"$f":"IF(ISERROR(SMALL($U$7:$U$1504,ROWS(U$7:$U96))),\"\",SMALL($U$7:$U$1504,ROWS(U$7:$U96)))","v":""},"",{"$f":"IF(ISERROR(SMALL($W$7:$W$1504,ROWS($W$7:W96))),\"\",SMALL($W$7:$W$1504,ROWS($W$7:W96)))","v":""}]
[null,"Kretingos r. sav.","Per metus įregistruota juridinių asmenų skaičius | vnt.",57,66,71,80,86,72,75,81,86,73,95,121,88,null,{"$f":"ROWS($R$7:R97)","v":91},"",{"$f":"IF(ISERROR(SMALL($S$7:$S$1504,ROWS($S$7:S97))),\"\",SMALL($S$7:$S$1504,ROWS($S$7:S97)))","v":""},"",{"$f":"IF(ISERROR(SMALL($U$7:$U$1504,ROWS(U$7:$U97))),\"\",SMALL($U$7:$U$1504,ROWS(U$7:$U97)))","v":""},"",{"$f":"IF(ISERROR(SMALL($W$7:$W$1504,ROWS($W$7:W97))),\"\",SMALL($W$7:$W$1504,ROWS($W$7:W97)))","v":""}]
[null,"Neringos sav.","Per metus įregistruota juridinių asmenų skaičius | vnt.",14,12,21,10,14,26,19,8,12,22,31,38,29,null,{"$f":"ROWS($R$7:R98)","v":92},"",{"$f":"IF(ISERROR(SMALL($S$7:$S$1504,ROWS($S$7:S98))),\"\",SMALL($S$7:$S$1504,ROWS($S$7:S98)))","v":""},"",{"$f":"IF(ISERROR(SMALL($U$7:$U$1504,ROWS(U$7:$U98))),\"\",SMALL($U$7:$U$1504,ROWS(U$7:$U98)))","v":""},"",{"$f":"IF(ISERROR(SMALL($W$7:$W$1504,ROWS($W$7:W98))),\"\",SMALL($W$7:$W$1504,ROWS($W$7:W98)))","v":""}]
[null,"Palangos m. sav.","Per metus įregistruota juridinių asmenų skaičius | vnt.",54,52,59,79,55,66,76,75,75,90,89,124,110,null,{"$f":"ROWS($R$7:R99)","v":93},"",{"$f":"IF(ISERROR(SMALL($S$7:$S$1504,ROWS($S$7:S99))),\"\",SMALL($S$7:$S$1504,ROWS($S$7:S99)))","v":""},"",{"$f":"IF(ISERROR(SMALL($U$7:$U$1504,ROWS(U$7:$U99))),\"\",SMALL($U$7:$U$1504,ROWS(U$7:$U99)))","v":""},"",{"$f":"IF(ISERROR(SMALL($W$7:$W$1504,ROWS($W$7:W99))),\"\",SMALL($W$7:$W$1504,ROWS($W$7:W99)))","v":""}]
[null,"Skuodo r. sav.","Per metus įregistruota juridinių asmenų skaičius | vnt.",22,23,29,12,14,36,18,18,25,27,24,21,31,null,{"$f":"ROWS($R$7:R100)","v":94},"",{"$f":"IF(ISERROR(SMALL($S$7:$S$1504,ROWS($S$7:S100))),\"\",SMALL($S$7:$S$1504,ROWS($S$7:S100)))","v":""},"",{"$f":"IF(ISERROR(SMALL($U$7:$U$1504,ROWS(U$7:$U100))),\"\",SMALL($U$7:$U$1504,ROWS(U$7:$U100)))","v":""},"",{"$f":"IF(ISERROR(SMALL($W$7:$W$1504,ROWS($W$7:W100))),\"\",SMALL($W$7:$W$1504,ROWS($W$7:W100)))","v":""},null,2,{"$f":"+INDEX($AA$7:$AA$28,Z100)","v":"Per metus įregistruota juridinių asmenų skaičius | vnt."}]
[null,"Šilutės r. sav.","Per metus įregistruota juridinių asmenų skaičius | vnt.",78,74,74,100,57,69,68,85,90,101,104,100,79,null,{"$f":"ROWS($R$7:R101)","v":95},"",{"$f":"IF(ISERROR(SMALL($S$7:$S$1504,ROWS($S$7:S101))),\"\",SMALL($S$7:$S$1504,ROWS($S$7:S101)))","v":""},"",{"$f":"IF(ISERROR(SMALL($U$7:$U$1504,ROWS(U$7:$U101))),\"\",SMALL($U$7:$U$1504,ROWS(U$7:$U101)))","v":""},"",{"$f":"IF(ISERROR(SMALL($W$7:$W$1504,ROWS($W$7:W101))),\"\",SMALL($W$7:$W$1504,ROWS($W$7:W101)))","v":""},null,null,null,{"$f":"+AB$6","v":"2010"},"2011","2012","2013","2014","2015","2016","2017","2018",2019,2020,2021]
[null,"Marijampolės apskritis","Per metus įregistruota juridinių asmenų skaičius | vnt.",217,202,340,270,231,238,238,292,293,301,310,388,286,null,{"$f":"ROWS($R$7:R102)","v":96},"",{"$f":"IF(ISERROR(SMALL($S$7:$S$1504,ROWS($S$7:S102))),\"\",SMALL($S$7:$S$1504,ROWS($S$7:S102)))","v":""},"",{"$f":"IF(ISERROR(SMALL($U$7:$U$1504,ROWS(U$7:$U102))),\"\",SMALL($U$7:$U$1504,ROWS(U$7:$U102)))","v":""},"",{"$f":"IF(ISERROR(SMALL($W$7:$W$1504,ROWS($W$7:W102))),\"\",SMALL($W$7:$W$1504,ROWS($W$7:W102)))","v":""},null,null,{"$f":"+INDEX($Z$7:$Z$28,MATCH($AA100,$AA$7:$AA$28,0))","v":"Vilniaus m. sav."},{"$f":"+INDEX(AB$7:AB$28,MATCH($AA100,$AA$7:$AA$28,0))","v":4001},4865,7369,6918,7205,4450,4520,5116,5014,{"$f":"+INDEX(AK$7:AK$28,MATCH($AA100,$AA$7:$AA$28,0))","v":5353},{"$f":"+INDEX(AL$7:AL$28,MATCH($AA100,$AA$7:$AA$28,0))","v":5405},{"$f":"+INDEX(AM$7:AM$28,MATCH($AA100,$AA$7:$AA$28,0))","v":6473}]
[null,"Kalvarijos sav.","Per metus įregistruota juridinių asmenų skaičius | vnt.",7,8,14,12,9,16,15,31,41,34,32,23,25,null,{"$f":"ROWS($R$7:R103)","v":97},"",{"$f":"IF(ISERROR(SMALL($S$7:$S$1504,ROWS($S$7:S103))),\"\",SMALL($S$7:$S$1504,ROWS($S$7:S103)))","v":""},"",{"$f":"IF(ISERROR(SMALL($U$7:$U$1504,ROWS(U$7:$U103))),\"\",SMALL($U$7:$U$1504,ROWS(U$7:$U103)))","v":""},"",{"$f":"IF(ISERROR(SMALL($W$7:$W$1504,ROWS($W$7:W103))),\"\",SMALL($W$7:$W$1504,ROWS($W$7:W103)))","v":""},null,null,{"$f":"IF(ISERROR(INDEX($Z$31:$Z$52,MATCH(AA100,$AA$31:$AA$52,0))),\"\",INDEX($Z$31:$Z$52,MATCH(AA100,$AA$31:$AA$52,0)))","v":"Vilniaus apskritis"},{"$f":"IF(ISERROR(INDEX(AB$31:AB$52,MATCH($AA100,$AA$31:$AA$52,0))),\"\",INDEX(AB$31:AB$52,MATCH($AA100,$AA$31:$AA$52,0)))","v":4515},5444,8082,7551,7891,4951,5078,5711,5683,{"$f":"IF(ISERROR(INDEX(AK$31:AK$52,MATCH($AA100,$AA$31:$AA$52,0))),\"\",INDEX(AK$31:AK$52,MATCH($AA100,$AA$31:$AA$52,0)))","v":6143},{"$f":"IF(ISERROR(INDEX(AL$31:AL$52,MATCH($AA100,$AA$31:$AA$52,0))),\"\",INDEX(AL$31:AL$52,MATCH($AA100,$AA$31:$AA$52,0)))","v":6353},{"$f":"IF(ISERROR(INDEX(AM$31:AM$52,MATCH($AA100,$AA$31:$AA$52,0))),\"\",INDEX(AM$31:AM$52,MATCH($AA100,$AA$31:$AA$52,0)))","v":7393}]
[null,"Kazlų Rūdos sav.","Per metus įregistruota juridinių asmenų skaičius | vnt.",15,22,35,39,29,19,22,38,36,30,34,23,19,null,{"$f":"ROWS($R$7:R104)","v":98},"",{"$f":"IF(ISERROR(SMALL($S$7:$S$1504,ROWS($S$7:S104))),\"\",SMALL($S$7:$S$1504,ROWS($S$7:S104)))","v":""},"",{"$f":"IF(ISERROR(SMALL($U$7:$U$1504,ROWS(U$7:$U104))),\"\",SMALL($U$7:$U$1504,ROWS(U$7:$U104)))","v":""},"",{"$f":"IF(ISERROR(SMALL($W$7:$W$1504,ROWS($W$7:W104))),\"\",SMALL($W$7:$W$1504,ROWS($W$7:W104)))","v":""},null,null,{"$f":"IF(ISERROR(INDEX($Z$55:$Z$76,MATCH(AA100,$AA$55:$AA$76,0))),\"\",INDEX($Z$55:$Z$76,MATCH(AA100,$AA$55:$AA$76,0)))","v":"Lietuvos Respublika"},{"$f":"IF(ISERROR(INDEX(AB$55:AB$76,MATCH($AA100,$AA$55:$AA$76,0))),\"\",INDEX(AB$55:AB$76,MATCH($AA100,$AA$55:$AA$76,0)))","v":9198},10391,14866,13471,13858,10167,10481,11381,11789,{"$f":"IF(ISERROR(INDEX(AK$55:AK$76,MATCH($AA100,$AA$55:$AA$76,0))),\"\",INDEX(AK$55:AK$76,MATCH($AA100,$AA$55:$AA$76,0)))","v":12692},{"$f":"IF(ISERROR(INDEX(AL$55:AL$76,MATCH($AA100,$AA$55:$AA$76,0))),\"\",INDEX(AL$55:AL$76,MATCH($AA100,$AA$55:$AA$76,0)))","v":13363},{"$f":"IF(ISERROR(INDEX(AM$55:AM$76,MATCH($AA100,$AA$55:$AA$76,0))),\"\",INDEX(AM$55:AM$76,MATCH($AA100,$AA$55:$AA$76,0)))","v":15113}]
[null,"Marijampolės sav.","Per metus įregistruota juridinių asmenų skaičius | vnt.",113,101,158,119,119,119,110,129,143,123,131,196,135,null,{"$f":"ROWS($R$7:R105)","v":99},"",{"$f":"IF(ISERROR(SMALL($S$7:$S$1504,ROWS($S$7:S105))),\"\",SMALL($S$7:$S$1504,ROWS($S$7:S105)))","v":""},"",{"$f":"IF(ISERROR(SMALL($U$7:$U$1504,ROWS(U$7:$U105))),\"\",SMALL($U$7:$U$1504,ROWS(U$7:$U105)))","v":""},"",{"$f":"IF(ISERROR(SMALL($W$7:$W$1504,ROWS($W$7:W105))),\"\",SMALL($W$7:$W$1504,ROWS($W$7:W105)))","v":""}]
[null,"Šakių r. sav.","Per metus įregistruota juridinių asmenų skaičius | vnt.",42,37,69,53,44,46,49,46,39,58,54,71,48,null,{"$f":"ROWS($R$7:R106)","v":100},"",{"$f":"IF(ISERROR(SMALL($S$7:$S$1504,ROWS($S$7:S106))),\"\",SMALL($S$7:$S$1504,ROWS($S$7:S106)))","v":""},"",{"$f":"IF(ISERROR(SMALL($U$7:$U$1504,ROWS(U$7:$U106))),\"\",SMALL($U$7:$U$1504,ROWS(U$7:$U106)))","v":""},"",{"$f":"IF(ISERROR(SMALL($W$7:$W$1504,ROWS($W$7:W106))),\"\",SMALL($W$7:$W$1504,ROWS($W$7:W106)))","v":""}]
[null,"Vilkaviškio r. sav.","Per metus įregistruota juridinių asmenų skaičius | vnt.",40,34,64,47,30,38,42,48,34,56,59,75,59,null,{"$f":"ROWS($R$7:R107)","v":101},"",{"$f":"IF(ISERROR(SMALL($S$7:$S$1504,ROWS($S$7:S107))),\"\",SMALL($S$7:$S$1504,ROWS($S$7:S107)))","v":""},"",{"$f":"IF(ISERROR(SMALL($U$7:$U$1504,ROWS(U$7:$U107))),\"\",SMALL($U$7:$U$1504,ROWS(U$7:$U107)))","v":""},"",{"$f":"IF(ISERROR(SMALL($W$7:$W$1504,ROWS($W$7:W107))),\"\",SMALL($W$7:$W$1504,ROWS($W$7:W107)))","v":""}]
[null,"Panevėžio apskritis","Per metus įregistruota juridinių asmenų skaičius | vnt.",426,433,571,524,562,439,439,435,507,542,562,518,461,null,{"$f":"ROWS($R$7:R108)","v":102},"",{"$f":"IF(ISERROR(SMALL($S$7:$S$1504,ROWS($S$7:S108))),\"\",SMALL($S$7:$S$1504,ROWS($S$7:S108)))","v":""},"",{"$f":"IF(ISERROR(SMALL($U$7:$U$1504,ROWS(U$7:$U108))),\"\",SMALL($U$7:$U$1504,ROWS(U$7:$U108)))","v":""},"",{"$f":"IF(ISERROR(SMALL($W$7:$W$1504,ROWS($W$7:W108))),\"\",SMALL($W$7:$W$1504,ROWS($W$7:W108)))","v":""}]
[null,"Biržų r. sav.","Per metus įregistruota juridinių asmenų skaičius | vnt.",29,66,62,38,49,46,42,25,45,46,39,38,32,null,{"$f":"ROWS($R$7:R109)","v":103},"",{"$f":"IF(ISERROR(SMALL($S$7:$S$1504,ROWS($S$7:S109))),\"\",SMALL($S$7:$S$1504,ROWS($S$7:S109)))","v":""},"",{"$f":"IF(ISERROR(SMALL($U$7:$U$1504,ROWS(U$7:$U109))),\"\",SMALL($U$7:$U$1504,ROWS(U$7:$U109)))","v":""},"",{"$f":"IF(ISERROR(SMALL($W$7:$W$1504,ROWS($W$7:W109))),\"\",SMALL($W$7:$W$1504,ROWS($W$7:W109)))","v":""}]
[null,"Kupiškio r. sav.","Per metus įregistruota juridinių asmenų skaičius | vnt.",30,12,32,22,17,24,23,25,45,30,29,26,26,null,{"$f":"ROWS($R$7:R110)","v":104},"",{"$f":"IF(ISERROR(SMALL($S$7:$S$1504,ROWS($S$7:S110))),\"\",SMALL($S$7:$S$1504,ROWS($S$7:S110)))","v":""},"",{"$f":"IF(ISERROR(SMALL($U$7:$U$1504,ROWS(U$7:$U110))),\"\",SMALL($U$7:$U$1504,ROWS(U$7:$U110)))","v":""},"",{"$f":"IF(ISERROR(SMALL($W$7:$W$1504,ROWS($W$7:W110))),\"\",SMALL($W$7:$W$1504,ROWS($W$7:W110)))","v":""}]
[null,"Panevėžio m. sav.","Per metus įregistruota juridinių asmenų skaičius | vnt.",204,197,321,285,283,233,187,210,202,265,237,204,160,null,{"$f":"ROWS($R$7:R111)","v":105},"",{"$f":"IF(ISERROR(SMALL($S$7:$S$1504,ROWS($S$7:S111))),\"\",SMALL($S$7:$S$1504,ROWS($S$7:S111)))","v":""},"",{"$f":"IF(ISERROR(SMALL($U$7:$U$1504,ROWS(U$7:$U111))),\"\",SMALL($U$7:$U$1504,ROWS(U$7:$U111)))","v":""},"",{"$f":"IF(ISERROR(SMALL($W$7:$W$1504,ROWS($W$7:W111))),\"\",SMALL($W$7:$W$1504,ROWS($W$7:W111)))","v":""}]
[null,"Panevėžio r. sav.","Per metus įregistruota juridinių asmenų skaičius | vnt.",92,83,70,65,56,55,80,72,73,79,115,107,92,null,{"$f":"ROWS($R$7:R112)","v":106},"",{"$f":"IF(ISERROR(SMALL($S$7:$S$1504,ROWS($S$7:S112))),\"\",SMALL($S$7:$S$1504,ROWS($S$7:S112)))","v":""},"",{"$f":"IF(ISERROR(SMALL($U$7:$U$1504,ROWS(U$7:$U112))),\"\",SMALL($U$7:$U$1504,ROWS(U$7:$U112)))","v":""},"",{"$f":"IF(ISERROR(SMALL($W$7:$W$1504,ROWS($W$7:W112))),\"\",SMALL($W$7:$W$1504,ROWS($W$7:W112)))","v":""}]
[null,"Pasvalio r. sav.","Per metus įregistruota juridinių asmenų skaičius | vnt.",34,32,40,42,48,31,39,36,36,28,40,49,79,null,{"$f":"ROWS($R$7:R113)","v":107},"",{"$f":"IF(ISERROR(SMALL($S$7:$S$1504,ROWS($S$7:S113))),\"\",SMALL($S$7:$S$1504,ROWS($S$7:S113)))","v":""},"",{"$f":"IF(ISERROR(SMALL($U$7:$U$1504,ROWS(U$7:$U113))),\"\",SMALL($U$7:$U$1504,ROWS(U$7:$U113)))","v":""},"",{"$f":"IF(ISERROR(SMALL($W$7:$W$1504,ROWS($W$7:W113))),\"\",SMALL($W$7:$W$1504,ROWS($W$7:W113)))","v":""}]
[null,"Rokiškio r. sav.","Per metus įregistruota juridinių asmenų skaičius | vnt.",37,43,46,72,109,50,68,67,106,94,102,94,72,null,{"$f":"ROWS($R$7:R114)","v":108},"",{"$f":"IF(ISERROR(SMALL($S$7:$S$1504,ROWS($S$7:S114))),\"\",SMALL($S$7:$S$1504,ROWS($S$7:S114)))","v":""},"",{"$f":"IF(ISERROR(SMALL($U$7:$U$1504,ROWS(U$7:$U114))),\"\",SMALL($U$7:$U$1504,ROWS(U$7:$U114)))","v":""},"",{"$f":"IF(ISERROR(SMALL($W$7:$W$1504,ROWS($W$7:W114))),\"\",SMALL($W$7:$W$1504,ROWS($W$7:W114)))","v":""}]
[null,"Šiaulių apskritis","Per metus įregistruota juridinių asmenų skaičius | vnt.",559,563,684,644,754,521,564,585,581,607,683,810,623,null,{"$f":"ROWS($R$7:R115)","v":109},"",{"$f":"IF(ISERROR(SMALL($S$7:$S$1504,ROWS($S$7:S115))),\"\",SMALL($S$7:$S$1504,ROWS($S$7:S115)))","v":""},"",{"$f":"IF(ISERROR(SMALL($U$7:$U$1504,ROWS(U$7:$U115))),\"\",SMALL($U$7:$U$1504,ROWS(U$7:$U115)))","v":""},"",{"$f":"IF(ISERROR(SMALL($W$7:$W$1504,ROWS($W$7:W115))),\"\",SMALL($W$7:$W$1504,ROWS($W$7:W115)))","v":""}]
[null,"Akmenės r. sav.","Per metus įregistruota juridinių asmenų skaičius | vnt.",29,21,46,80,217,33,52,30,62,36,55,63,51,null,{"$f":"ROWS($R$7:R116)","v":110},"",{"$f":"IF(ISERROR(SMALL($S$7:$S$1504,ROWS($S$7:S116))),\"\",SMALL($S$7:$S$1504,ROWS($S$7:S116)))","v":""},"",{"$f":"IF(ISERROR(SMALL($U$7:$U$1504,ROWS(U$7:$U116))),\"\",SMALL($U$7:$U$1504,ROWS(U$7:$U116)))","v":""},"",{"$f":"IF(ISERROR(SMALL($W$7:$W$1504,ROWS($W$7:W116))),\"\",SMALL($W$7:$W$1504,ROWS($W$7:W116)))","v":""}]
[null,"Joniškio r. sav.","Per metus įregistruota juridinių asmenų skaičius | vnt.",35,35,36,42,39,26,25,36,33,40,53,49,37,null,{"$f":"ROWS($R$7:R117)","v":111},"",{"$f":"IF(ISERROR(SMALL($S$7:$S$1504,ROWS($S$7:S117))),\"\",SMALL($S$7:$S$1504,ROWS($S$7:S117)))","v":""},"",{"$f":"IF(ISERROR(SMALL($U$7:$U$1504,ROWS(U$7:$U117))),\"\",SMALL($U$7:$U$1504,ROWS(U$7:$U117)))","v":""},"",{"$f":"IF(ISERROR(SMALL($W$7:$W$1504,ROWS($W$7:W117))),\"\",SMALL($W$7:$W$1504,ROWS($W$7:W117)))","v":""}]
[null,"Kelmės r. sav.","Per metus įregistruota juridinių asmenų skaičius | vnt.",33,40,38,34,32,42,51,69,67,56,67,59,50,null,{"$f":"ROWS($R$7:R118)","v":112},"",{"$f":"IF(ISERROR(SMALL($S$7:$S$1504,ROWS($S$7:S118))),\"\",SMALL($S$7:$S$1504,ROWS($S$7:S118)))","v":""},"",{"$f":"IF(ISERROR(SMALL($U$7:$U$1504,ROWS(U$7:$U118))),\"\",SMALL($U$7:$U$1504,ROWS(U$7:$U118)))","v":""},"",{"$f":"IF(ISERROR(SMALL($W$7:$W$1504,ROWS($W$7:W118))),\"\",SMALL($W$7:$W$1504,ROWS($W$7:W118)))","v":""}]
[null,"Pakruojo r. sav.","Per metus įregistruota juridinių asmenų skaičius | vnt.",26,20,19,24,27,26,27,13,26,23,33,33,17,null,{"$f":"ROWS($R$7:R119)","v":113},"",{"$f":"IF(ISERROR(SMALL($S$7:$S$1504,ROWS($S$7:S119))),\"\",SMALL($S$7:$S$1504,ROWS($S$7:S119)))","v":""},"",{"$f":"IF(ISERROR(SMALL($U$7:$U$1504,ROWS(U$7:$U119))),\"\",SMALL($U$7:$U$1504,ROWS(U$7:$U119)))","v":""},"",{"$f":"IF(ISERROR(SMALL($W$7:$W$1504,ROWS($W$7:W119))),\"\",SMALL($W$7:$W$1504,ROWS($W$7:W119)))","v":""}]
[null,"Radviliškio r. sav.","Per metus įregistruota juridinių asmenų skaičius | vnt.",46,64,84,87,65,69,56,63,50,54,56,75,60,null,{"$f":"ROWS($R$7:R120)","v":114},"",{"$f":"IF(ISERROR(SMALL($S$7:$S$1504,ROWS($S$7:S120))),\"\",SMALL($S$7:$S$1504,ROWS($S$7:S120)))","v":""},"",{"$f":"IF(ISERROR(SMALL($U$7:$U$1504,ROWS(U$7:$U120))),\"\",SMALL($U$7:$U$1504,ROWS(U$7:$U120)))","v":""},"",{"$f":"IF(ISERROR(SMALL($W$7:$W$1504,ROWS($W$7:W120))),\"\",SMALL($W$7:$W$1504,ROWS($W$7:W120)))","v":""}]
[null,"Šiaulių m. sav.","Per metus įregistruota juridinių asmenų skaičius | vnt.",302,288,362,298,298,247,269,255,251,301,305,396,310,null,{"$f":"ROWS($R$7:R121)","v":115},"",{"$f":"IF(ISERROR(SMALL($S$7:$S$1504,ROWS($S$7:S121))),\"\",SMALL($S$7:$S$1504,ROWS($S$7:S121)))","v":""},"",{"$f":"IF(ISERROR(SMALL($U$7:$U$1504,ROWS(U$7:$U121))),\"\",SMALL($U$7:$U$1504,ROWS(U$7:$U121)))","v":""},"",{"$f":"IF(ISERROR(SMALL($W$7:$W$1504,ROWS($W$7:W121))),\"\",SMALL($W$7:$W$1504,ROWS($W$7:W121)))","v":""},null,3,{"$f":"+INDEX($AA$7:$AA$28,Z121)","v":"Per metus išregistruota juridinių asmenų skaičius | vnt."}]
[null,"Šiaulių r. sav.","Per metus įregistruota juridinių asmenų skaičius | vnt.",88,95,99,79,76,78,84,119,92,97,114,135,98,null,{"$f":"ROWS($R$7:R122)","v":116},"",{"$f":"IF(ISERROR(SMALL($S$7:$S$1504,ROWS($S$7:S122))),\"\",SMALL($S$7:$S$1504,ROWS($S$7:S122)))","v":""},"",{"$f":"IF(ISERROR(SMALL($U$7:$U$1504,ROWS(U$7:$U122))),\"\",SMALL($U$7:$U$1504,ROWS(U$7:$U122)))","v":""},"",{"$f":"IF(ISERROR(SMALL($W$7:$W$1504,ROWS($W$7:W122))),\"\",SMALL($W$7:$W$1504,ROWS($W$7:W122)))","v":""},null,null,null,{"$f":"+AB$6","v":"2010"},"2011","2012","2013","2014","2015","2016","2017","2018",2019,2020,2021]
[null,"Tauragės apskritis","Per metus įregistruota juridinių asmenų skaičius | vnt.",167,157,289,159,170,134,183,159,177,201,193,211,190,null,{"$f":"ROWS($R$7:R123)","v":117},"",{"$f":"IF(ISERROR(SMALL($S$7:$S$1504,ROWS($S$7:S123))),\"\",SMALL($S$7:$S$1504,ROWS($S$7:S123)))","v":""},"",{"$f":"IF(ISERROR(SMALL($U$7:$U$1504,ROWS(U$7:$U123))),\"\",SMALL($U$7:$U$1504,ROWS(U$7:$U123)))","v":""},"",{"$f":"IF(ISERROR(SMALL($W$7:$W$1504,ROWS($W$7:W123))),\"\",SMALL($W$7:$W$1504,ROWS($W$7:W123)))","v":""},null,null,{"$f":"+INDEX($Z$7:$Z$28,MATCH($AA121,$AA$7:$AA$28,0))","v":"Vilniaus m. sav."},{"$f":"+INDEX(AB$7:AB$28,MATCH($AA121,$AA$7:$AA$28,0))","v":1970},918,917,950,1046,1341,5423,1597,1666,{"$f":"+INDEX(AK$7:AK$28,MATCH($AA121,$AA$7:$AA$28,0))","v":1736},{"$f":"+INDEX(AL$7:AL$28,MATCH($AA121,$AA$7:$AA$28,0))","v":1114},{"$f":"+INDEX(AM$7:AM$28,MATCH($AA121,$AA$7:$AA$28,0))","v":1642}]
[null,"Jurbarko r. sav.","Per metus įregistruota juridinių asmenų skaičius | vnt.",39,40,40,52,40,42,46,39,54,64,55,66,43,null,{"$f":"ROWS($R$7:R124)","v":118},"",{"$f":"IF(ISERROR(SMALL($S$7:$S$1504,ROWS($S$7:S124))),\"\",SMALL($S$7:$S$1504,ROWS($S$7:S124)))","v":""},"",{"$f":"IF(ISERROR(SMALL($U$7:$U$1504,ROWS(U$7:$U124))),\"\",SMALL($U$7:$U$1504,ROWS(U$7:$U124)))","v":""},"",{"$f":"IF(ISERROR(SMALL($W$7:$W$1504,ROWS($W$7:W124))),\"\",SMALL($W$7:$W$1504,ROWS($W$7:W124)))","v":""},null,null,{"$f":"IF(ISERROR(INDEX($Z$31:$Z$52,MATCH(AA121,$AA$31:$AA$52,0))),\"\",INDEX($Z$31:$Z$52,MATCH(AA121,$AA$31:$AA$52,0)))","v":"Vilniaus apskritis"},{"$f":"IF(ISERROR(INDEX(AB$31:AB$52,MATCH($AA121,$AA$31:$AA$52,0))),\"\",INDEX(AB$31:AB$52,MATCH($AA121,$AA$31:$AA$52,0)))","v":2316},1056,1068,1105,1212,1548,6309,1799,1881,{"$f":"IF(ISERROR(INDEX(AK$31:AK$52,MATCH($AA121,$AA$31:$AA$52,0))),\"\",INDEX(AK$31:AK$52,MATCH($AA121,$AA$31:$AA$52,0)))","v":1915},{"$f":"IF(ISERROR(INDEX(AL$31:AL$52,MATCH($AA121,$AA$31:$AA$52,0))),\"\",INDEX(AL$31:AL$52,MATCH($AA121,$AA$31:$AA$52,0)))","v":1349},{"$f":"IF(ISERROR(INDEX(AM$31:AM$52,MATCH($AA121,$AA$31:$AA$52,0))),\"\",INDEX(AM$31:AM$52,MATCH($AA121,$AA$31:$AA$52,0)))","v":1826}]
[null,"Pagėgių sav.","Per metus įregistruota juridinių asmenų skaičius | vnt.",14,21,31,14,7,7,13,12,5,12,12,19,18,null,{"$f":"ROWS($R$7:R125)","v":119},"",{"$f":"IF(ISERROR(SMALL($S$7:$S$1504,ROWS($S$7:S125))),\"\",SMALL($S$7:$S$1504,ROWS($S$7:S125)))","v":""},"",{"$f":"IF(ISERROR(SMALL($U$7:$U$1504,ROWS(U$7:$U125))),\"\",SMALL($U$7:$U$1504,ROWS(U$7:$U125)))","v":""},"",{"$f":"IF(ISERROR(SMALL($W$7:$W$1504,ROWS($W$7:W125))),\"\",SMALL($W$7:$W$1504,ROWS($W$7:W125)))","v":""},null,null,{"$f":"IF(ISERROR(INDEX($Z$55:$Z$76,MATCH(AA121,$AA$55:$AA$76,0))),\"\",INDEX($Z$55:$Z$76,MATCH(AA121,$AA$55:$AA$76,0)))","v":"Lietuvos Respublika"},{"$f":"IF(ISERROR(INDEX(AB$55:AB$76,MATCH($AA121,$AA$55:$AA$76,0))),\"\",INDEX(AB$55:AB$76,MATCH($AA121,$AA$55:$AA$76,0)))","v":6057},3213,3160,3165,4033,4879,17336,4811,4850,{"$f":"IF(ISERROR(INDEX(AK$55:AK$76,MATCH($AA121,$AA$55:$AA$76,0))),\"\",INDEX(AK$55:AK$76,MATCH($AA121,$AA$55:$AA$76,0)))","v":4776},{"$f":"IF(ISERROR(INDEX(AL$55:AL$76,MATCH($AA121,$AA$55:$AA$76,0))),\"\",INDEX(AL$55:AL$76,MATCH($AA121,$AA$55:$AA$76,0)))","v":3615},{"$f":"IF(ISERROR(INDEX(AM$55:AM$76,MATCH($AA121,$AA$55:$AA$76,0))),\"\",INDEX(AM$55:AM$76,MATCH($AA121,$AA$55:$AA$76,0)))","v":9916}]
[null,"Šilalės r. sav.","Per metus įregistruota juridinių asmenų skaičius | vnt.",37,40,24,30,34,26,35,42,30,40,39,55,46,null,{"$f":"ROWS($R$7:R126)","v":120},"",{"$f":"IF(ISERROR(SMALL($S$7:$S$1504,ROWS($S$7:S126))),\"\",SMALL($S$7:$S$1504,ROWS($S$7:S126)))","v":""},"",{"$f":"IF(ISERROR(SMALL($U$7:$U$1504,ROWS(U$7:$U126))),\"\",SMALL($U$7:$U$1504,ROWS(U$7:$U126)))","v":""},"",{"$f":"IF(ISERROR(SMALL($W$7:$W$1504,ROWS($W$7:W126))),\"\",SMALL($W$7:$W$1504,ROWS($W$7:W126)))","v":""}]
[null,"Tauragės r. sav.","Per metus įregistruota juridinių asmenų skaičius | vnt.",77,56,194,63,89,59,89,66,88,85,87,71,83,null,{"$f":"ROWS($R$7:R127)","v":121},"",{"$f":"IF(ISERROR(SMALL($S$7:$S$1504,ROWS($S$7:S127))),\"\",SMALL($S$7:$S$1504,ROWS($S$7:S127)))","v":""},"",{"$f":"IF(ISERROR(SMALL($U$7:$U$1504,ROWS(U$7:$U127))),\"\",SMALL($U$7:$U$1504,ROWS(U$7:$U127)))","v":""},"",{"$f":"IF(ISERROR(SMALL($W$7:$W$1504,ROWS($W$7:W127))),\"\",SMALL($W$7:$W$1504,ROWS($W$7:W127)))","v":""}]
[null,"Telšių apskritis","Per metus įregistruota juridinių asmenų skaičius | vnt.",246,280,331,291,257,250,274,260,299,293,361,322,320,null,{"$f":"ROWS($R$7:R128)","v":122},"",{"$f":"IF(ISERROR(SMALL($S$7:$S$1504,ROWS($S$7:S128))),\"\",SMALL($S$7:$S$1504,ROWS($S$7:S128)))","v":""},"",{"$f":"IF(ISERROR(SMALL($U$7:$U$1504,ROWS(U$7:$U128))),\"\",SMALL($U$7:$U$1504,ROWS(U$7:$U128)))","v":""},"",{"$f":"IF(ISERROR(SMALL($W$7:$W$1504,ROWS($W$7:W128))),\"\",SMALL($W$7:$W$1504,ROWS($W$7:W128)))","v":""}]
[null,"Mažeikių r. sav.","Per metus įregistruota juridinių asmenų skaičius | vnt.",112,111,169,110,113,107,114,118,112,104,123,121,126,null,{"$f":"ROWS($R$7:R129)","v":123},"",{"$f":"IF(ISERROR(SMALL($S$7:$S$1504,ROWS($S$7:S129))),\"\",SMALL($S$7:$S$1504,ROWS($S$7:S129)))","v":""},"",{"$f":"IF(ISERROR(SMALL($U$7:$U$1504,ROWS(U$7:$U129))),\"\",SMALL($U$7:$U$1504,ROWS(U$7:$U129)))","v":""},"",{"$f":"IF(ISERROR(SMALL($W$7:$W$1504,ROWS($W$7:W129))),\"\",SMALL($W$7:$W$1504,ROWS($W$7:W129)))","v":""}]
[null,"Plungės r. sav.","Per metus įregistruota juridinių asmenų skaičius | vnt.",52,78,78,78,58,52,62,50,73,81,107,68,87,null,{"$f":"ROWS($R$7:R130)","v":124},"",{"$f":"IF(ISERROR(SMALL($S$7:$S$1504,ROWS($S$7:S130))),\"\",SMALL($S$7:$S$1504,ROWS($S$7:S130)))","v":""},"",{"$f":"IF(ISERROR(SMALL($U$7:$U$1504,ROWS(U$7:$U130))),\"\",SMALL($U$7:$U$1504,ROWS(U$7:$U130)))","v":""},"",{"$f":"IF(ISERROR(SMALL($W$7:$W$1504,ROWS($W$7:W130))),\"\",SMALL($W$7:$W$1504,ROWS($W$7:W130)))","v":""}]
[null,"Rietavo sav.","Per metus įregistruota juridinių asmenų skaičius | vnt.",15,19,12,12,12,16,14,12,15,10,29,22,23,null,{"$f":"ROWS($R$7:R131)","v":125},"",{"$f":"IF(ISERROR(SMALL($S$7:$S$1504,ROWS($S$7:S131))),\"\",SMALL($S$7:$S$1504,ROWS($S$7:S131)))","v":""},"",{"$f":"IF(ISERROR(SMALL($U$7:$U$1504,ROWS(U$7:$U131))),\"\",SMALL($U$7:$U$1504,ROWS(U$7:$U131)))","v":""},"",{"$f":"IF(ISERROR(SMALL($W$7:$W$1504,ROWS($W$7:W131))),\"\",SMALL($W$7:$W$1504,ROWS($W$7:W131)))","v":""}]
[null,"Telšių r. sav.","Per metus įregistruota juridinių asmenų skaičius | vnt.",67,72,72,91,74,75,84,80,99,98,102,111,84,null,{"$f":"ROWS($R$7:R132)","v":126},"",{"$f":"IF(ISERROR(SMALL($S$7:$S$1504,ROWS($S$7:S132))),\"\",SMALL($S$7:$S$1504,ROWS($S$7:S132)))","v":""},"",{"$f":"IF(ISERROR(SMALL($U$7:$U$1504,ROWS(U$7:$U132))),\"\",SMALL($U$7:$U$1504,ROWS(U$7:$U132)))","v":""},"",{"$f":"IF(ISERROR(SMALL($W$7:$W$1504,ROWS($W$7:W132))),\"\",SMALL($W$7:$W$1504,ROWS($W$7:W132)))","v":""}]
[null,"Utenos apskritis","Per metus įregistruota juridinių asmenų skaičius | vnt.",245,252,381,244,194,251,239,235,307,336,353,344,272,null,{"$f":"ROWS($R$7:R133)","v":127},"",{"$f":"IF(ISERROR(SMALL($S$7:$S$1504,ROWS($S$7:S133))),\"\",SMALL($S$7:$S$1504,ROWS($S$7:S133)))","v":""},"",{"$f":"IF(ISERROR(SMALL($U$7:$U$1504,ROWS(U$7:$U133))),\"\",SMALL($U$7:$U$1504,ROWS(U$7:$U133)))","v":""},"",{"$f":"IF(ISERROR(SMALL($W$7:$W$1504,ROWS($W$7:W133))),\"\",SMALL($W$7:$W$1504,ROWS($W$7:W133)))","v":""}]
[null,"Anykščių r. sav.","Per metus įregistruota juridinių asmenų skaičius | vnt.",45,47,53,45,33,41,54,38,49,72,64,63,52,null,{"$f":"ROWS($R$7:R134)","v":128},"",{"$f":"IF(ISERROR(SMALL($S$7:$S$1504,ROWS($S$7:S134))),\"\",SMALL($S$7:$S$1504,ROWS($S$7:S134)))","v":""},"",{"$f":"IF(ISERROR(SMALL($U$7:$U$1504,ROWS(U$7:$U134))),\"\",SMALL($U$7:$U$1504,ROWS(U$7:$U134)))","v":""},"",{"$f":"IF(ISERROR(SMALL($W$7:$W$1504,ROWS($W$7:W134))),\"\",SMALL($W$7:$W$1504,ROWS($W$7:W134)))","v":""}]
[null,"Ignalinos r. sav.","Per metus įregistruota juridinių asmenų skaičius | vnt.",18,13,25,17,15,36,30,22,40,33,51,45,36,null,{"$f":"ROWS($R$7:R135)","v":129},{"$f":"IF(ISNUMBER(SEARCH($R$3,B135)),R135,\"\")","v":""},{"$f":"IF(ISERROR(SMALL($S$7:$S$1504,ROWS($S$7:S135))),\"\",SMALL($S$7:$S$1504,ROWS($S$7:S135)))","v":""},{"$f":"IF($R$4=B135,R135,\"\")","v":""},{"$f":"IF(ISERROR(SMALL($U$7:$U$1504,ROWS(U$7:$U135))),\"\",SMALL($U$7:$U$1504,ROWS(U$7:$U135)))","v":""},{"$f":"IF(\"Lietuvos Respublika\"=B135,R135,\"\")","v":""},{"$f":"IF(ISERROR(SMALL($W$7:$W$1504,ROWS($W$7:W135))),\"\",SMALL($W$7:$W$1504,ROWS($W$7:W135)))","v":""}]
[null,"Molėtų r. sav.","Per metus įregistruota juridinių asmenų skaičius | vnt.",38,36,72,32,34,39,30,59,54,43,64,62,56,null,{"$f":"ROWS($R$7:R136)","v":130},"",{"$f":"IF(ISERROR(SMALL($S$7:$S$1504,ROWS($S$7:S136))),\"\",SMALL($S$7:$S$1504,ROWS($S$7:S136)))","v":""},"",{"$f":"IF(ISERROR(SMALL($U$7:$U$1504,ROWS(U$7:$U136))),\"\",SMALL($U$7:$U$1504,ROWS(U$7:$U136)))","v":""},"",{"$f":"IF(ISERROR(SMALL($W$7:$W$1504,ROWS($W$7:W136))),\"\",SMALL($W$7:$W$1504,ROWS($W$7:W136)))","v":""}]
[null,"Utenos r. sav.","Per metus įregistruota juridinių asmenų skaičius | vnt.",80,67,147,76,58,66,61,61,64,63,80,93,75,null,{"$f":"ROWS($R$7:R137)","v":131},"",{"$f":"IF(ISERROR(SMALL($S$7:$S$1504,ROWS($S$7:S137))),\"\",SMALL($S$7:$S$1504,ROWS($S$7:S137)))","v":""},"",{"$f":"IF(ISERROR(SMALL($U$7:$U$1504,ROWS(U$7:$U137))),\"\",SMALL($U$7:$U$1504,ROWS(U$7:$U137)))","v":""},"",{"$f":"IF(ISERROR(SMALL($W$7:$W$1504,ROWS($W$7:W137))),\"\",SMALL($W$7:$W$1504,ROWS($W$7:W137)))","v":""}]
[null,"Visagino sav.","Per metus įregistruota juridinių asmenų skaičius | vnt.",32,60,41,46,37,35,20,21,30,44,34,39,18,null,{"$f":"ROWS($R$7:R138)","v":132},"",{"$f":"IF(ISERROR(SMALL($S$7:$S$1504,ROWS($S$7:S138))),\"\",SMALL($S$7:$S$1504,ROWS($S$7:S138)))","v":""},"",{"$f":"IF(ISERROR(SMALL($U$7:$U$1504,ROWS(U$7:$U138))),\"\",SMALL($U$7:$U$1504,ROWS(U$7:$U138)))","v":""},"",{"$f":"IF(ISERROR(SMALL($W$7:$W$1504,ROWS($W$7:W138))),\"\",SMALL($W$7:$W$1504,ROWS($W$7:W138)))","v":""}]
[null,"Zarasų r. sav.","Per metus įregistruota juridinių asmenų skaičius | vnt.",32,29,43,28,17,34,44,34,70,81,60,42,35,null,{"$f":"ROWS($R$7:R139)","v":133},"",{"$f":"IF(ISERROR(SMALL($S$7:$S$1504,ROWS($S$7:S139))),\"\",SMALL($S$7:$S$1504,ROWS($S$7:S139)))","v":""},"",{"$f":"IF(ISERROR(SMALL($U$7:$U$1504,ROWS(U$7:$U139))),\"\",SMALL($U$7:$U$1504,ROWS(U$7:$U139)))","v":""},"",{"$f":"IF(ISERROR(SMALL($W$7:$W$1504,ROWS($W$7:W139))),\"\",SMALL($W$7:$W$1504,ROWS($W$7:W139)))","v":""}]
[null,"Vilniaus apskritis","Per metus įregistruota juridinių asmenų skaičius | vnt.",4515,5444,8082,7551,7891,4951,5078,5711,5683,6143,6353,7393,7514,null,{"$f":"ROWS($R$7:R140)","v":134},"",{"$f":"IF(ISERROR(SMALL($S$7:$S$1504,ROWS($S$7:S140))),\"\",SMALL($S$7:$S$1504,ROWS($S$7:S140)))","v":""},134,{"$f":"IF(ISERROR(SMALL($U$7:$U$1504,ROWS(U$7:$U140))),\"\",SMALL($U$7:$U$1504,ROWS(U$7:$U140)))","v":""},"",{"$f":"IF(ISERROR(SMALL($W$7:$W$1504,ROWS($W$7:W140))),\"\",SMALL($W$7:$W$1504,ROWS($W$7:W140)))","v":""}]
[null,"Elektrėnų sav.","Per metus įregistruota juridinių asmenų skaičius | vnt.",45,41,48,40,52,34,33,41,60,60,83,57,32,null,{"$f":"ROWS($R$7:R141)","v":135},"",{"$f":"IF(ISERROR(SMALL($S$7:$S$1504,ROWS($S$7:S141))),\"\",SMALL($S$7:$S$1504,ROWS($S$7:S141)))","v":""},"",{"$f":"IF(ISERROR(SMALL($U$7:$U$1504,ROWS(U$7:$U141))),\"\",SMALL($U$7:$U$1504,ROWS(U$7:$U141)))","v":""},"",{"$f":"IF(ISERROR(SMALL($W$7:$W$1504,ROWS($W$7:W141))),\"\",SMALL($W$7:$W$1504,ROWS($W$7:W141)))","v":""}]
[null,"Šalčininkų r. sav.","Per metus įregistruota juridinių asmenų skaičius | vnt.",37,51,38,70,128,41,37,37,37,45,52,49,44,null,{"$f":"ROWS($R$7:R142)","v":136},"",{"$f":"IF(ISERROR(SMALL($S$7:$S$1504,ROWS($S$7:S142))),\"\",SMALL($S$7:$S$1504,ROWS($S$7:S142)))","v":""},"",{"$f":"IF(ISERROR(SMALL($U$7:$U$1504,ROWS(U$7:$U142))),\"\",SMALL($U$7:$U$1504,ROWS(U$7:$U142)))","v":""},"",{"$f":"IF(ISERROR(SMALL($W$7:$W$1504,ROWS($W$7:W142))),\"\",SMALL($W$7:$W$1504,ROWS($W$7:W142)))","v":""},null,4,{"$f":"+INDEX($AA$7:$AA$28,Z142)","v":"Per metus įregistruota mažų ir vidutinių įmonių | vnt."}]
[null,"Širvintų r. sav.","Per metus įregistruota juridinių asmenų skaičius | vnt.",32,31,29,43,30,38,34,35,45,31,65,58,45,null,{"$f":"ROWS($R$7:R143)","v":137},"",{"$f":"IF(ISERROR(SMALL($S$7:$S$1504,ROWS($S$7:S143))),\"\",SMALL($S$7:$S$1504,ROWS($S$7:S143)))","v":""},"",{"$f":"IF(ISERROR(SMALL($U$7:$U$1504,ROWS(U$7:$U143))),\"\",SMALL($U$7:$U$1504,ROWS(U$7:$U143)))","v":""},"",{"$f":"IF(ISERROR(SMALL($W$7:$W$1504,ROWS($W$7:W143))),\"\",SMALL($W$7:$W$1504,ROWS($W$7:W143)))","v":""},null,null,null,{"$f":"+AB$6","v":"2010"},"2011","2012","2013","2014","2015","2016","2017","2018",2019,2020,2021,2022]
[null,"Švenčionių r. sav.","Per metus įregistruota juridinių asmenų skaičius | vnt.",33,35,54,22,26,35,44,29,36,35,53,37,33,null,{"$f":"ROWS($R$7:R144)","v":138},"",{"$f":"IF(ISERROR(SMALL($S$7:$S$1504,ROWS($S$7:S144))),\"\",SMALL($S$7:$S$1504,ROWS($S$7:S144)))","v":""},"",{"$f":"IF(ISERROR(SMALL($U$7:$U$1504,ROWS(U$7:$U144))),\"\",SMALL($U$7:$U$1504,ROWS(U$7:$U144)))","v":""},"",{"$f":"IF(ISERROR(SMALL($W$7:$W$1504,ROWS($W$7:W144))),\"\",SMALL($W$7:$W$1504,ROWS($W$7:W144)))","v":""},null,null,{"$f":"+INDEX($Z$7:$Z$28,MATCH($AA142,$AA$7:$AA$28,0))","v":"Vilniaus m. sav."},{"$f":"+INDEX(AB$7:AB$28,MATCH($AA142,$AA$7:$AA$28,0))","v":3308},4241,6742,6205,6546,3747,3948,4486,4460,{"$f":"+INDEX(AK$7:AK$28,MATCH($AA142,$AA$7:$AA$28,0))","v":4761},{"$f":"+INDEX(AL$7:AL$28,MATCH($AA142,$AA$7:$AA$28,0))","v":4815},{"$f":"+INDEX(AM$7:AM$28,MATCH($AA142,$AA$7:$AA$28,0))","v":6047},{"$f":"+INDEX(AN$7:AN$28,MATCH($AA142,$AA$7:$AA$28,0))","v":6041}]
[null,"Trakų r. sav.","Per metus įregistruota juridinių asmenų skaičius | vnt.",61,53,134,81,52,55,52,88,92,101,117,108,107,null,{"$f":"ROWS($R$7:R145)","v":139},"",{"$f":"IF(ISERROR(SMALL($S$7:$S$1504,ROWS($S$7:S145))),\"\",SMALL($S$7:$S$1504,ROWS($S$7:S145)))","v":""},"",{"$f":"IF(ISERROR(SMALL($U$7:$U$1504,ROWS(U$7:$U145))),\"\",SMALL($U$7:$U$1504,ROWS(U$7:$U145)))","v":""},"",{"$f":"IF(ISERROR(SMALL($W$7:$W$1504,ROWS($W$7:W145))),\"\",SMALL($W$7:$W$1504,ROWS($W$7:W145)))","v":""},null,null,{"$f":"IF(ISERROR(INDEX($Z$31:$Z$52,MATCH(AA142,$AA$31:$AA$52,0))),\"\",INDEX($Z$31:$Z$52,MATCH(AA142,$AA$31:$AA$52,0)))","v":"Vilniaus apskritis"},{"$f":"IF(ISERROR(INDEX(AB$31:AB$52,MATCH($AA142,$AA$31:$AA$52,0))),\"\",INDEX(AB$31:AB$52,MATCH($AA142,$AA$31:$AA$52,0)))","v":3701},4683,7345,6729,7115,4127,4415,4981,5077,{"$f":"IF(ISERROR(INDEX(AK$31:AK$52,MATCH($AA142,$AA$31:$AA$52,0))),\"\",INDEX(AK$31:AK$52,MATCH($AA142,$AA$31:$AA$52,0)))","v":5432},{"$f":"IF(ISERROR(INDEX(AL$31:AL$52,MATCH($AA142,$AA$31:$AA$52,0))),\"\",INDEX(AL$31:AL$52,MATCH($AA142,$AA$31:$AA$52,0)))","v":5651},{"$f":"IF(ISERROR(INDEX(AM$31:AM$52,MATCH($AA142,$AA$31:$AA$52,0))),\"\",INDEX(AM$31:AM$52,MATCH($AA142,$AA$31:$AA$52,0)))","v":6874},{"$f":"IF(ISERROR(INDEX(AN$31:AN$52,MATCH($AA142,$AA$31:$AA$52,0))),\"\",INDEX(AN$31:AN$52,MATCH($AA142,$AA$31:$AA$52,0)))","v":6691}]
[null,"Ukmergės r. sav.","Per metus įregistruota juridinių asmenų skaičius | vnt.",53,61,70,53,44,47,67,78,51,91,86,87,73,null,{"$f":"ROWS($R$7:R146)","v":140},"",{"$f":"IF(ISERROR(SMALL($S$7:$S$1504,ROWS($S$7:S146))),\"\",SMALL($S$7:$S$1504,ROWS($S$7:S146)))","v":""},"",{"$f":"IF(ISERROR(SMALL($U$7:$U$1504,ROWS(U$7:$U146))),\"\",SMALL($U$7:$U$1504,ROWS(U$7:$U146)))","v":""},"",{"$f":"IF(ISERROR(SMALL($W$7:$W$1504,ROWS($W$7:W146))),\"\",SMALL($W$7:$W$1504,ROWS($W$7:W146)))","v":""},null,null,{"$f":"IF(ISERROR(INDEX($Z$55:$Z$76,MATCH(AA142,$AA$55:$AA$76,0))),\"\",INDEX($Z$55:$Z$76,MATCH(AA142,$AA$55:$AA$76,0)))","v":"Lietuvos Respublika"},{"$f":"IF(ISERROR(INDEX(AB$55:AB$76,MATCH($AA142,$AA$55:$AA$76,0))),\"\",INDEX(AB$55:AB$76,MATCH($AA142,$AA$55:$AA$76,0)))","v":7173},8634,13018,11663,12143,8274,8887,9881,10457,{"$f":"IF(ISERROR(INDEX(AK$55:AK$76,MATCH($AA142,$AA$55:$AA$76,0))),\"\",INDEX(AK$55:AK$76,MATCH($AA142,$AA$55:$AA$76,0)))","v":11153},{"$f":"IF(ISERROR(INDEX(AL$55:AL$76,MATCH($AA142,$AA$55:$AA$76,0))),\"\",INDEX(AL$55:AL$76,MATCH($AA142,$AA$55:$AA$76,0)))","v":11830},{"$f":"IF(ISERROR(INDEX(AM$55:AM$76,MATCH($AA142,$AA$55:$AA$76,0))),\"\",INDEX(AM$55:AM$76,MATCH($AA142,$AA$55:$AA$76,0)))","v":13767},{"$f":"IF(ISERROR(INDEX(AN$55:AN$76,MATCH($AA142,$AA$55:$AA$76,0))),\"\",INDEX(AN$55:AN$76,MATCH($AA142,$AA$55:$AA$76,0)))","v":12716}]
[null,"Vilniaus m. sav.","Per metus įregistruota juridinių asmenų skaičius | vnt.",4001,4865,7369,6918,7205,4450,4520,5116,5014,5353,5405,6473,6737,null,{"$f":"ROWS($R$7:R147)","v":141},141,{"$f":"IF(ISERROR(SMALL($S$7:$S$1504,ROWS($S$7:S147))),\"\",SMALL($S$7:$S$1504,ROWS($S$7:S147)))","v":""},"",{"$f":"IF(ISERROR(SMALL($U$7:$U$1504,ROWS(U$7:$U147))),\"\",SMALL($U$7:$U$1504,ROWS(U$7:$U147)))","v":""},"",{"$f":"IF(ISERROR(SMALL($W$7:$W$1504,ROWS($W$7:W147))),\"\",SMALL($W$7:$W$1504,ROWS($W$7:W147)))","v":""}]
[null,"Vilniaus r. sav.","Per metus įregistruota juridinių asmenų skaičius | vnt.",253,307,340,324,354,251,291,287,348,427,492,524,443,null,{"$f":"ROWS($R$7:R148)","v":142},"",{"$f":"IF(ISERROR(SMALL($S$7:$S$1504,ROWS($S$7:S148))),\"\",SMALL($S$7:$S$1504,ROWS($S$7:S148)))","v":""},"",{"$f":"IF(ISERROR(SMALL($U$7:$U$1504,ROWS(U$7:$U148))),\"\",SMALL($U$7:$U$1504,ROWS(U$7:$U148)))","v":""},"",{"$f":"IF(ISERROR(SMALL($W$7:$W$1504,ROWS($W$7:W148))),\"\",SMALL($W$7:$W$1504,ROWS($W$7:W148)))","v":""}]
[null,"Lietuvos Respublika","Per metus išregistruota juridinių asmenų skaičius | vnt.",6057,3213,3160,3165,4033,4879,17336,4811,4850,4776,3615,9916,22611,null,{"$f":"ROWS($R$7:R149)","v":143},"",{"$f":"IF(ISERROR(SMALL($S$7:$S$1504,ROWS($S$7:S149))),\"\",SMALL($S$7:$S$1504,ROWS($S$7:S149)))","v":""},"",{"$f":"IF(ISERROR(SMALL($U$7:$U$1504,ROWS(U$7:$U149))),\"\",SMALL($U$7:$U$1504,ROWS(U$7:$U149)))","v":""},143,{"$f":"IF(ISERROR(SMALL($W$7:$W$1504,ROWS($W$7:W149))),\"\",SMALL($W$7:$W$1504,ROWS($W$7:W149)))","v":""}]
[null,"Alytaus apskritis","Per metus išregistruota juridinių asmenų skaičius | vnt.",232,154,131,150,180,224,608,186,158,177,119,555,246,null,{"$f":"ROWS($R$7:R150)","v":144},"",{"$f":"IF(ISERROR(SMALL($S$7:$S$1504,ROWS($S$7:S150))),\"\",SMALL($S$7:$S$1504,ROWS($S$7:S150)))","v":""},"",{"$f":"IF(ISERROR(SMALL($U$7:$U$1504,ROWS(U$7:$U150))),\"\",SMALL($U$7:$U$1504,ROWS(U$7:$U150)))","v":""},"",{"$f":"IF(ISERROR(SMALL($W$7:$W$1504,ROWS($W$7:W150))),\"\",SMALL($W$7:$W$1504,ROWS($W$7:W150)))","v":""}]
[null,"Alytaus m. sav.","Per metus išregistruota juridinių asmenų skaičius | vnt.",114,81,62,58,81,102,264,90,76,82,48,300,138,null,{"$f":"ROWS($R$7:R151)","v":145},"",{"$f":"IF(ISERROR(SMALL($S$7:$S$1504,ROWS($S$7:S151))),\"\",SMALL($S$7:$S$1504,ROWS($S$7:S151)))","v":""},"",{"$f":"IF(ISERROR(SMALL($U$7:$U$1504,ROWS(U$7:$U151))),\"\",SMALL($U$7:$U$1504,ROWS(U$7:$U151)))","v":""},"",{"$f":"IF(ISERROR(SMALL($W$7:$W$1504,ROWS($W$7:W151))),\"\",SMALL($W$7:$W$1504,ROWS($W$7:W151)))","v":""}]
[null,"Alytaus r. sav.","Per metus išregistruota juridinių asmenų skaičius | vnt.",35,15,19,20,28,18,72,33,21,26,17,63,22,null,{"$f":"ROWS($R$7:R152)","v":146},"",{"$f":"IF(ISERROR(SMALL($S$7:$S$1504,ROWS($S$7:S152))),\"\",SMALL($S$7:$S$1504,ROWS($S$7:S152)))","v":""},"",{"$f":"IF(ISERROR(SMALL($U$7:$U$1504,ROWS(U$7:$U152))),\"\",SMALL($U$7:$U$1504,ROWS(U$7:$U152)))","v":""},"",{"$f":"IF(ISERROR(SMALL($W$7:$W$1504,ROWS($W$7:W152))),\"\",SMALL($W$7:$W$1504,ROWS($W$7:W152)))","v":""}]
[null,"Druskininkų sav.","Per metus išregistruota juridinių asmenų skaičius | vnt.",29,28,20,41,37,60,133,26,30,37,21,102,49,null,{"$f":"ROWS($R$7:R153)","v":147},"",{"$f":"IF(ISERROR(SMALL($S$7:$S$1504,ROWS($S$7:S153))),\"\",SMALL($S$7:$S$1504,ROWS($S$7:S153)))","v":""},"",{"$f":"IF(ISERROR(SMALL($U$7:$U$1504,ROWS(U$7:$U153))),\"\",SMALL($U$7:$U$1504,ROWS(U$7:$U153)))","v":""},"",{"$f":"IF(ISERROR(SMALL($W$7:$W$1504,ROWS($W$7:W153))),\"\",SMALL($W$7:$W$1504,ROWS($W$7:W153)))","v":""}]
[null,"Lazdijų r. sav.","Per metus išregistruota juridinių asmenų skaičius | vnt.",14,11,14,12,17,15,38,15,13,11,19,31,13,null,{"$f":"ROWS($R$7:R154)","v":148},"",{"$f":"IF(ISERROR(SMALL($S$7:$S$1504,ROWS($S$7:S154))),\"\",SMALL($S$7:$S$1504,ROWS($S$7:S154)))","v":""},"",{"$f":"IF(ISERROR(SMALL($U$7:$U$1504,ROWS(U$7:$U154))),\"\",SMALL($U$7:$U$1504,ROWS(U$7:$U154)))","v":""},"",{"$f":"IF(ISERROR(SMALL($W$7:$W$1504,ROWS($W$7:W154))),\"\",SMALL($W$7:$W$1504,ROWS($W$7:W154)))","v":""}]
[null,"Varėnos r. sav.","Per metus išregistruota juridinių asmenų skaičius | vnt.",40,19,16,19,17,29,101,22,18,21,14,59,24,null,{"$f":"ROWS($R$7:R155)","v":149},"",{"$f":"IF(ISERROR(SMALL($S$7:$S$1504,ROWS($S$7:S155))),\"\",SMALL($S$7:$S$1504,ROWS($S$7:S155)))","v":""},"",{"$f":"IF(ISERROR(SMALL($U$7:$U$1504,ROWS(U$7:$U155))),\"\",SMALL($U$7:$U$1504,ROWS(U$7:$U155)))","v":""},"",{"$f":"IF(ISERROR(SMALL($W$7:$W$1504,ROWS($W$7:W155))),\"\",SMALL($W$7:$W$1504,ROWS($W$7:W155)))","v":""}]
[null,"Kauno apskritis","Per metus išregistruota juridinių asmenų skaičius | vnt.",940,571,591,618,887,898,3821,975,920,930,692,2229,4499,null,{"$f":"ROWS($R$7:R156)","v":150},"",{"$f":"IF(ISERROR(SMALL($S$7:$S$1504,ROWS($S$7:S156))),\"\",SMALL($S$7:$S$1504,ROWS($S$7:S156)))","v":""},"",{"$f":"IF(ISERROR(SMALL($U$7:$U$1504,ROWS(U$7:$U156))),\"\",SMALL($U$7:$U$1504,ROWS(U$7:$U156)))","v":""},"",{"$f":"IF(ISERROR(SMALL($W$7:$W$1504,ROWS($W$7:W156))),\"\",SMALL($W$7:$W$1504,ROWS($W$7:W156)))","v":""}]
[null,"Birštono sav.","Per metus išregistruota juridinių asmenų skaičius | vnt.",6,2,6,3,1,12,16,2,1,6,5,9,10,null,{"$f":"ROWS($R$7:R157)","v":151},"",{"$f":"IF(ISERROR(SMALL($S$7:$S$1504,ROWS($S$7:S157))),\"\",SMALL($S$7:$S$1504,ROWS($S$7:S157)))","v":""},"",{"$f":"IF(ISERROR(SMALL($U$7:$U$1504,ROWS(U$7:$U157))),\"\",SMALL($U$7:$U$1504,ROWS(U$7:$U157)))","v":""},"",{"$f":"IF(ISERROR(SMALL($W$7:$W$1504,ROWS($W$7:W157))),\"\",SMALL($W$7:$W$1504,ROWS($W$7:W157)))","v":""}]
[null,"Jonavos r. sav.","Per metus išregistruota juridinių asmenų skaičius | vnt.",40,20,22,28,33,69,195,42,39,30,35,128,150,null,{"$f":"ROWS($R$7:R158)","v":152},"",{"$f":"IF(ISERROR(SMALL($S$7:$S$1504,ROWS($S$7:S158))),\"\",SMALL($S$7:$S$1504,ROWS($S$7:S158)))","v":""},"",{"$f":"IF(ISERROR(SMALL($U$7:$U$1504,ROWS(U$7:$U158))),\"\",SMALL($U$7:$U$1504,ROWS(U$7:$U158)))","v":""},"",{"$f":"IF(ISERROR(SMALL($W$7:$W$1504,ROWS($W$7:W158))),\"\",SMALL($W$7:$W$1504,ROWS($W$7:W158)))","v":""}]
[null,"Kaišiadorių r. sav.","Per metus išregistruota juridinių asmenų skaičius | vnt.",26,14,14,10,24,19,75,19,24,18,16,40,99,null,{"$f":"ROWS($R$7:R159)","v":153},"",{"$f":"IF(ISERROR(SMALL($S$7:$S$1504,ROWS($S$7:S159))),\"\",SMALL($S$7:$S$1504,ROWS($S$7:S159)))","v":""},"",{"$f":"IF(ISERROR(SMALL($U$7:$U$1504,ROWS(U$7:$U159))),\"\",SMALL($U$7:$U$1504,ROWS(U$7:$U159)))","v":""},"",{"$f":"IF(ISERROR(SMALL($W$7:$W$1504,ROWS($W$7:W159))),\"\",SMALL($W$7:$W$1504,ROWS($W$7:W159)))","v":""}]
[null,"Kauno m. sav.","Per metus išregistruota juridinių asmenų skaičius | vnt.",625,421,424,417,624,631,2804,695,669,683,487,1665,3460,null,{"$f":"ROWS($R$7:R160)","v":154},"",{"$f":"IF(ISERROR(SMALL($S$7:$S$1504,ROWS($S$7:S160))),\"\",SMALL($S$7:$S$1504,ROWS($S$7:S160)))","v":""},"",{"$f":"IF(ISERROR(SMALL($U$7:$U$1504,ROWS(U$7:$U160))),\"\",SMALL($U$7:$U$1504,ROWS(U$7:$U160)))","v":""},"",{"$f":"IF(ISERROR(SMALL($W$7:$W$1504,ROWS($W$7:W160))),\"\",SMALL($W$7:$W$1504,ROWS($W$7:W160)))","v":""}]
[null,"Kauno r. sav.","Per metus išregistruota juridinių asmenų skaičius | vnt.",95,59,55,79,103,84,328,108,106,114,79,202,479,null,{"$f":"ROWS($R$7:R161)","v":155},"",{"$f":"IF(ISERROR(SMALL($S$7:$S$1504,ROWS($S$7:S161))),\"\",SMALL($S$7:$S$1504,ROWS($S$7:S161)))","v":""},"",{"$f":"IF(ISERROR(SMALL($U$7:$U$1504,ROWS(U$7:$U161))),\"\",SMALL($U$7:$U$1504,ROWS(U$7:$U161)))","v":""},"",{"$f":"IF(ISERROR(SMALL($W$7:$W$1504,ROWS($W$7:W161))),\"\",SMALL($W$7:$W$1504,ROWS($W$7:W161)))","v":""}]
[null,"Kėdainių r. sav.","Per metus išregistruota juridinių asmenų skaičius | vnt.",91,29,39,39,59,34,162,49,34,32,29,73,106,null,{"$f":"ROWS($R$7:R162)","v":156},"",{"$f":"IF(ISERROR(SMALL($S$7:$S$1504,ROWS($S$7:S162))),\"\",SMALL($S$7:$S$1504,ROWS($S$7:S162)))","v":""},"",{"$f":"IF(ISERROR(SMALL($U$7:$U$1504,ROWS(U$7:$U162))),\"\",SMALL($U$7:$U$1504,ROWS(U$7:$U162)))","v":""},"",{"$f":"IF(ISERROR(SMALL($W$7:$W$1504,ROWS($W$7:W162))),\"\",SMALL($W$7:$W$1504,ROWS($W$7:W162)))","v":""}]
[null,"Prienų r. sav.","Per metus išregistruota juridinių asmenų skaičius | vnt.",33,15,22,14,17,21,131,26,26,18,17,44,72,null,{"$f":"ROWS($R$7:R163)","v":157},"",{"$f":"IF(ISERROR(SMALL($S$7:$S$1504,ROWS($S$7:S163))),\"\",SMALL($S$7:$S$1504,ROWS($S$7:S163)))","v":""},"",{"$f":"IF(ISERROR(SMALL($U$7:$U$1504,ROWS(U$7:$U163))),\"\",SMALL($U$7:$U$1504,ROWS(U$7:$U163)))","v":""},"",{"$f":"IF(ISERROR(SMALL($W$7:$W$1504,ROWS($W$7:W163))),\"\",SMALL($W$7:$W$1504,ROWS($W$7:W163)))","v":""},null,5,{"$f":"+INDEX($AA$7:$AA$28,Z163)","v":"Per metus išregistruota mažų ir vidutinių įmonių | vnt."}]
[null,"Raseinių r. sav.","Per metus išregistruota juridinių asmenų skaičius | vnt.",24,11,9,28,26,28,110,34,21,29,24,68,123,null,{"$f":"ROWS($R$7:R164)","v":158},"",{"$f":"IF(ISERROR(SMALL($S$7:$S$1504,ROWS($S$7:S164))),\"\",SMALL($S$7:$S$1504,ROWS($S$7:S164)))","v":""},"",{"$f":"IF(ISERROR(SMALL($U$7:$U$1504,ROWS(U$7:$U164))),\"\",SMALL($U$7:$U$1504,ROWS(U$7:$U164)))","v":""},"",{"$f":"IF(ISERROR(SMALL($W$7:$W$1504,ROWS($W$7:W164))),\"\",SMALL($W$7:$W$1504,ROWS($W$7:W164)))","v":""},null,null,null,{"$f":"+AB$6","v":"2010"},"2011","2012","2013","2014","2015","2016","2017","2018",2019,2020,2021,2022]
[null,"Klaipėdos apskritis","Per metus išregistruota juridinių asmenų skaičius | vnt.",689,421,466,443,601,810,2057,618,614,672,485,3034,1394,null,{"$f":"ROWS($R$7:R165)","v":159},"",{"$f":"IF(ISERROR(SMALL($S$7:$S$1504,ROWS($S$7:S165))),\"\",SMALL($S$7:$S$1504,ROWS($S$7:S165)))","v":""},"",{"$f":"IF(ISERROR(SMALL($U$7:$U$1504,ROWS(U$7:$U165))),\"\",SMALL($U$7:$U$1504,ROWS(U$7:$U165)))","v":""},"",{"$f":"IF(ISERROR(SMALL($W$7:$W$1504,ROWS($W$7:W165))),\"\",SMALL($W$7:$W$1504,ROWS($W$7:W165)))","v":""},null,null,{"$f":"+INDEX($Z$7:$Z$28,MATCH($AA163,$AA$7:$AA$28,0))","v":"Vilniaus m. sav."},{"$f":"+INDEX(AB$7:AB$28,MATCH($AA163,$AA$7:$AA$28,0))","v":2247},1328,1325,1326,1456,1744,5755,1451,1529,{"$f":"+INDEX(AK$7:AK$28,MATCH($AA163,$AA$7:$AA$28,0))","v":1497},{"$f":"+INDEX(AL$7:AL$28,MATCH($AA163,$AA$7:$AA$28,0))","v":987},{"$f":"+INDEX(AM$7:AM$28,MATCH($AA163,$AA$7:$AA$28,0))","v":1350},{"$f":"+INDEX(AN$7:AN$28,MATCH($AA163,$AA$7:$AA$28,0))","v":9497}]
[null,"Klaipėdos m. sav.","Per metus išregistruota juridinių asmenų skaičius | vnt.",357,252,306,286,352,497,1094,391,400,435,278,2210,944,null,{"$f":"ROWS($R$7:R166)","v":160},"",{"$f":"IF(ISERROR(SMALL($S$7:$S$1504,ROWS($S$7:S166))),\"\",SMALL($S$7:$S$1504,ROWS($S$7:S166)))","v":""},"",{"$f":"IF(ISERROR(SMALL($U$7:$U$1504,ROWS(U$7:$U166))),\"\",SMALL($U$7:$U$1504,ROWS(U$7:$U166)))","v":""},"",{"$f":"IF(ISERROR(SMALL($W$7:$W$1504,ROWS($W$7:W166))),\"\",SMALL($W$7:$W$1504,ROWS($W$7:W166)))","v":""},null,null,{"$f":"IF(ISERROR(INDEX($Z$31:$Z$52,MATCH(AA163,$AA$31:$AA$52,0))),\"\",INDEX($Z$31:$Z$52,MATCH(AA163,$AA$31:$AA$52,0)))","v":"Vilniaus apskritis"},{"$f":"IF(ISERROR(INDEX(AB$31:AB$52,MATCH($AA163,$AA$31:$AA$52,0))),\"\",INDEX(AB$31:AB$52,MATCH($AA163,$AA$31:$AA$52,0)))","v":2571},1505,1492,1511,1656,1982,6649,1634,1707,{"$f":"IF(ISERROR(INDEX(AK$31:AK$52,MATCH($AA163,$AA$31:$AA$52,0))),\"\",INDEX(AK$31:AK$52,MATCH($AA163,$AA$31:$AA$52,0)))","v":1641},{"$f":"IF(ISERROR(INDEX(AL$31:AL$52,MATCH($AA163,$AA$31:$AA$52,0))),\"\",INDEX(AL$31:AL$52,MATCH($AA163,$AA$31:$AA$52,0)))","v":1177},{"$f":"IF(ISERROR(INDEX(AM$31:AM$52,MATCH($AA163,$AA$31:$AA$52,0))),\"\",INDEX(AM$31:AM$52,MATCH($AA163,$AA$31:$AA$52,0)))","v":1504},{"$f":"IF(ISERROR(INDEX(AN$31:AN$52,MATCH($AA163,$AA$31:$AA$52,0))),\"\",INDEX(AN$31:AN$52,MATCH($AA163,$AA$31:$AA$52,0)))","v":10117}]
[null,"Klaipėdos r. sav.","Per metus išregistruota juridinių asmenų skaičius | vnt.",65,56,38,46,59,143,201,75,66,78,66,240,153,null,{"$f":"ROWS($R$7:R167)","v":161},"",{"$f":"IF(ISERROR(SMALL($S$7:$S$1504,ROWS($S$7:S167))),\"\",SMALL($S$7:$S$1504,ROWS($S$7:S167)))","v":""},"",{"$f":"IF(ISERROR(SMALL($U$7:$U$1504,ROWS(U$7:$U167))),\"\",SMALL($U$7:$U$1504,ROWS(U$7:$U167)))","v":""},"",{"$f":"IF(ISERROR(SMALL($W$7:$W$1504,ROWS($W$7:W167))),\"\",SMALL($W$7:$W$1504,ROWS($W$7:W167)))","v":""},null,null,{"$f":"IF(ISERROR(INDEX($Z$55:$Z$76,MATCH(AA163,$AA$55:$AA$76,0))),\"\",INDEX($Z$55:$Z$76,MATCH(AA163,$AA$55:$AA$76,0)))","v":"Lietuvos Respublika"},{"$f":"IF(ISERROR(INDEX(AB$55:AB$76,MATCH($AA163,$AA$55:$AA$76,0))),\"\",INDEX(AB$55:AB$76,MATCH($AA163,$AA$55:$AA$76,0)))","v":6689},4166,4118,4078,4950,5598,17982,4199,4188,{"$f":"IF(ISERROR(INDEX(AK$55:AK$76,MATCH($AA163,$AA$55:$AA$76,0))),\"\",INDEX(AK$55:AK$76,MATCH($AA163,$AA$55:$AA$76,0)))","v":4038},{"$f":"IF(ISERROR(INDEX(AL$55:AL$76,MATCH($AA163,$AA$55:$AA$76,0))),\"\",INDEX(AL$55:AL$76,MATCH($AA163,$AA$55:$AA$76,0)))","v":2968},{"$f":"IF(ISERROR(INDEX(AM$55:AM$76,MATCH($AA163,$AA$55:$AA$76,0))),\"\",INDEX(AM$55:AM$76,MATCH($AA163,$AA$55:$AA$76,0)))","v":8307},{"$f":"IF(ISERROR(INDEX(AN$55:AN$76,MATCH($AA163,$AA$55:$AA$76,0))),\"\",INDEX(AN$55:AN$76,MATCH($AA163,$AA$55:$AA$76,0)))","v":16100}]
[null,"Kretingos r. sav.","Per metus išregistruota juridinių asmenų skaičius | vnt.",77,32,36,43,71,55,227,41,40,58,35,108,69,null,{"$f":"ROWS($R$7:R168)","v":162},"",{"$f":"IF(ISERROR(SMALL($S$7:$S$1504,ROWS($S$7:S168))),\"\",SMALL($S$7:$S$1504,ROWS($S$7:S168)))","v":""},"",{"$f":"IF(ISERROR(SMALL($U$7:$U$1504,ROWS(U$7:$U168))),\"\",SMALL($U$7:$U$1504,ROWS(U$7:$U168)))","v":""},"",{"$f":"IF(ISERROR(SMALL($W$7:$W$1504,ROWS($W$7:W168))),\"\",SMALL($W$7:$W$1504,ROWS($W$7:W168)))","v":""}]
[null,"Neringos sav.","Per metus išregistruota juridinių asmenų skaičius | vnt.",11,6,0,7,14,13,38,10,8,13,8,26,11,null,{"$f":"ROWS($R$7:R169)","v":163},"",{"$f":"IF(ISERROR(SMALL($S$7:$S$1504,ROWS($S$7:S169))),\"\",SMALL($S$7:$S$1504,ROWS($S$7:S169)))","v":""},"",{"$f":"IF(ISERROR(SMALL($U$7:$U$1504,ROWS(U$7:$U169))),\"\",SMALL($U$7:$U$1504,ROWS(U$7:$U169)))","v":""},"",{"$f":"IF(ISERROR(SMALL($W$7:$W$1504,ROWS($W$7:W169))),\"\",SMALL($W$7:$W$1504,ROWS($W$7:W169)))","v":""}]
[null,"Palangos m. sav.","Per metus išregistruota juridinių asmenų skaičius | vnt.",85,36,33,25,56,42,295,54,43,37,28,246,95,null,{"$f":"ROWS($R$7:R170)","v":164},"",{"$f":"IF(ISERROR(SMALL($S$7:$S$1504,ROWS($S$7:S170))),\"\",SMALL($S$7:$S$1504,ROWS($S$7:S170)))","v":""},"",{"$f":"IF(ISERROR(SMALL($U$7:$U$1504,ROWS(U$7:$U170))),\"\",SMALL($U$7:$U$1504,ROWS(U$7:$U170)))","v":""},"",{"$f":"IF(ISERROR(SMALL($W$7:$W$1504,ROWS($W$7:W170))),\"\",SMALL($W$7:$W$1504,ROWS($W$7:W170)))","v":""}]
[null,"Skuodo r. sav.","Per metus išregistruota juridinių asmenų skaičius | vnt.",26,7,8,7,10,18,66,12,11,6,16,39,31,null,{"$f":"ROWS($R$7:R171)","v":165},"",{"$f":"IF(ISERROR(SMALL($S$7:$S$1504,ROWS($S$7:S171))),\"\",SMALL($S$7:$S$1504,ROWS($S$7:S171)))","v":""},"",{"$f":"IF(ISERROR(SMALL($U$7:$U$1504,ROWS(U$7:$U171))),\"\",SMALL($U$7:$U$1504,ROWS(U$7:$U171)))","v":""},"",{"$f":"IF(ISERROR(SMALL($W$7:$W$1504,ROWS($W$7:W171))),\"\",SMALL($W$7:$W$1504,ROWS($W$7:W171)))","v":""}]
[null,"Šilutės r. sav.","Per metus išregistruota juridinių asmenų skaičius | vnt.",68,32,45,29,39,42,136,35,46,45,54,165,91,null,{"$f":"ROWS($R$7:R172)","v":166},"",{"$f":"IF(ISERROR(SMALL($S$7:$S$1504,ROWS($S$7:S172))),\"\",SMALL($S$7:$S$1504,ROWS($S$7:S172)))","v":""},"",{"$f":"IF(ISERROR(SMALL($U$7:$U$1504,ROWS(U$7:$U172))),\"\",SMALL($U$7:$U$1504,ROWS(U$7:$U172)))","v":""},"",{"$f":"IF(ISERROR(SMALL($W$7:$W$1504,ROWS($W$7:W172))),\"\",SMALL($W$7:$W$1504,ROWS($W$7:W172)))","v":""}]
[null,"Marijampolės apskritis","Per metus išregistruota juridinių asmenų skaičius | vnt.",203,92,115,111,174,228,492,162,181,126,99,303,214,null,{"$f":"ROWS($R$7:R173)","v":167},"",{"$f":"IF(ISERROR(SMALL($S$7:$S$1504,ROWS($S$7:S173))),\"\",SMALL($S$7:$S$1504,ROWS($S$7:S173)))","v":""},"",{"$f":"IF(ISERROR(SMALL($U$7:$U$1504,ROWS(U$7:$U173))),\"\",SMALL($U$7:$U$1504,ROWS(U$7:$U173)))","v":""},"",{"$f":"IF(ISERROR(SMALL($W$7:$W$1504,ROWS($W$7:W173))),\"\",SMALL($W$7:$W$1504,ROWS($W$7:W173)))","v":""}]
[null,"Kalvarijos sav.","Per metus išregistruota juridinių asmenų skaičius | vnt.",13,8,4,6,6,21,34,9,11,6,1,17,12,null,{"$f":"ROWS($R$7:R174)","v":168},"",{"$f":"IF(ISERROR(SMALL($S$7:$S$1504,ROWS($S$7:S174))),\"\",SMALL($S$7:$S$1504,ROWS($S$7:S174)))","v":""},"",{"$f":"IF(ISERROR(SMALL($U$7:$U$1504,ROWS(U$7:$U174))),\"\",SMALL($U$7:$U$1504,ROWS(U$7:$U174)))","v":""},"",{"$f":"IF(ISERROR(SMALL($W$7:$W$1504,ROWS($W$7:W174))),\"\",SMALL($W$7:$W$1504,ROWS($W$7:W174)))","v":""}]
[null,"Kazlų Rūdos sav.","Per metus išregistruota juridinių asmenų skaičius | vnt.",15,6,11,4,10,22,42,18,24,10,10,28,14,null,{"$f":"ROWS($R$7:R175)","v":169},"",{"$f":"IF(ISERROR(SMALL($S$7:$S$1504,ROWS($S$7:S175))),\"\",SMALL($S$7:$S$1504,ROWS($S$7:S175)))","v":""},"",{"$f":"IF(ISERROR(SMALL($U$7:$U$1504,ROWS(U$7:$U175))),\"\",SMALL($U$7:$U$1504,ROWS(U$7:$U175)))","v":""},"",{"$f":"IF(ISERROR(SMALL($W$7:$W$1504,ROWS($W$7:W175))),\"\",SMALL($W$7:$W$1504,ROWS($W$7:W175)))","v":""}]
[null,"Marijampolės sav.","Per metus išregistruota juridinių asmenų skaičius | vnt.",112,40,66,65,71,118,232,84,80,58,51,168,103,null,{"$f":"ROWS($R$7:R176)","v":170},"",{"$f":"IF(ISERROR(SMALL($S$7:$S$1504,ROWS($S$7:S176))),\"\",SMALL($S$7:$S$1504,ROWS($S$7:S176)))","v":""},"",{"$f":"IF(ISERROR(SMALL($U$7:$U$1504,ROWS(U$7:$U176))),\"\",SMALL($U$7:$U$1504,ROWS(U$7:$U176)))","v":""},"",{"$f":"IF(ISERROR(SMALL($W$7:$W$1504,ROWS($W$7:W176))),\"\",SMALL($W$7:$W$1504,ROWS($W$7:W176)))","v":""}]
[null,"Šakių r. sav.","Per metus išregistruota juridinių asmenų skaičius | vnt.",15,20,19,19,44,19,73,15,19,24,12,36,53,null,{"$f":"ROWS($R$7:R177)","v":171},"",{"$f":"IF(ISERROR(SMALL($S$7:$S$1504,ROWS($S$7:S177))),\"\",SMALL($S$7:$S$1504,ROWS($S$7:S177)))","v":""},"",{"$f":"IF(ISERROR(SMALL($U$7:$U$1504,ROWS(U$7:$U177))),\"\",SMALL($U$7:$U$1504,ROWS(U$7:$U177)))","v":""},"",{"$f":"IF(ISERROR(SMALL($W$7:$W$1504,ROWS($W$7:W177))),\"\",SMALL($W$7:$W$1504,ROWS($W$7:W177)))","v":""}]
[null,"Vilkaviškio r. sav.","Per metus išregistruota juridinių asmenų skaičius | vnt.",48,18,15,17,43,48,111,36,47,28,25,54,32,null,{"$f":"ROWS($R$7:R178)","v":172},"",{"$f":"IF(ISERROR(SMALL($S$7:$S$1504,ROWS($S$7:S178))),\"\",SMALL($S$7:$S$1504,ROWS($S$7:S178)))","v":""},"",{"$f":"IF(ISERROR(SMALL($U$7:$U$1504,ROWS(U$7:$U178))),\"\",SMALL($U$7:$U$1504,ROWS(U$7:$U178)))","v":""},"",{"$f":"IF(ISERROR(SMALL($W$7:$W$1504,ROWS($W$7:W178))),\"\",SMALL($W$7:$W$1504,ROWS($W$7:W178)))","v":""}]
[null,"Panevėžio apskritis","Per metus išregistruota juridinių asmenų skaičius | vnt.",426,295,243,216,269,267,1041,251,300,268,268,359,558,null,{"$f":"ROWS($R$7:R179)","v":173},"",{"$f":"IF(ISERROR(SMALL($S$7:$S$1504,ROWS($S$7:S179))),\"\",SMALL($S$7:$S$1504,ROWS($S$7:S179)))","v":""},"",{"$f":"IF(ISERROR(SMALL($U$7:$U$1504,ROWS(U$7:$U179))),\"\",SMALL($U$7:$U$1504,ROWS(U$7:$U179)))","v":""},"",{"$f":"IF(ISERROR(SMALL($W$7:$W$1504,ROWS($W$7:W179))),\"\",SMALL($W$7:$W$1504,ROWS($W$7:W179)))","v":""}]
[null,"Biržų r. sav.","Per metus išregistruota juridinių asmenų skaičius | vnt.",41,21,15,7,25,21,104,20,18,16,25,28,44,null,{"$f":"ROWS($R$7:R180)","v":174},"",{"$f":"IF(ISERROR(SMALL($S$7:$S$1504,ROWS($S$7:S180))),\"\",SMALL($S$7:$S$1504,ROWS($S$7:S180)))","v":""},"",{"$f":"IF(ISERROR(SMALL($U$7:$U$1504,ROWS(U$7:$U180))),\"\",SMALL($U$7:$U$1504,ROWS(U$7:$U180)))","v":""},"",{"$f":"IF(ISERROR(SMALL($W$7:$W$1504,ROWS($W$7:W180))),\"\",SMALL($W$7:$W$1504,ROWS($W$7:W180)))","v":""}]
[null,"Kupiškio r. sav.","Per metus išregistruota juridinių asmenų skaičius | vnt.",34,20,26,10,22,19,53,20,15,23,21,17,42,null,{"$f":"ROWS($R$7:R181)","v":175},"",{"$f":"IF(ISERROR(SMALL($S$7:$S$1504,ROWS($S$7:S181))),\"\",SMALL($S$7:$S$1504,ROWS($S$7:S181)))","v":""},"",{"$f":"IF(ISERROR(SMALL($U$7:$U$1504,ROWS(U$7:$U181))),\"\",SMALL($U$7:$U$1504,ROWS(U$7:$U181)))","v":""},"",{"$f":"IF(ISERROR(SMALL($W$7:$W$1504,ROWS($W$7:W181))),\"\",SMALL($W$7:$W$1504,ROWS($W$7:W181)))","v":""}]
[null,"Panevėžio m. sav.","Per metus išregistruota juridinių asmenų skaičius | vnt.",225,140,131,128,155,162,583,138,188,165,133,208,325,null,{"$f":"ROWS($R$7:R182)","v":176},"",{"$f":"IF(ISERROR(SMALL($S$7:$S$1504,ROWS($S$7:S182))),\"\",SMALL($S$7:$S$1504,ROWS($S$7:S182)))","v":""},"",{"$f":"IF(ISERROR(SMALL($U$7:$U$1504,ROWS(U$7:$U182))),\"\",SMALL($U$7:$U$1504,ROWS(U$7:$U182)))","v":""},"",{"$f":"IF(ISERROR(SMALL($W$7:$W$1504,ROWS($W$7:W182))),\"\",SMALL($W$7:$W$1504,ROWS($W$7:W182)))","v":""}]
[null,"Panevėžio r. sav.","Per metus išregistruota juridinių asmenų skaičius | vnt.",55,68,30,37,30,23,139,31,34,26,44,49,69,null,{"$f":"ROWS($R$7:R183)","v":177},"",{"$f":"IF(ISERROR(SMALL($S$7:$S$1504,ROWS($S$7:S183))),\"\",SMALL($S$7:$S$1504,ROWS($S$7:S183)))","v":""},"",{"$f":"IF(ISERROR(SMALL($U$7:$U$1504,ROWS(U$7:$U183))),\"\",SMALL($U$7:$U$1504,ROWS(U$7:$U183)))","v":""},"",{"$f":"IF(ISERROR(SMALL($W$7:$W$1504,ROWS($W$7:W183))),\"\",SMALL($W$7:$W$1504,ROWS($W$7:W183)))","v":""}]
[null,"Pasvalio r. sav.","Per metus išregistruota juridinių asmenų skaičius | vnt.",36,23,20,20,17,16,74,16,17,15,20,20,31,null,{"$f":"ROWS($R$7:R184)","v":178},"",{"$f":"IF(ISERROR(SMALL($S$7:$S$1504,ROWS($S$7:S184))),\"\",SMALL($S$7:$S$1504,ROWS($S$7:S184)))","v":""},"",{"$f":"IF(ISERROR(SMALL($U$7:$U$1504,ROWS(U$7:$U184))),\"\",SMALL($U$7:$U$1504,ROWS(U$7:$U184)))","v":""},"",{"$f":"IF(ISERROR(SMALL($W$7:$W$1504,ROWS($W$7:W184))),\"\",SMALL($W$7:$W$1504,ROWS($W$7:W184)))","v":""},null,6,{"$f":"+INDEX($AA$7:$AA$28,Z184)","v":"Veikiančių mažų ir vidutinių įmonių skaičius metų pradžioje | vnt."}]
[null,"Rokiškio r. sav.","Per metus išregistruota juridinių asmenų skaičius | vnt.",35,23,21,14,20,26,88,26,28,23,25,37,47,null,{"$f":"ROWS($R$7:R185)","v":179},"",{"$f":"IF(ISERROR(SMALL($S$7:$S$1504,ROWS($S$7:S185))),\"\",SMALL($S$7:$S$1504,ROWS($S$7:S185)))","v":""},"",{"$f":"IF(ISERROR(SMALL($U$7:$U$1504,ROWS(U$7:$U185))),\"\",SMALL($U$7:$U$1504,ROWS(U$7:$U185)))","v":""},"",{"$f":"IF(ISERROR(SMALL($W$7:$W$1504,ROWS($W$7:W185))),\"\",SMALL($W$7:$W$1504,ROWS($W$7:W185)))","v":""},null,null,null,{"$f":"+AB$6","v":"2010"},"2011","2012","2013","2014","2015","2016","2017","2018",2019,2020,2021,2022,2023]
[null,"Šiaulių apskritis","Per metus išregistruota juridinių asmenų skaičius | vnt.",585,280,219,223,258,388,1556,394,402,289,224,710,946,null,{"$f":"ROWS($R$7:R186)","v":180},"",{"$f":"IF(ISERROR(SMALL($S$7:$S$1504,ROWS($S$7:S186))),\"\",SMALL($S$7:$S$1504,ROWS($S$7:S186)))","v":""},"",{"$f":"IF(ISERROR(SMALL($U$7:$U$1504,ROWS(U$7:$U186))),\"\",SMALL($U$7:$U$1504,ROWS(U$7:$U186)))","v":""},"",{"$f":"IF(ISERROR(SMALL($W$7:$W$1504,ROWS($W$7:W186))),\"\",SMALL($W$7:$W$1504,ROWS($W$7:W186)))","v":""},null,null,{"$f":"+INDEX($Z$7:$Z$28,MATCH($AA184,$AA$7:$AA$28,0))","v":"Vilniaus m. sav."},{"$f":"+INDEX(AB$7:AB$28,MATCH($AA184,$AA$7:$AA$28,0))","v":20753},21816,21047,22659,23958,28081,29670,30531,30213,{"$f":"+INDEX(AK$7:AK$28,MATCH($AA184,$AA$7:$AA$28,0))","v":30516},{"$f":"+INDEX(AL$7:AL$28,MATCH($AA184,$AA$7:$AA$28,0))","v":31392},{"$f":"+INDEX(AM$7:AM$28,MATCH($AA184,$AA$7:$AA$28,0))","v":31618},{"$f":"+INDEX(AN$7:AN$28,MATCH($AA184,$AA$7:$AA$28,0))","v":33781},{"$f":"+INDEX(AO$7:AO$28,MATCH($AA184,$AA$7:$AA$28,0))","v":36228}]
[null,"Akmenės r. sav.","Per metus išregistruota juridinių asmenų skaičius | vnt.",20,18,13,20,22,21,136,16,30,14,15,29,73,null,{"$f":"ROWS($R$7:R187)","v":181},"",{"$f":"IF(ISERROR(SMALL($S$7:$S$1504,ROWS($S$7:S187))),\"\",SMALL($S$7:$S$1504,ROWS($S$7:S187)))","v":""},"",{"$f":"IF(ISERROR(SMALL($U$7:$U$1504,ROWS(U$7:$U187))),\"\",SMALL($U$7:$U$1504,ROWS(U$7:$U187)))","v":""},"",{"$f":"IF(ISERROR(SMALL($W$7:$W$1504,ROWS($W$7:W187))),\"\",SMALL($W$7:$W$1504,ROWS($W$7:W187)))","v":""},null,null,{"$f":"IF(ISERROR(INDEX($Z$31:$Z$52,MATCH(AA184,$AA$31:$AA$52,0))),\"\",INDEX($Z$31:$Z$52,MATCH(AA184,$AA$31:$AA$52,0)))","v":"Vilniaus apskritis"},{"$f":"IF(ISERROR(INDEX(AB$31:AB$52,MATCH($AA184,$AA$31:$AA$52,0))),\"\",INDEX(AB$31:AB$52,MATCH($AA184,$AA$31:$AA$52,0)))","v":23786},25071,24141,26070,27545,32122,33998,35119,34923,{"$f":"IF(ISERROR(INDEX(AK$31:AK$52,MATCH($AA184,$AA$31:$AA$52,0))),\"\",INDEX(AK$31:AK$52,MATCH($AA184,$AA$31:$AA$52,0)))","v":35384},{"$f":"IF(ISERROR(INDEX(AL$31:AL$52,MATCH($AA184,$AA$31:$AA$52,0))),\"\",INDEX(AL$31:AL$52,MATCH($AA184,$AA$31:$AA$52,0)))","v":36478},{"$f":"IF(ISERROR(INDEX(AM$31:AM$52,MATCH($AA184,$AA$31:$AA$52,0))),\"\",INDEX(AM$31:AM$52,MATCH($AA184,$AA$31:$AA$52,0)))","v":36945},{"$f":"IF(ISERROR(INDEX(AN$31:AN$52,MATCH($AA184,$AA$31:$AA$52,0))),\"\",INDEX(AN$31:AN$52,MATCH($AA184,$AA$31:$AA$52,0)))","v":39639},{"$f":"IF(ISERROR(INDEX(AO$31:AO$52,MATCH($AA184,$AA$31:$AA$52,0))),\"\",INDEX(AO$31:AO$52,MATCH($AA184,$AA$31:$AA$52,0)))","v":42774}]
[null,"Joniškio r. sav.","Per metus išregistruota juridinių asmenų skaičius | vnt.",33,18,13,12,13,20,97,29,35,11,9,34,51,null,{"$f":"ROWS($R$7:R188)","v":182},"",{"$f":"IF(ISERROR(SMALL($S$7:$S$1504,ROWS($S$7:S188))),\"\",SMALL($S$7:$S$1504,ROWS($S$7:S188)))","v":""},"",{"$f":"IF(ISERROR(SMALL($U$7:$U$1504,ROWS(U$7:$U188))),\"\",SMALL($U$7:$U$1504,ROWS(U$7:$U188)))","v":""},"",{"$f":"IF(ISERROR(SMALL($W$7:$W$1504,ROWS($W$7:W188))),\"\",SMALL($W$7:$W$1504,ROWS($W$7:W188)))","v":""},null,null,{"$f":"IF(ISERROR(INDEX($Z$55:$Z$76,MATCH(AA184,$AA$55:$AA$76,0))),\"\",INDEX($Z$55:$Z$76,MATCH(AA184,$AA$55:$AA$76,0)))","v":"Lietuvos Respublika"},{"$f":"IF(ISERROR(INDEX(AB$55:AB$76,MATCH($AA184,$AA$55:$AA$76,0))),\"\",INDEX(AB$55:AB$76,MATCH($AA184,$AA$55:$AA$76,0)))","v":63447},66534,62586,65461,67943,76076,79472,82885,83069,{"$f":"IF(ISERROR(INDEX(AK$55:AK$76,MATCH($AA184,$AA$55:$AA$76,0))),\"\",INDEX(AK$55:AK$76,MATCH($AA184,$AA$55:$AA$76,0)))","v":84510},{"$f":"IF(ISERROR(INDEX(AL$55:AL$76,MATCH($AA184,$AA$55:$AA$76,0))),\"\",INDEX(AL$55:AL$76,MATCH($AA184,$AA$55:$AA$76,0)))","v":86738},{"$f":"IF(ISERROR(INDEX(AM$55:AM$76,MATCH($AA184,$AA$55:$AA$76,0))),\"\",INDEX(AM$55:AM$76,MATCH($AA184,$AA$55:$AA$76,0)))","v":87284},{"$f":"IF(ISERROR(INDEX(AN$55:AN$76,MATCH($AA184,$AA$55:$AA$76,0))),\"\",INDEX(AN$55:AN$76,MATCH($AA184,$AA$55:$AA$76,0)))","v":92628},{"$f":"IF(ISERROR(INDEX(AO$55:AO$76,MATCH($AA184,$AA$55:$AA$76,0))),\"\",INDEX(AO$55:AO$76,MATCH($AA184,$AA$55:$AA$76,0)))","v":100045}]
[null,"Kelmės r. sav.","Per metus išregistruota juridinių asmenų skaičius | vnt.",34,12,17,14,20,19,184,26,27,20,17,28,58,null,{"$f":"ROWS($R$7:R189)","v":183},"",{"$f":"IF(ISERROR(SMALL($S$7:$S$1504,ROWS($S$7:S189))),\"\",SMALL($S$7:$S$1504,ROWS($S$7:S189)))","v":""},"",{"$f":"IF(ISERROR(SMALL($U$7:$U$1504,ROWS(U$7:$U189))),\"\",SMALL($U$7:$U$1504,ROWS(U$7:$U189)))","v":""},"",{"$f":"IF(ISERROR(SMALL($W$7:$W$1504,ROWS($W$7:W189))),\"\",SMALL($W$7:$W$1504,ROWS($W$7:W189)))","v":""}]
[null,"Pakruojo r. sav.","Per metus išregistruota juridinių asmenų skaičius | vnt.",59,18,16,9,21,23,61,13,15,18,12,16,29,null,{"$f":"ROWS($R$7:R190)","v":184},"",{"$f":"IF(ISERROR(SMALL($S$7:$S$1504,ROWS($S$7:S190))),\"\",SMALL($S$7:$S$1504,ROWS($S$7:S190)))","v":""},"",{"$f":"IF(ISERROR(SMALL($U$7:$U$1504,ROWS(U$7:$U190))),\"\",SMALL($U$7:$U$1504,ROWS(U$7:$U190)))","v":""},"",{"$f":"IF(ISERROR(SMALL($W$7:$W$1504,ROWS($W$7:W190))),\"\",SMALL($W$7:$W$1504,ROWS($W$7:W190)))","v":""}]
[null,"Radviliškio r. sav.","Per metus išregistruota juridinių asmenų skaičius | vnt.",115,41,25,27,24,26,132,32,31,25,20,44,76,null,{"$f":"ROWS($R$7:R191)","v":185},"",{"$f":"IF(ISERROR(SMALL($S$7:$S$1504,ROWS($S$7:S191))),\"\",SMALL($S$7:$S$1504,ROWS($S$7:S191)))","v":""},"",{"$f":"IF(ISERROR(SMALL($U$7:$U$1504,ROWS(U$7:$U191))),\"\",SMALL($U$7:$U$1504,ROWS(U$7:$U191)))","v":""},"",{"$f":"IF(ISERROR(SMALL($W$7:$W$1504,ROWS($W$7:W191))),\"\",SMALL($W$7:$W$1504,ROWS($W$7:W191)))","v":""}]
[null,"Šiaulių m. sav.","Per metus išregistruota juridinių asmenų skaičius | vnt.",265,144,109,117,132,222,765,223,203,164,124,480,546,null,{"$f":"ROWS($R$7:R192)","v":186},"",{"$f":"IF(ISERROR(SMALL($S$7:$S$1504,ROWS($S$7:S192))),\"\",SMALL($S$7:$S$1504,ROWS($S$7:S192)))","v":""},"",{"$f":"IF(ISERROR(SMALL($U$7:$U$1504,ROWS(U$7:$U192))),\"\",SMALL($U$7:$U$1504,ROWS(U$7:$U192)))","v":""},"",{"$f":"IF(ISERROR(SMALL($W$7:$W$1504,ROWS($W$7:W192))),\"\",SMALL($W$7:$W$1504,ROWS($W$7:W192)))","v":""}]
[null,"Šiaulių r. sav.","Per metus išregistruota juridinių asmenų skaičius | vnt.",59,29,26,24,26,57,181,55,61,37,27,79,113,null,{"$f":"ROWS($R$7:R193)","v":187},"",{"$f":"IF(ISERROR(SMALL($S$7:$S$1504,ROWS($S$7:S193))),\"\",SMALL($S$7:$S$1504,ROWS($S$7:S193)))","v":""},"",{"$f":"IF(ISERROR(SMALL($U$7:$U$1504,ROWS(U$7:$U193))),\"\",SMALL($U$7:$U$1504,ROWS(U$7:$U193)))","v":""},"",{"$f":"IF(ISERROR(SMALL($W$7:$W$1504,ROWS($W$7:W193))),\"\",SMALL($W$7:$W$1504,ROWS($W$7:W193)))","v":""}]
[null,"Tauragės apskritis","Per metus išregistruota juridinių asmenų skaičius | vnt.",145,73,74,64,105,153,291,66,95,96,117,153,134,null,{"$f":"ROWS($R$7:R194)","v":188},"",{"$f":"IF(ISERROR(SMALL($S$7:$S$1504,ROWS($S$7:S194))),\"\",SMALL($S$7:$S$1504,ROWS($S$7:S194)))","v":""},"",{"$f":"IF(ISERROR(SMALL($U$7:$U$1504,ROWS(U$7:$U194))),\"\",SMALL($U$7:$U$1504,ROWS(U$7:$U194)))","v":""},"",{"$f":"IF(ISERROR(SMALL($W$7:$W$1504,ROWS($W$7:W194))),\"\",SMALL($W$7:$W$1504,ROWS($W$7:W194)))","v":""}]
[null,"Jurbarko r. sav.","Per metus išregistruota juridinių asmenų skaičius | vnt.",39,13,23,16,38,28,88,21,27,37,35,50,29,null,{"$f":"ROWS($R$7:R195)","v":189},"",{"$f":"IF(ISERROR(SMALL($S$7:$S$1504,ROWS($S$7:S195))),\"\",SMALL($S$7:$S$1504,ROWS($S$7:S195)))","v":""},"",{"$f":"IF(ISERROR(SMALL($U$7:$U$1504,ROWS(U$7:$U195))),\"\",SMALL($U$7:$U$1504,ROWS(U$7:$U195)))","v":""},"",{"$f":"IF(ISERROR(SMALL($W$7:$W$1504,ROWS($W$7:W195))),\"\",SMALL($W$7:$W$1504,ROWS($W$7:W195)))","v":""}]
[null,"Pagėgių sav.","Per metus išregistruota juridinių asmenų skaičius | vnt.",10,15,3,4,7,14,22,4,8,6,6,16,16,null,{"$f":"ROWS($R$7:R196)","v":190},"",{"$f":"IF(ISERROR(SMALL($S$7:$S$1504,ROWS($S$7:S196))),\"\",SMALL($S$7:$S$1504,ROWS($S$7:S196)))","v":""},"",{"$f":"IF(ISERROR(SMALL($U$7:$U$1504,ROWS(U$7:$U196))),\"\",SMALL($U$7:$U$1504,ROWS(U$7:$U196)))","v":""},"",{"$f":"IF(ISERROR(SMALL($W$7:$W$1504,ROWS($W$7:W196))),\"\",SMALL($W$7:$W$1504,ROWS($W$7:W196)))","v":""}]
[null,"Šilalės r. sav.","Per metus išregistruota juridinių asmenų skaičius | vnt.",42,12,10,12,22,24,46,6,18,11,31,25,16,null,{"$f":"ROWS($R$7:R197)","v":191},"",{"$f":"IF(ISERROR(SMALL($S$7:$S$1504,ROWS($S$7:S197))),\"\",SMALL($S$7:$S$1504,ROWS($S$7:S197)))","v":""},"",{"$f":"IF(ISERROR(SMALL($U$7:$U$1504,ROWS(U$7:$U197))),\"\",SMALL($U$7:$U$1504,ROWS(U$7:$U197)))","v":""},"",{"$f":"IF(ISERROR(SMALL($W$7:$W$1504,ROWS($W$7:W197))),\"\",SMALL($W$7:$W$1504,ROWS($W$7:W197)))","v":""}]
[null,"Tauragės r. sav.","Per metus išregistruota juridinių asmenų skaičius | vnt.",54,33,38,32,38,87,135,35,42,42,45,62,73,null,{"$f":"ROWS($R$7:R198)","v":192},"",{"$f":"IF(ISERROR(SMALL($S$7:$S$1504,ROWS($S$7:S198))),\"\",SMALL($S$7:$S$1504,ROWS($S$7:S198)))","v":""},"",{"$f":"IF(ISERROR(SMALL($U$7:$U$1504,ROWS(U$7:$U198))),\"\",SMALL($U$7:$U$1504,ROWS(U$7:$U198)))","v":""},"",{"$f":"IF(ISERROR(SMALL($W$7:$W$1504,ROWS($W$7:W198))),\"\",SMALL($W$7:$W$1504,ROWS($W$7:W198)))","v":""}]
[null,"Telšių apskritis","Per metus išregistruota juridinių asmenų skaičius | vnt.",267,149,121,107,203,216,620,182,138,168,159,381,176,null,{"$f":"ROWS($R$7:R199)","v":193},{"$f":"IF(ISNUMBER(SEARCH($R$3,B199)),R199,\"\")","v":""},{"$f":"IF(ISERROR(SMALL($S$7:$S$1504,ROWS($S$7:S199))),\"\",SMALL($S$7:$S$1504,ROWS($S$7:S199)))","v":""},{"$f":"IF($R$4=B199,R199,\"\")","v":""},{"$f":"IF(ISERROR(SMALL($U$7:$U$1504,ROWS(U$7:$U199))),\"\",SMALL($U$7:$U$1504,ROWS(U$7:$U199)))","v":""},{"$f":"IF(\"Lietuvos Respublika\"=B199,R199,\"\")","v":""},{"$f":"IF(ISERROR(SMALL($W$7:$W$1504,ROWS($W$7:W199))),\"\",SMALL($W$7:$W$1504,ROWS($W$7:W199)))","v":""}]
[null,"Mažeikių r. sav.","Per metus išregistruota juridinių asmenų skaičius | vnt.",138,95,55,47,131,97,306,87,62,83,56,179,84,null,{"$f":"ROWS($R$7:R200)","v":194},"",{"$f":"IF(ISERROR(SMALL($S$7:$S$1504,ROWS($S$7:S200))),\"\",SMALL($S$7:$S$1504,ROWS($S$7:S200)))","v":""},"",{"$f":"IF(ISERROR(SMALL($U$7:$U$1504,ROWS(U$7:$U200))),\"\",SMALL($U$7:$U$1504,ROWS(U$7:$U200)))","v":""},"",{"$f":"IF(ISERROR(SMALL($W$7:$W$1504,ROWS($W$7:W200))),\"\",SMALL($W$7:$W$1504,ROWS($W$7:W200)))","v":""}]
[null,"Plungės r. sav.","Per metus išregistruota juridinių asmenų skaičius | vnt.",49,22,25,26,22,63,145,36,34,27,47,84,41,null,{"$f":"ROWS($R$7:R201)","v":195},"",{"$f":"IF(ISERROR(SMALL($S$7:$S$1504,ROWS($S$7:S201))),\"\",SMALL($S$7:$S$1504,ROWS($S$7:S201)))","v":""},"",{"$f":"IF(ISERROR(SMALL($U$7:$U$1504,ROWS(U$7:$U201))),\"\",SMALL($U$7:$U$1504,ROWS(U$7:$U201)))","v":""},"",{"$f":"IF(ISERROR(SMALL($W$7:$W$1504,ROWS($W$7:W201))),\"\",SMALL($W$7:$W$1504,ROWS($W$7:W201)))","v":""}]
[null,"Rietavo sav.","Per metus išregistruota juridinių asmenų skaičius | vnt.",20,3,8,4,4,9,24,12,8,4,13,18,5,null,{"$f":"ROWS($R$7:R202)","v":196},"",{"$f":"IF(ISERROR(SMALL($S$7:$S$1504,ROWS($S$7:S202))),\"\",SMALL($S$7:$S$1504,ROWS($S$7:S202)))","v":""},"",{"$f":"IF(ISERROR(SMALL($U$7:$U$1504,ROWS(U$7:$U202))),\"\",SMALL($U$7:$U$1504,ROWS(U$7:$U202)))","v":""},"",{"$f":"IF(ISERROR(SMALL($W$7:$W$1504,ROWS($W$7:W202))),\"\",SMALL($W$7:$W$1504,ROWS($W$7:W202)))","v":""}]
[null,"Telšių r. sav.","Per metus išregistruota juridinių asmenų skaičius | vnt.",60,29,33,30,46,47,145,47,34,54,43,100,46,null,{"$f":"ROWS($R$7:R203)","v":197},"",{"$f":"IF(ISERROR(SMALL($S$7:$S$1504,ROWS($S$7:S203))),\"\",SMALL($S$7:$S$1504,ROWS($S$7:S203)))","v":""},"",{"$f":"IF(ISERROR(SMALL($U$7:$U$1504,ROWS(U$7:$U203))),\"\",SMALL($U$7:$U$1504,ROWS(U$7:$U203)))","v":""},"",{"$f":"IF(ISERROR(SMALL($W$7:$W$1504,ROWS($W$7:W203))),\"\",SMALL($W$7:$W$1504,ROWS($W$7:W203)))","v":""}]
[null,"Utenos apskritis","Per metus išregistruota juridinių asmenų skaičius | vnt.",249,122,136,128,151,167,541,178,161,135,103,366,270,null,{"$f":"ROWS($R$7:R204)","v":198},"",{"$f":"IF(ISERROR(SMALL($S$7:$S$1504,ROWS($S$7:S204))),\"\",SMALL($S$7:$S$1504,ROWS($S$7:S204)))","v":""},"",{"$f":"IF(ISERROR(SMALL($U$7:$U$1504,ROWS(U$7:$U204))),\"\",SMALL($U$7:$U$1504,ROWS(U$7:$U204)))","v":""},"",{"$f":"IF(ISERROR(SMALL($W$7:$W$1504,ROWS($W$7:W204))),\"\",SMALL($W$7:$W$1504,ROWS($W$7:W204)))","v":""}]
[null,"Anykščių r. sav.","Per metus išregistruota juridinių asmenų skaičius | vnt.",56,19,19,22,14,21,100,28,27,22,19,52,50,null,{"$f":"ROWS($R$7:R205)","v":199},"",{"$f":"IF(ISERROR(SMALL($S$7:$S$1504,ROWS($S$7:S205))),\"\",SMALL($S$7:$S$1504,ROWS($S$7:S205)))","v":""},"",{"$f":"IF(ISERROR(SMALL($U$7:$U$1504,ROWS(U$7:$U205))),\"\",SMALL($U$7:$U$1504,ROWS(U$7:$U205)))","v":""},"",{"$f":"IF(ISERROR(SMALL($W$7:$W$1504,ROWS($W$7:W205))),\"\",SMALL($W$7:$W$1504,ROWS($W$7:W205)))","v":""},null,7,{"$f":"+INDEX($AA$7:$AA$28,Z205)","v":"Veikiančių įmonių skaičius metų pradžioje | vnt."}]
[null,"Ignalinos r. sav.","Per metus išregistruota juridinių asmenų skaičius | vnt.",19,14,14,9,8,11,36,11,17,3,16,15,16,null,{"$f":"ROWS($R$7:R206)","v":200},"",{"$f":"IF(ISERROR(SMALL($S$7:$S$1504,ROWS($S$7:S206))),\"\",SMALL($S$7:$S$1504,ROWS($S$7:S206)))","v":""},"",{"$f":"IF(ISERROR(SMALL($U$7:$U$1504,ROWS(U$7:$U206))),\"\",SMALL($U$7:$U$1504,ROWS(U$7:$U206)))","v":""},"",{"$f":"IF(ISERROR(SMALL($W$7:$W$1504,ROWS($W$7:W206))),\"\",SMALL($W$7:$W$1504,ROWS($W$7:W206)))","v":""},null,null,null,{"$f":"+AB$6","v":"2010"},"2011","2012","2013","2014","2015","2016","2017","2018",2019,2020,2021,2022,2023]
[null,"Molėtų r. sav.","Per metus išregistruota juridinių asmenų skaičius | vnt.",34,18,12,9,16,17,73,20,18,14,11,50,28,null,{"$f":"ROWS($R$7:R207)","v":201},"",{"$f":"IF(ISERROR(SMALL($S$7:$S$1504,ROWS($S$7:S207))),\"\",SMALL($S$7:$S$1504,ROWS($S$7:S207)))","v":""},"",{"$f":"IF(ISERROR(SMALL($U$7:$U$1504,ROWS(U$7:$U207))),\"\",SMALL($U$7:$U$1504,ROWS(U$7:$U207)))","v":""},"",{"$f":"IF(ISERROR(SMALL($W$7:$W$1504,ROWS($W$7:W207))),\"\",SMALL($W$7:$W$1504,ROWS($W$7:W207)))","v":""},null,null,{"$f":"+INDEX($Z$7:$Z$28,MATCH($AA205,$AA$7:$AA$28,0))","v":"Vilniaus m. sav."},{"$f":"+INDEX(AB$7:AB$28,MATCH($AA205,$AA$7:$AA$28,0))","v":20908},21940,21169,22783,24095,28222,29822,30680,30360,{"$f":"+INDEX(AK$7:AK$28,MATCH($AA205,$AA$7:$AA$28,0))","v":30675},{"$f":"+INDEX(AL$7:AL$28,MATCH($AA205,$AA$7:$AA$28,0))","v":31560},{"$f":"+INDEX(AM$7:AM$28,MATCH($AA205,$AA$7:$AA$28,0))","v":31799},{"$f":"+INDEX(AN$7:AN$28,MATCH($AA205,$AA$7:$AA$28,0))","v":33960},{"$f":"+INDEX(AO$7:AO$28,MATCH($AA205,$AA$7:$AA$28,0))","v":36408}]
[null,"Utenos r. sav.","Per metus išregistruota juridinių asmenų skaičius | vnt.",69,37,52,42,40,39,132,54,46,47,30,96,72,null,{"$f":"ROWS($R$7:R208)","v":202},"",{"$f":"IF(ISERROR(SMALL($S$7:$S$1504,ROWS($S$7:S208))),\"\",SMALL($S$7:$S$1504,ROWS($S$7:S208)))","v":""},"",{"$f":"IF(ISERROR(SMALL($U$7:$U$1504,ROWS(U$7:$U208))),\"\",SMALL($U$7:$U$1504,ROWS(U$7:$U208)))","v":""},"",{"$f":"IF(ISERROR(SMALL($W$7:$W$1504,ROWS($W$7:W208))),\"\",SMALL($W$7:$W$1504,ROWS($W$7:W208)))","v":""},null,null,{"$f":"IF(ISERROR(INDEX($Z$31:$Z$52,MATCH(AA205,$AA$31:$AA$52,0))),\"\",INDEX($Z$31:$Z$52,MATCH(AA205,$AA$31:$AA$52,0)))","v":"Vilniaus apskritis"},{"$f":"IF(ISERROR(INDEX(AB$31:AB$52,MATCH($AA205,$AA$31:$AA$52,0))),\"\",INDEX(AB$31:AB$52,MATCH($AA205,$AA$31:$AA$52,0)))","v":23961},25208,24276,26209,27698,32277,34165,35284,35089,{"$f":"IF(ISERROR(INDEX(AK$31:AK$52,MATCH($AA205,$AA$31:$AA$52,0))),\"\",INDEX(AK$31:AK$52,MATCH($AA205,$AA$31:$AA$52,0)))","v":35561},{"$f":"IF(ISERROR(INDEX(AL$31:AL$52,MATCH($AA205,$AA$31:$AA$52,0))),\"\",INDEX(AL$31:AL$52,MATCH($AA205,$AA$31:$AA$52,0)))","v":36666},{"$f":"IF(ISERROR(INDEX(AM$31:AM$52,MATCH($AA205,$AA$31:$AA$52,0))),\"\",INDEX(AM$31:AM$52,MATCH($AA205,$AA$31:$AA$52,0)))","v":37145},{"$f":"IF(ISERROR(INDEX(AN$31:AN$52,MATCH($AA205,$AA$31:$AA$52,0))),\"\",INDEX(AN$31:AN$52,MATCH($AA205,$AA$31:$AA$52,0)))","v":39836},{"$f":"IF(ISERROR(INDEX(AO$31:AO$52,MATCH($AA205,$AA$31:$AA$52,0))),\"\",INDEX(AO$31:AO$52,MATCH($AA205,$AA$31:$AA$52,0)))","v":42974}]
[null,"Visagino sav.","Per metus išregistruota juridinių asmenų skaičius | vnt.",53,26,27,38,62,58,164,49,31,42,19,128,72,null,{"$f":"ROWS($R$7:R209)","v":203},"",{"$f":"IF(ISERROR(SMALL($S$7:$S$1504,ROWS($S$7:S209))),\"\",SMALL($S$7:$S$1504,ROWS($S$7:S209)))","v":""},"",{"$f":"IF(ISERROR(SMALL($U$7:$U$1504,ROWS(U$7:$U209))),\"\",SMALL($U$7:$U$1504,ROWS(U$7:$U209)))","v":""},"",{"$f":"IF(ISERROR(SMALL($W$7:$W$1504,ROWS($W$7:W209))),\"\",SMALL($W$7:$W$1504,ROWS($W$7:W209)))","v":""},null,null,{"$f":"IF(ISERROR(INDEX($Z$55:$Z$76,MATCH(AA205,$AA$55:$AA$76,0))),\"\",INDEX($Z$55:$Z$76,MATCH(AA205,$AA$55:$AA$76,0)))","v":"Lietuvos Respublika"},{"$f":"IF(ISERROR(INDEX(AB$55:AB$76,MATCH($AA205,$AA$55:$AA$76,0))),\"\",INDEX(AB$55:AB$76,MATCH($AA205,$AA$55:$AA$76,0)))","v":63840},66840,62889,65779,68279,76427,79840,83256,83439,{"$f":"IF(ISERROR(INDEX(AK$55:AK$76,MATCH($AA205,$AA$55:$AA$76,0))),\"\",INDEX(AK$55:AK$76,MATCH($AA205,$AA$55:$AA$76,0)))","v":84890},{"$f":"IF(ISERROR(INDEX(AL$55:AL$76,MATCH($AA205,$AA$55:$AA$76,0))),\"\",INDEX(AL$55:AL$76,MATCH($AA205,$AA$55:$AA$76,0)))","v":87143},{"$f":"IF(ISERROR(INDEX(AM$55:AM$76,MATCH($AA205,$AA$55:$AA$76,0))),\"\",INDEX(AM$55:AM$76,MATCH($AA205,$AA$55:$AA$76,0)))","v":87707},{"$f":"IF(ISERROR(INDEX(AN$55:AN$76,MATCH($AA205,$AA$55:$AA$76,0))),\"\",INDEX(AN$55:AN$76,MATCH($AA205,$AA$55:$AA$76,0)))","v":93059},{"$f":"IF(ISERROR(INDEX(AO$55:AO$76,MATCH($AA205,$AA$55:$AA$76,0))),\"\",INDEX(AO$55:AO$76,MATCH($AA205,$AA$55:$AA$76,0)))","v":100488}]
[null,"Zarasų r. sav.","Per metus išregistruota juridinių asmenų skaičius | vnt.",18,8,12,8,11,21,36,16,22,7,8,25,32,null,{"$f":"ROWS($R$7:R210)","v":204},"",{"$f":"IF(ISERROR(SMALL($S$7:$S$1504,ROWS($S$7:S210))),\"\",SMALL($S$7:$S$1504,ROWS($S$7:S210)))","v":""},"",{"$f":"IF(ISERROR(SMALL($U$7:$U$1504,ROWS(U$7:$U210))),\"\",SMALL($U$7:$U$1504,ROWS(U$7:$U210)))","v":""},"",{"$f":"IF(ISERROR(SMALL($W$7:$W$1504,ROWS($W$7:W210))),\"\",SMALL($W$7:$W$1504,ROWS($W$7:W210)))","v":""}]
[null,"Vilniaus apskritis","Per metus išregistruota juridinių asmenų skaičius | vnt.",2316,1056,1068,1105,1212,1548,6309,1799,1881,1915,1349,1826,14174,null,{"$f":"ROWS($R$7:R211)","v":205},"",{"$f":"IF(ISERROR(SMALL($S$7:$S$1504,ROWS($S$7:S211))),\"\",SMALL($S$7:$S$1504,ROWS($S$7:S211)))","v":""},205,{"$f":"IF(ISERROR(SMALL($U$7:$U$1504,ROWS(U$7:$U211))),\"\",SMALL($U$7:$U$1504,ROWS(U$7:$U211)))","v":""},"",{"$f":"IF(ISERROR(SMALL($W$7:$W$1504,ROWS($W$7:W211))),\"\",SMALL($W$7:$W$1504,ROWS($W$7:W211)))","v":""}]
[null,"Elektrėnų sav.","Per metus išregistruota juridinių asmenų skaičius | vnt.",29,12,16,9,10,17,70,14,15,24,12,14,59,null,{"$f":"ROWS($R$7:R212)","v":206},"",{"$f":"IF(ISERROR(SMALL($S$7:$S$1504,ROWS($S$7:S212))),\"\",SMALL($S$7:$S$1504,ROWS($S$7:S212)))","v":""},"",{"$f":"IF(ISERROR(SMALL($U$7:$U$1504,ROWS(U$7:$U212))),\"\",SMALL($U$7:$U$1504,ROWS(U$7:$U212)))","v":""},"",{"$f":"IF(ISERROR(SMALL($W$7:$W$1504,ROWS($W$7:W212))),\"\",SMALL($W$7:$W$1504,ROWS($W$7:W212)))","v":""}]
[null,"Šalčininkų r. sav.","Per metus išregistruota juridinių asmenų skaičius | vnt.",34,19,11,14,10,21,79,15,17,11,19,11,88,null,{"$f":"ROWS($R$7:R213)","v":207},"",{"$f":"IF(ISERROR(SMALL($S$7:$S$1504,ROWS($S$7:S213))),\"\",SMALL($S$7:$S$1504,ROWS($S$7:S213)))","v":""},"",{"$f":"IF(ISERROR(SMALL($U$7:$U$1504,ROWS(U$7:$U213))),\"\",SMALL($U$7:$U$1504,ROWS(U$7:$U213)))","v":""},"",{"$f":"IF(ISERROR(SMALL($W$7:$W$1504,ROWS($W$7:W213))),\"\",SMALL($W$7:$W$1504,ROWS($W$7:W213)))","v":""}]
[null,"Širvintų r. sav.","Per metus išregistruota juridinių asmenų skaičius | vnt.",31,11,11,11,16,15,86,16,18,8,22,9,47,null,{"$f":"ROWS($R$7:R214)","v":208},"",{"$f":"IF(ISERROR(SMALL($S$7:$S$1504,ROWS($S$7:S214))),\"\",SMALL($S$7:$S$1504,ROWS($S$7:S214)))","v":""},"",{"$f":"IF(ISERROR(SMALL($U$7:$U$1504,ROWS(U$7:$U214))),\"\",SMALL($U$7:$U$1504,ROWS(U$7:$U214)))","v":""},"",{"$f":"IF(ISERROR(SMALL($W$7:$W$1504,ROWS($W$7:W214))),\"\",SMALL($W$7:$W$1504,ROWS($W$7:W214)))","v":""}]
[null,"Švenčionių r. sav.","Per metus išregistruota juridinių asmenų skaičius | vnt.",40,12,24,23,16,22,83,13,21,8,18,34,45,null,{"$f":"ROWS($R$7:R215)","v":209},"",{"$f":"IF(ISERROR(SMALL($S$7:$S$1504,ROWS($S$7:S215))),\"\",SMALL($S$7:$S$1504,ROWS($S$7:S215)))","v":""},"",{"$f":"IF(ISERROR(SMALL($U$7:$U$1504,ROWS(U$7:$U215))),\"\",SMALL($U$7:$U$1504,ROWS(U$7:$U215)))","v":""},"",{"$f":"IF(ISERROR(SMALL($W$7:$W$1504,ROWS($W$7:W215))),\"\",SMALL($W$7:$W$1504,ROWS($W$7:W215)))","v":""}]
[null,"Trakų r. sav.","Per metus išregistruota juridinių asmenų skaičius | vnt.",43,16,25,16,17,29,106,22,28,27,34,26,101,null,{"$f":"ROWS($R$7:R216)","v":210},"",{"$f":"IF(ISERROR(SMALL($S$7:$S$1504,ROWS($S$7:S216))),\"\",SMALL($S$7:$S$1504,ROWS($S$7:S216)))","v":""},"",{"$f":"IF(ISERROR(SMALL($U$7:$U$1504,ROWS(U$7:$U216))),\"\",SMALL($U$7:$U$1504,ROWS(U$7:$U216)))","v":""},"",{"$f":"IF(ISERROR(SMALL($W$7:$W$1504,ROWS($W$7:W216))),\"\",SMALL($W$7:$W$1504,ROWS($W$7:W216)))","v":""}]
[null,"Ukmergės r. sav.","Per metus išregistruota juridinių asmenų skaičius | vnt.",42,25,28,28,44,61,169,45,24,26,41,28,92,null,{"$f":"ROWS($R$7:R217)","v":211},"",{"$f":"IF(ISERROR(SMALL($S$7:$S$1504,ROWS($S$7:S217))),\"\",SMALL($S$7:$S$1504,ROWS($S$7:S217)))","v":""},"",{"$f":"IF(ISERROR(SMALL($U$7:$U$1504,ROWS(U$7:$U217))),\"\",SMALL($U$7:$U$1504,ROWS(U$7:$U217)))","v":""},"",{"$f":"IF(ISERROR(SMALL($W$7:$W$1504,ROWS($W$7:W217))),\"\",SMALL($W$7:$W$1504,ROWS($W$7:W217)))","v":""}]
[null,"Vilniaus m. sav.","Per metus išregistruota juridinių asmenų skaičius | vnt.",1970,918,917,950,1046,1341,5423,1597,1666,1736,1114,1642,13353,null,{"$f":"ROWS($R$7:R218)","v":212},212,{"$f":"IF(ISERROR(SMALL($S$7:$S$1504,ROWS($S$7:S218))),\"\",SMALL($S$7:$S$1504,ROWS($S$7:S218)))","v":""},"",{"$f":"IF(ISERROR(SMALL($U$7:$U$1504,ROWS(U$7:$U218))),\"\",SMALL($U$7:$U$1504,ROWS(U$7:$U218)))","v":""},"",{"$f":"IF(ISERROR(SMALL($W$7:$W$1504,ROWS($W$7:W218))),\"\",SMALL($W$7:$W$1504,ROWS($W$7:W218)))","v":""}]
[null,"Vilniaus r. sav.","Per metus išregistruota juridinių asmenų skaičius | vnt.",127,43,36,54,53,42,293,77,92,75,89,62,389,null,{"$f":"ROWS($R$7:R219)","v":213},"",{"$f":"IF(ISERROR(SMALL($S$7:$S$1504,ROWS($S$7:S219))),\"\",SMALL($S$7:$S$1504,ROWS($S$7:S219)))","v":""},"",{"$f":"IF(ISERROR(SMALL($U$7:$U$1504,ROWS(U$7:$U219))),\"\",SMALL($U$7:$U$1504,ROWS(U$7:$U219)))","v":""},"",{"$f":"IF(ISERROR(SMALL($W$7:$W$1504,ROWS($W$7:W219))),\"\",SMALL($W$7:$W$1504,ROWS($W$7:W219)))","v":""}]
[null,"Lietuvos Respublika","Per metus įregistruota mažų ir vidutinių įmonių | vnt.",7173,8634,13018,11663,12143,8274,8887,9881,10457,11153,11830,13767,12716,null,{"$f":"ROWS($R$7:R220)","v":214},"",{"$f":"IF(ISERROR(SMALL($S$7:$S$1504,ROWS($S$7:S220))),\"\",SMALL($S$7:$S$1504,ROWS($S$7:S220)))","v":""},"",{"$f":"IF(ISERROR(SMALL($U$7:$U$1504,ROWS(U$7:$U220))),\"\",SMALL($U$7:$U$1504,ROWS(U$7:$U220)))","v":""},214,{"$f":"IF(ISERROR(SMALL($W$7:$W$1504,ROWS($W$7:W220))),\"\",SMALL($W$7:$W$1504,ROWS($W$7:W220)))","v":""}]
[null,"Alytaus apskritis","Per metus įregistruota mažų ir vidutinių įmonių | vnt.",211,311,456,390,411,255,265,280,327,362,352,333,307,null,{"$f":"ROWS($R$7:R221)","v":215},"",{"$f":"IF(ISERROR(SMALL($S$7:$S$1504,ROWS($S$7:S221))),\"\",SMALL($S$7:$S$1504,ROWS($S$7:S221)))","v":""},"",{"$f":"IF(ISERROR(SMALL($U$7:$U$1504,ROWS(U$7:$U221))),\"\",SMALL($U$7:$U$1504,ROWS(U$7:$U221)))","v":""},"",{"$f":"IF(ISERROR(SMALL($W$7:$W$1504,ROWS($W$7:W221))),\"\",SMALL($W$7:$W$1504,ROWS($W$7:W221)))","v":""}]
[null,"Alytaus m. sav.","Per metus įregistruota mažų ir vidutinių įmonių | vnt.",111,149,272,226,237,135,113,130,148,155,121,129,109,null,{"$f":"ROWS($R$7:R222)","v":216},"",{"$f":"IF(ISERROR(SMALL($S$7:$S$1504,ROWS($S$7:S222))),\"\",SMALL($S$7:$S$1504,ROWS($S$7:S222)))","v":""},"",{"$f":"IF(ISERROR(SMALL($U$7:$U$1504,ROWS(U$7:$U222))),\"\",SMALL($U$7:$U$1504,ROWS(U$7:$U222)))","v":""},"",{"$f":"IF(ISERROR(SMALL($W$7:$W$1504,ROWS($W$7:W222))),\"\",SMALL($W$7:$W$1504,ROWS($W$7:W222)))","v":""}]
[null,"Alytaus r. sav.","Per metus įregistruota mažų ir vidutinių įmonių | vnt.",26,31,37,46,61,46,62,62,71,93,101,85,85,null,{"$f":"ROWS($R$7:R223)","v":217},"",{"$f":"IF(ISERROR(SMALL($S$7:$S$1504,ROWS($S$7:S223))),\"\",SMALL($S$7:$S$1504,ROWS($S$7:S223)))","v":""},"",{"$f":"IF(ISERROR(SMALL($U$7:$U$1504,ROWS(U$7:$U223))),\"\",SMALL($U$7:$U$1504,ROWS(U$7:$U223)))","v":""},"",{"$f":"IF(ISERROR(SMALL($W$7:$W$1504,ROWS($W$7:W223))),\"\",SMALL($W$7:$W$1504,ROWS($W$7:W223)))","v":""}]
[null,"Druskininkų sav.","Per metus įregistruota mažų ir vidutinių įmonių | vnt.",42,77,104,79,81,39,46,36,40,30,37,37,46,null,{"$f":"ROWS($R$7:R224)","v":218},"",{"$f":"IF(ISERROR(SMALL($S$7:$S$1504,ROWS($S$7:S224))),\"\",SMALL($S$7:$S$1504,ROWS($S$7:S224)))","v":""},"",{"$f":"IF(ISERROR(SMALL($U$7:$U$1504,ROWS(U$7:$U224))),\"\",SMALL($U$7:$U$1504,ROWS(U$7:$U224)))","v":""},"",{"$f":"IF(ISERROR(SMALL($W$7:$W$1504,ROWS($W$7:W224))),\"\",SMALL($W$7:$W$1504,ROWS($W$7:W224)))","v":""}]
[null,"Lazdijų r. sav.","Per metus įregistruota mažų ir vidutinių įmonių | vnt.",7,22,15,27,14,15,21,16,43,39,48,31,25,null,{"$f":"ROWS($R$7:R225)","v":219},"",{"$f":"IF(ISERROR(SMALL($S$7:$S$1504,ROWS($S$7:S225))),\"\",SMALL($S$7:$S$1504,ROWS($S$7:S225)))","v":""},"",{"$f":"IF(ISERROR(SMALL($U$7:$U$1504,ROWS(U$7:$U225))),\"\",SMALL($U$7:$U$1504,ROWS(U$7:$U225)))","v":""},"",{"$f":"IF(ISERROR(SMALL($W$7:$W$1504,ROWS($W$7:W225))),\"\",SMALL($W$7:$W$1504,ROWS($W$7:W225)))","v":""}]
[null,"Varėnos r. sav.","Per metus įregistruota mažų ir vidutinių įmonių | vnt.",25,32,28,12,18,20,23,36,25,45,45,51,42,null,{"$f":"ROWS($R$7:R226)","v":220},"",{"$f":"IF(ISERROR(SMALL($S$7:$S$1504,ROWS($S$7:S226))),\"\",SMALL($S$7:$S$1504,ROWS($S$7:S226)))","v":""},"",{"$f":"IF(ISERROR(SMALL($U$7:$U$1504,ROWS(U$7:$U226))),\"\",SMALL($U$7:$U$1504,ROWS(U$7:$U226)))","v":""},"",{"$f":"IF(ISERROR(SMALL($W$7:$W$1504,ROWS($W$7:W226))),\"\",SMALL($W$7:$W$1504,ROWS($W$7:W226)))","v":""},null,8,{"$f":"+INDEX($AA$7:$AA$28,Z226)","v":"Darbuotojų skaičius veikiančiose mažose ir vidutinėse įmonėse metų pradžioje | vnt."}]
[null,"Kauno apskritis","Per metus įregistruota mažų ir vidutinių įmonių | vnt.",1169,1359,1935,1836,1911,1731,1848,2026,2190,2375,2576,2970,2733,null,{"$f":"ROWS($R$7:R227)","v":221},"",{"$f":"IF(ISERROR(SMALL($S$7:$S$1504,ROWS($S$7:S227))),\"\",SMALL($S$7:$S$1504,ROWS($S$7:S227)))","v":""},"",{"$f":"IF(ISERROR(SMALL($U$7:$U$1504,ROWS(U$7:$U227))),\"\",SMALL($U$7:$U$1504,ROWS(U$7:$U227)))","v":""},"",{"$f":"IF(ISERROR(SMALL($W$7:$W$1504,ROWS($W$7:W227))),\"\",SMALL($W$7:$W$1504,ROWS($W$7:W227)))","v":""},null,null,null,{"$f":"+AB$6","v":"2010"},"2011","2012","2013","2014","2015","2016","2017","2018",2019,2020,2021,2022]
[null,"Birštono sav.","Per metus įregistruota mažų ir vidutinių įmonių | vnt.",5,5,4,7,7,7,8,20,14,16,9,16,10,null,{"$f":"ROWS($R$7:R228)","v":222},"",{"$f":"IF(ISERROR(SMALL($S$7:$S$1504,ROWS($S$7:S228))),\"\",SMALL($S$7:$S$1504,ROWS($S$7:S228)))","v":""},"",{"$f":"IF(ISERROR(SMALL($U$7:$U$1504,ROWS(U$7:$U228))),\"\",SMALL($U$7:$U$1504,ROWS(U$7:$U228)))","v":""},"",{"$f":"IF(ISERROR(SMALL($W$7:$W$1504,ROWS($W$7:W228))),\"\",SMALL($W$7:$W$1504,ROWS($W$7:W228)))","v":""},null,null,{"$f":"+INDEX($Z$7:$Z$28,MATCH($AA226,$AA$7:$AA$28,0))","v":"Vilniaus m. sav."},{"$f":"+INDEX(AB$7:AB$28,MATCH($AA226,$AA$7:$AA$28,0))","v":220646},192432,186157,196564,200480,212049,217827,223023,224590,{"$f":"+INDEX(AK$7:AK$28,MATCH($AA226,$AA$7:$AA$28,0))","v":222943},{"$f":"+INDEX(AL$7:AL$28,MATCH($AA226,$AA$7:$AA$28,0))","v":221149},{"$f":"+INDEX(AM$7:AM$28,MATCH($AA226,$AA$7:$AA$28,0))","v":216689},{"$f":"+INDEX(AN$7:AN$28,MATCH($AA226,$AA$7:$AA$28,0))","v":216992}]
[null,"Jonavos r. sav.","Per metus įregistruota mažų ir vidutinių įmonių | vnt.",43,35,42,66,67,37,58,56,62,87,97,115,100,null,{"$f":"ROWS($R$7:R229)","v":223},"",{"$f":"IF(ISERROR(SMALL($S$7:$S$1504,ROWS($S$7:S229))),\"\",SMALL($S$7:$S$1504,ROWS($S$7:S229)))","v":""},"",{"$f":"IF(ISERROR(SMALL($U$7:$U$1504,ROWS(U$7:$U229))),\"\",SMALL($U$7:$U$1504,ROWS(U$7:$U229)))","v":""},"",{"$f":"IF(ISERROR(SMALL($W$7:$W$1504,ROWS($W$7:W229))),\"\",SMALL($W$7:$W$1504,ROWS($W$7:W229)))","v":""},null,null,{"$f":"IF(ISERROR(INDEX($Z$31:$Z$52,MATCH(AA226,$AA$31:$AA$52,0))),\"\",INDEX($Z$31:$Z$52,MATCH(AA226,$AA$31:$AA$52,0)))","v":"Vilniaus apskritis"},{"$f":"IF(ISERROR(INDEX(AB$31:AB$52,MATCH($AA226,$AA$31:$AA$52,0))),\"\",INDEX(AB$31:AB$52,MATCH($AA226,$AA$31:$AA$52,0)))","v":256915},225900,219250,232401,237440,250944,258435,264940,267298,{"$f":"IF(ISERROR(INDEX(AK$31:AK$52,MATCH($AA226,$AA$31:$AA$52,0))),\"\",INDEX(AK$31:AK$52,MATCH($AA226,$AA$31:$AA$52,0)))","v":265155},{"$f":"IF(ISERROR(INDEX(AL$31:AL$52,MATCH($AA226,$AA$31:$AA$52,0))),\"\",INDEX(AL$31:AL$52,MATCH($AA226,$AA$31:$AA$52,0)))","v":263602},{"$f":"IF(ISERROR(INDEX(AM$31:AM$52,MATCH($AA226,$AA$31:$AA$52,0))),\"\",INDEX(AM$31:AM$52,MATCH($AA226,$AA$31:$AA$52,0)))","v":260155},{"$f":"IF(ISERROR(INDEX(AN$31:AN$52,MATCH($AA226,$AA$31:$AA$52,0))),\"\",INDEX(AN$31:AN$52,MATCH($AA226,$AA$31:$AA$52,0)))","v":260995}]
[null,"Kaišiadorių r. sav.","Per metus įregistruota mažų ir vidutinių įmonių | vnt.",30,33,55,42,33,32,43,41,45,55,63,84,69,null,{"$f":"ROWS($R$7:R230)","v":224},"",{"$f":"IF(ISERROR(SMALL($S$7:$S$1504,ROWS($S$7:S230))),\"\",SMALL($S$7:$S$1504,ROWS($S$7:S230)))","v":""},"",{"$f":"IF(ISERROR(SMALL($U$7:$U$1504,ROWS(U$7:$U230))),\"\",SMALL($U$7:$U$1504,ROWS(U$7:$U230)))","v":""},"",{"$f":"IF(ISERROR(SMALL($W$7:$W$1504,ROWS($W$7:W230))),\"\",SMALL($W$7:$W$1504,ROWS($W$7:W230)))","v":""},null,null,{"$f":"IF(ISERROR(INDEX($Z$55:$Z$76,MATCH(AA226,$AA$55:$AA$76,0))),\"\",INDEX($Z$55:$Z$76,MATCH(AA226,$AA$55:$AA$76,0)))","v":"Lietuvos Respublika"},{"$f":"IF(ISERROR(INDEX(AB$55:AB$76,MATCH($AA226,$AA$55:$AA$76,0))),\"\",INDEX(AB$55:AB$76,MATCH($AA226,$AA$55:$AA$76,0)))","v":720489},630270,608232,636340,646017,671862,686412,696118,700080,{"$f":"IF(ISERROR(INDEX(AK$55:AK$76,MATCH($AA226,$AA$55:$AA$76,0))),\"\",INDEX(AK$55:AK$76,MATCH($AA226,$AA$55:$AA$76,0)))","v":694455},{"$f":"IF(ISERROR(INDEX(AL$55:AL$76,MATCH($AA226,$AA$55:$AA$76,0))),\"\",INDEX(AL$55:AL$76,MATCH($AA226,$AA$55:$AA$76,0)))","v":686952},{"$f":"IF(ISERROR(INDEX(AM$55:AM$76,MATCH($AA226,$AA$55:$AA$76,0))),\"\",INDEX(AM$55:AM$76,MATCH($AA226,$AA$55:$AA$76,0)))","v":674337},{"$f":"IF(ISERROR(INDEX(AN$55:AN$76,MATCH($AA226,$AA$55:$AA$76,0))),\"\",INDEX(AN$55:AN$76,MATCH($AA226,$AA$55:$AA$76,0)))","v":668249}]
[null,"Kauno m. sav.","Per metus įregistruota mažų ir vidutinių įmonių | vnt.",822,865,1293,1338,1422,1292,1334,1463,1528,1623,1707,1952,1879,null,{"$f":"ROWS($R$7:R231)","v":225},"",{"$f":"IF(ISERROR(SMALL($S$7:$S$1504,ROWS($S$7:S231))),\"\",SMALL($S$7:$S$1504,ROWS($S$7:S231)))","v":""},"",{"$f":"IF(ISERROR(SMALL($U$7:$U$1504,ROWS(U$7:$U231))),\"\",SMALL($U$7:$U$1504,ROWS(U$7:$U231)))","v":""},"",{"$f":"IF(ISERROR(SMALL($W$7:$W$1504,ROWS($W$7:W231))),\"\",SMALL($W$7:$W$1504,ROWS($W$7:W231)))","v":""}]
[null,"Kauno r. sav.","Per metus įregistruota mažų ir vidutinių įmonių | vnt.",161,279,388,256,255,245,262,307,374,404,475,536,440,null,{"$f":"ROWS($R$7:R232)","v":226},"",{"$f":"IF(ISERROR(SMALL($S$7:$S$1504,ROWS($S$7:S232))),\"\",SMALL($S$7:$S$1504,ROWS($S$7:S232)))","v":""},"",{"$f":"IF(ISERROR(SMALL($U$7:$U$1504,ROWS(U$7:$U232))),\"\",SMALL($U$7:$U$1504,ROWS(U$7:$U232)))","v":""},"",{"$f":"IF(ISERROR(SMALL($W$7:$W$1504,ROWS($W$7:W232))),\"\",SMALL($W$7:$W$1504,ROWS($W$7:W232)))","v":""}]
[null,"Kėdainių r. sav.","Per metus įregistruota mažų ir vidutinių įmonių | vnt.",41,66,65,64,64,58,53,53,62,81,99,114,109,null,{"$f":"ROWS($R$7:R233)","v":227},"",{"$f":"IF(ISERROR(SMALL($S$7:$S$1504,ROWS($S$7:S233))),\"\",SMALL($S$7:$S$1504,ROWS($S$7:S233)))","v":""},"",{"$f":"IF(ISERROR(SMALL($U$7:$U$1504,ROWS(U$7:$U233))),\"\",SMALL($U$7:$U$1504,ROWS(U$7:$U233)))","v":""},"",{"$f":"IF(ISERROR(SMALL($W$7:$W$1504,ROWS($W$7:W233))),\"\",SMALL($W$7:$W$1504,ROWS($W$7:W233)))","v":""}]
[null,"Prienų r. sav.","Per metus įregistruota mažų ir vidutinių įmonių | vnt.",29,30,32,26,25,28,40,36,61,53,66,77,83,null,{"$f":"ROWS($R$7:R234)","v":228},"",{"$f":"IF(ISERROR(SMALL($S$7:$S$1504,ROWS($S$7:S234))),\"\",SMALL($S$7:$S$1504,ROWS($S$7:S234)))","v":""},"",{"$f":"IF(ISERROR(SMALL($U$7:$U$1504,ROWS(U$7:$U234))),\"\",SMALL($U$7:$U$1504,ROWS(U$7:$U234)))","v":""},"",{"$f":"IF(ISERROR(SMALL($W$7:$W$1504,ROWS($W$7:W234))),\"\",SMALL($W$7:$W$1504,ROWS($W$7:W234)))","v":""}]
[null,"Raseinių r. sav.","Per metus įregistruota mažų ir vidutinių įmonių | vnt.",38,46,56,37,38,32,50,50,44,56,60,76,43,null,{"$f":"ROWS($R$7:R235)","v":229},"",{"$f":"IF(ISERROR(SMALL($S$7:$S$1504,ROWS($S$7:S235))),\"\",SMALL($S$7:$S$1504,ROWS($S$7:S235)))","v":""},"",{"$f":"IF(ISERROR(SMALL($U$7:$U$1504,ROWS(U$7:$U235))),\"\",SMALL($U$7:$U$1504,ROWS(U$7:$U235)))","v":""},"",{"$f":"IF(ISERROR(SMALL($W$7:$W$1504,ROWS($W$7:W235))),\"\",SMALL($W$7:$W$1504,ROWS($W$7:W235)))","v":""}]
[null,"Klaipėdos apskritis","Per metus įregistruota mažų ir vidutinių įmonių | vnt.",766,839,1160,1007,875,744,777,875,955,1040,1082,1333,1221,null,{"$f":"ROWS($R$7:R236)","v":230},"",{"$f":"IF(ISERROR(SMALL($S$7:$S$1504,ROWS($S$7:S236))),\"\",SMALL($S$7:$S$1504,ROWS($S$7:S236)))","v":""},"",{"$f":"IF(ISERROR(SMALL($U$7:$U$1504,ROWS(U$7:$U236))),\"\",SMALL($U$7:$U$1504,ROWS(U$7:$U236)))","v":""},"",{"$f":"IF(ISERROR(SMALL($W$7:$W$1504,ROWS($W$7:W236))),\"\",SMALL($W$7:$W$1504,ROWS($W$7:W236)))","v":""}]
[null,"Klaipėdos m. sav.","Per metus įregistruota mažų ir vidutinių įmonių | vnt.",519,503,756,621,555,437,429,474,490,526,532,642,599,null,{"$f":"ROWS($R$7:R237)","v":231},"",{"$f":"IF(ISERROR(SMALL($S$7:$S$1504,ROWS($S$7:S237))),\"\",SMALL($S$7:$S$1504,ROWS($S$7:S237)))","v":""},"",{"$f":"IF(ISERROR(SMALL($U$7:$U$1504,ROWS(U$7:$U237))),\"\",SMALL($U$7:$U$1504,ROWS(U$7:$U237)))","v":""},"",{"$f":"IF(ISERROR(SMALL($W$7:$W$1504,ROWS($W$7:W237))),\"\",SMALL($W$7:$W$1504,ROWS($W$7:W237)))","v":""}]
[null,"Klaipėdos r. sav.","Per metus įregistruota mažų ir vidutinių įmonių | vnt.",98,159,182,154,137,138,148,174,207,234,252,341,327,null,{"$f":"ROWS($R$7:R238)","v":232},"",{"$f":"IF(ISERROR(SMALL($S$7:$S$1504,ROWS($S$7:S238))),\"\",SMALL($S$7:$S$1504,ROWS($S$7:S238)))","v":""},"",{"$f":"IF(ISERROR(SMALL($U$7:$U$1504,ROWS(U$7:$U238))),\"\",SMALL($U$7:$U$1504,ROWS(U$7:$U238)))","v":""},"",{"$f":"IF(ISERROR(SMALL($W$7:$W$1504,ROWS($W$7:W238))),\"\",SMALL($W$7:$W$1504,ROWS($W$7:W238)))","v":""}]
[null,"Kretingos r. sav.","Per metus įregistruota mažų ir vidutinių įmonių | vnt.",39,55,64,70,75,59,63,71,77,69,83,102,76,null,{"$f":"ROWS($R$7:R239)","v":233},"",{"$f":"IF(ISERROR(SMALL($S$7:$S$1504,ROWS($S$7:S239))),\"\",SMALL($S$7:$S$1504,ROWS($S$7:S239)))","v":""},"",{"$f":"IF(ISERROR(SMALL($U$7:$U$1504,ROWS(U$7:$U239))),\"\",SMALL($U$7:$U$1504,ROWS(U$7:$U239)))","v":""},"",{"$f":"IF(ISERROR(SMALL($W$7:$W$1504,ROWS($W$7:W239))),\"\",SMALL($W$7:$W$1504,ROWS($W$7:W239)))","v":""}]
[null,"Neringos sav.","Per metus įregistruota mažų ir vidutinių įmonių | vnt.",6,8,13,7,13,5,12,5,7,22,24,30,26,null,{"$f":"ROWS($R$7:R240)","v":234},"",{"$f":"IF(ISERROR(SMALL($S$7:$S$1504,ROWS($S$7:S240))),\"\",SMALL($S$7:$S$1504,ROWS($S$7:S240)))","v":""},"",{"$f":"IF(ISERROR(SMALL($U$7:$U$1504,ROWS(U$7:$U240))),\"\",SMALL($U$7:$U$1504,ROWS(U$7:$U240)))","v":""},"",{"$f":"IF(ISERROR(SMALL($W$7:$W$1504,ROWS($W$7:W240))),\"\",SMALL($W$7:$W$1504,ROWS($W$7:W240)))","v":""}]
[null,"Palangos m. sav.","Per metus įregistruota mažų ir vidutinių įmonių | vnt.",34,42,50,59,44,49,57,57,74,81,76,106,102,null,{"$f":"ROWS($R$7:R241)","v":235},"",{"$f":"IF(ISERROR(SMALL($S$7:$S$1504,ROWS($S$7:S241))),\"\",SMALL($S$7:$S$1504,ROWS($S$7:S241)))","v":""},"",{"$f":"IF(ISERROR(SMALL($U$7:$U$1504,ROWS(U$7:$U241))),\"\",SMALL($U$7:$U$1504,ROWS(U$7:$U241)))","v":""},"",{"$f":"IF(ISERROR(SMALL($W$7:$W$1504,ROWS($W$7:W241))),\"\",SMALL($W$7:$W$1504,ROWS($W$7:W241)))","v":""}]
[null,"Skuodo r. sav.","Per metus įregistruota mažų ir vidutinių įmonių | vnt.",13,12,28,9,10,11,15,18,20,21,21,17,22,null,{"$f":"ROWS($R$7:R242)","v":236},"",{"$f":"IF(ISERROR(SMALL($S$7:$S$1504,ROWS($S$7:S242))),\"\",SMALL($S$7:$S$1504,ROWS($S$7:S242)))","v":""},"",{"$f":"IF(ISERROR(SMALL($U$7:$U$1504,ROWS(U$7:$U242))),\"\",SMALL($U$7:$U$1504,ROWS(U$7:$U242)))","v":""},"",{"$f":"IF(ISERROR(SMALL($W$7:$W$1504,ROWS($W$7:W242))),\"\",SMALL($W$7:$W$1504,ROWS($W$7:W242)))","v":""}]
[null,"Šilutės r. sav.","Per metus įregistruota mažų ir vidutinių įmonių | vnt.",57,60,67,87,41,45,53,76,80,87,94,95,69,null,{"$f":"ROWS($R$7:R243)","v":237},"",{"$f":"IF(ISERROR(SMALL($S$7:$S$1504,ROWS($S$7:S243))),\"\",SMALL($S$7:$S$1504,ROWS($S$7:S243)))","v":""},"",{"$f":"IF(ISERROR(SMALL($U$7:$U$1504,ROWS(U$7:$U243))),\"\",SMALL($U$7:$U$1504,ROWS(U$7:$U243)))","v":""},"",{"$f":"IF(ISERROR(SMALL($W$7:$W$1504,ROWS($W$7:W243))),\"\",SMALL($W$7:$W$1504,ROWS($W$7:W243)))","v":""}]
[null,"Marijampolės apskritis","Per metus įregistruota mažų ir vidutinių įmonių | vnt.",140,151,291,196,184,186,194,263,253,263,269,337,234,null,{"$f":"ROWS($R$7:R244)","v":238},"",{"$f":"IF(ISERROR(SMALL($S$7:$S$1504,ROWS($S$7:S244))),\"\",SMALL($S$7:$S$1504,ROWS($S$7:S244)))","v":""},"",{"$f":"IF(ISERROR(SMALL($U$7:$U$1504,ROWS(U$7:$U244))),\"\",SMALL($U$7:$U$1504,ROWS(U$7:$U244)))","v":""},"",{"$f":"IF(ISERROR(SMALL($W$7:$W$1504,ROWS($W$7:W244))),\"\",SMALL($W$7:$W$1504,ROWS($W$7:W244)))","v":""}]
[null,"Kalvarijos sav.","Per metus įregistruota mažų ir vidutinių įmonių | vnt.",6,6,8,8,6,12,11,29,33,30,29,23,19,null,{"$f":"ROWS($R$7:R245)","v":239},"",{"$f":"IF(ISERROR(SMALL($S$7:$S$1504,ROWS($S$7:S245))),\"\",SMALL($S$7:$S$1504,ROWS($S$7:S245)))","v":""},"",{"$f":"IF(ISERROR(SMALL($U$7:$U$1504,ROWS(U$7:$U245))),\"\",SMALL($U$7:$U$1504,ROWS(U$7:$U245)))","v":""},"",{"$f":"IF(ISERROR(SMALL($W$7:$W$1504,ROWS($W$7:W245))),\"\",SMALL($W$7:$W$1504,ROWS($W$7:W245)))","v":""}]
[null,"Kazlų Rūdos sav.","Per metus įregistruota mažų ir vidutinių įmonių | vnt.",11,17,26,30,21,10,16,32,33,28,27,18,16,null,{"$f":"ROWS($R$7:R246)","v":240},"",{"$f":"IF(ISERROR(SMALL($S$7:$S$1504,ROWS($S$7:S246))),\"\",SMALL($S$7:$S$1504,ROWS($S$7:S246)))","v":""},"",{"$f":"IF(ISERROR(SMALL($U$7:$U$1504,ROWS(U$7:$U246))),\"\",SMALL($U$7:$U$1504,ROWS(U$7:$U246)))","v":""},"",{"$f":"IF(ISERROR(SMALL($W$7:$W$1504,ROWS($W$7:W246))),\"\",SMALL($W$7:$W$1504,ROWS($W$7:W246)))","v":""}]
[null,"Marijampolės sav.","Per metus įregistruota mažų ir vidutinių įmonių | vnt.",80,75,142,89,102,102,95,110,117,102,110,171,114,null,{"$f":"ROWS($R$7:R247)","v":241},"",{"$f":"IF(ISERROR(SMALL($S$7:$S$1504,ROWS($S$7:S247))),\"\",SMALL($S$7:$S$1504,ROWS($S$7:S247)))","v":""},"",{"$f":"IF(ISERROR(SMALL($U$7:$U$1504,ROWS(U$7:$U247))),\"\",SMALL($U$7:$U$1504,ROWS(U$7:$U247)))","v":""},"",{"$f":"IF(ISERROR(SMALL($W$7:$W$1504,ROWS($W$7:W247))),\"\",SMALL($W$7:$W$1504,ROWS($W$7:W247)))","v":""},null,9,{"$f":"+INDEX($AA$7:$AA$28,Z247)","v":"Darbuotojų skaičius veikiančiose įmonėse metų pradžioje | vnt."}]
[null,"Šakių r. sav.","Per metus įregistruota mažų ir vidutinių įmonių | vnt.",21,24,51,32,30,29,34,47,40,51,50,64,39,null,{"$f":"ROWS($R$7:R248)","v":242},"",{"$f":"IF(ISERROR(SMALL($S$7:$S$1504,ROWS($S$7:S248))),\"\",SMALL($S$7:$S$1504,ROWS($S$7:S248)))","v":""},"",{"$f":"IF(ISERROR(SMALL($U$7:$U$1504,ROWS(U$7:$U248))),\"\",SMALL($U$7:$U$1504,ROWS(U$7:$U248)))","v":""},"",{"$f":"IF(ISERROR(SMALL($W$7:$W$1504,ROWS($W$7:W248))),\"\",SMALL($W$7:$W$1504,ROWS($W$7:W248)))","v":""},null,null,null,{"$f":"+AB$6","v":"2010"},"2011","2012","2013","2014","2015","2016","2017","2018",2019,2020,2021,2022,2023]
[null,"Vilkaviškio r. sav.","Per metus įregistruota mažų ir vidutinių įmonių | vnt.",22,29,64,37,25,33,38,45,30,52,53,61,46,null,{"$f":"ROWS($R$7:R249)","v":243},"",{"$f":"IF(ISERROR(SMALL($S$7:$S$1504,ROWS($S$7:S249))),\"\",SMALL($S$7:$S$1504,ROWS($S$7:S249)))","v":""},"",{"$f":"IF(ISERROR(SMALL($U$7:$U$1504,ROWS(U$7:$U249))),\"\",SMALL($U$7:$U$1504,ROWS(U$7:$U249)))","v":""},"",{"$f":"IF(ISERROR(SMALL($W$7:$W$1504,ROWS($W$7:W249))),\"\",SMALL($W$7:$W$1504,ROWS($W$7:W249)))","v":""},null,null,{"$f":"+INDEX($Z$7:$Z$28,MATCH($AA247,$AA$7:$AA$28,0))","v":"Vilniaus m. sav."},{"$f":"+INDEX(AB$7:AB$28,MATCH($AA247,$AA$7:$AA$28,0))","v":370515},303804,296663,314042,323015,339027,350764,353527,358469,{"$f":"+INDEX(AK$7:AK$28,MATCH($AA247,$AA$7:$AA$28,0))","v":357993},{"$f":"+INDEX(AL$7:AL$28,MATCH($AA247,$AA$7:$AA$28,0))","v":361636},{"$f":"+INDEX(AM$7:AM$28,MATCH($AA247,$AA$7:$AA$28,0))","v":362206},{"$f":"+INDEX(AN$7:AN$28,MATCH($AA247,$AA$7:$AA$28,0))","v":361777},{"$f":"+INDEX(AO$7:AO$28,MATCH($AA247,$AA$7:$AA$28,0))","v":378169}]
[null,"Panevėžio apskritis","Per metus įregistruota mažų ir vidutinių įmonių | vnt.",325,345,469,447,494,340,339,372,443,471,503,457,365,null,{"$f":"ROWS($R$7:R250)","v":244},"",{"$f":"IF(ISERROR(SMALL($S$7:$S$1504,ROWS($S$7:S250))),\"\",SMALL($S$7:$S$1504,ROWS($S$7:S250)))","v":""},"",{"$f":"IF(ISERROR(SMALL($U$7:$U$1504,ROWS(U$7:$U250))),\"\",SMALL($U$7:$U$1504,ROWS(U$7:$U250)))","v":""},"",{"$f":"IF(ISERROR(SMALL($W$7:$W$1504,ROWS($W$7:W250))),\"\",SMALL($W$7:$W$1504,ROWS($W$7:W250)))","v":""},null,null,{"$f":"IF(ISERROR(INDEX($Z$31:$Z$52,MATCH(AA247,$AA$31:$AA$52,0))),\"\",INDEX($Z$31:$Z$52,MATCH(AA247,$AA$31:$AA$52,0)))","v":"Vilniaus apskritis"},{"$f":"IF(ISERROR(INDEX(AB$31:AB$52,MATCH($AA247,$AA$31:$AA$52,0))),\"\",INDEX(AB$31:AB$52,MATCH($AA247,$AA$31:$AA$52,0)))","v":416104},344601,336914,357849,368822,387139,400873,405776,413423,{"$f":"IF(ISERROR(INDEX(AK$31:AK$52,MATCH($AA247,$AA$31:$AA$52,0))),\"\",INDEX(AK$31:AK$52,MATCH($AA247,$AA$31:$AA$52,0)))","v":412398},{"$f":"IF(ISERROR(INDEX(AL$31:AL$52,MATCH($AA247,$AA$31:$AA$52,0))),\"\",INDEX(AL$31:AL$52,MATCH($AA247,$AA$31:$AA$52,0)))","v":417911},{"$f":"IF(ISERROR(INDEX(AM$31:AM$52,MATCH($AA247,$AA$31:$AA$52,0))),\"\",INDEX(AM$31:AM$52,MATCH($AA247,$AA$31:$AA$52,0)))","v":419568},{"$f":"IF(ISERROR(INDEX(AN$31:AN$52,MATCH($AA247,$AA$31:$AA$52,0))),\"\",INDEX(AN$31:AN$52,MATCH($AA247,$AA$31:$AA$52,0)))","v":419521},{"$f":"IF(ISERROR(INDEX(AO$31:AO$52,MATCH($AA247,$AA$31:$AA$52,0))),\"\",INDEX(AO$31:AO$52,MATCH($AA247,$AA$31:$AA$52,0)))","v":438611}]
[null,"Biržų r. sav.","Per metus įregistruota mažų ir vidutinių įmonių | vnt.",14,53,42,29,41,29,33,22,34,35,39,33,22,null,{"$f":"ROWS($R$7:R251)","v":245},"",{"$f":"IF(ISERROR(SMALL($S$7:$S$1504,ROWS($S$7:S251))),\"\",SMALL($S$7:$S$1504,ROWS($S$7:S251)))","v":""},"",{"$f":"IF(ISERROR(SMALL($U$7:$U$1504,ROWS(U$7:$U251))),\"\",SMALL($U$7:$U$1504,ROWS(U$7:$U251)))","v":""},"",{"$f":"IF(ISERROR(SMALL($W$7:$W$1504,ROWS($W$7:W251))),\"\",SMALL($W$7:$W$1504,ROWS($W$7:W251)))","v":""},null,null,{"$f":"IF(ISERROR(INDEX($Z$55:$Z$76,MATCH(AA247,$AA$55:$AA$76,0))),\"\",INDEX($Z$55:$Z$76,MATCH(AA247,$AA$55:$AA$76,0)))","v":"Lietuvos Respublika"},{"$f":"IF(ISERROR(INDEX(AB$55:AB$76,MATCH($AA247,$AA$55:$AA$76,0))),\"\",INDEX(AB$55:AB$76,MATCH($AA247,$AA$55:$AA$76,0)))","v":995148},834408,806359,847365,865974,901324,928022,939388,951548,{"$f":"IF(ISERROR(INDEX(AK$55:AK$76,MATCH($AA247,$AA$55:$AA$76,0))),\"\",INDEX(AK$55:AK$76,MATCH($AA247,$AA$55:$AA$76,0)))","v":948024},{"$f":"IF(ISERROR(INDEX(AL$55:AL$76,MATCH($AA247,$AA$55:$AA$76,0))),\"\",INDEX(AL$55:AL$76,MATCH($AA247,$AA$55:$AA$76,0)))","v":960147},{"$f":"IF(ISERROR(INDEX(AM$55:AM$76,MATCH($AA247,$AA$55:$AA$76,0))),\"\",INDEX(AM$55:AM$76,MATCH($AA247,$AA$55:$AA$76,0)))","v":958041},{"$f":"IF(ISERROR(INDEX(AN$55:AN$76,MATCH($AA247,$AA$55:$AA$76,0))),\"\",INDEX(AN$55:AN$76,MATCH($AA247,$AA$55:$AA$76,0)))","v":952156},{"$f":"IF(ISERROR(INDEX(AO$55:AO$76,MATCH($AA247,$AA$55:$AA$76,0))),\"\",INDEX(AO$55:AO$76,MATCH($AA247,$AA$55:$AA$76,0)))","v":992770}]
[null,"Kupiškio r. sav.","Per metus įregistruota mažų ir vidutinių įmonių | vnt.",18,10,19,16,15,19,17,18,44,26,25,25,17,null,{"$f":"ROWS($R$7:R252)","v":246},"",{"$f":"IF(ISERROR(SMALL($S$7:$S$1504,ROWS($S$7:S252))),\"\",SMALL($S$7:$S$1504,ROWS($S$7:S252)))","v":""},"",{"$f":"IF(ISERROR(SMALL($U$7:$U$1504,ROWS(U$7:$U252))),\"\",SMALL($U$7:$U$1504,ROWS(U$7:$U252)))","v":""},"",{"$f":"IF(ISERROR(SMALL($W$7:$W$1504,ROWS($W$7:W252))),\"\",SMALL($W$7:$W$1504,ROWS($W$7:W252)))","v":""}]
[null,"Panevėžio m. sav.","Per metus įregistruota mažų ir vidutinių įmonių | vnt.",183,159,282,258,247,192,148,175,171,230,207,179,137,null,{"$f":"ROWS($R$7:R253)","v":247},"",{"$f":"IF(ISERROR(SMALL($S$7:$S$1504,ROWS($S$7:S253))),\"\",SMALL($S$7:$S$1504,ROWS($S$7:S253)))","v":""},"",{"$f":"IF(ISERROR(SMALL($U$7:$U$1504,ROWS(U$7:$U253))),\"\",SMALL($U$7:$U$1504,ROWS(U$7:$U253)))","v":""},"",{"$f":"IF(ISERROR(SMALL($W$7:$W$1504,ROWS($W$7:W253))),\"\",SMALL($W$7:$W$1504,ROWS($W$7:W253)))","v":""}]
[null,"Panevėžio r. sav.","Per metus įregistruota mažų ir vidutinių įmonių | vnt.",66,75,55,57,49,47,69,66,67,73,102,91,76,null,{"$f":"ROWS($R$7:R254)","v":248},"",{"$f":"IF(ISERROR(SMALL($S$7:$S$1504,ROWS($S$7:S254))),\"\",SMALL($S$7:$S$1504,ROWS($S$7:S254)))","v":""},"",{"$f":"IF(ISERROR(SMALL($U$7:$U$1504,ROWS(U$7:$U254))),\"\",SMALL($U$7:$U$1504,ROWS(U$7:$U254)))","v":""},"",{"$f":"IF(ISERROR(SMALL($W$7:$W$1504,ROWS($W$7:W254))),\"\",SMALL($W$7:$W$1504,ROWS($W$7:W254)))","v":""}]
[null,"Pasvalio r. sav.","Per metus įregistruota mažų ir vidutinių įmonių | vnt.",19,18,35,32,47,22,23,32,31,21,35,46,66,null,{"$f":"ROWS($R$7:R255)","v":249},"",{"$f":"IF(ISERROR(SMALL($S$7:$S$1504,ROWS($S$7:S255))),\"\",SMALL($S$7:$S$1504,ROWS($S$7:S255)))","v":""},"",{"$f":"IF(ISERROR(SMALL($U$7:$U$1504,ROWS(U$7:$U255))),\"\",SMALL($U$7:$U$1504,ROWS(U$7:$U255)))","v":""},"",{"$f":"IF(ISERROR(SMALL($W$7:$W$1504,ROWS($W$7:W255))),\"\",SMALL($W$7:$W$1504,ROWS($W$7:W255)))","v":""}]
[null,"Rokiškio r. sav.","Per metus įregistruota mažų ir vidutinių įmonių | vnt.",25,30,36,55,95,31,49,59,96,86,95,83,47,null,{"$f":"ROWS($R$7:R256)","v":250},"",{"$f":"IF(ISERROR(SMALL($S$7:$S$1504,ROWS($S$7:S256))),\"\",SMALL($S$7:$S$1504,ROWS($S$7:S256)))","v":""},"",{"$f":"IF(ISERROR(SMALL($U$7:$U$1504,ROWS(U$7:$U256))),\"\",SMALL($U$7:$U$1504,ROWS(U$7:$U256)))","v":""},"",{"$f":"IF(ISERROR(SMALL($W$7:$W$1504,ROWS($W$7:W256))),\"\",SMALL($W$7:$W$1504,ROWS($W$7:W256)))","v":""}]
[null,"Šiaulių apskritis","Per metus įregistruota mažų ir vidutinių įmonių | vnt.",398,424,615,537,655,423,483,510,518,511,605,713,520,null,{"$f":"ROWS($R$7:R257)","v":251},"",{"$f":"IF(ISERROR(SMALL($S$7:$S$1504,ROWS($S$7:S257))),\"\",SMALL($S$7:$S$1504,ROWS($S$7:S257)))","v":""},"",{"$f":"IF(ISERROR(SMALL($U$7:$U$1504,ROWS(U$7:$U257))),\"\",SMALL($U$7:$U$1504,ROWS(U$7:$U257)))","v":""},"",{"$f":"IF(ISERROR(SMALL($W$7:$W$1504,ROWS($W$7:W257))),\"\",SMALL($W$7:$W$1504,ROWS($W$7:W257)))","v":""}]
[null,"Akmenės r. sav.","Per metus įregistruota mažų ir vidutinių įmonių | vnt.",15,16,36,64,210,19,38,24,54,26,50,55,39,null,{"$f":"ROWS($R$7:R258)","v":252},"",{"$f":"IF(ISERROR(SMALL($S$7:$S$1504,ROWS($S$7:S258))),\"\",SMALL($S$7:$S$1504,ROWS($S$7:S258)))","v":""},"",{"$f":"IF(ISERROR(SMALL($U$7:$U$1504,ROWS(U$7:$U258))),\"\",SMALL($U$7:$U$1504,ROWS(U$7:$U258)))","v":""},"",{"$f":"IF(ISERROR(SMALL($W$7:$W$1504,ROWS($W$7:W258))),\"\",SMALL($W$7:$W$1504,ROWS($W$7:W258)))","v":""}]
[null,"Joniškio r. sav.","Per metus įregistruota mažų ir vidutinių įmonių | vnt.",17,19,24,23,33,16,25,29,36,36,45,42,30,null,{"$f":"ROWS($R$7:R259)","v":253},"",{"$f":"IF(ISERROR(SMALL($S$7:$S$1504,ROWS($S$7:S259))),\"\",SMALL($S$7:$S$1504,ROWS($S$7:S259)))","v":""},"",{"$f":"IF(ISERROR(SMALL($U$7:$U$1504,ROWS(U$7:$U259))),\"\",SMALL($U$7:$U$1504,ROWS(U$7:$U259)))","v":""},"",{"$f":"IF(ISERROR(SMALL($W$7:$W$1504,ROWS($W$7:W259))),\"\",SMALL($W$7:$W$1504,ROWS($W$7:W259)))","v":""}]
[null,"Kelmės r. sav.","Per metus įregistruota mažų ir vidutinių įmonių | vnt.",21,27,30,26,27,34,39,58,68,44,55,50,37,null,{"$f":"ROWS($R$7:R260)","v":254},"",{"$f":"IF(ISERROR(SMALL($S$7:$S$1504,ROWS($S$7:S260))),\"\",SMALL($S$7:$S$1504,ROWS($S$7:S260)))","v":""},"",{"$f":"IF(ISERROR(SMALL($U$7:$U$1504,ROWS(U$7:$U260))),\"\",SMALL($U$7:$U$1504,ROWS(U$7:$U260)))","v":""},"",{"$f":"IF(ISERROR(SMALL($W$7:$W$1504,ROWS($W$7:W260))),\"\",SMALL($W$7:$W$1504,ROWS($W$7:W260)))","v":""}]
[null,"Pakruojo r. sav.","Per metus įregistruota mažų ir vidutinių įmonių | vnt.",16,13,14,12,15,16,20,10,20,17,25,30,14,null,{"$f":"ROWS($R$7:R261)","v":255},"",{"$f":"IF(ISERROR(SMALL($S$7:$S$1504,ROWS($S$7:S261))),\"\",SMALL($S$7:$S$1504,ROWS($S$7:S261)))","v":""},"",{"$f":"IF(ISERROR(SMALL($U$7:$U$1504,ROWS(U$7:$U261))),\"\",SMALL($U$7:$U$1504,ROWS(U$7:$U261)))","v":""},"",{"$f":"IF(ISERROR(SMALL($W$7:$W$1504,ROWS($W$7:W261))),\"\",SMALL($W$7:$W$1504,ROWS($W$7:W261)))","v":""}]
[null,"Radviliškio r. sav.","Per metus įregistruota mažų ir vidutinių įmonių | vnt.",25,47,81,72,51,53,50,49,50,41,51,63,51,null,{"$f":"ROWS($R$7:R262)","v":256},"",{"$f":"IF(ISERROR(SMALL($S$7:$S$1504,ROWS($S$7:S262))),\"\",SMALL($S$7:$S$1504,ROWS($S$7:S262)))","v":""},"",{"$f":"IF(ISERROR(SMALL($U$7:$U$1504,ROWS(U$7:$U262))),\"\",SMALL($U$7:$U$1504,ROWS(U$7:$U262)))","v":""},"",{"$f":"IF(ISERROR(SMALL($W$7:$W$1504,ROWS($W$7:W262))),\"\",SMALL($W$7:$W$1504,ROWS($W$7:W262)))","v":""}]
[null,"Šiaulių m. sav.","Per metus įregistruota mažų ir vidutinių įmonių | vnt.",244,227,326,274,259,225,235,230,209,265,271,342,265,null,{"$f":"ROWS($R$7:R263)","v":257},{"$f":"IF(ISNUMBER(SEARCH($R$3,B263)),R263,\"\")","v":""},{"$f":"IF(ISERROR(SMALL($S$7:$S$1504,ROWS($S$7:S263))),\"\",SMALL($S$7:$S$1504,ROWS($S$7:S263)))","v":""},{"$f":"IF($R$4=B263,R263,\"\")","v":""},{"$f":"IF(ISERROR(SMALL($U$7:$U$1504,ROWS(U$7:$U263))),\"\",SMALL($U$7:$U$1504,ROWS(U$7:$U263)))","v":""},{"$f":"IF(\"Lietuvos Respublika\"=B263,R263,\"\")","v":""},{"$f":"IF(ISERROR(SMALL($W$7:$W$1504,ROWS($W$7:W263))),\"\",SMALL($W$7:$W$1504,ROWS($W$7:W263)))","v":""}]
[null,"Šiaulių r. sav.","Per metus įregistruota mažų ir vidutinių įmonių | vnt.",60,75,104,66,60,60,76,110,81,82,108,131,84,null,{"$f":"ROWS($R$7:R264)","v":258},"",{"$f":"IF(ISERROR(SMALL($S$7:$S$1504,ROWS($S$7:S264))),\"\",SMALL($S$7:$S$1504,ROWS($S$7:S264)))","v":""},"",{"$f":"IF(ISERROR(SMALL($U$7:$U$1504,ROWS(U$7:$U264))),\"\",SMALL($U$7:$U$1504,ROWS(U$7:$U264)))","v":""},"",{"$f":"IF(ISERROR(SMALL($W$7:$W$1504,ROWS($W$7:W264))),\"\",SMALL($W$7:$W$1504,ROWS($W$7:W264)))","v":""}]
[null,"Tauragės apskritis","Per metus įregistruota mažų ir vidutinių įmonių | vnt.",105,116,254,115,140,94,152,139,158,167,167,181,147,null,{"$f":"ROWS($R$7:R265)","v":259},"",{"$f":"IF(ISERROR(SMALL($S$7:$S$1504,ROWS($S$7:S265))),\"\",SMALL($S$7:$S$1504,ROWS($S$7:S265)))","v":""},"",{"$f":"IF(ISERROR(SMALL($U$7:$U$1504,ROWS(U$7:$U265))),\"\",SMALL($U$7:$U$1504,ROWS(U$7:$U265)))","v":""},"",{"$f":"IF(ISERROR(SMALL($W$7:$W$1504,ROWS($W$7:W265))),\"\",SMALL($W$7:$W$1504,ROWS($W$7:W265)))","v":""}]
[null,"Jurbarko r. sav.","Per metus įregistruota mažų ir vidutinių įmonių | vnt.",20,19,29,36,30,29,34,34,46,55,47,59,31,null,{"$f":"ROWS($R$7:R266)","v":260},"",{"$f":"IF(ISERROR(SMALL($S$7:$S$1504,ROWS($S$7:S266))),\"\",SMALL($S$7:$S$1504,ROWS($S$7:S266)))","v":""},"",{"$f":"IF(ISERROR(SMALL($U$7:$U$1504,ROWS(U$7:$U266))),\"\",SMALL($U$7:$U$1504,ROWS(U$7:$U266)))","v":""},"",{"$f":"IF(ISERROR(SMALL($W$7:$W$1504,ROWS($W$7:W266))),\"\",SMALL($W$7:$W$1504,ROWS($W$7:W266)))","v":""}]
[null,"Pagėgių sav.","Per metus įregistruota mažų ir vidutinių įmonių | vnt.",8,14,27,11,8,1,11,10,5,5,10,17,10,null,{"$f":"ROWS($R$7:R267)","v":261},"",{"$f":"IF(ISERROR(SMALL($S$7:$S$1504,ROWS($S$7:S267))),\"\",SMALL($S$7:$S$1504,ROWS($S$7:S267)))","v":""},"",{"$f":"IF(ISERROR(SMALL($U$7:$U$1504,ROWS(U$7:$U267))),\"\",SMALL($U$7:$U$1504,ROWS(U$7:$U267)))","v":""},"",{"$f":"IF(ISERROR(SMALL($W$7:$W$1504,ROWS($W$7:W267))),\"\",SMALL($W$7:$W$1504,ROWS($W$7:W267)))","v":""}]
[null,"Šilalės r. sav.","Per metus įregistruota mažų ir vidutinių įmonių | vnt.",22,35,20,20,26,21,29,36,28,34,37,44,34,null,{"$f":"ROWS($R$7:R268)","v":262},"",{"$f":"IF(ISERROR(SMALL($S$7:$S$1504,ROWS($S$7:S268))),\"\",SMALL($S$7:$S$1504,ROWS($S$7:S268)))","v":""},"",{"$f":"IF(ISERROR(SMALL($U$7:$U$1504,ROWS(U$7:$U268))),\"\",SMALL($U$7:$U$1504,ROWS(U$7:$U268)))","v":""},"",{"$f":"IF(ISERROR(SMALL($W$7:$W$1504,ROWS($W$7:W268))),\"\",SMALL($W$7:$W$1504,ROWS($W$7:W268)))","v":""},null,10,{"$f":"+INDEX($AA$7:$AA$28,Z268)","v":"Asmenys, įsigiję verslo liudijimus | vnt."}]
[null,"Tauragės r. sav.","Per metus įregistruota mažų ir vidutinių įmonių | vnt.",55,48,178,48,76,43,78,59,79,73,73,61,72,null,{"$f":"ROWS($R$7:R269)","v":263},"",{"$f":"IF(ISERROR(SMALL($S$7:$S$1504,ROWS($S$7:S269))),\"\",SMALL($S$7:$S$1504,ROWS($S$7:S269)))","v":""},"",{"$f":"IF(ISERROR(SMALL($U$7:$U$1504,ROWS(U$7:$U269))),\"\",SMALL($U$7:$U$1504,ROWS(U$7:$U269)))","v":""},"",{"$f":"IF(ISERROR(SMALL($W$7:$W$1504,ROWS($W$7:W269))),\"\",SMALL($W$7:$W$1504,ROWS($W$7:W269)))","v":""},null,null,null,{"$f":"+AB$6","v":"2010"},"2011","2012","2013","2014","2015","2016","2017","2018",2019,2020,2021,2022]
[null,"Telšių apskritis","Per metus įregistruota mažų ir vidutinių įmonių | vnt.",193,231,285,238,206,193,219,242,271,250,316,290,281,null,{"$f":"ROWS($R$7:R270)","v":264},"",{"$f":"IF(ISERROR(SMALL($S$7:$S$1504,ROWS($S$7:S270))),\"\",SMALL($S$7:$S$1504,ROWS($S$7:S270)))","v":""},"",{"$f":"IF(ISERROR(SMALL($U$7:$U$1504,ROWS(U$7:$U270))),\"\",SMALL($U$7:$U$1504,ROWS(U$7:$U270)))","v":""},"",{"$f":"IF(ISERROR(SMALL($W$7:$W$1504,ROWS($W$7:W270))),\"\",SMALL($W$7:$W$1504,ROWS($W$7:W270)))","v":""},null,null,{"$f":"+INDEX($Z$7:$Z$28,MATCH($AA268,$AA$7:$AA$28,0))","v":"Vilniaus m. sav."},{"$f":"+INDEX(AB$7:AB$28,MATCH($AA268,$AA$7:$AA$28,0))","v":""},18717,16996,16984,19062,20503,22494,22974,22526,{"$f":"+INDEX(AK$7:AK$28,MATCH($AA268,$AA$7:$AA$28,0))","v":25788},{"$f":"+INDEX(AL$7:AL$28,MATCH($AA268,$AA$7:$AA$28,0))","v":24031},{"$f":"+INDEX(AM$7:AM$28,MATCH($AA268,$AA$7:$AA$28,0))","v":23009},{"$f":"+INDEX(AN$7:AN$28,MATCH($AA268,$AA$7:$AA$28,0))","v":26390}]
[null,"Mažeikių r. sav.","Per metus įregistruota mažų ir vidutinių įmonių | vnt.",96,85,151,93,100,84,93,110,103,96,109,114,115,null,{"$f":"ROWS($R$7:R271)","v":265},"",{"$f":"IF(ISERROR(SMALL($S$7:$S$1504,ROWS($S$7:S271))),\"\",SMALL($S$7:$S$1504,ROWS($S$7:S271)))","v":""},"",{"$f":"IF(ISERROR(SMALL($U$7:$U$1504,ROWS(U$7:$U271))),\"\",SMALL($U$7:$U$1504,ROWS(U$7:$U271)))","v":""},"",{"$f":"IF(ISERROR(SMALL($W$7:$W$1504,ROWS($W$7:W271))),\"\",SMALL($W$7:$W$1504,ROWS($W$7:W271)))","v":""},null,null,{"$f":"IF(ISERROR(INDEX($Z$31:$Z$52,MATCH(AA268,$AA$31:$AA$52,0))),\"\",INDEX($Z$31:$Z$52,MATCH(AA268,$AA$31:$AA$52,0)))","v":"Vilniaus apskritis"},{"$f":"IF(ISERROR(INDEX(AB$31:AB$52,MATCH($AA268,$AA$31:$AA$52,0))),\"\",INDEX(AB$31:AB$52,MATCH($AA268,$AA$31:$AA$52,0)))","v":""},25450,23304,23650,26560,28619,31379,31823,31170,{"$f":"IF(ISERROR(INDEX(AK$31:AK$52,MATCH($AA268,$AA$31:$AA$52,0))),\"\",INDEX(AK$31:AK$52,MATCH($AA268,$AA$31:$AA$52,0)))","v":34784},{"$f":"IF(ISERROR(INDEX(AL$31:AL$52,MATCH($AA268,$AA$31:$AA$52,0))),\"\",INDEX(AL$31:AL$52,MATCH($AA268,$AA$31:$AA$52,0)))","v":31958},{"$f":"IF(ISERROR(INDEX(AM$31:AM$52,MATCH($AA268,$AA$31:$AA$52,0))),\"\",INDEX(AM$31:AM$52,MATCH($AA268,$AA$31:$AA$52,0)))","v":30808},{"$f":"IF(ISERROR(INDEX(AN$31:AN$52,MATCH($AA268,$AA$31:$AA$52,0))),\"\",INDEX(AN$31:AN$52,MATCH($AA268,$AA$31:$AA$52,0)))","v":34931}]
[null,"Plungės r. sav.","Per metus įregistruota mažų ir vidutinių įmonių | vnt.",37,67,64,62,42,41,53,45,65,71,87,58,76,null,{"$f":"ROWS($R$7:R272)","v":266},"",{"$f":"IF(ISERROR(SMALL($S$7:$S$1504,ROWS($S$7:S272))),\"\",SMALL($S$7:$S$1504,ROWS($S$7:S272)))","v":""},"",{"$f":"IF(ISERROR(SMALL($U$7:$U$1504,ROWS(U$7:$U272))),\"\",SMALL($U$7:$U$1504,ROWS(U$7:$U272)))","v":""},"",{"$f":"IF(ISERROR(SMALL($W$7:$W$1504,ROWS($W$7:W272))),\"\",SMALL($W$7:$W$1504,ROWS($W$7:W272)))","v":""},null,null,{"$f":"IF(ISERROR(INDEX($Z$55:$Z$76,MATCH(AA268,$AA$55:$AA$76,0))),\"\",INDEX($Z$55:$Z$76,MATCH(AA268,$AA$55:$AA$76,0)))","v":"Lietuvos Respublika"},{"$f":"IF(ISERROR(INDEX(AB$55:AB$76,MATCH($AA268,$AA$55:$AA$76,0))),\"\",INDEX(AB$55:AB$76,MATCH($AA268,$AA$55:$AA$76,0)))","v":""},85754,78253,80886,89451,94067,101816,101039,96796,{"$f":"IF(ISERROR(INDEX(AK$55:AK$76,MATCH($AA268,$AA$55:$AA$76,0))),\"\",INDEX(AK$55:AK$76,MATCH($AA268,$AA$55:$AA$76,0)))","v":105107},{"$f":"IF(ISERROR(INDEX(AL$55:AL$76,MATCH($AA268,$AA$55:$AA$76,0))),\"\",INDEX(AL$55:AL$76,MATCH($AA268,$AA$55:$AA$76,0)))","v":96094},{"$f":"IF(ISERROR(INDEX(AM$55:AM$76,MATCH($AA268,$AA$55:$AA$76,0))),\"\",INDEX(AM$55:AM$76,MATCH($AA268,$AA$55:$AA$76,0)))","v":91185},{"$f":"IF(ISERROR(INDEX(AN$55:AN$76,MATCH($AA268,$AA$55:$AA$76,0))),\"\",INDEX(AN$55:AN$76,MATCH($AA268,$AA$55:$AA$76,0)))","v":99193}]
[null,"Rietavo sav.","Per metus įregistruota mažų ir vidutinių įmonių | vnt.",9,17,11,10,11,11,10,11,15,8,25,21,17,null,{"$f":"ROWS($R$7:R273)","v":267},"",{"$f":"IF(ISERROR(SMALL($S$7:$S$1504,ROWS($S$7:S273))),\"\",SMALL($S$7:$S$1504,ROWS($S$7:S273)))","v":""},"",{"$f":"IF(ISERROR(SMALL($U$7:$U$1504,ROWS(U$7:$U273))),\"\",SMALL($U$7:$U$1504,ROWS(U$7:$U273)))","v":""},"",{"$f":"IF(ISERROR(SMALL($W$7:$W$1504,ROWS($W$7:W273))),\"\",SMALL($W$7:$W$1504,ROWS($W$7:W273)))","v":""}]
[null,"Telšių r. sav.","Per metus įregistruota mažų ir vidutinių įmonių | vnt.",51,62,59,73,53,57,63,76,88,75,95,97,73,null,{"$f":"ROWS($R$7:R274)","v":268},"",{"$f":"IF(ISERROR(SMALL($S$7:$S$1504,ROWS($S$7:S274))),\"\",SMALL($S$7:$S$1504,ROWS($S$7:S274)))","v":""},"",{"$f":"IF(ISERROR(SMALL($U$7:$U$1504,ROWS(U$7:$U274))),\"\",SMALL($U$7:$U$1504,ROWS(U$7:$U274)))","v":""},"",{"$f":"IF(ISERROR(SMALL($W$7:$W$1504,ROWS($W$7:W274))),\"\",SMALL($W$7:$W$1504,ROWS($W$7:W274)))","v":""}]
[null,"Utenos apskritis","Per metus įregistruota mažų ir vidutinių įmonių | vnt.",165,175,208,168,152,181,195,193,265,282,309,279,217,null,{"$f":"ROWS($R$7:R275)","v":269},"",{"$f":"IF(ISERROR(SMALL($S$7:$S$1504,ROWS($S$7:S275))),\"\",SMALL($S$7:$S$1504,ROWS($S$7:S275)))","v":""},"",{"$f":"IF(ISERROR(SMALL($U$7:$U$1504,ROWS(U$7:$U275))),\"\",SMALL($U$7:$U$1504,ROWS(U$7:$U275)))","v":""},"",{"$f":"IF(ISERROR(SMALL($W$7:$W$1504,ROWS($W$7:W275))),\"\",SMALL($W$7:$W$1504,ROWS($W$7:W275)))","v":""}]
[null,"Anykščių r. sav.","Per metus įregistruota mažų ir vidutinių įmonių | vnt.",32,34,35,30,24,30,46,31,42,62,54,49,48,null,{"$f":"ROWS($R$7:R276)","v":270},"",{"$f":"IF(ISERROR(SMALL($S$7:$S$1504,ROWS($S$7:S276))),\"\",SMALL($S$7:$S$1504,ROWS($S$7:S276)))","v":""},"",{"$f":"IF(ISERROR(SMALL($U$7:$U$1504,ROWS(U$7:$U276))),\"\",SMALL($U$7:$U$1504,ROWS(U$7:$U276)))","v":""},"",{"$f":"IF(ISERROR(SMALL($W$7:$W$1504,ROWS($W$7:W276))),\"\",SMALL($W$7:$W$1504,ROWS($W$7:W276)))","v":""}]
[null,"Ignalinos r. sav.","Per metus įregistruota mažų ir vidutinių įmonių | vnt.",10,7,14,11,10,19,27,22,35,29,42,38,30,null,{"$f":"ROWS($R$7:R277)","v":271},"",{"$f":"IF(ISERROR(SMALL($S$7:$S$1504,ROWS($S$7:S277))),\"\",SMALL($S$7:$S$1504,ROWS($S$7:S277)))","v":""},"",{"$f":"IF(ISERROR(SMALL($U$7:$U$1504,ROWS(U$7:$U277))),\"\",SMALL($U$7:$U$1504,ROWS(U$7:$U277)))","v":""},"",{"$f":"IF(ISERROR(SMALL($W$7:$W$1504,ROWS($W$7:W277))),\"\",SMALL($W$7:$W$1504,ROWS($W$7:W277)))","v":""}]
[null,"Molėtų r. sav.","Per metus įregistruota mažų ir vidutinių įmonių | vnt.",31,28,51,22,37,35,27,48,44,36,59,49,46,null,{"$f":"ROWS($R$7:R278)","v":272},"",{"$f":"IF(ISERROR(SMALL($S$7:$S$1504,ROWS($S$7:S278))),\"\",SMALL($S$7:$S$1504,ROWS($S$7:S278)))","v":""},"",{"$f":"IF(ISERROR(SMALL($U$7:$U$1504,ROWS(U$7:$U278))),\"\",SMALL($U$7:$U$1504,ROWS(U$7:$U278)))","v":""},"",{"$f":"IF(ISERROR(SMALL($W$7:$W$1504,ROWS($W$7:W278))),\"\",SMALL($W$7:$W$1504,ROWS($W$7:W278)))","v":""}]
[null,"Utenos r. sav.","Per metus įregistruota mažų ir vidutinių įmonių | vnt.",55,46,61,55,47,48,44,49,55,50,72,77,59,null,{"$f":"ROWS($R$7:R279)","v":273},"",{"$f":"IF(ISERROR(SMALL($S$7:$S$1504,ROWS($S$7:S279))),\"\",SMALL($S$7:$S$1504,ROWS($S$7:S279)))","v":""},"",{"$f":"IF(ISERROR(SMALL($U$7:$U$1504,ROWS(U$7:$U279))),\"\",SMALL($U$7:$U$1504,ROWS(U$7:$U279)))","v":""},"",{"$f":"IF(ISERROR(SMALL($W$7:$W$1504,ROWS($W$7:W279))),\"\",SMALL($W$7:$W$1504,ROWS($W$7:W279)))","v":""}]
[null,"Visagino sav.","Per metus įregistruota mažų ir vidutinių įmonių | vnt.",22,42,26,27,26,22,15,15,23,33,27,31,13,null,{"$f":"ROWS($R$7:R280)","v":274},"",{"$f":"IF(ISERROR(SMALL($S$7:$S$1504,ROWS($S$7:S280))),\"\",SMALL($S$7:$S$1504,ROWS($S$7:S280)))","v":""},"",{"$f":"IF(ISERROR(SMALL($U$7:$U$1504,ROWS(U$7:$U280))),\"\",SMALL($U$7:$U$1504,ROWS(U$7:$U280)))","v":""},"",{"$f":"IF(ISERROR(SMALL($W$7:$W$1504,ROWS($W$7:W280))),\"\",SMALL($W$7:$W$1504,ROWS($W$7:W280)))","v":""}]
[null,"Zarasų r. sav.","Per metus įregistruota mažų ir vidutinių įmonių | vnt.",15,18,21,23,8,27,36,28,66,72,55,35,21,null,{"$f":"ROWS($R$7:R281)","v":275},"",{"$f":"IF(ISERROR(SMALL($S$7:$S$1504,ROWS($S$7:S281))),\"\",SMALL($S$7:$S$1504,ROWS($S$7:S281)))","v":""},"",{"$f":"IF(ISERROR(SMALL($U$7:$U$1504,ROWS(U$7:$U281))),\"\",SMALL($U$7:$U$1504,ROWS(U$7:$U281)))","v":""},"",{"$f":"IF(ISERROR(SMALL($W$7:$W$1504,ROWS($W$7:W281))),\"\",SMALL($W$7:$W$1504,ROWS($W$7:W281)))","v":""}]
[null,"Vilniaus apskritis","Per metus įregistruota mažų ir vidutinių įmonių | vnt.",3701,4683,7345,6729,7115,4127,4415,4981,5077,5432,5651,6874,6691,null,{"$f":"ROWS($R$7:R282)","v":276},"",{"$f":"IF(ISERROR(SMALL($S$7:$S$1504,ROWS($S$7:S282))),\"\",SMALL($S$7:$S$1504,ROWS($S$7:S282)))","v":""},276,{"$f":"IF(ISERROR(SMALL($U$7:$U$1504,ROWS(U$7:$U282))),\"\",SMALL($U$7:$U$1504,ROWS(U$7:$U282)))","v":""},"",{"$f":"IF(ISERROR(SMALL($W$7:$W$1504,ROWS($W$7:W282))),\"\",SMALL($W$7:$W$1504,ROWS($W$7:W282)))","v":""}]
[null,"Elektrėnų sav.","Per metus įregistruota mažų ir vidutinių įmonių | vnt.",34,31,33,30,40,26,26,35,50,45,71,54,24,null,{"$f":"ROWS($R$7:R283)","v":277},"",{"$f":"IF(ISERROR(SMALL($S$7:$S$1504,ROWS($S$7:S283))),\"\",SMALL($S$7:$S$1504,ROWS($S$7:S283)))","v":""},"",{"$f":"IF(ISERROR(SMALL($U$7:$U$1504,ROWS(U$7:$U283))),\"\",SMALL($U$7:$U$1504,ROWS(U$7:$U283)))","v":""},"",{"$f":"IF(ISERROR(SMALL($W$7:$W$1504,ROWS($W$7:W283))),\"\",SMALL($W$7:$W$1504,ROWS($W$7:W283)))","v":""}]
[null,"Šalčininkų r. sav.","Per metus įregistruota mažų ir vidutinių įmonių | vnt.",26,36,32,64,116,33,33,32,35,39,44,43,39,null,{"$f":"ROWS($R$7:R284)","v":278},"",{"$f":"IF(ISERROR(SMALL($S$7:$S$1504,ROWS($S$7:S284))),\"\",SMALL($S$7:$S$1504,ROWS($S$7:S284)))","v":""},"",{"$f":"IF(ISERROR(SMALL($U$7:$U$1504,ROWS(U$7:$U284))),\"\",SMALL($U$7:$U$1504,ROWS(U$7:$U284)))","v":""},"",{"$f":"IF(ISERROR(SMALL($W$7:$W$1504,ROWS($W$7:W284))),\"\",SMALL($W$7:$W$1504,ROWS($W$7:W284)))","v":""}]
[null,"Širvintų r. sav.","Per metus įregistruota mažų ir vidutinių įmonių | vnt.",26,21,18,31,22,25,25,26,41,29,60,49,45,null,{"$f":"ROWS($R$7:R285)","v":279},"",{"$f":"IF(ISERROR(SMALL($S$7:$S$1504,ROWS($S$7:S285))),\"\",SMALL($S$7:$S$1504,ROWS($S$7:S285)))","v":""},"",{"$f":"IF(ISERROR(SMALL($U$7:$U$1504,ROWS(U$7:$U285))),\"\",SMALL($U$7:$U$1504,ROWS(U$7:$U285)))","v":""},"",{"$f":"IF(ISERROR(SMALL($W$7:$W$1504,ROWS($W$7:W285))),\"\",SMALL($W$7:$W$1504,ROWS($W$7:W285)))","v":""}]
[null,"Švenčionių r. sav.","Per metus įregistruota mažų ir vidutinių įmonių | vnt.",22,26,41,11,16,25,36,23,29,30,49,33,31,null,{"$f":"ROWS($R$7:R286)","v":280},"",{"$f":"IF(ISERROR(SMALL($S$7:$S$1504,ROWS($S$7:S286))),\"\",SMALL($S$7:$S$1504,ROWS($S$7:S286)))","v":""},"",{"$f":"IF(ISERROR(SMALL($U$7:$U$1504,ROWS(U$7:$U286))),\"\",SMALL($U$7:$U$1504,ROWS(U$7:$U286)))","v":""},"",{"$f":"IF(ISERROR(SMALL($W$7:$W$1504,ROWS($W$7:W286))),\"\",SMALL($W$7:$W$1504,ROWS($W$7:W286)))","v":""}]
[null,"Trakų r. sav.","Per metus įregistruota mažų ir vidutinių įmonių | vnt.",40,37,111,66,35,39,44,70,82,89,95,99,91,null,{"$f":"ROWS($R$7:R287)","v":281},"",{"$f":"IF(ISERROR(SMALL($S$7:$S$1504,ROWS($S$7:S287))),\"\",SMALL($S$7:$S$1504,ROWS($S$7:S287)))","v":""},"",{"$f":"IF(ISERROR(SMALL($U$7:$U$1504,ROWS(U$7:$U287))),\"\",SMALL($U$7:$U$1504,ROWS(U$7:$U287)))","v":""},"",{"$f":"IF(ISERROR(SMALL($W$7:$W$1504,ROWS($W$7:W287))),\"\",SMALL($W$7:$W$1504,ROWS($W$7:W287)))","v":""}]
[null,"Ukmergės r. sav.","Per metus įregistruota mažų ir vidutinių įmonių | vnt.",34,49,59,38,33,29,44,65,44,65,75,75,56,null,{"$f":"ROWS($R$7:R288)","v":282},"",{"$f":"IF(ISERROR(SMALL($S$7:$S$1504,ROWS($S$7:S288))),\"\",SMALL($S$7:$S$1504,ROWS($S$7:S288)))","v":""},"",{"$f":"IF(ISERROR(SMALL($U$7:$U$1504,ROWS(U$7:$U288))),\"\",SMALL($U$7:$U$1504,ROWS(U$7:$U288)))","v":""},"",{"$f":"IF(ISERROR(SMALL($W$7:$W$1504,ROWS($W$7:W288))),\"\",SMALL($W$7:$W$1504,ROWS($W$7:W288)))","v":""}]
[null,"Vilniaus m. sav.","Per metus įregistruota mažų ir vidutinių įmonių | vnt.",3308,4241,6742,6205,6546,3747,3948,4486,4460,4761,4815,6047,6041,null,{"$f":"ROWS($R$7:R289)","v":283},283,{"$f":"IF(ISERROR(SMALL($S$7:$S$1504,ROWS($S$7:S289))),\"\",SMALL($S$7:$S$1504,ROWS($S$7:S289)))","v":""},"",{"$f":"IF(ISERROR(SMALL($U$7:$U$1504,ROWS(U$7:$U289))),\"\",SMALL($U$7:$U$1504,ROWS(U$7:$U289)))","v":""},"",{"$f":"IF(ISERROR(SMALL($W$7:$W$1504,ROWS($W$7:W289))),\"\",SMALL($W$7:$W$1504,ROWS($W$7:W289)))","v":""},null,11,{"$f":"+INDEX($AA$7:$AA$28,Z289)","v":"Veikiančios MVĮ tenkančios 1000 gyventojų metų pradžioje | vnt."}]
[null,"Vilniaus r. sav.","Per metus įregistruota mažų ir vidutinių įmonių | vnt.",211,242,309,284,307,203,259,244,336,374,442,474,364,null,{"$f":"ROWS($R$7:R290)","v":284},"",{"$f":"IF(ISERROR(SMALL($S$7:$S$1504,ROWS($S$7:S290))),\"\",SMALL($S$7:$S$1504,ROWS($S$7:S290)))","v":""},"",{"$f":"IF(ISERROR(SMALL($U$7:$U$1504,ROWS(U$7:$U290))),\"\",SMALL($U$7:$U$1504,ROWS(U$7:$U290)))","v":""},"",{"$f":"IF(ISERROR(SMALL($W$7:$W$1504,ROWS($W$7:W290))),\"\",SMALL($W$7:$W$1504,ROWS($W$7:W290)))","v":""},null,null,null,{"$f":"+AB$6","v":"2010"},"2011","2012","2013","2014","2015","2016","2017","2018",2019,2020,2021,2022]
[null,"Lietuvos Respublika","Per metus išregistruota mažų ir vidutinių įmonių | vnt.",6689,4166,4118,4078,4950,5598,17982,4199,4188,4038,2968,8307,16100,null,{"$f":"ROWS($R$7:R291)","v":285},"",{"$f":"IF(ISERROR(SMALL($S$7:$S$1504,ROWS($S$7:S291))),\"\",SMALL($S$7:$S$1504,ROWS($S$7:S291)))","v":""},"",{"$f":"IF(ISERROR(SMALL($U$7:$U$1504,ROWS(U$7:$U291))),\"\",SMALL($U$7:$U$1504,ROWS(U$7:$U291)))","v":""},285,{"$f":"IF(ISERROR(SMALL($W$7:$W$1504,ROWS($W$7:W291))),\"\",SMALL($W$7:$W$1504,ROWS($W$7:W291)))","v":""},null,null,{"$f":"+INDEX($Z$7:$Z$28,MATCH($AA289,$AA$7:$AA$28,0))","v":"Vilniaus m. sav."},{"$f":"+INDEX(AB$7:AB$28,MATCH($AA289,$AA$7:$AA$28,0))","v":38.205714012198285},40.691850997991146,39.467145715469762,42.183590492076732,44.390752760294014,51.750192581999386,54.59131948341561,55.991417253521128,55.185174361259875,{"$f":"+INDEX(AK$7:AK$28,MATCH($AA289,$AA$7:$AA$28,0))","v":55.26949220384293},{"$f":"+INDEX(AL$7:AL$28,MATCH($AA289,$AA$7:$AA$28,0))","v":55.854669679554469},{"$f":"+INDEX(AM$7:AM$28,MATCH($AA289,$AA$7:$AA$28,0))","v":56.816834085068912},{"$f":"+INDEX(AN$7:AN$28,MATCH($AA289,$AA$7:$AA$28,0))","v":60.000497325101421}]
[null,"Alytaus apskritis","Per metus išregistruota mažų ir vidutinių įmonių | vnt.",242,178,151,152,182,218,610,140,128,140,93,412,169,null,{"$f":"ROWS($R$7:R292)","v":286},"",{"$f":"IF(ISERROR(SMALL($S$7:$S$1504,ROWS($S$7:S292))),\"\",SMALL($S$7:$S$1504,ROWS($S$7:S292)))","v":""},"",{"$f":"IF(ISERROR(SMALL($U$7:$U$1504,ROWS(U$7:$U292))),\"\",SMALL($U$7:$U$1504,ROWS(U$7:$U292)))","v":""},"",{"$f":"IF(ISERROR(SMALL($W$7:$W$1504,ROWS($W$7:W292))),\"\",SMALL($W$7:$W$1504,ROWS($W$7:W292)))","v":""},null,null,{"$f":"IF(ISERROR(INDEX($Z$31:$Z$52,MATCH(AA289,$AA$31:$AA$52,0))),\"\",INDEX($Z$31:$Z$52,MATCH(AA289,$AA$31:$AA$52,0)))","v":"Vilniaus apskritis"},{"$f":"IF(ISERROR(INDEX(AB$31:AB$52,MATCH($AA289,$AA$31:$AA$52,0))),\"\",INDEX(AB$31:AB$52,MATCH($AA289,$AA$31:$AA$52,0)))","v":28.859745229576085},30.894068501506442,29.954771905225737,32.332557781889804,34.170444085517289,39.778433555452906,42.213613449551765,43.616713426803926,43.362839550167813,{"$f":"IF(ISERROR(INDEX(AK$31:AK$52,MATCH($AA289,$AA$31:$AA$52,0))),\"\",INDEX(AK$31:AK$52,MATCH($AA289,$AA$31:$AA$52,0)))","v":43.654955103893954},{"$f":"IF(ISERROR(INDEX(AL$31:AL$52,MATCH($AA289,$AA$31:$AA$52,0))),\"\",INDEX(AL$31:AL$52,MATCH($AA289,$AA$31:$AA$52,0)))","v":44.446069024338236},{"$f":"IF(ISERROR(INDEX(AM$31:AM$52,MATCH($AA289,$AA$31:$AA$52,0))),\"\",INDEX(AM$31:AM$52,MATCH($AA289,$AA$31:$AA$52,0)))","v":45.566276145570342},{"$f":"IF(ISERROR(INDEX(AN$31:AN$52,MATCH($AA289,$AA$31:$AA$52,0))),\"\",INDEX(AN$31:AN$52,MATCH($AA289,$AA$31:$AA$52,0)))","v":48.461397395928849}]
[null,"Alytaus m. sav.","Per metus išregistruota mažų ir vidutinių įmonių | vnt.",126,93,78,79,88,107,282,76,66,67,40,229,95,null,{"$f":"ROWS($R$7:R293)","v":287},"",{"$f":"IF(ISERROR(SMALL($S$7:$S$1504,ROWS($S$7:S293))),\"\",SMALL($S$7:$S$1504,ROWS($S$7:S293)))","v":""},"",{"$f":"IF(ISERROR(SMALL($U$7:$U$1504,ROWS(U$7:$U293))),\"\",SMALL($U$7:$U$1504,ROWS(U$7:$U293)))","v":""},"",{"$f":"IF(ISERROR(SMALL($W$7:$W$1504,ROWS($W$7:W293))),\"\",SMALL($W$7:$W$1504,ROWS($W$7:W293)))","v":""},null,null,{"$f":"IF(ISERROR(INDEX($Z$55:$Z$76,MATCH(AA289,$AA$55:$AA$76,0))),\"\",INDEX($Z$55:$Z$76,MATCH(AA289,$AA$55:$AA$76,0)))","v":"Lietuvos Respublika"},{"$f":"IF(ISERROR(INDEX(AB$55:AB$76,MATCH($AA289,$AA$55:$AA$76,0))),\"\",INDEX(AB$55:AB$76,MATCH($AA289,$AA$55:$AA$76,0)))","v":20.193343297338998},21.795931845371861,20.836711178200055,22.026612559957336,23.082604488848546,26.042169445944939,27.512689722692084,29.103860242480085,29.573487994058887,{"$f":"IF(ISERROR(INDEX(AK$55:AK$76,MATCH($AA289,$AA$55:$AA$76,0))),\"\",INDEX(AK$55:AK$76,MATCH($AA289,$AA$55:$AA$76,0)))","v":30.244965972176491},{"$f":"IF(ISERROR(INDEX(AL$55:AL$76,MATCH($AA289,$AA$55:$AA$76,0))),\"\",INDEX(AL$55:AL$76,MATCH($AA289,$AA$55:$AA$76,0)))","v":31.040725698369805},{"$f":"IF(ISERROR(INDEX(AM$55:AM$76,MATCH($AA289,$AA$55:$AA$76,0))),\"\",INDEX(AM$55:AM$76,MATCH($AA289,$AA$55:$AA$76,0)))","v":31.053511842522362},{"$f":"IF(ISERROR(INDEX(AN$55:AN$76,MATCH($AA289,$AA$55:$AA$76,0))),\"\",INDEX(AN$55:AN$76,MATCH($AA289,$AA$55:$AA$76,0)))","v":33.010714904287177}]
[null,"Alytaus r. sav.","Per metus išregistruota mažų ir vidutinių įmonių | vnt.",36,19,27,18,28,17,73,17,20,20,15,53,18,null,{"$f":"ROWS($R$7:R294)","v":288},"",{"$f":"IF(ISERROR(SMALL($S$7:$S$1504,ROWS($S$7:S294))),\"\",SMALL($S$7:$S$1504,ROWS($S$7:S294)))","v":""},"",{"$f":"IF(ISERROR(SMALL($U$7:$U$1504,ROWS(U$7:$U294))),\"\",SMALL($U$7:$U$1504,ROWS(U$7:$U294)))","v":""},"",{"$f":"IF(ISERROR(SMALL($W$7:$W$1504,ROWS($W$7:W294))),\"\",SMALL($W$7:$W$1504,ROWS($W$7:W294)))","v":""}]
[null,"Druskininkų sav.","Per metus išregistruota mažų ir vidutinių įmonių | vnt.",33,33,21,30,42,56,130,19,23,33,20,66,27,null,{"$f":"ROWS($R$7:R295)","v":289},"",{"$f":"IF(ISERROR(SMALL($S$7:$S$1504,ROWS($S$7:S295))),\"\",SMALL($S$7:$S$1504,ROWS($S$7:S295)))","v":""},"",{"$f":"IF(ISERROR(SMALL($U$7:$U$1504,ROWS(U$7:$U295))),\"\",SMALL($U$7:$U$1504,ROWS(U$7:$U295)))","v":""},"",{"$f":"IF(ISERROR(SMALL($W$7:$W$1504,ROWS($W$7:W295))),\"\",SMALL($W$7:$W$1504,ROWS($W$7:W295)))","v":""}]
[null,"Lazdijų r. sav.","Per metus išregistruota mažų ir vidutinių įmonių | vnt.",13,12,11,9,8,11,33,12,9,8,10,20,8,null,{"$f":"ROWS($R$7:R296)","v":290},"",{"$f":"IF(ISERROR(SMALL($S$7:$S$1504,ROWS($S$7:S296))),\"\",SMALL($S$7:$S$1504,ROWS($S$7:S296)))","v":""},"",{"$f":"IF(ISERROR(SMALL($U$7:$U$1504,ROWS(U$7:$U296))),\"\",SMALL($U$7:$U$1504,ROWS(U$7:$U296)))","v":""},"",{"$f":"IF(ISERROR(SMALL($W$7:$W$1504,ROWS($W$7:W296))),\"\",SMALL($W$7:$W$1504,ROWS($W$7:W296)))","v":""}]
[null,"Varėnos r. sav.","Per metus išregistruota mažų ir vidutinių įmonių | vnt.",34,21,14,16,16,27,92,16,10,12,8,44,21,null,{"$f":"ROWS($R$7:R297)","v":291},"",{"$f":"IF(ISERROR(SMALL($S$7:$S$1504,ROWS($S$7:S297))),\"\",SMALL($S$7:$S$1504,ROWS($S$7:S297)))","v":""},"",{"$f":"IF(ISERROR(SMALL($U$7:$U$1504,ROWS(U$7:$U297))),\"\",SMALL($U$7:$U$1504,ROWS(U$7:$U297)))","v":""},"",{"$f":"IF(ISERROR(SMALL($W$7:$W$1504,ROWS($W$7:W297))),\"\",SMALL($W$7:$W$1504,ROWS($W$7:W297)))","v":""}]
[null,"Kauno apskritis","Per metus išregistruota mažų ir vidutinių įmonių | vnt.",1090,788,804,763,1072,1012,4014,887,809,800,600,1932,3131,null,{"$f":"ROWS($R$7:R298)","v":292},"",{"$f":"IF(ISERROR(SMALL($S$7:$S$1504,ROWS($S$7:S298))),\"\",SMALL($S$7:$S$1504,ROWS($S$7:S298)))","v":""},"",{"$f":"IF(ISERROR(SMALL($U$7:$U$1504,ROWS(U$7:$U298))),\"\",SMALL($U$7:$U$1504,ROWS(U$7:$U298)))","v":""},"",{"$f":"IF(ISERROR(SMALL($W$7:$W$1504,ROWS($W$7:W298))),\"\",SMALL($W$7:$W$1504,ROWS($W$7:W298)))","v":""}]
[null,"Birštono sav.","Per metus išregistruota mažų ir vidutinių įmonių | vnt.",3,3,3,3,1,4,11,2,1,3,2,6,8,null,{"$f":"ROWS($R$7:R299)","v":293},"",{"$f":"IF(ISERROR(SMALL($S$7:$S$1504,ROWS($S$7:S299))),\"\",SMALL($S$7:$S$1504,ROWS($S$7:S299)))","v":""},"",{"$f":"IF(ISERROR(SMALL($U$7:$U$1504,ROWS(U$7:$U299))),\"\",SMALL($U$7:$U$1504,ROWS(U$7:$U299)))","v":""},"",{"$f":"IF(ISERROR(SMALL($W$7:$W$1504,ROWS($W$7:W299))),\"\",SMALL($W$7:$W$1504,ROWS($W$7:W299)))","v":""}]
[null,"Jonavos r. sav.","Per metus išregistruota mažų ir vidutinių įmonių | vnt.",37,21,22,28,32,67,188,29,31,21,30,106,105,null,{"$f":"ROWS($R$7:R300)","v":294},"",{"$f":"IF(ISERROR(SMALL($S$7:$S$1504,ROWS($S$7:S300))),\"\",SMALL($S$7:$S$1504,ROWS($S$7:S300)))","v":""},"",{"$f":"IF(ISERROR(SMALL($U$7:$U$1504,ROWS(U$7:$U300))),\"\",SMALL($U$7:$U$1504,ROWS(U$7:$U300)))","v":""},"",{"$f":"IF(ISERROR(SMALL($W$7:$W$1504,ROWS($W$7:W300))),\"\",SMALL($W$7:$W$1504,ROWS($W$7:W300)))","v":""}]
[null,"Kaišiadorių r. sav.","Per metus išregistruota mažų ir vidutinių įmonių | vnt.",24,16,13,11,23,19,80,17,20,10,11,27,57,null,{"$f":"ROWS($R$7:R301)","v":295},"",{"$f":"IF(ISERROR(SMALL($S$7:$S$1504,ROWS($S$7:S301))),\"\",SMALL($S$7:$S$1504,ROWS($S$7:S301)))","v":""},"",{"$f":"IF(ISERROR(SMALL($U$7:$U$1504,ROWS(U$7:$U301))),\"\",SMALL($U$7:$U$1504,ROWS(U$7:$U301)))","v":""},"",{"$f":"IF(ISERROR(SMALL($W$7:$W$1504,ROWS($W$7:W301))),\"\",SMALL($W$7:$W$1504,ROWS($W$7:W301)))","v":""}]
[null,"Kauno m. sav.","Per metus išregistruota mažų ir vidutinių įmonių | vnt.",778,603,621,565,800,736,2976,646,602,609,445,1477,2467,null,{"$f":"ROWS($R$7:R302)","v":296},"",{"$f":"IF(ISERROR(SMALL($S$7:$S$1504,ROWS($S$7:S302))),\"\",SMALL($S$7:$S$1504,ROWS($S$7:S302)))","v":""},"",{"$f":"IF(ISERROR(SMALL($U$7:$U$1504,ROWS(U$7:$U302))),\"\",SMALL($U$7:$U$1504,ROWS(U$7:$U302)))","v":""},"",{"$f":"IF(ISERROR(SMALL($W$7:$W$1504,ROWS($W$7:W302))),\"\",SMALL($W$7:$W$1504,ROWS($W$7:W302)))","v":""}]
[null,"Kauno r. sav.","Per metus išregistruota mažų ir vidutinių įmonių | vnt.",104,74,73,78,120,109,348,101,92,97,65,175,302,null,{"$f":"ROWS($R$7:R303)","v":297},"",{"$f":"IF(ISERROR(SMALL($S$7:$S$1504,ROWS($S$7:S303))),\"\",SMALL($S$7:$S$1504,ROWS($S$7:S303)))","v":""},"",{"$f":"IF(ISERROR(SMALL($U$7:$U$1504,ROWS(U$7:$U303))),\"\",SMALL($U$7:$U$1504,ROWS(U$7:$U303)))","v":""},"",{"$f":"IF(ISERROR(SMALL($W$7:$W$1504,ROWS($W$7:W303))),\"\",SMALL($W$7:$W$1504,ROWS($W$7:W303)))","v":""}]
[null,"Kėdainių r. sav.","Per metus išregistruota mažų ir vidutinių įmonių | vnt.",91,40,44,30,54,35,163,41,26,24,23,52,70,null,{"$f":"ROWS($R$7:R304)","v":298},"",{"$f":"IF(ISERROR(SMALL($S$7:$S$1504,ROWS($S$7:S304))),\"\",SMALL($S$7:$S$1504,ROWS($S$7:S304)))","v":""},"",{"$f":"IF(ISERROR(SMALL($U$7:$U$1504,ROWS(U$7:$U304))),\"\",SMALL($U$7:$U$1504,ROWS(U$7:$U304)))","v":""},"",{"$f":"IF(ISERROR(SMALL($W$7:$W$1504,ROWS($W$7:W304))),\"\",SMALL($W$7:$W$1504,ROWS($W$7:W304)))","v":""}]
[null,"Prienų r. sav.","Per metus išregistruota mažų ir vidutinių įmonių | vnt.",30,18,17,15,15,19,140,23,21,15,11,35,40,null,{"$f":"ROWS($R$7:R305)","v":299},"",{"$f":"IF(ISERROR(SMALL($S$7:$S$1504,ROWS($S$7:S305))),\"\",SMALL($S$7:$S$1504,ROWS($S$7:S305)))","v":""},"",{"$f":"IF(ISERROR(SMALL($U$7:$U$1504,ROWS(U$7:$U305))),\"\",SMALL($U$7:$U$1504,ROWS(U$7:$U305)))","v":""},"",{"$f":"IF(ISERROR(SMALL($W$7:$W$1504,ROWS($W$7:W305))),\"\",SMALL($W$7:$W$1504,ROWS($W$7:W305)))","v":""}]
[null,"Raseinių r. sav.","Per metus išregistruota mažų ir vidutinių įmonių | vnt.",23,13,11,33,27,23,108,28,16,21,13,54,82,null,{"$f":"ROWS($R$7:R306)","v":300},"",{"$f":"IF(ISERROR(SMALL($S$7:$S$1504,ROWS($S$7:S306))),\"\",SMALL($S$7:$S$1504,ROWS($S$7:S306)))","v":""},"",{"$f":"IF(ISERROR(SMALL($U$7:$U$1504,ROWS(U$7:$U306))),\"\",SMALL($U$7:$U$1504,ROWS(U$7:$U306)))","v":""},"",{"$f":"IF(ISERROR(SMALL($W$7:$W$1504,ROWS($W$7:W306))),\"\",SMALL($W$7:$W$1504,ROWS($W$7:W306)))","v":""}]
[null,"Klaipėdos apskritis","Per metus išregistruota mažų ir vidutinių įmonių | vnt.",822,567,645,570,727,928,2142,548,555,606,396,2701,1061,null,{"$f":"ROWS($R$7:R307)","v":301},"",{"$f":"IF(ISERROR(SMALL($S$7:$S$1504,ROWS($S$7:S307))),\"\",SMALL($S$7:$S$1504,ROWS($S$7:S307)))","v":""},"",{"$f":"IF(ISERROR(SMALL($U$7:$U$1504,ROWS(U$7:$U307))),\"\",SMALL($U$7:$U$1504,ROWS(U$7:$U307)))","v":""},"",{"$f":"IF(ISERROR(SMALL($W$7:$W$1504,ROWS($W$7:W307))),\"\",SMALL($W$7:$W$1504,ROWS($W$7:W307)))","v":""}]
[null,"Klaipėdos m. sav.","Per metus išregistruota mažų ir vidutinių įmonių | vnt.",469,365,451,395,484,598,1197,354,373,400,248,2061,722,null,{"$f":"ROWS($R$7:R308)","v":302},"",{"$f":"IF(ISERROR(SMALL($S$7:$S$1504,ROWS($S$7:S308))),\"\",SMALL($S$7:$S$1504,ROWS($S$7:S308)))","v":""},"",{"$f":"IF(ISERROR(SMALL($U$7:$U$1504,ROWS(U$7:$U308))),\"\",SMALL($U$7:$U$1504,ROWS(U$7:$U308)))","v":""},"",{"$f":"IF(ISERROR(SMALL($W$7:$W$1504,ROWS($W$7:W308))),\"\",SMALL($W$7:$W$1504,ROWS($W$7:W308)))","v":""}]
[null,"Klaipėdos r. sav.","Per metus išregistruota mažų ir vidutinių įmonių | vnt.",83,68,63,63,71,167,206,66,57,63,49,188,117,null,{"$f":"ROWS($R$7:R309)","v":303},"",{"$f":"IF(ISERROR(SMALL($S$7:$S$1504,ROWS($S$7:S309))),\"\",SMALL($S$7:$S$1504,ROWS($S$7:S309)))","v":""},"",{"$f":"IF(ISERROR(SMALL($U$7:$U$1504,ROWS(U$7:$U309))),\"\",SMALL($U$7:$U$1504,ROWS(U$7:$U309)))","v":""},"",{"$f":"IF(ISERROR(SMALL($W$7:$W$1504,ROWS($W$7:W309))),\"\",SMALL($W$7:$W$1504,ROWS($W$7:W309)))","v":""}]
[null,"Kretingos r. sav.","Per metus išregistruota mažų ir vidutinių įmonių | vnt.",84,39,46,39,65,63,218,33,33,52,24,84,46,null,{"$f":"ROWS($R$7:R310)","v":304},"",{"$f":"IF(ISERROR(SMALL($S$7:$S$1504,ROWS($S$7:S310))),\"\",SMALL($S$7:$S$1504,ROWS($S$7:S310)))","v":""},"",{"$f":"IF(ISERROR(SMALL($U$7:$U$1504,ROWS(U$7:$U310))),\"\",SMALL($U$7:$U$1504,ROWS(U$7:$U310)))","v":""},"",{"$f":"IF(ISERROR(SMALL($W$7:$W$1504,ROWS($W$7:W310))),\"\",SMALL($W$7:$W$1504,ROWS($W$7:W310)))","v":""},null,12,{"$f":"+INDEX($AA$7:$AA$28,Z310)","v":"Išgyvenusių 1 metus ir 1 dieną ir nepakeitusių statuso iš veikianti į kitą įmonių dalis tarp visų prieš metus įregistruotų įmonių | %"}]
[null,"Neringos sav.","Per metus išregistruota mažų ir vidutinių įmonių | vnt.",11,6,4,6,7,13,35,6,7,12,7,20,9,null,{"$f":"ROWS($R$7:R311)","v":305},"",{"$f":"IF(ISERROR(SMALL($S$7:$S$1504,ROWS($S$7:S311))),\"\",SMALL($S$7:$S$1504,ROWS($S$7:S311)))","v":""},"",{"$f":"IF(ISERROR(SMALL($U$7:$U$1504,ROWS(U$7:$U311))),\"\",SMALL($U$7:$U$1504,ROWS(U$7:$U311)))","v":""},"",{"$f":"IF(ISERROR(SMALL($W$7:$W$1504,ROWS($W$7:W311))),\"\",SMALL($W$7:$W$1504,ROWS($W$7:W311)))","v":""},null,null,null,{"$f":"+AB$6","v":"2010"},"2011","2012","2013","2014","2015","2016","2017","2018",2019,2020,2021]
[null,"Palangos m. sav.","Per metus išregistruota mažų ir vidutinių įmonių | vnt.",89,44,34,31,53,32,282,50,37,35,25,208,74,null,{"$f":"ROWS($R$7:R312)","v":306},"",{"$f":"IF(ISERROR(SMALL($S$7:$S$1504,ROWS($S$7:S312))),\"\",SMALL($S$7:$S$1504,ROWS($S$7:S312)))","v":""},"",{"$f":"IF(ISERROR(SMALL($U$7:$U$1504,ROWS(U$7:$U312))),\"\",SMALL($U$7:$U$1504,ROWS(U$7:$U312)))","v":""},"",{"$f":"IF(ISERROR(SMALL($W$7:$W$1504,ROWS($W$7:W312))),\"\",SMALL($W$7:$W$1504,ROWS($W$7:W312)))","v":""},null,null,{"$f":"+INDEX($Z$7:$Z$28,MATCH($AA310,$AA$7:$AA$28,0))","v":"Vilniaus m. sav."},{"$f":"+INDEX(AB$7:AB$28,MATCH($AA310,$AA$7:$AA$28,0))","v":49.793217535153019},47.542967804405713,41.387559808612437,26.652592690328543,24.542334096109837,24.891481280520889,33.73290302750884,36.958354409037263,23.920265780730897,{"$f":"+INDEX(AK$7:AK$28,MATCH($AA310,$AA$7:$AA$28,0))","v":21.068020929516774},{"$f":"+INDEX(AL$7:AL$28,MATCH($AA310,$AA$7:$AA$28,0))","v":0},{"$f":"+INDEX(AM$7:AM$28,MATCH($AA310,$AA$7:$AA$28,0))","v":0}]
[null,"Skuodo r. sav.","Per metus išregistruota mažų ir vidutinių įmonių | vnt.",23,4,null,5,7,7,67,11,8,5,8,22,22,null,{"$f":"ROWS($R$7:R313)","v":307},"",{"$f":"IF(ISERROR(SMALL($S$7:$S$1504,ROWS($S$7:S313))),\"\",SMALL($S$7:$S$1504,ROWS($S$7:S313)))","v":""},"",{"$f":"IF(ISERROR(SMALL($U$7:$U$1504,ROWS(U$7:$U313))),\"\",SMALL($U$7:$U$1504,ROWS(U$7:$U313)))","v":""},"",{"$f":"IF(ISERROR(SMALL($W$7:$W$1504,ROWS($W$7:W313))),\"\",SMALL($W$7:$W$1504,ROWS($W$7:W313)))","v":""},null,null,{"$f":"IF(ISERROR(INDEX($Z$31:$Z$52,MATCH(AA310,$AA$31:$AA$52,0))),\"\",INDEX($Z$31:$Z$52,MATCH(AA310,$AA$31:$AA$52,0)))","v":"Vilniaus apskritis"},{"$f":"IF(ISERROR(INDEX(AB$31:AB$52,MATCH($AA310,$AA$31:$AA$52,0))),\"\",INDEX(AB$31:AB$52,MATCH($AA310,$AA$31:$AA$52,0)))","v":54.8095703125},52.927300021445426,47.115384615384613,31.126304426052538,29.634960094203848,29.75881261595547,38.299687233437588,42.074663402692778,29.725456374874227,{"$f":"IF(ISERROR(INDEX(AK$31:AK$52,MATCH($AA310,$AA$31:$AA$52,0))),\"\",INDEX(AK$31:AK$52,MATCH($AA310,$AA$31:$AA$52,0)))","v":26.941209095951191},{"$f":"IF(ISERROR(INDEX(AL$31:AL$52,MATCH($AA310,$AA$31:$AA$52,0))),\"\",INDEX(AL$31:AL$52,MATCH($AA310,$AA$31:$AA$52,0)))","v":0},{"$f":"IF(ISERROR(INDEX(AM$31:AM$52,MATCH($AA310,$AA$31:$AA$52,0))),\"\",INDEX(AM$31:AM$52,MATCH($AA310,$AA$31:$AA$52,0)))","v":0}]
[null,"Šilutės r. sav.","Per metus išregistruota mažų ir vidutinių įmonių | vnt.",63,41,47,31,40,48,137,28,40,39,35,118,71,null,{"$f":"ROWS($R$7:R314)","v":308},"",{"$f":"IF(ISERROR(SMALL($S$7:$S$1504,ROWS($S$7:S314))),\"\",SMALL($S$7:$S$1504,ROWS($S$7:S314)))","v":""},"",{"$f":"IF(ISERROR(SMALL($U$7:$U$1504,ROWS(U$7:$U314))),\"\",SMALL($U$7:$U$1504,ROWS(U$7:$U314)))","v":""},"",{"$f":"IF(ISERROR(SMALL($W$7:$W$1504,ROWS($W$7:W314))),\"\",SMALL($W$7:$W$1504,ROWS($W$7:W314)))","v":""},null,null,{"$f":"IF(ISERROR(INDEX($Z$55:$Z$76,MATCH(AA310,$AA$55:$AA$76,0))),\"\",INDEX($Z$55:$Z$76,MATCH(AA310,$AA$55:$AA$76,0)))","v":"Lietuvos Respublika"},{"$f":"IF(ISERROR(INDEX(AB$55:AB$76,MATCH($AA310,$AA$55:$AA$76,0))),\"\",INDEX(AB$55:AB$76,MATCH($AA310,$AA$55:$AA$76,0)))","v":72.743321172178426},71.454584404455872,67.190904784462333,51.773428628682119,52.524810274372449,52.384326507475379,59.59941377625794,63.414429530201346,52.556593319613739,{"$f":"IF(ISERROR(INDEX(AK$55:AK$76,MATCH($AA310,$AA$55:$AA$76,0))),\"\",INDEX(AK$55:AK$76,MATCH($AA310,$AA$55:$AA$76,0)))","v":50.508091832894245},{"$f":"IF(ISERROR(INDEX(AL$55:AL$76,MATCH($AA310,$AA$55:$AA$76,0))),\"\",INDEX(AL$55:AL$76,MATCH($AA310,$AA$55:$AA$76,0)))","v":0},{"$f":"IF(ISERROR(INDEX(AM$55:AM$76,MATCH($AA310,$AA$55:$AA$76,0))),\"\",INDEX(AM$55:AM$76,MATCH($AA310,$AA$55:$AA$76,0)))","v":0}]
[null,"Marijampolės apskritis","Per metus išregistruota mažų ir vidutinių įmonių | vnt.",216,112,132,130,193,219,506,132,127,89,71,205,114,null,{"$f":"ROWS($R$7:R315)","v":309},"",{"$f":"IF(ISERROR(SMALL($S$7:$S$1504,ROWS($S$7:S315))),\"\",SMALL($S$7:$S$1504,ROWS($S$7:S315)))","v":""},"",{"$f":"IF(ISERROR(SMALL($U$7:$U$1504,ROWS(U$7:$U315))),\"\",SMALL($U$7:$U$1504,ROWS(U$7:$U315)))","v":""},"",{"$f":"IF(ISERROR(SMALL($W$7:$W$1504,ROWS($W$7:W315))),\"\",SMALL($W$7:$W$1504,ROWS($W$7:W315)))","v":""}]
[null,"Kalvarijos sav.","Per metus išregistruota mažų ir vidutinių įmonių | vnt.",14,9,5,6,1,9,12,6,7,4,0,10,5,null,{"$f":"ROWS($R$7:R316)","v":310},"",{"$f":"IF(ISERROR(SMALL($S$7:$S$1504,ROWS($S$7:S316))),\"\",SMALL($S$7:$S$1504,ROWS($S$7:S316)))","v":""},"",{"$f":"IF(ISERROR(SMALL($U$7:$U$1504,ROWS(U$7:$U316))),\"\",SMALL($U$7:$U$1504,ROWS(U$7:$U316)))","v":""},"",{"$f":"IF(ISERROR(SMALL($W$7:$W$1504,ROWS($W$7:W316))),\"\",SMALL($W$7:$W$1504,ROWS($W$7:W316)))","v":""}]
[null,"Kazlų Rūdos sav.","Per metus išregistruota mažų ir vidutinių įmonių | vnt.",13,10,15,7,8,9,31,11,16,9,7,15,10,null,{"$f":"ROWS($R$7:R317)","v":311},"",{"$f":"IF(ISERROR(SMALL($S$7:$S$1504,ROWS($S$7:S317))),\"\",SMALL($S$7:$S$1504,ROWS($S$7:S317)))","v":""},"",{"$f":"IF(ISERROR(SMALL($U$7:$U$1504,ROWS(U$7:$U317))),\"\",SMALL($U$7:$U$1504,ROWS(U$7:$U317)))","v":""},"",{"$f":"IF(ISERROR(SMALL($W$7:$W$1504,ROWS($W$7:W317))),\"\",SMALL($W$7:$W$1504,ROWS($W$7:W317)))","v":""}]
[null,"Marijampolės sav.","Per metus išregistruota mažų ir vidutinių įmonių | vnt.",128,57,84,80,97,140,274,73,58,42,37,127,68,null,{"$f":"ROWS($R$7:R318)","v":312},"",{"$f":"IF(ISERROR(SMALL($S$7:$S$1504,ROWS($S$7:S318))),\"\",SMALL($S$7:$S$1504,ROWS($S$7:S318)))","v":""},"",{"$f":"IF(ISERROR(SMALL($U$7:$U$1504,ROWS(U$7:$U318))),\"\",SMALL($U$7:$U$1504,ROWS(U$7:$U318)))","v":""},"",{"$f":"IF(ISERROR(SMALL($W$7:$W$1504,ROWS($W$7:W318))),\"\",SMALL($W$7:$W$1504,ROWS($W$7:W318)))","v":""}]
[null,"Marijampolės r. sav.","Per metus išregistruota mažų ir vidutinių įmonių | vnt.",null,null,null,null,null,null,0,0,0,0,0,0,0,null,{"$f":"ROWS($R$7:R319)","v":313},"",{"$f":"IF(ISERROR(SMALL($S$7:$S$1504,ROWS($S$7:S319))),\"\",SMALL($S$7:$S$1504,ROWS($S$7:S319)))","v":""},"",{"$f":"IF(ISERROR(SMALL($U$7:$U$1504,ROWS(U$7:$U319))),\"\",SMALL($U$7:$U$1504,ROWS(U$7:$U319)))","v":""},"",{"$f":"IF(ISERROR(SMALL($W$7:$W$1504,ROWS($W$7:W319))),\"\",SMALL($W$7:$W$1504,ROWS($W$7:W319)))","v":""}]
[null,"Šakių r. sav.","Per metus išregistruota mažų ir vidutinių įmonių | vnt.",14,15,15,19,42,16,76,13,16,15,10,24,12,null,{"$f":"ROWS($R$7:R320)","v":314},"",{"$f":"IF(ISERROR(SMALL($S$7:$S$1504,ROWS($S$7:S320))),\"\",SMALL($S$7:$S$1504,ROWS($S$7:S320)))","v":""},"",{"$f":"IF(ISERROR(SMALL($U$7:$U$1504,ROWS(U$7:$U320))),\"\",SMALL($U$7:$U$1504,ROWS(U$7:$U320)))","v":""},"",{"$f":"IF(ISERROR(SMALL($W$7:$W$1504,ROWS($W$7:W320))),\"\",SMALL($W$7:$W$1504,ROWS($W$7:W320)))","v":""}]
[null,"Vilkaviškio r. sav.","Per metus išregistruota mažų ir vidutinių įmonių | vnt.",47,21,13,18,45,45,113,29,30,19,17,29,19,null,{"$f":"ROWS($R$7:R321)","v":315},"",{"$f":"IF(ISERROR(SMALL($S$7:$S$1504,ROWS($S$7:S321))),\"\",SMALL($S$7:$S$1504,ROWS($S$7:S321)))","v":""},"",{"$f":"IF(ISERROR(SMALL($U$7:$U$1504,ROWS(U$7:$U321))),\"\",SMALL($U$7:$U$1504,ROWS(U$7:$U321)))","v":""},"",{"$f":"IF(ISERROR(SMALL($W$7:$W$1504,ROWS($W$7:W321))),\"\",SMALL($W$7:$W$1504,ROWS($W$7:W321)))","v":""}]
[null,"Panevėžio apskritis","Per metus išregistruota mažų ir vidutinių įmonių | vnt.",470,293,269,239,299,306,1038,208,256,216,210,281,418,null,{"$f":"ROWS($R$7:R322)","v":316},"",{"$f":"IF(ISERROR(SMALL($S$7:$S$1504,ROWS($S$7:S322))),\"\",SMALL($S$7:$S$1504,ROWS($S$7:S322)))","v":""},"",{"$f":"IF(ISERROR(SMALL($U$7:$U$1504,ROWS(U$7:$U322))),\"\",SMALL($U$7:$U$1504,ROWS(U$7:$U322)))","v":""},"",{"$f":"IF(ISERROR(SMALL($W$7:$W$1504,ROWS($W$7:W322))),\"\",SMALL($W$7:$W$1504,ROWS($W$7:W322)))","v":""}]
[null,"Biržų r. sav.","Per metus išregistruota mažų ir vidutinių įmonių | vnt.",37,19,13,10,22,20,104,13,12,9,12,26,26,null,{"$f":"ROWS($R$7:R323)","v":317},"",{"$f":"IF(ISERROR(SMALL($S$7:$S$1504,ROWS($S$7:S323))),\"\",SMALL($S$7:$S$1504,ROWS($S$7:S323)))","v":""},"",{"$f":"IF(ISERROR(SMALL($U$7:$U$1504,ROWS(U$7:$U323))),\"\",SMALL($U$7:$U$1504,ROWS(U$7:$U323)))","v":""},"",{"$f":"IF(ISERROR(SMALL($W$7:$W$1504,ROWS($W$7:W323))),\"\",SMALL($W$7:$W$1504,ROWS($W$7:W323)))","v":""}]
[null,"Kupiškio r. sav.","Per metus išregistruota mažų ir vidutinių įmonių | vnt.",38,24,29,11,20,19,53,15,9,15,14,10,26,null,{"$f":"ROWS($R$7:R324)","v":318},"",{"$f":"IF(ISERROR(SMALL($S$7:$S$1504,ROWS($S$7:S324))),\"\",SMALL($S$7:$S$1504,ROWS($S$7:S324)))","v":""},"",{"$f":"IF(ISERROR(SMALL($U$7:$U$1504,ROWS(U$7:$U324))),\"\",SMALL($U$7:$U$1504,ROWS(U$7:$U324)))","v":""},"",{"$f":"IF(ISERROR(SMALL($W$7:$W$1504,ROWS($W$7:W324))),\"\",SMALL($W$7:$W$1504,ROWS($W$7:W324)))","v":""}]
[null,"Panevėžio m. sav.","Per metus išregistruota mažų ir vidutinių įmonių | vnt.",274,175,162,150,176,194,589,120,177,144,118,169,256,null,{"$f":"ROWS($R$7:R325)","v":319},"",{"$f":"IF(ISERROR(SMALL($S$7:$S$1504,ROWS($S$7:S325))),\"\",SMALL($S$7:$S$1504,ROWS($S$7:S325)))","v":""},"",{"$f":"IF(ISERROR(SMALL($U$7:$U$1504,ROWS(U$7:$U325))),\"\",SMALL($U$7:$U$1504,ROWS(U$7:$U325)))","v":""},"",{"$f":"IF(ISERROR(SMALL($W$7:$W$1504,ROWS($W$7:W325))),\"\",SMALL($W$7:$W$1504,ROWS($W$7:W325)))","v":""}]
[null,"Panevėžio r. sav.","Per metus išregistruota mažų ir vidutinių įmonių | vnt.",57,31,39,32,40,32,132,29,28,20,34,37,56,null,{"$f":"ROWS($R$7:R326)","v":320},"",{"$f":"IF(ISERROR(SMALL($S$7:$S$1504,ROWS($S$7:S326))),\"\",SMALL($S$7:$S$1504,ROWS($S$7:S326)))","v":""},"",{"$f":"IF(ISERROR(SMALL($U$7:$U$1504,ROWS(U$7:$U326))),\"\",SMALL($U$7:$U$1504,ROWS(U$7:$U326)))","v":""},"",{"$f":"IF(ISERROR(SMALL($W$7:$W$1504,ROWS($W$7:W326))),\"\",SMALL($W$7:$W$1504,ROWS($W$7:W326)))","v":""}]
[null,"Pasvalio r. sav.","Per metus išregistruota mažų ir vidutinių įmonių | vnt.",36,20,13,20,16,18,73,12,11,10,13,12,22,null,{"$f":"ROWS($R$7:R327)","v":321},{"$f":"IF(ISNUMBER(SEARCH($R$3,B327)),R327,\"\")","v":""},{"$f":"IF(ISERROR(SMALL($S$7:$S$1504,ROWS($S$7:S327))),\"\",SMALL($S$7:$S$1504,ROWS($S$7:S327)))","v":""},{"$f":"IF($R$4=B327,R327,\"\")","v":""},{"$f":"IF(ISERROR(SMALL($U$7:$U$1504,ROWS(U$7:$U327))),\"\",SMALL($U$7:$U$1504,ROWS(U$7:$U327)))","v":""},{"$f":"IF(\"Lietuvos Respublika\"=B327,R327,\"\")","v":""},{"$f":"IF(ISERROR(SMALL($W$7:$W$1504,ROWS($W$7:W327))),\"\",SMALL($W$7:$W$1504,ROWS($W$7:W327)))","v":""}]
[null,"Rokiškio r. sav.","Per metus išregistruota mažų ir vidutinių įmonių | vnt.",28,24,13,16,25,23,87,19,19,18,19,27,32,null,{"$f":"ROWS($R$7:R328)","v":322},"",{"$f":"IF(ISERROR(SMALL($S$7:$S$1504,ROWS($S$7:S328))),\"\",SMALL($S$7:$S$1504,ROWS($S$7:S328)))","v":""},"",{"$f":"IF(ISERROR(SMALL($U$7:$U$1504,ROWS(U$7:$U328))),\"\",SMALL($U$7:$U$1504,ROWS(U$7:$U328)))","v":""},"",{"$f":"IF(ISERROR(SMALL($W$7:$W$1504,ROWS($W$7:W328))),\"\",SMALL($W$7:$W$1504,ROWS($W$7:W328)))","v":""}]
[null,"Šiaulių apskritis","Per metus išregistruota mažų ir vidutinių įmonių | vnt.",602,338,292,323,329,401,1574,318,317,239,174,518,697,null,{"$f":"ROWS($R$7:R329)","v":323},"",{"$f":"IF(ISERROR(SMALL($S$7:$S$1504,ROWS($S$7:S329))),\"\",SMALL($S$7:$S$1504,ROWS($S$7:S329)))","v":""},"",{"$f":"IF(ISERROR(SMALL($U$7:$U$1504,ROWS(U$7:$U329))),\"\",SMALL($U$7:$U$1504,ROWS(U$7:$U329)))","v":""},"",{"$f":"IF(ISERROR(SMALL($W$7:$W$1504,ROWS($W$7:W329))),\"\",SMALL($W$7:$W$1504,ROWS($W$7:W329)))","v":""}]
[null,"Akmenės r. sav.","Per metus išregistruota mažų ir vidutinių įmonių | vnt.",20,21,15,19,24,18,134,12,25,14,8,11,49,null,{"$f":"ROWS($R$7:R330)","v":324},"",{"$f":"IF(ISERROR(SMALL($S$7:$S$1504,ROWS($S$7:S330))),\"\",SMALL($S$7:$S$1504,ROWS($S$7:S330)))","v":""},"",{"$f":"IF(ISERROR(SMALL($U$7:$U$1504,ROWS(U$7:$U330))),\"\",SMALL($U$7:$U$1504,ROWS(U$7:$U330)))","v":""},"",{"$f":"IF(ISERROR(SMALL($W$7:$W$1504,ROWS($W$7:W330))),\"\",SMALL($W$7:$W$1504,ROWS($W$7:W330)))","v":""}]
[null,"Joniškio r. sav.","Per metus išregistruota mažų ir vidutinių įmonių | vnt.",33,15,9,11,11,12,97,12,18,10,6,26,35,null,{"$f":"ROWS($R$7:R331)","v":325},"",{"$f":"IF(ISERROR(SMALL($S$7:$S$1504,ROWS($S$7:S331))),\"\",SMALL($S$7:$S$1504,ROWS($S$7:S331)))","v":""},"",{"$f":"IF(ISERROR(SMALL($U$7:$U$1504,ROWS(U$7:$U331))),\"\",SMALL($U$7:$U$1504,ROWS(U$7:$U331)))","v":""},"",{"$f":"IF(ISERROR(SMALL($W$7:$W$1504,ROWS($W$7:W331))),\"\",SMALL($W$7:$W$1504,ROWS($W$7:W331)))","v":""},null,13,{"$f":"+INDEX($AA$7:$AA$28,Z331)","v":"Registruoti bedarbiai | tūkst."}]
[null,"Kelmės r. sav.","Per metus išregistruota mažų ir vidutinių įmonių | vnt.",29,15,18,20,18,14,187,20,21,13,12,16,40,null,{"$f":"ROWS($R$7:R332)","v":326},"",{"$f":"IF(ISERROR(SMALL($S$7:$S$1504,ROWS($S$7:S332))),\"\",SMALL($S$7:$S$1504,ROWS($S$7:S332)))","v":""},"",{"$f":"IF(ISERROR(SMALL($U$7:$U$1504,ROWS(U$7:$U332))),\"\",SMALL($U$7:$U$1504,ROWS(U$7:$U332)))","v":""},"",{"$f":"IF(ISERROR(SMALL($W$7:$W$1504,ROWS($W$7:W332))),\"\",SMALL($W$7:$W$1504,ROWS($W$7:W332)))","v":""},null,null,null,{"$f":"+AB$6","v":"2010"},"2011","2012","2013","2014","2015","2016","2017","2018",2019,2020,2021,2022]
[null,"Pakruojo r. sav.","Per metus išregistruota mažų ir vidutinių įmonių | vnt.",48,18,14,9,20,16,62,9,11,15,8,11,17,null,{"$f":"ROWS($R$7:R333)","v":327},"",{"$f":"IF(ISERROR(SMALL($S$7:$S$1504,ROWS($S$7:S333))),\"\",SMALL($S$7:$S$1504,ROWS($S$7:S333)))","v":""},"",{"$f":"IF(ISERROR(SMALL($U$7:$U$1504,ROWS(U$7:$U333))),\"\",SMALL($U$7:$U$1504,ROWS(U$7:$U333)))","v":""},"",{"$f":"IF(ISERROR(SMALL($W$7:$W$1504,ROWS($W$7:W333))),\"\",SMALL($W$7:$W$1504,ROWS($W$7:W333)))","v":""},null,null,{"$f":"+INDEX($Z$7:$Z$28,MATCH($AA331,$AA$7:$AA$28,0))","v":"Vilniaus m. sav."},{"$f":"+INDEX(AB$7:AB$28,MATCH($AA331,$AA$7:$AA$28,0))","v":50.6},37.6,31.3,28.1,23.8,22.2,20.513999999999999,21.331,24.835999999999999,{"$f":"+INDEX(AK$7:AK$28,MATCH($AA331,$AA$7:$AA$28,0))","v":25.359000000000002},{"$f":"+INDEX(AL$7:AL$28,MATCH($AA331,$AA$7:$AA$28,0))","v":39.097000000000001},{"$f":"+INDEX(AM$7:AM$28,MATCH($AA331,$AA$7:$AA$28,0))","v":42.401000000000003},{"$f":"+INDEX(AN$7:AN$28,MATCH($AA331,$AA$7:$AA$28,0))","v":30.584}]
[null,"Radviliškio r. sav.","Per metus išregistruota mažų ir vidutinių įmonių | vnt.",120,43,27,35,25,24,138,21,18,20,15,32,61,null,{"$f":"ROWS($R$7:R334)","v":328},"",{"$f":"IF(ISERROR(SMALL($S$7:$S$1504,ROWS($S$7:S334))),\"\",SMALL($S$7:$S$1504,ROWS($S$7:S334)))","v":""},"",{"$f":"IF(ISERROR(SMALL($U$7:$U$1504,ROWS(U$7:$U334))),\"\",SMALL($U$7:$U$1504,ROWS(U$7:$U334)))","v":""},"",{"$f":"IF(ISERROR(SMALL($W$7:$W$1504,ROWS($W$7:W334))),\"\",SMALL($W$7:$W$1504,ROWS($W$7:W334)))","v":""},null,null,{"$f":"IF(ISERROR(INDEX($Z$31:$Z$52,MATCH(AA331,$AA$31:$AA$52,0))),\"\",INDEX($Z$31:$Z$52,MATCH(AA331,$AA$31:$AA$52,0)))","v":"Vilniaus apskritis"},{"$f":"IF(ISERROR(INDEX(AB$31:AB$52,MATCH($AA331,$AA$31:$AA$52,0))),\"\",INDEX(AB$31:AB$52,MATCH($AA331,$AA$31:$AA$52,0)))","v":81.900000000000006},62.2,52.9,47.9,40.5,37.4,34.793999999999997,34.536000000000001,38.612000000000002,{"$f":"IF(ISERROR(INDEX(AK$31:AK$52,MATCH($AA331,$AA$31:$AA$52,0))),\"\",INDEX(AK$31:AK$52,MATCH($AA331,$AA$31:$AA$52,0)))","v":39.070999999999998},{"$f":"IF(ISERROR(INDEX(AL$31:AL$52,MATCH($AA331,$AA$31:$AA$52,0))),\"\",INDEX(AL$31:AL$52,MATCH($AA331,$AA$31:$AA$52,0)))","v":59.594999999999999},{"$f":"IF(ISERROR(INDEX(AM$31:AM$52,MATCH($AA331,$AA$31:$AA$52,0))),\"\",INDEX(AM$31:AM$52,MATCH($AA331,$AA$31:$AA$52,0)))","v":63.552999999999997},{"$f":"IF(ISERROR(INDEX(AN$31:AN$52,MATCH($AA331,$AA$31:$AA$52,0))),\"\",INDEX(AN$31:AN$52,MATCH($AA331,$AA$31:$AA$52,0)))","v":45.985999999999997}]
[null,"Šiaulių m. sav.","Per metus išregistruota mažų ir vidutinių įmonių | vnt.",291,190,168,189,190,252,775,199,176,139,106,362,412,null,{"$f":"ROWS($R$7:R335)","v":329},"",{"$f":"IF(ISERROR(SMALL($S$7:$S$1504,ROWS($S$7:S335))),\"\",SMALL($S$7:$S$1504,ROWS($S$7:S335)))","v":""},"",{"$f":"IF(ISERROR(SMALL($U$7:$U$1504,ROWS(U$7:$U335))),\"\",SMALL($U$7:$U$1504,ROWS(U$7:$U335)))","v":""},"",{"$f":"IF(ISERROR(SMALL($W$7:$W$1504,ROWS($W$7:W335))),\"\",SMALL($W$7:$W$1504,ROWS($W$7:W335)))","v":""},null,null,{"$f":"IF(ISERROR(INDEX($Z$55:$Z$76,MATCH(AA331,$AA$55:$AA$76,0))),\"\",INDEX($Z$55:$Z$76,MATCH(AA331,$AA$55:$AA$76,0)))","v":"Lietuvos Respublika"},{"$f":"IF(ISERROR(INDEX(AB$55:AB$76,MATCH($AA331,$AA$55:$AA$76,0))),\"\",INDEX(AB$55:AB$76,MATCH($AA331,$AA$55:$AA$76,0)))","v":312.10000000000002},247.2,216.9,201.3,173,158.19999999999999,144.864,139.61500000000001,148.24199999999999,{"$f":"IF(ISERROR(INDEX(AK$55:AK$76,MATCH($AA331,$AA$55:$AA$76,0))),\"\",INDEX(AK$55:AK$76,MATCH($AA331,$AA$55:$AA$76,0)))","v":144.898},{"$f":"IF(ISERROR(INDEX(AL$55:AL$76,MATCH($AA331,$AA$55:$AA$76,0))),\"\",INDEX(AL$55:AL$76,MATCH($AA331,$AA$55:$AA$76,0)))","v":216.18700000000001},{"$f":"IF(ISERROR(INDEX(AM$55:AM$76,MATCH($AA331,$AA$55:$AA$76,0))),\"\",INDEX(AM$55:AM$76,MATCH($AA331,$AA$55:$AA$76,0)))","v":225.22499999999999},{"$f":"IF(ISERROR(INDEX(AN$55:AN$76,MATCH($AA331,$AA$55:$AA$76,0))),\"\",INDEX(AN$55:AN$76,MATCH($AA331,$AA$55:$AA$76,0)))","v":157.34399999999999}]
[null,"Šiaulių r. sav.","Per metus išregistruota mažų ir vidutinių įmonių | vnt.",61,36,41,40,41,65,181,45,48,28,19,60,83,null,{"$f":"ROWS($R$7:R336)","v":330},"",{"$f":"IF(ISERROR(SMALL($S$7:$S$1504,ROWS($S$7:S336))),\"\",SMALL($S$7:$S$1504,ROWS($S$7:S336)))","v":""},"",{"$f":"IF(ISERROR(SMALL($U$7:$U$1504,ROWS(U$7:$U336))),\"\",SMALL($U$7:$U$1504,ROWS(U$7:$U336)))","v":""},"",{"$f":"IF(ISERROR(SMALL($W$7:$W$1504,ROWS($W$7:W336))),\"\",SMALL($W$7:$W$1504,ROWS($W$7:W336)))","v":""}]
[null,"Tauragės apskritis","Per metus išregistruota mažų ir vidutinių įmonių | vnt.",144,73,72,79,106,146,279,55,67,79,77,129,101,null,{"$f":"ROWS($R$7:R337)","v":331},"",{"$f":"IF(ISERROR(SMALL($S$7:$S$1504,ROWS($S$7:S337))),\"\",SMALL($S$7:$S$1504,ROWS($S$7:S337)))","v":""},"",{"$f":"IF(ISERROR(SMALL($U$7:$U$1504,ROWS(U$7:$U337))),\"\",SMALL($U$7:$U$1504,ROWS(U$7:$U337)))","v":""},"",{"$f":"IF(ISERROR(SMALL($W$7:$W$1504,ROWS($W$7:W337))),\"\",SMALL($W$7:$W$1504,ROWS($W$7:W337)))","v":""}]
[null,"Jurbarko r. sav.","Per metus išregistruota mažų ir vidutinių įmonių | vnt.",33,10,17,14,35,23,82,15,19,32,20,41,23,null,{"$f":"ROWS($R$7:R338)","v":332},"",{"$f":"IF(ISERROR(SMALL($S$7:$S$1504,ROWS($S$7:S338))),\"\",SMALL($S$7:$S$1504,ROWS($S$7:S338)))","v":""},"",{"$f":"IF(ISERROR(SMALL($U$7:$U$1504,ROWS(U$7:$U338))),\"\",SMALL($U$7:$U$1504,ROWS(U$7:$U338)))","v":""},"",{"$f":"IF(ISERROR(SMALL($W$7:$W$1504,ROWS($W$7:W338))),\"\",SMALL($W$7:$W$1504,ROWS($W$7:W338)))","v":""}]
[null,"Pagėgių sav.","Per metus išregistruota mažų ir vidutinių įmonių | vnt.",10,4,4,null,5,8,22,2,5,3,4,14,7,null,{"$f":"ROWS($R$7:R339)","v":333},"",{"$f":"IF(ISERROR(SMALL($S$7:$S$1504,ROWS($S$7:S339))),\"\",SMALL($S$7:$S$1504,ROWS($S$7:S339)))","v":""},"",{"$f":"IF(ISERROR(SMALL($U$7:$U$1504,ROWS(U$7:$U339))),\"\",SMALL($U$7:$U$1504,ROWS(U$7:$U339)))","v":""},"",{"$f":"IF(ISERROR(SMALL($W$7:$W$1504,ROWS($W$7:W339))),\"\",SMALL($W$7:$W$1504,ROWS($W$7:W339)))","v":""}]
[null,"Šilalės r. sav.","Per metus išregistruota mažų ir vidutinių įmonių | vnt.",42,13,10,24,23,25,42,6,11,10,27,22,14,null,{"$f":"ROWS($R$7:R340)","v":334},"",{"$f":"IF(ISERROR(SMALL($S$7:$S$1504,ROWS($S$7:S340))),\"\",SMALL($S$7:$S$1504,ROWS($S$7:S340)))","v":""},"",{"$f":"IF(ISERROR(SMALL($U$7:$U$1504,ROWS(U$7:$U340))),\"\",SMALL($U$7:$U$1504,ROWS(U$7:$U340)))","v":""},"",{"$f":"IF(ISERROR(SMALL($W$7:$W$1504,ROWS($W$7:W340))),\"\",SMALL($W$7:$W$1504,ROWS($W$7:W340)))","v":""}]
[null,"Tauragės r. sav.","Per metus išregistruota mažų ir vidutinių įmonių | vnt.",59,46,41,41,43,90,133,32,32,34,26,52,57,null,{"$f":"ROWS($R$7:R341)","v":335},"",{"$f":"IF(ISERROR(SMALL($S$7:$S$1504,ROWS($S$7:S341))),\"\",SMALL($S$7:$S$1504,ROWS($S$7:S341)))","v":""},"",{"$f":"IF(ISERROR(SMALL($U$7:$U$1504,ROWS(U$7:$U341))),\"\",SMALL($U$7:$U$1504,ROWS(U$7:$U341)))","v":""},"",{"$f":"IF(ISERROR(SMALL($W$7:$W$1504,ROWS($W$7:W341))),\"\",SMALL($W$7:$W$1504,ROWS($W$7:W341)))","v":""}]
[null,"Telšių apskritis","Per metus išregistruota mažų ir vidutinių įmonių | vnt.",286,163,129,138,231,223,627,140,108,127,109,338,128,null,{"$f":"ROWS($R$7:R342)","v":336},"",{"$f":"IF(ISERROR(SMALL($S$7:$S$1504,ROWS($S$7:S342))),\"\",SMALL($S$7:$S$1504,ROWS($S$7:S342)))","v":""},"",{"$f":"IF(ISERROR(SMALL($U$7:$U$1504,ROWS(U$7:$U342))),\"\",SMALL($U$7:$U$1504,ROWS(U$7:$U342)))","v":""},"",{"$f":"IF(ISERROR(SMALL($W$7:$W$1504,ROWS($W$7:W342))),\"\",SMALL($W$7:$W$1504,ROWS($W$7:W342)))","v":""}]
[null,"Mažeikių r. sav.","Per metus išregistruota mažų ir vidutinių įmonių | vnt.",152,97,60,64,144,101,312,68,52,67,45,158,60,null,{"$f":"ROWS($R$7:R343)","v":337},"",{"$f":"IF(ISERROR(SMALL($S$7:$S$1504,ROWS($S$7:S343))),\"\",SMALL($S$7:$S$1504,ROWS($S$7:S343)))","v":""},"",{"$f":"IF(ISERROR(SMALL($U$7:$U$1504,ROWS(U$7:$U343))),\"\",SMALL($U$7:$U$1504,ROWS(U$7:$U343)))","v":""},"",{"$f":"IF(ISERROR(SMALL($W$7:$W$1504,ROWS($W$7:W343))),\"\",SMALL($W$7:$W$1504,ROWS($W$7:W343)))","v":""}]
[null,"Plungės r. sav.","Per metus išregistruota mažų ir vidutinių įmonių | vnt.",51,28,25,29,29,66,138,28,17,22,31,74,26,null,{"$f":"ROWS($R$7:R344)","v":338},"",{"$f":"IF(ISERROR(SMALL($S$7:$S$1504,ROWS($S$7:S344))),\"\",SMALL($S$7:$S$1504,ROWS($S$7:S344)))","v":""},"",{"$f":"IF(ISERROR(SMALL($U$7:$U$1504,ROWS(U$7:$U344))),\"\",SMALL($U$7:$U$1504,ROWS(U$7:$U344)))","v":""},"",{"$f":"IF(ISERROR(SMALL($W$7:$W$1504,ROWS($W$7:W344))),\"\",SMALL($W$7:$W$1504,ROWS($W$7:W344)))","v":""}]
[null,"Rietavo sav.","Per metus išregistruota mažų ir vidutinių įmonių | vnt.",11,4,3,5,8,8,24,8,8,4,7,17,4,null,{"$f":"ROWS($R$7:R345)","v":339},"",{"$f":"IF(ISERROR(SMALL($S$7:$S$1504,ROWS($S$7:S345))),\"\",SMALL($S$7:$S$1504,ROWS($S$7:S345)))","v":""},"",{"$f":"IF(ISERROR(SMALL($U$7:$U$1504,ROWS(U$7:$U345))),\"\",SMALL($U$7:$U$1504,ROWS(U$7:$U345)))","v":""},"",{"$f":"IF(ISERROR(SMALL($W$7:$W$1504,ROWS($W$7:W345))),\"\",SMALL($W$7:$W$1504,ROWS($W$7:W345)))","v":""}]
[null,"Telšių r. sav.","Per metus išregistruota mažų ir vidutinių įmonių | vnt.",72,34,41,40,50,48,153,36,31,34,26,89,38,null,{"$f":"ROWS($R$7:R346)","v":340},"",{"$f":"IF(ISERROR(SMALL($S$7:$S$1504,ROWS($S$7:S346))),\"\",SMALL($S$7:$S$1504,ROWS($S$7:S346)))","v":""},"",{"$f":"IF(ISERROR(SMALL($U$7:$U$1504,ROWS(U$7:$U346))),\"\",SMALL($U$7:$U$1504,ROWS(U$7:$U346)))","v":""},"",{"$f":"IF(ISERROR(SMALL($W$7:$W$1504,ROWS($W$7:W346))),\"\",SMALL($W$7:$W$1504,ROWS($W$7:W346)))","v":""}]
[null,"Utenos apskritis","Per metus išregistruota mažų ir vidutinių įmonių | vnt.",246,149,132,173,155,163,543,137,114,101,61,287,164,null,{"$f":"ROWS($R$7:R347)","v":341},"",{"$f":"IF(ISERROR(SMALL($S$7:$S$1504,ROWS($S$7:S347))),\"\",SMALL($S$7:$S$1504,ROWS($S$7:S347)))","v":""},"",{"$f":"IF(ISERROR(SMALL($U$7:$U$1504,ROWS(U$7:$U347))),\"\",SMALL($U$7:$U$1504,ROWS(U$7:$U347)))","v":""},"",{"$f":"IF(ISERROR(SMALL($W$7:$W$1504,ROWS($W$7:W347))),\"\",SMALL($W$7:$W$1504,ROWS($W$7:W347)))","v":""}]
[null,"Anykščių r. sav.","Per metus išregistruota mažų ir vidutinių įmonių | vnt.",48,19,17,20,8,18,101,24,20,18,11,34,32,null,{"$f":"ROWS($R$7:R348)","v":342},"",{"$f":"IF(ISERROR(SMALL($S$7:$S$1504,ROWS($S$7:S348))),\"\",SMALL($S$7:$S$1504,ROWS($S$7:S348)))","v":""},"",{"$f":"IF(ISERROR(SMALL($U$7:$U$1504,ROWS(U$7:$U348))),\"\",SMALL($U$7:$U$1504,ROWS(U$7:$U348)))","v":""},"",{"$f":"IF(ISERROR(SMALL($W$7:$W$1504,ROWS($W$7:W348))),\"\",SMALL($W$7:$W$1504,ROWS($W$7:W348)))","v":""}]
[null,"Ignalinos r. sav.","Per metus išregistruota mažų ir vidutinių įmonių | vnt.",15,15,10,10,7,10,34,7,8,2,5,15,7,null,{"$f":"ROWS($R$7:R349)","v":343},"",{"$f":"IF(ISERROR(SMALL($S$7:$S$1504,ROWS($S$7:S349))),\"\",SMALL($S$7:$S$1504,ROWS($S$7:S349)))","v":""},"",{"$f":"IF(ISERROR(SMALL($U$7:$U$1504,ROWS(U$7:$U349))),\"\",SMALL($U$7:$U$1504,ROWS(U$7:$U349)))","v":""},"",{"$f":"IF(ISERROR(SMALL($W$7:$W$1504,ROWS($W$7:W349))),\"\",SMALL($W$7:$W$1504,ROWS($W$7:W349)))","v":""}]
[null,"Molėtų r. sav.","Per metus išregistruota mažų ir vidutinių įmonių | vnt.",37,21,13,11,10,18,69,17,13,11,8,46,19,null,{"$f":"ROWS($R$7:R350)","v":344},"",{"$f":"IF(ISERROR(SMALL($S$7:$S$1504,ROWS($S$7:S350))),\"\",SMALL($S$7:$S$1504,ROWS($S$7:S350)))","v":""},"",{"$f":"IF(ISERROR(SMALL($U$7:$U$1504,ROWS(U$7:$U350))),\"\",SMALL($U$7:$U$1504,ROWS(U$7:$U350)))","v":""},"",{"$f":"IF(ISERROR(SMALL($W$7:$W$1504,ROWS($W$7:W350))),\"\",SMALL($W$7:$W$1504,ROWS($W$7:W350)))","v":""}]
[null,"Utenos r. sav.","Per metus išregistruota mažų ir vidutinių įmonių | vnt.",80,53,58,50,51,38,139,40,33,34,17,75,45,null,{"$f":"ROWS($R$7:R351)","v":345},"",{"$f":"IF(ISERROR(SMALL($S$7:$S$1504,ROWS($S$7:S351))),\"\",SMALL($S$7:$S$1504,ROWS($S$7:S351)))","v":""},"",{"$f":"IF(ISERROR(SMALL($U$7:$U$1504,ROWS(U$7:$U351))),\"\",SMALL($U$7:$U$1504,ROWS(U$7:$U351)))","v":""},"",{"$f":"IF(ISERROR(SMALL($W$7:$W$1504,ROWS($W$7:W351))),\"\",SMALL($W$7:$W$1504,ROWS($W$7:W351)))","v":""}]
[null,"Visagino sav.","Per metus išregistruota mažų ir vidutinių įmonių | vnt.",51,31,22,64,70,58,162,41,23,32,15,100,44,null,{"$f":"ROWS($R$7:R352)","v":346},"",{"$f":"IF(ISERROR(SMALL($S$7:$S$1504,ROWS($S$7:S352))),\"\",SMALL($S$7:$S$1504,ROWS($S$7:S352)))","v":""},"",{"$f":"IF(ISERROR(SMALL($U$7:$U$1504,ROWS(U$7:$U352))),\"\",SMALL($U$7:$U$1504,ROWS(U$7:$U352)))","v":""},"",{"$f":"IF(ISERROR(SMALL($W$7:$W$1504,ROWS($W$7:W352))),\"\",SMALL($W$7:$W$1504,ROWS($W$7:W352)))","v":""},null,14,{"$f":"+INDEX($AA$7:$AA$28,Z352)","v":"Registruotų bedarbių ir darbingo amžiaus gyventojų santykis | %"}]
[null,"Zarasų r. sav.","Per metus išregistruota mažų ir vidutinių įmonių | vnt.",15,10,12,18,9,21,38,8,17,4,5,17,17,null,{"$f":"ROWS($R$7:R353)","v":347},"",{"$f":"IF(ISERROR(SMALL($S$7:$S$1504,ROWS($S$7:S353))),\"\",SMALL($S$7:$S$1504,ROWS($S$7:S353)))","v":""},"",{"$f":"IF(ISERROR(SMALL($U$7:$U$1504,ROWS(U$7:$U353))),\"\",SMALL($U$7:$U$1504,ROWS(U$7:$U353)))","v":""},"",{"$f":"IF(ISERROR(SMALL($W$7:$W$1504,ROWS($W$7:W353))),\"\",SMALL($W$7:$W$1504,ROWS($W$7:W353)))","v":""},null,null,null,{"$f":"+AB$6","v":"2010"},"2011","2012","2013","2014","2015","2016","2017","2018",2019,2020,2021,2022]
[null,"Vilniaus apskritis","Per metus išregistruota mažų ir vidutinių įmonių | vnt.",2571,1505,1492,1511,1656,1982,6649,1634,1707,1641,1177,1504,10117,null,{"$f":"ROWS($R$7:R354)","v":348},"",{"$f":"IF(ISERROR(SMALL($S$7:$S$1504,ROWS($S$7:S354))),\"\",SMALL($S$7:$S$1504,ROWS($S$7:S354)))","v":""},348,{"$f":"IF(ISERROR(SMALL($U$7:$U$1504,ROWS(U$7:$U354))),\"\",SMALL($U$7:$U$1504,ROWS(U$7:$U354)))","v":""},"",{"$f":"IF(ISERROR(SMALL($W$7:$W$1504,ROWS($W$7:W354))),\"\",SMALL($W$7:$W$1504,ROWS($W$7:W354)))","v":""},null,null,{"$f":"+INDEX($Z$7:$Z$28,MATCH($AA352,$AA$7:$AA$28,0))","v":"Vilniaus m. sav."},{"$f":"+INDEX(AB$7:AB$28,MATCH($AA352,$AA$7:$AA$28,0))","v":14.1},10.8,9.1,8.1,6.9,6.4,5.9,6.1,7.1,{"$f":"+INDEX(AK$7:AK$28,MATCH($AA352,$AA$7:$AA$28,0))","v":7.2},{"$f":"+INDEX(AL$7:AL$28,MATCH($AA352,$AA$7:$AA$28,0))","v":11},{"$f":"+INDEX(AM$7:AM$28,MATCH($AA352,$AA$7:$AA$28,0))","v":11.7},{"$f":"+INDEX(AN$7:AN$28,MATCH($AA352,$AA$7:$AA$28,0))","v":8.6}]
[null,"Elektrėnų sav.","Per metus išregistruota mažų ir vidutinių įmonių | vnt.",27,12,14,8,10,19,50,9,10,18,11,12,36,null,{"$f":"ROWS($R$7:R355)","v":349},"",{"$f":"IF(ISERROR(SMALL($S$7:$S$1504,ROWS($S$7:S355))),\"\",SMALL($S$7:$S$1504,ROWS($S$7:S355)))","v":""},"",{"$f":"IF(ISERROR(SMALL($U$7:$U$1504,ROWS(U$7:$U355))),\"\",SMALL($U$7:$U$1504,ROWS(U$7:$U355)))","v":""},"",{"$f":"IF(ISERROR(SMALL($W$7:$W$1504,ROWS($W$7:W355))),\"\",SMALL($W$7:$W$1504,ROWS($W$7:W355)))","v":""},null,null,{"$f":"IF(ISERROR(INDEX($Z$31:$Z$52,MATCH(AA352,$AA$31:$AA$52,0))),\"\",INDEX($Z$31:$Z$52,MATCH(AA352,$AA$31:$AA$52,0)))","v":"Vilniaus apskritis"},{"$f":"IF(ISERROR(INDEX(AB$31:AB$52,MATCH($AA352,$AA$31:$AA$52,0))),\"\",INDEX(AB$31:AB$52,MATCH($AA352,$AA$31:$AA$52,0)))","v":15.4},11.9,10.3,9.3000000000000007,7.9,7.3,6.8,6.7,7.6,{"$f":"IF(ISERROR(INDEX(AK$31:AK$52,MATCH($AA352,$AA$31:$AA$52,0))),\"\",INDEX(AK$31:AK$52,MATCH($AA352,$AA$31:$AA$52,0)))","v":7.6},{"$f":"IF(ISERROR(INDEX(AL$31:AL$52,MATCH($AA352,$AA$31:$AA$52,0))),\"\",INDEX(AL$31:AL$52,MATCH($AA352,$AA$31:$AA$52,0)))","v":11.5},{"$f":"IF(ISERROR(INDEX(AM$31:AM$52,MATCH($AA352,$AA$31:$AA$52,0))),\"\",INDEX(AM$31:AM$52,MATCH($AA352,$AA$31:$AA$52,0)))","v":12},{"$f":"IF(ISERROR(INDEX(AN$31:AN$52,MATCH($AA352,$AA$31:$AA$52,0))),\"\",INDEX(AN$31:AN$52,MATCH($AA352,$AA$31:$AA$52,0)))","v":8.9}]
[null,"Šalčininkų r. sav.","Per metus išregistruota mažų ir vidutinių įmonių | vnt.",31,25,13,11,11,18,73,13,12,4,15,7,63,null,{"$f":"ROWS($R$7:R356)","v":350},"",{"$f":"IF(ISERROR(SMALL($S$7:$S$1504,ROWS($S$7:S356))),\"\",SMALL($S$7:$S$1504,ROWS($S$7:S356)))","v":""},"",{"$f":"IF(ISERROR(SMALL($U$7:$U$1504,ROWS(U$7:$U356))),\"\",SMALL($U$7:$U$1504,ROWS(U$7:$U356)))","v":""},"",{"$f":"IF(ISERROR(SMALL($W$7:$W$1504,ROWS($W$7:W356))),\"\",SMALL($W$7:$W$1504,ROWS($W$7:W356)))","v":""},null,null,{"$f":"IF(ISERROR(INDEX($Z$55:$Z$76,MATCH(AA352,$AA$55:$AA$76,0))),\"\",INDEX($Z$55:$Z$76,MATCH(AA352,$AA$55:$AA$76,0)))","v":"Lietuvos Respublika"},{"$f":"IF(ISERROR(INDEX(AB$55:AB$76,MATCH($AA352,$AA$55:$AA$76,0))),\"\",INDEX(AB$55:AB$76,MATCH($AA352,$AA$55:$AA$76,0)))","v":15.9},13.1,11.7,10.9,9.5,8.6999999999999993,8.1,7.9,8.5,{"$f":"IF(ISERROR(INDEX(AK$55:AK$76,MATCH($AA352,$AA$55:$AA$76,0))),\"\",INDEX(AK$55:AK$76,MATCH($AA352,$AA$55:$AA$76,0)))","v":8.4},{"$f":"IF(ISERROR(INDEX(AL$55:AL$76,MATCH($AA352,$AA$55:$AA$76,0))),\"\",INDEX(AL$55:AL$76,MATCH($AA352,$AA$55:$AA$76,0)))","v":12.6},{"$f":"IF(ISERROR(INDEX(AM$55:AM$76,MATCH($AA352,$AA$55:$AA$76,0))),\"\",INDEX(AM$55:AM$76,MATCH($AA352,$AA$55:$AA$76,0)))","v":13},{"$f":"IF(ISERROR(INDEX(AN$55:AN$76,MATCH($AA352,$AA$55:$AA$76,0))),\"\",INDEX(AN$55:AN$76,MATCH($AA352,$AA$55:$AA$76,0)))","v":9}]
[null,"Širvintų r. sav.","Per metus išregistruota mažų ir vidutinių įmonių | vnt.",32,10,8,13,20,16,85,12,12,7,21,7,35,null,{"$f":"ROWS($R$7:R357)","v":351},"",{"$f":"IF(ISERROR(SMALL($S$7:$S$1504,ROWS($S$7:S357))),\"\",SMALL($S$7:$S$1504,ROWS($S$7:S357)))","v":""},"",{"$f":"IF(ISERROR(SMALL($U$7:$U$1504,ROWS(U$7:$U357))),\"\",SMALL($U$7:$U$1504,ROWS(U$7:$U357)))","v":""},"",{"$f":"IF(ISERROR(SMALL($W$7:$W$1504,ROWS($W$7:W357))),\"\",SMALL($W$7:$W$1504,ROWS($W$7:W357)))","v":""}]
[null,"Švenčionių r. sav.","Per metus išregistruota mažų ir vidutinių įmonių | vnt.",33,15,25,19,19,22,72,12,15,7,7,28,31,null,{"$f":"ROWS($R$7:R358)","v":352},"",{"$f":"IF(ISERROR(SMALL($S$7:$S$1504,ROWS($S$7:S358))),\"\",SMALL($S$7:$S$1504,ROWS($S$7:S358)))","v":""},"",{"$f":"IF(ISERROR(SMALL($U$7:$U$1504,ROWS(U$7:$U358))),\"\",SMALL($U$7:$U$1504,ROWS(U$7:$U358)))","v":""},"",{"$f":"IF(ISERROR(SMALL($W$7:$W$1504,ROWS($W$7:W358))),\"\",SMALL($W$7:$W$1504,ROWS($W$7:W358)))","v":""}]
[null,"Trakų r. sav.","Per metus išregistruota mažų ir vidutinių įmonių | vnt.",44,25,25,25,21,30,121,22,24,20,26,23,84,null,{"$f":"ROWS($R$7:R359)","v":353},"",{"$f":"IF(ISERROR(SMALL($S$7:$S$1504,ROWS($S$7:S359))),\"\",SMALL($S$7:$S$1504,ROWS($S$7:S359)))","v":""},"",{"$f":"IF(ISERROR(SMALL($U$7:$U$1504,ROWS(U$7:$U359))),\"\",SMALL($U$7:$U$1504,ROWS(U$7:$U359)))","v":""},"",{"$f":"IF(ISERROR(SMALL($W$7:$W$1504,ROWS($W$7:W359))),\"\",SMALL($W$7:$W$1504,ROWS($W$7:W359)))","v":""}]
[null,"Ukmergės r. sav.","Per metus išregistruota mažų ir vidutinių įmonių | vnt.",35,35,32,30,62,64,174,39,18,18,29,21,60,null,{"$f":"ROWS($R$7:R360)","v":354},"",{"$f":"IF(ISERROR(SMALL($S$7:$S$1504,ROWS($S$7:S360))),\"\",SMALL($S$7:$S$1504,ROWS($S$7:S360)))","v":""},"",{"$f":"IF(ISERROR(SMALL($U$7:$U$1504,ROWS(U$7:$U360))),\"\",SMALL($U$7:$U$1504,ROWS(U$7:$U360)))","v":""},"",{"$f":"IF(ISERROR(SMALL($W$7:$W$1504,ROWS($W$7:W360))),\"\",SMALL($W$7:$W$1504,ROWS($W$7:W360)))","v":""}]
[null,"Vilniaus m. sav.","Per metus išregistruota mažų ir vidutinių įmonių | vnt.",2247,1328,1325,1326,1456,1744,5755,1451,1529,1497,987,1350,9497,null,{"$f":"ROWS($R$7:R361)","v":355},355,{"$f":"IF(ISERROR(SMALL($S$7:$S$1504,ROWS($S$7:S361))),\"\",SMALL($S$7:$S$1504,ROWS($S$7:S361)))","v":""},"",{"$f":"IF(ISERROR(SMALL($U$7:$U$1504,ROWS(U$7:$U361))),\"\",SMALL($U$7:$U$1504,ROWS(U$7:$U361)))","v":""},"",{"$f":"IF(ISERROR(SMALL($W$7:$W$1504,ROWS($W$7:W361))),\"\",SMALL($W$7:$W$1504,ROWS($W$7:W361)))","v":""}]
[null,"Vilniaus r. sav.","Per metus išregistruota mažų ir vidutinių įmonių | vnt.",122,55,50,79,57,69,319,76,87,70,81,56,311,null,{"$f":"ROWS($R$7:R362)","v":356},"",{"$f":"IF(ISERROR(SMALL($S$7:$S$1504,ROWS($S$7:S362))),\"\",SMALL($S$7:$S$1504,ROWS($S$7:S362)))","v":""},"",{"$f":"IF(ISERROR(SMALL($U$7:$U$1504,ROWS(U$7:$U362))),\"\",SMALL($U$7:$U$1504,ROWS(U$7:$U362)))","v":""},"",{"$f":"IF(ISERROR(SMALL($W$7:$W$1504,ROWS($W$7:W362))),\"\",SMALL($W$7:$W$1504,ROWS($W$7:W362)))","v":""}]
[null,"Lietuvos Respublika","Veikiančių mažų ir vidutinių įmonių skaičius metų pradžioje | vnt.",63447,66534,62586,65461,67943,76076,79472,82885,83069,84510,86738,87284,92628,100045,{"$f":"ROWS($R$7:R363)","v":357},"",{"$f":"IF(ISERROR(SMALL($S$7:$S$1504,ROWS($S$7:S363))),\"\",SMALL($S$7:$S$1504,ROWS($S$7:S363)))","v":""},"",{"$f":"IF(ISERROR(SMALL($U$7:$U$1504,ROWS(U$7:$U363))),\"\",SMALL($U$7:$U$1504,ROWS(U$7:$U363)))","v":""},357,{"$f":"IF(ISERROR(SMALL($W$7:$W$1504,ROWS($W$7:W363))),\"\",SMALL($W$7:$W$1504,ROWS($W$7:W363)))","v":""}]
[null,"Alytaus apskritis","Veikiančių mažų ir vidutinių įmonių skaičius metų pradžioje | vnt.",2080,2292,2074,2140,2211,2423,2507,2670,2661,2721,2797,2756,2934,3138,{"$f":"ROWS($R$7:R364)","v":358},"",{"$f":"IF(ISERROR(SMALL($S$7:$S$1504,ROWS($S$7:S364))),\"\",SMALL($S$7:$S$1504,ROWS($S$7:S364)))","v":""},"",{"$f":"IF(ISERROR(SMALL($U$7:$U$1504,ROWS(U$7:$U364))),\"\",SMALL($U$7:$U$1504,ROWS(U$7:$U364)))","v":""},"",{"$f":"IF(ISERROR(SMALL($W$7:$W$1504,ROWS($W$7:W364))),\"\",SMALL($W$7:$W$1504,ROWS($W$7:W364)))","v":""}]
[null,"Alytaus m. sav.","Veikiančių mažų ir vidutinių įmonių skaičius metų pradžioje | vnt.",1048,1180,1051,1079,1104,1224,1230,1295,1254,1275,1289,1262,1301,1353,{"$f":"ROWS($R$7:R365)","v":359},"",{"$f":"IF(ISERROR(SMALL($S$7:$S$1504,ROWS($S$7:S365))),\"\",SMALL($S$7:$S$1504,ROWS($S$7:S365)))","v":""},"",{"$f":"IF(ISERROR(SMALL($U$7:$U$1504,ROWS(U$7:$U365))),\"\",SMALL($U$7:$U$1504,ROWS(U$7:$U365)))","v":""},"",{"$f":"IF(ISERROR(SMALL($W$7:$W$1504,ROWS($W$7:W365))),\"\",SMALL($W$7:$W$1504,ROWS($W$7:W365)))","v":""}]
[null,"Alytaus r. sav.","Veikiančių mažų ir vidutinių įmonių skaičius metų pradžioje | vnt.",236,262,242,250,258,298,335,359,384,423,465,478,541,610,{"$f":"ROWS($R$7:R366)","v":360},"",{"$f":"IF(ISERROR(SMALL($S$7:$S$1504,ROWS($S$7:S366))),\"\",SMALL($S$7:$S$1504,ROWS($S$7:S366)))","v":""},"",{"$f":"IF(ISERROR(SMALL($U$7:$U$1504,ROWS(U$7:$U366))),\"\",SMALL($U$7:$U$1504,ROWS(U$7:$U366)))","v":""},"",{"$f":"IF(ISERROR(SMALL($W$7:$W$1504,ROWS($W$7:W366))),\"\",SMALL($W$7:$W$1504,ROWS($W$7:W366)))","v":""}]
[null,"Druskininkų sav.","Veikiančių mažų ir vidutinių įmonių skaičius metų pradžioje | vnt.",372,384,356,375,407,444,469,499,499,484,491,478,499,512,{"$f":"ROWS($R$7:R367)","v":361},"",{"$f":"IF(ISERROR(SMALL($S$7:$S$1504,ROWS($S$7:S367))),\"\",SMALL($S$7:$S$1504,ROWS($S$7:S367)))","v":""},"",{"$f":"IF(ISERROR(SMALL($U$7:$U$1504,ROWS(U$7:$U367))),\"\",SMALL($U$7:$U$1504,ROWS(U$7:$U367)))","v":""},"",{"$f":"IF(ISERROR(SMALL($W$7:$W$1504,ROWS($W$7:W367))),\"\",SMALL($W$7:$W$1504,ROWS($W$7:W367)))","v":""}]
[null,"Lazdijų r. sav.","Veikiančių mažų ir vidutinių įmonių skaičius metų pradžioje | vnt.",165,191,168,165,174,182,185,206,204,210,220,224,261,294,{"$f":"ROWS($R$7:R368)","v":362},"",{"$f":"IF(ISERROR(SMALL($S$7:$S$1504,ROWS($S$7:S368))),\"\",SMALL($S$7:$S$1504,ROWS($S$7:S368)))","v":""},"",{"$f":"IF(ISERROR(SMALL($U$7:$U$1504,ROWS(U$7:$U368))),\"\",SMALL($U$7:$U$1504,ROWS(U$7:$U368)))","v":""},"",{"$f":"IF(ISERROR(SMALL($W$7:$W$1504,ROWS($W$7:W368))),\"\",SMALL($W$7:$W$1504,ROWS($W$7:W368)))","v":""}]
[null,"Varėnos r. sav.","Veikiančių mažų ir vidutinių įmonių skaičius metų pradžioje | vnt.",259,275,257,271,268,275,288,311,320,329,332,314,332,369,{"$f":"ROWS($R$7:R369)","v":363},"",{"$f":"IF(ISERROR(SMALL($S$7:$S$1504,ROWS($S$7:S369))),\"\",SMALL($S$7:$S$1504,ROWS($S$7:S369)))","v":""},"",{"$f":"IF(ISERROR(SMALL($U$7:$U$1504,ROWS(U$7:$U369))),\"\",SMALL($U$7:$U$1504,ROWS(U$7:$U369)))","v":""},"",{"$f":"IF(ISERROR(SMALL($W$7:$W$1504,ROWS($W$7:W369))),\"\",SMALL($W$7:$W$1504,ROWS($W$7:W369)))","v":""}]
[null,"Kauno apskritis","Veikiančių mažų ir vidutinių įmonių skaičius metų pradžioje | vnt.",13009,13635,12948,13305,13752,15148,15775,16498,16770,17248,17679,17774,18906,20808,{"$f":"ROWS($R$7:R370)","v":364},"",{"$f":"IF(ISERROR(SMALL($S$7:$S$1504,ROWS($S$7:S370))),\"\",SMALL($S$7:$S$1504,ROWS($S$7:S370)))","v":""},"",{"$f":"IF(ISERROR(SMALL($U$7:$U$1504,ROWS(U$7:$U370))),\"\",SMALL($U$7:$U$1504,ROWS(U$7:$U370)))","v":""},"",{"$f":"IF(ISERROR(SMALL($W$7:$W$1504,ROWS($W$7:W370))),\"\",SMALL($W$7:$W$1504,ROWS($W$7:W370)))","v":""}]
[null,"Birštono sav.","Veikiančių mažų ir vidutinių įmonių skaičius metų pradžioje | vnt.",59,58,58,59,60,59,66,71,68,78,84,84,90,100,{"$f":"ROWS($R$7:R371)","v":365},"",{"$f":"IF(ISERROR(SMALL($S$7:$S$1504,ROWS($S$7:S371))),\"\",SMALL($S$7:$S$1504,ROWS($S$7:S371)))","v":""},"",{"$f":"IF(ISERROR(SMALL($U$7:$U$1504,ROWS(U$7:$U371))),\"\",SMALL($U$7:$U$1504,ROWS(U$7:$U371)))","v":""},"",{"$f":"IF(ISERROR(SMALL($W$7:$W$1504,ROWS($W$7:W371))),\"\",SMALL($W$7:$W$1504,ROWS($W$7:W371)))","v":""}]
[null,"Jonavos r. sav.","Veikiančių mažų ir vidutinių įmonių skaičius metų pradžioje | vnt.",549,578,542,532,541,582,589,645,684,690,687,688,751,827,{"$f":"ROWS($R$7:R372)","v":366},"",{"$f":"IF(ISERROR(SMALL($S$7:$S$1504,ROWS($S$7:S372))),\"\",SMALL($S$7:$S$1504,ROWS($S$7:S372)))","v":""},"",{"$f":"IF(ISERROR(SMALL($U$7:$U$1504,ROWS(U$7:$U372))),\"\",SMALL($U$7:$U$1504,ROWS(U$7:$U372)))","v":""},"",{"$f":"IF(ISERROR(SMALL($W$7:$W$1504,ROWS($W$7:W372))),\"\",SMALL($W$7:$W$1504,ROWS($W$7:W372)))","v":""}]
[null,"Kaišiadorių r. sav.","Veikiančių mažų ir vidutinių įmonių skaičius metų pradžioje | vnt.",379,400,361,370,391,431,430,454,448,468,482,478,490,548,{"$f":"ROWS($R$7:R373)","v":367},"",{"$f":"IF(ISERROR(SMALL($S$7:$S$1504,ROWS($S$7:S373))),\"\",SMALL($S$7:$S$1504,ROWS($S$7:S373)))","v":""},"",{"$f":"IF(ISERROR(SMALL($U$7:$U$1504,ROWS(U$7:$U373))),\"\",SMALL($U$7:$U$1504,ROWS(U$7:$U373)))","v":""},"",{"$f":"IF(ISERROR(SMALL($W$7:$W$1504,ROWS($W$7:W373))),\"\",SMALL($W$7:$W$1504,ROWS($W$7:W373)))","v":""},null,15,{"$f":"+INDEX($AA$7:$AA$28,Z373)","v":"Darbo užmokestis | mėnesinis | bruto | EUR  (nuo 2019 m. keitėsi rodiklio skaičiavimas)"}]
[null,"Kauno m. sav.","Veikiančių mažų ir vidutinių įmonių skaičius metų pradžioje | vnt.",9360,9789,9223,9430,9669,10662,11074,11416,11532,11790,11988,11969,12628,13816,{"$f":"ROWS($R$7:R374)","v":368},"",{"$f":"IF(ISERROR(SMALL($S$7:$S$1504,ROWS($S$7:S374))),\"\",SMALL($S$7:$S$1504,ROWS($S$7:S374)))","v":""},"",{"$f":"IF(ISERROR(SMALL($U$7:$U$1504,ROWS(U$7:$U374))),\"\",SMALL($U$7:$U$1504,ROWS(U$7:$U374)))","v":""},"",{"$f":"IF(ISERROR(SMALL($W$7:$W$1504,ROWS($W$7:W374))),\"\",SMALL($W$7:$W$1504,ROWS($W$7:W374)))","v":""},null,null,null,{"$f":"+AB$6","v":"2010"},"2011","2012","2013","2014","2015","2016","2017","2018",2019,2020,2021,2022]
[null,"Kauno r. sav.","Veikiančių mažų ir vidutinių įmonių skaičius metų pradžioje | vnt.",1303,1427,1422,1553,1695,1948,2073,2233,2345,2517,2710,2822,3092,3479,{"$f":"ROWS($R$7:R375)","v":369},"",{"$f":"IF(ISERROR(SMALL($S$7:$S$1504,ROWS($S$7:S375))),\"\",SMALL($S$7:$S$1504,ROWS($S$7:S375)))","v":""},"",{"$f":"IF(ISERROR(SMALL($U$7:$U$1504,ROWS(U$7:$U375))),\"\",SMALL($U$7:$U$1504,ROWS(U$7:$U375)))","v":""},"",{"$f":"IF(ISERROR(SMALL($W$7:$W$1504,ROWS($W$7:W375))),\"\",SMALL($W$7:$W$1504,ROWS($W$7:W375)))","v":""},null,null,{"$f":"+INDEX($Z$7:$Z$28,MATCH($AA373,$AA$7:$AA$28,0))","v":"Vilniaus m. sav."},{"$f":"+INDEX(AB$7:AB$28,MATCH($AA373,$AA$7:$AA$28,0))","v":684.7},704.1,731.6,759.7,797.6,832.4,890.4,968.7,1069.5,{"$f":"+INDEX(AK$7:AK$28,MATCH($AA373,$AA$7:$AA$28,0))","v":1501.5},{"$f":"+INDEX(AL$7:AL$28,MATCH($AA373,$AA$7:$AA$28,0))","v":1643.2},{"$f":"+INDEX(AM$7:AM$28,MATCH($AA373,$AA$7:$AA$28,0))","v":1819.9},{"$f":"+INDEX(AN$7:AN$28,MATCH($AA373,$AA$7:$AA$28,0))","v":2068.6}]
[null,"Kėdainių r. sav.","Veikiančių mažų ir vidutinių įmonių skaičius metų pradžioje | vnt.",612,622,586,595,612,651,685,746,725,741,743,738,800,881,{"$f":"ROWS($R$7:R376)","v":370},"",{"$f":"IF(ISERROR(SMALL($S$7:$S$1504,ROWS($S$7:S376))),\"\",SMALL($S$7:$S$1504,ROWS($S$7:S376)))","v":""},"",{"$f":"IF(ISERROR(SMALL($U$7:$U$1504,ROWS(U$7:$U376))),\"\",SMALL($U$7:$U$1504,ROWS(U$7:$U376)))","v":""},"",{"$f":"IF(ISERROR(SMALL($W$7:$W$1504,ROWS($W$7:W376))),\"\",SMALL($W$7:$W$1504,ROWS($W$7:W376)))","v":""},null,null,{"$f":"IF(ISERROR(INDEX($Z$31:$Z$52,MATCH(AA373,$AA$31:$AA$52,0))),\"\",INDEX($Z$31:$Z$52,MATCH(AA373,$AA$31:$AA$52,0)))","v":"Vilniaus apskritis"},{"$f":"IF(ISERROR(INDEX(AB$31:AB$52,MATCH($AA373,$AA$31:$AA$52,0))),\"\",INDEX(AB$31:AB$52,MATCH($AA373,$AA$31:$AA$52,0)))","v":659.9},677.2,703.8,732.9,768.3,803.7,863.7,939.8,1034.5999999999999,{"$f":"IF(ISERROR(INDEX(AK$31:AK$52,MATCH($AA373,$AA$31:$AA$52,0))),\"\",INDEX(AK$31:AK$52,MATCH($AA373,$AA$31:$AA$52,0)))","v":1452.6},{"$f":"IF(ISERROR(INDEX(AL$31:AL$52,MATCH($AA373,$AA$31:$AA$52,0))),\"\",INDEX(AL$31:AL$52,MATCH($AA373,$AA$31:$AA$52,0)))","v":1590.6},{"$f":"IF(ISERROR(INDEX(AM$31:AM$52,MATCH($AA373,$AA$31:$AA$52,0))),\"\",INDEX(AM$31:AM$52,MATCH($AA373,$AA$31:$AA$52,0)))","v":1762.8},{"$f":"IF(ISERROR(INDEX(AN$31:AN$52,MATCH($AA373,$AA$31:$AA$52,0))),\"\",INDEX(AN$31:AN$52,MATCH($AA373,$AA$31:$AA$52,0)))","v":2002}]
[null,"Prienų r. sav.","Veikiančių mažų ir vidutinių įmonių skaičius metų pradžioje | vnt.",328,326,318,322,330,349,366,400,410,409,416,432,459,519,{"$f":"ROWS($R$7:R377)","v":371},"",{"$f":"IF(ISERROR(SMALL($S$7:$S$1504,ROWS($S$7:S377))),\"\",SMALL($S$7:$S$1504,ROWS($S$7:S377)))","v":""},"",{"$f":"IF(ISERROR(SMALL($U$7:$U$1504,ROWS(U$7:$U377))),\"\",SMALL($U$7:$U$1504,ROWS(U$7:$U377)))","v":""},"",{"$f":"IF(ISERROR(SMALL($W$7:$W$1504,ROWS($W$7:W377))),\"\",SMALL($W$7:$W$1504,ROWS($W$7:W377)))","v":""},null,null,{"$f":"IF(ISERROR(INDEX($Z$55:$Z$76,MATCH(AA373,$AA$55:$AA$76,0))),\"\",INDEX($Z$55:$Z$76,MATCH(AA373,$AA$55:$AA$76,0)))","v":"Lietuvos Respublika"},{"$f":"IF(ISERROR(INDEX(AB$55:AB$76,MATCH($AA373,$AA$55:$AA$76,0))),\"\",INDEX(AB$55:AB$76,MATCH($AA373,$AA$55:$AA$76,0)))","v":575.79999999999995},592.5,615.1,646.29999999999995,677.4,714.1,774,840.4,924.1,{"$f":"IF(ISERROR(INDEX(AK$55:AK$76,MATCH($AA373,$AA$55:$AA$76,0))),\"\",INDEX(AK$55:AK$76,MATCH($AA373,$AA$55:$AA$76,0)))","v":1296.4000000000001},{"$f":"IF(ISERROR(INDEX(AL$55:AL$76,MATCH($AA373,$AA$55:$AA$76,0))),\"\",INDEX(AL$55:AL$76,MATCH($AA373,$AA$55:$AA$76,0)))","v":1428.6},{"$f":"IF(ISERROR(INDEX(AM$55:AM$76,MATCH($AA373,$AA$55:$AA$76,0))),\"\",INDEX(AM$55:AM$76,MATCH($AA373,$AA$55:$AA$76,0)))","v":1579.4},{"$f":"IF(ISERROR(INDEX(AN$55:AN$76,MATCH($AA373,$AA$55:$AA$76,0))),\"\",INDEX(AN$55:AN$76,MATCH($AA373,$AA$55:$AA$76,0)))","v":1789}]
[null,"Raseinių r. sav.","Veikiančių mažų ir vidutinių įmonių skaičius metų pradžioje | vnt.",419,435,438,444,454,466,492,533,558,555,569,563,596,638,{"$f":"ROWS($R$7:R378)","v":372},"",{"$f":"IF(ISERROR(SMALL($S$7:$S$1504,ROWS($S$7:S378))),\"\",SMALL($S$7:$S$1504,ROWS($S$7:S378)))","v":""},"",{"$f":"IF(ISERROR(SMALL($U$7:$U$1504,ROWS(U$7:$U378))),\"\",SMALL($U$7:$U$1504,ROWS(U$7:$U378)))","v":""},"",{"$f":"IF(ISERROR(SMALL($W$7:$W$1504,ROWS($W$7:W378))),\"\",SMALL($W$7:$W$1504,ROWS($W$7:W378)))","v":""}]
[null,"Klaipėdos apskritis","Veikiančių mažų ir vidutinių įmonių skaičius metų pradžioje | vnt.",8170,8411,7790,7949,8132,8810,9104,9424,9542,9686,9991,10110,10564,11392,{"$f":"ROWS($R$7:R379)","v":373},"",{"$f":"IF(ISERROR(SMALL($S$7:$S$1504,ROWS($S$7:S379))),\"\",SMALL($S$7:$S$1504,ROWS($S$7:S379)))","v":""},"",{"$f":"IF(ISERROR(SMALL($U$7:$U$1504,ROWS(U$7:$U379))),\"\",SMALL($U$7:$U$1504,ROWS(U$7:$U379)))","v":""},"",{"$f":"IF(ISERROR(SMALL($W$7:$W$1504,ROWS($W$7:W379))),\"\",SMALL($W$7:$W$1504,ROWS($W$7:W379)))","v":""}]
[null,"Klaipėdos m. sav.","Veikiančių mažų ir vidutinių įmonių skaičius metų pradžioje | vnt.",5034,5178,4803,4838,4885,5290,5388,5451,5444,5421,5526,5545,5697,6024,{"$f":"ROWS($R$7:R380)","v":374},"",{"$f":"IF(ISERROR(SMALL($S$7:$S$1504,ROWS($S$7:S380))),\"\",SMALL($S$7:$S$1504,ROWS($S$7:S380)))","v":""},"",{"$f":"IF(ISERROR(SMALL($U$7:$U$1504,ROWS(U$7:$U380))),\"\",SMALL($U$7:$U$1504,ROWS(U$7:$U380)))","v":""},"",{"$f":"IF(ISERROR(SMALL($W$7:$W$1504,ROWS($W$7:W380))),\"\",SMALL($W$7:$W$1504,ROWS($W$7:W380)))","v":""}]
[null,"Klaipėdos r. sav.","Veikiančių mažų ir vidutinių įmonių skaičius metų pradžioje | vnt.",946,975,930,1035,1081,1211,1317,1408,1487,1598,1727,1760,1914,2178,{"$f":"ROWS($R$7:R381)","v":375},"",{"$f":"IF(ISERROR(SMALL($S$7:$S$1504,ROWS($S$7:S381))),\"\",SMALL($S$7:$S$1504,ROWS($S$7:S381)))","v":""},"",{"$f":"IF(ISERROR(SMALL($U$7:$U$1504,ROWS(U$7:$U381))),\"\",SMALL($U$7:$U$1504,ROWS(U$7:$U381)))","v":""},"",{"$f":"IF(ISERROR(SMALL($W$7:$W$1504,ROWS($W$7:W381))),\"\",SMALL($W$7:$W$1504,ROWS($W$7:W381)))","v":""}]
[null,"Kretingos r. sav.","Veikiančių mažų ir vidutinių įmonių skaičius metų pradžioje | vnt.",683,705,648,637,654,712,754,811,837,856,867,862,905,960,{"$f":"ROWS($R$7:R382)","v":376},"",{"$f":"IF(ISERROR(SMALL($S$7:$S$1504,ROWS($S$7:S382))),\"\",SMALL($S$7:$S$1504,ROWS($S$7:S382)))","v":""},"",{"$f":"IF(ISERROR(SMALL($U$7:$U$1504,ROWS(U$7:$U382))),\"\",SMALL($U$7:$U$1504,ROWS(U$7:$U382)))","v":""},"",{"$f":"IF(ISERROR(SMALL($W$7:$W$1504,ROWS($W$7:W382))),\"\",SMALL($W$7:$W$1504,ROWS($W$7:W382)))","v":""}]
[null,"Neringos sav.","Veikiančių mažų ir vidutinių įmonių skaičius metų pradžioje | vnt.",141,149,128,132,143,160,178,192,195,194,213,245,285,339,{"$f":"ROWS($R$7:R383)","v":377},"",{"$f":"IF(ISERROR(SMALL($S$7:$S$1504,ROWS($S$7:S383))),\"\",SMALL($S$7:$S$1504,ROWS($S$7:S383)))","v":""},"",{"$f":"IF(ISERROR(SMALL($U$7:$U$1504,ROWS(U$7:$U383))),\"\",SMALL($U$7:$U$1504,ROWS(U$7:$U383)))","v":""},"",{"$f":"IF(ISERROR(SMALL($W$7:$W$1504,ROWS($W$7:W383))),\"\",SMALL($W$7:$W$1504,ROWS($W$7:W383)))","v":""}]
[null,"Palangos m. sav.","Veikiančių mažų ir vidutinių įmonių skaičius metų pradžioje | vnt.",541,552,499,503,523,552,561,585,609,645,650,664,684,753,{"$f":"ROWS($R$7:R384)","v":378},"",{"$f":"IF(ISERROR(SMALL($S$7:$S$1504,ROWS($S$7:S384))),\"\",SMALL($S$7:$S$1504,ROWS($S$7:S384)))","v":""},"",{"$f":"IF(ISERROR(SMALL($U$7:$U$1504,ROWS(U$7:$U384))),\"\",SMALL($U$7:$U$1504,ROWS(U$7:$U384)))","v":""},"",{"$f":"IF(ISERROR(SMALL($W$7:$W$1504,ROWS($W$7:W384))),\"\",SMALL($W$7:$W$1504,ROWS($W$7:W384)))","v":""}]
[null,"Skuodo r. sav.","Veikiančių mažų ir vidutinių įmonių skaičius metų pradžioje | vnt.",190,201,182,188,200,203,209,226,224,226,226,230,227,240,{"$f":"ROWS($R$7:R385)","v":379},"",{"$f":"IF(ISERROR(SMALL($S$7:$S$1504,ROWS($S$7:S385))),\"\",SMALL($S$7:$S$1504,ROWS($S$7:S385)))","v":""},"",{"$f":"IF(ISERROR(SMALL($U$7:$U$1504,ROWS(U$7:$U385))),\"\",SMALL($U$7:$U$1504,ROWS(U$7:$U385)))","v":""},"",{"$f":"IF(ISERROR(SMALL($W$7:$W$1504,ROWS($W$7:W385))),\"\",SMALL($W$7:$W$1504,ROWS($W$7:W385)))","v":""}]
[null,"Šilutės r. sav.","Veikiančių mažų ir vidutinių įmonių skaičius metų pradžioje | vnt.",635,651,600,616,646,682,697,751,746,746,782,804,852,898,{"$f":"ROWS($R$7:R386)","v":380},"",{"$f":"IF(ISERROR(SMALL($S$7:$S$1504,ROWS($S$7:S386))),\"\",SMALL($S$7:$S$1504,ROWS($S$7:S386)))","v":""},"",{"$f":"IF(ISERROR(SMALL($U$7:$U$1504,ROWS(U$7:$U386))),\"\",SMALL($U$7:$U$1504,ROWS(U$7:$U386)))","v":""},"",{"$f":"IF(ISERROR(SMALL($W$7:$W$1504,ROWS($W$7:W386))),\"\",SMALL($W$7:$W$1504,ROWS($W$7:W386)))","v":""}]
[null,"Marijampolės apskritis","Veikiančių mažų ir vidutinių įmonių skaičius metų pradžioje | vnt.",2021,2062,1888,1890,1957,2089,2146,2288,2275,2344,2430,2434,2522,2740,{"$f":"ROWS($R$7:R387)","v":381},"",{"$f":"IF(ISERROR(SMALL($S$7:$S$1504,ROWS($S$7:S387))),\"\",SMALL($S$7:$S$1504,ROWS($S$7:S387)))","v":""},"",{"$f":"IF(ISERROR(SMALL($U$7:$U$1504,ROWS(U$7:$U387))),\"\",SMALL($U$7:$U$1504,ROWS(U$7:$U387)))","v":""},"",{"$f":"IF(ISERROR(SMALL($W$7:$W$1504,ROWS($W$7:W387))),\"\",SMALL($W$7:$W$1504,ROWS($W$7:W387)))","v":""}]
[null,"Kalvarijos sav.","Veikiančių mažų ir vidutinių įmonių skaičius metų pradžioje | vnt.",89,95,81,81,84,92,90,101,107,124,133,146,151,162,{"$f":"ROWS($R$7:R388)","v":382},"",{"$f":"IF(ISERROR(SMALL($S$7:$S$1504,ROWS($S$7:S388))),\"\",SMALL($S$7:$S$1504,ROWS($S$7:S388)))","v":""},"",{"$f":"IF(ISERROR(SMALL($U$7:$U$1504,ROWS(U$7:$U388))),\"\",SMALL($U$7:$U$1504,ROWS(U$7:$U388)))","v":""},"",{"$f":"IF(ISERROR(SMALL($W$7:$W$1504,ROWS($W$7:W388))),\"\",SMALL($W$7:$W$1504,ROWS($W$7:W388)))","v":""}]
[null,"Kazlų Rūdos sav.","Veikiančių mažų ir vidutinių įmonių skaičius metų pradžioje | vnt.",168,166,147,148,151,167,170,178,177,183,191,179,195,208,{"$f":"ROWS($R$7:R389)","v":383},"",{"$f":"IF(ISERROR(SMALL($S$7:$S$1504,ROWS($S$7:S389))),\"\",SMALL($S$7:$S$1504,ROWS($S$7:S389)))","v":""},"",{"$f":"IF(ISERROR(SMALL($U$7:$U$1504,ROWS(U$7:$U389))),\"\",SMALL($U$7:$U$1504,ROWS(U$7:$U389)))","v":""},"",{"$f":"IF(ISERROR(SMALL($W$7:$W$1504,ROWS($W$7:W389))),\"\",SMALL($W$7:$W$1504,ROWS($W$7:W389)))","v":""}]
[null,"Marijampolės sav.","Veikiančių mažų ir vidutinių įmonių skaičius metų pradžioje | vnt.",1084,1115,1029,1030,1054,1128,1152,1232,1214,1241,1290,1288,1319,1425,{"$f":"ROWS($R$7:R390)","v":384},"",{"$f":"IF(ISERROR(SMALL($S$7:$S$1504,ROWS($S$7:S390))),\"\",SMALL($S$7:$S$1504,ROWS($S$7:S390)))","v":""},"",{"$f":"IF(ISERROR(SMALL($U$7:$U$1504,ROWS(U$7:$U390))),\"\",SMALL($U$7:$U$1504,ROWS(U$7:$U390)))","v":""},"",{"$f":"IF(ISERROR(SMALL($W$7:$W$1504,ROWS($W$7:W390))),\"\",SMALL($W$7:$W$1504,ROWS($W$7:W390)))","v":""}]
[null,"Marijampolės r. sav.","Veikiančių mažų ir vidutinių įmonių skaičius metų pradžioje | vnt.",null,null,null,null,null,null,0,0,0,0,0,0,0,0,{"$f":"ROWS($R$7:R391)","v":385},{"$f":"IF(ISNUMBER(SEARCH($R$3,B391)),R391,\"\")","v":""},{"$f":"IF(ISERROR(SMALL($S$7:$S$1504,ROWS($S$7:S391))),\"\",SMALL($S$7:$S$1504,ROWS($S$7:S391)))","v":""},{"$f":"IF($R$4=B391,R391,\"\")","v":""},{"$f":"IF(ISERROR(SMALL($U$7:$U$1504,ROWS(U$7:$U391))),\"\",SMALL($U$7:$U$1504,ROWS(U$7:$U391)))","v":""},{"$f":"IF(\"Lietuvos Respublika\"=B391,R391,\"\")","v":""},{"$f":"IF(ISERROR(SMALL($W$7:$W$1504,ROWS($W$7:W391))),\"\",SMALL($W$7:$W$1504,ROWS($W$7:W391)))","v":""}]
[null,"Šakių r. sav.","Veikiančių mažų ir vidutinių įmonių skaičius metų pradžioje | vnt.",285,301,278,281,297,321,340,356,359,370,383,375,405,449,{"$f":"ROWS($R$7:R392)","v":386},"",{"$f":"IF(ISERROR(SMALL($S$7:$S$1504,ROWS($S$7:S392))),\"\",SMALL($S$7:$S$1504,ROWS($S$7:S392)))","v":""},"",{"$f":"IF(ISERROR(SMALL($U$7:$U$1504,ROWS(U$7:$U392))),\"\",SMALL($U$7:$U$1504,ROWS(U$7:$U392)))","v":""},"",{"$f":"IF(ISERROR(SMALL($W$7:$W$1504,ROWS($W$7:W392))),\"\",SMALL($W$7:$W$1504,ROWS($W$7:W392)))","v":""}]
[null,"Vilkaviškio r. sav.","Veikiančių mažų ir vidutinių įmonių skaičius metų pradžioje | vnt.",395,385,353,350,371,381,394,421,418,426,433,446,452,496,{"$f":"ROWS($R$7:R393)","v":387},"",{"$f":"IF(ISERROR(SMALL($S$7:$S$1504,ROWS($S$7:S393))),\"\",SMALL($S$7:$S$1504,ROWS($S$7:S393)))","v":""},"",{"$f":"IF(ISERROR(SMALL($U$7:$U$1504,ROWS(U$7:$U393))),\"\",SMALL($U$7:$U$1504,ROWS(U$7:$U393)))","v":""},"",{"$f":"IF(ISERROR(SMALL($W$7:$W$1504,ROWS($W$7:W393))),\"\",SMALL($W$7:$W$1504,ROWS($W$7:W393)))","v":""}]
[null,"Panevėžio apskritis","Veikiančių mažų ir vidutinių įmonių skaičius metų pradžioje | vnt.",4086,4232,3788,3910,3981,4289,4420,4692,4676,4706,4787,4767,4928,5177,{"$f":"ROWS($R$7:R394)","v":388},"",{"$f":"IF(ISERROR(SMALL($S$7:$S$1504,ROWS($S$7:S394))),\"\",SMALL($S$7:$S$1504,ROWS($S$7:S394)))","v":""},"",{"$f":"IF(ISERROR(SMALL($U$7:$U$1504,ROWS(U$7:$U394))),\"\",SMALL($U$7:$U$1504,ROWS(U$7:$U394)))","v":""},"",{"$f":"IF(ISERROR(SMALL($W$7:$W$1504,ROWS($W$7:W394))),\"\",SMALL($W$7:$W$1504,ROWS($W$7:W394)))","v":""},null,16,{"$f":"+INDEX($AA$7:$AA$28,Z394)","v":"Darbo užmokestis | mėnesinis | neto | EUR"}]
[null,"Biržų r. sav.","Veikiančių mažų ir vidutinių įmonių skaičius metų pradžioje | vnt.",327,318,277,283,289,292,312,349,353,343,350,349,353,372,{"$f":"ROWS($R$7:R395)","v":389},"",{"$f":"IF(ISERROR(SMALL($S$7:$S$1504,ROWS($S$7:S395))),\"\",SMALL($S$7:$S$1504,ROWS($S$7:S395)))","v":""},"",{"$f":"IF(ISERROR(SMALL($U$7:$U$1504,ROWS(U$7:$U395))),\"\",SMALL($U$7:$U$1504,ROWS(U$7:$U395)))","v":""},"",{"$f":"IF(ISERROR(SMALL($W$7:$W$1504,ROWS($W$7:W395))),\"\",SMALL($W$7:$W$1504,ROWS($W$7:W395)))","v":""},null,null,null,{"$f":"+AB$6","v":"2010"},"2011","2012","2013","2014","2015","2016","2017","2018",2019,2020,2021,2022]
[null,"Kupiškio r. sav.","Veikiančių mažų ir vidutinių įmonių skaičius metų pradžioje | vnt.",230,219,199,201,198,209,213,240,235,233,250,252,260,274,{"$f":"ROWS($R$7:R396)","v":390},"",{"$f":"IF(ISERROR(SMALL($S$7:$S$1504,ROWS($S$7:S396))),\"\",SMALL($S$7:$S$1504,ROWS($S$7:S396)))","v":""},"",{"$f":"IF(ISERROR(SMALL($U$7:$U$1504,ROWS(U$7:$U396))),\"\",SMALL($U$7:$U$1504,ROWS(U$7:$U396)))","v":""},"",{"$f":"IF(ISERROR(SMALL($W$7:$W$1504,ROWS($W$7:W396))),\"\",SMALL($W$7:$W$1504,ROWS($W$7:W396)))","v":""},null,null,{"$f":"+INDEX($Z$7:$Z$28,MATCH($AA394,$AA$7:$AA$28,0))","v":"Vilniaus m. sav."},{"$f":"+INDEX(AB$7:AB$28,MATCH($AA394,$AA$7:$AA$28,0))","v":529.1},543.29999999999995,563.29999999999995,583.9,613.9,639.20000000000005,684.8,748,819.6,{"$f":"+INDEX(AK$7:AK$28,MATCH($AA394,$AA$7:$AA$28,0))","v":940},{"$f":"+INDEX(AL$7:AL$28,MATCH($AA394,$AA$7:$AA$28,0))","v":1034.8},{"$f":"+INDEX(AM$7:AM$28,MATCH($AA394,$AA$7:$AA$28,0))","v":1138.5999999999999},{"$f":"+INDEX(AN$7:AN$28,MATCH($AA394,$AA$7:$AA$28,0))","v":1280.0999999999999}]
[null,"Panevėžio m. sav.","Veikiančių mažų ir vidutinių įmonių skaičius metų pradžioje | vnt.",2346,2430,2157,2207,2246,2442,2503,2632,2581,2553,2551,2503,2539,2599,{"$f":"ROWS($R$7:R397)","v":391},"",{"$f":"IF(ISERROR(SMALL($S$7:$S$1504,ROWS($S$7:S397))),\"\",SMALL($S$7:$S$1504,ROWS($S$7:S397)))","v":""},"",{"$f":"IF(ISERROR(SMALL($U$7:$U$1504,ROWS(U$7:$U397))),\"\",SMALL($U$7:$U$1504,ROWS(U$7:$U397)))","v":""},"",{"$f":"IF(ISERROR(SMALL($W$7:$W$1504,ROWS($W$7:W397))),\"\",SMALL($W$7:$W$1504,ROWS($W$7:W397)))","v":""},null,null,{"$f":"IF(ISERROR(INDEX($Z$31:$Z$52,MATCH(AA394,$AA$31:$AA$52,0))),\"\",INDEX($Z$31:$Z$52,MATCH(AA394,$AA$31:$AA$52,0)))","v":"Vilniaus apskritis"},{"$f":"IF(ISERROR(INDEX(AB$31:AB$52,MATCH($AA394,$AA$31:$AA$52,0))),\"\",INDEX(AB$31:AB$52,MATCH($AA394,$AA$31:$AA$52,0)))","v":511},523.70000000000005,543.1,564.29999999999995,592.70000000000005,618.5,665.9,728.2,795.7,{"$f":"IF(ISERROR(INDEX(AK$31:AK$52,MATCH($AA394,$AA$31:$AA$52,0))),\"\",INDEX(AK$31:AK$52,MATCH($AA394,$AA$31:$AA$52,0)))","v":911.9},{"$f":"IF(ISERROR(INDEX(AL$31:AL$52,MATCH($AA394,$AA$31:$AA$52,0))),\"\",INDEX(AL$31:AL$52,MATCH($AA394,$AA$31:$AA$52,0)))","v":1004.9},{"$f":"IF(ISERROR(INDEX(AM$31:AM$52,MATCH($AA394,$AA$31:$AA$52,0))),\"\",INDEX(AM$31:AM$52,MATCH($AA394,$AA$31:$AA$52,0)))","v":1106.0999999999999},{"$f":"IF(ISERROR(INDEX(AN$31:AN$52,MATCH($AA394,$AA$31:$AA$52,0))),\"\",INDEX(AN$31:AN$52,MATCH($AA394,$AA$31:$AA$52,0)))","v":1242.2}]
[null,"Panevėžio r. sav.","Veikiančių mažų ir vidutinių įmonių skaičius metų pradžioje | vnt.",548,590,535,578,589,656,684,709,738,781,811,804,863,948,{"$f":"ROWS($R$7:R398)","v":392},"",{"$f":"IF(ISERROR(SMALL($S$7:$S$1504,ROWS($S$7:S398))),\"\",SMALL($S$7:$S$1504,ROWS($S$7:S398)))","v":""},"",{"$f":"IF(ISERROR(SMALL($U$7:$U$1504,ROWS(U$7:$U398))),\"\",SMALL($U$7:$U$1504,ROWS(U$7:$U398)))","v":""},"",{"$f":"IF(ISERROR(SMALL($W$7:$W$1504,ROWS($W$7:W398))),\"\",SMALL($W$7:$W$1504,ROWS($W$7:W398)))","v":""},null,null,{"$f":"IF(ISERROR(INDEX($Z$55:$Z$76,MATCH(AA394,$AA$55:$AA$76,0))),\"\",INDEX($Z$55:$Z$76,MATCH(AA394,$AA$55:$AA$76,0)))","v":"Lietuvos Respublika"},{"$f":"IF(ISERROR(INDEX(AB$55:AB$76,MATCH($AA394,$AA$55:$AA$76,0))),\"\",INDEX(AB$55:AB$76,MATCH($AA394,$AA$55:$AA$76,0)))","v":449.6},461.8,478.3,501.1,527.20000000000005,553.9,602.29999999999995,660.2,720,{"$f":"IF(ISERROR(INDEX(AK$55:AK$76,MATCH($AA394,$AA$55:$AA$76,0))),\"\",INDEX(AK$55:AK$76,MATCH($AA394,$AA$55:$AA$76,0)))","v":822.1},{"$f":"IF(ISERROR(INDEX(AL$55:AL$76,MATCH($AA394,$AA$55:$AA$76,0))),\"\",INDEX(AL$55:AL$76,MATCH($AA394,$AA$55:$AA$76,0)))","v":913.1},{"$f":"IF(ISERROR(INDEX(AM$55:AM$76,MATCH($AA394,$AA$55:$AA$76,0))),\"\",INDEX(AM$55:AM$76,MATCH($AA394,$AA$55:$AA$76,0)))","v":1001.8},{"$f":"IF(ISERROR(INDEX(AN$55:AN$76,MATCH($AA394,$AA$55:$AA$76,0))),\"\",INDEX(AN$55:AN$76,MATCH($AA394,$AA$55:$AA$76,0)))","v":1121.0999999999999}]
[null,"Pasvalio r. sav.","Veikiančių mažų ir vidutinių įmonių skaičius metų pradžioje | vnt.",277,281,267,268,277,285,293,320,322,325,340,353,372,409,{"$f":"ROWS($R$7:R399)","v":393},"",{"$f":"IF(ISERROR(SMALL($S$7:$S$1504,ROWS($S$7:S399))),\"\",SMALL($S$7:$S$1504,ROWS($S$7:S399)))","v":""},"",{"$f":"IF(ISERROR(SMALL($U$7:$U$1504,ROWS(U$7:$U399))),\"\",SMALL($U$7:$U$1504,ROWS(U$7:$U399)))","v":""},"",{"$f":"IF(ISERROR(SMALL($W$7:$W$1504,ROWS($W$7:W399))),\"\",SMALL($W$7:$W$1504,ROWS($W$7:W399)))","v":""}]
[null,"Rokiškio r. sav.","Veikiančių mažų ir vidutinių įmonių skaičius metų pradžioje | vnt.",358,394,353,373,382,405,415,442,447,471,485,506,541,575,{"$f":"ROWS($R$7:R400)","v":394},"",{"$f":"IF(ISERROR(SMALL($S$7:$S$1504,ROWS($S$7:S400))),\"\",SMALL($S$7:$S$1504,ROWS($S$7:S400)))","v":""},"",{"$f":"IF(ISERROR(SMALL($U$7:$U$1504,ROWS(U$7:$U400))),\"\",SMALL($U$7:$U$1504,ROWS(U$7:$U400)))","v":""},"",{"$f":"IF(ISERROR(SMALL($W$7:$W$1504,ROWS($W$7:W400))),\"\",SMALL($W$7:$W$1504,ROWS($W$7:W400)))","v":""}]
[null,"Šiaulių apskritis","Veikiančių mažų ir vidutinių įmonių skaičius metų pradžioje | vnt.",4599,4894,4570,4596,4675,5075,5199,5504,5487,5599,5644,5578,5883,6259,{"$f":"ROWS($R$7:R401)","v":395},"",{"$f":"IF(ISERROR(SMALL($S$7:$S$1504,ROWS($S$7:S401))),\"\",SMALL($S$7:$S$1504,ROWS($S$7:S401)))","v":""},"",{"$f":"IF(ISERROR(SMALL($U$7:$U$1504,ROWS(U$7:$U401))),\"\",SMALL($U$7:$U$1504,ROWS(U$7:$U401)))","v":""},"",{"$f":"IF(ISERROR(SMALL($W$7:$W$1504,ROWS($W$7:W401))),\"\",SMALL($W$7:$W$1504,ROWS($W$7:W401)))","v":""}]
[null,"Akmenės r. sav.","Veikiančių mažų ir vidutinių įmonių skaičius metų pradžioje | vnt.",200,200,192,191,191,218,220,258,253,251,256,252,285,310,{"$f":"ROWS($R$7:R402)","v":396},"",{"$f":"IF(ISERROR(SMALL($S$7:$S$1504,ROWS($S$7:S402))),\"\",SMALL($S$7:$S$1504,ROWS($S$7:S402)))","v":""},"",{"$f":"IF(ISERROR(SMALL($U$7:$U$1504,ROWS(U$7:$U402))),\"\",SMALL($U$7:$U$1504,ROWS(U$7:$U402)))","v":""},"",{"$f":"IF(ISERROR(SMALL($W$7:$W$1504,ROWS($W$7:W402))),\"\",SMALL($W$7:$W$1504,ROWS($W$7:W402)))","v":""}]
[null,"Joniškio r. sav.","Veikiančių mažų ir vidutinių įmonių skaičius metų pradžioje | vnt.",284,283,265,264,275,288,299,309,314,314,321,313,339,358,{"$f":"ROWS($R$7:R403)","v":397},"",{"$f":"IF(ISERROR(SMALL($S$7:$S$1504,ROWS($S$7:S403))),\"\",SMALL($S$7:$S$1504,ROWS($S$7:S403)))","v":""},"",{"$f":"IF(ISERROR(SMALL($U$7:$U$1504,ROWS(U$7:$U403))),\"\",SMALL($U$7:$U$1504,ROWS(U$7:$U403)))","v":""},"",{"$f":"IF(ISERROR(SMALL($W$7:$W$1504,ROWS($W$7:W403))),\"\",SMALL($W$7:$W$1504,ROWS($W$7:W403)))","v":""}]
[null,"Kelmės r. sav.","Veikiančių mažų ir vidutinių įmonių skaičius metų pradžioje | vnt.",336,370,323,319,323,332,348,384,387,419,439,427,449,467,{"$f":"ROWS($R$7:R404)","v":398},"",{"$f":"IF(ISERROR(SMALL($S$7:$S$1504,ROWS($S$7:S404))),\"\",SMALL($S$7:$S$1504,ROWS($S$7:S404)))","v":""},"",{"$f":"IF(ISERROR(SMALL($U$7:$U$1504,ROWS(U$7:$U404))),\"\",SMALL($U$7:$U$1504,ROWS(U$7:$U404)))","v":""},"",{"$f":"IF(ISERROR(SMALL($W$7:$W$1504,ROWS($W$7:W404))),\"\",SMALL($W$7:$W$1504,ROWS($W$7:W404)))","v":""}]
[null,"Pakruojo r. sav.","Veikiančių mažų ir vidutinių įmonių skaičius metų pradžioje | vnt.",228,255,232,227,232,244,249,278,271,276,271,275,282,297,{"$f":"ROWS($R$7:R405)","v":399},"",{"$f":"IF(ISERROR(SMALL($S$7:$S$1504,ROWS($S$7:S405))),\"\",SMALL($S$7:$S$1504,ROWS($S$7:S405)))","v":""},"",{"$f":"IF(ISERROR(SMALL($U$7:$U$1504,ROWS(U$7:$U405))),\"\",SMALL($U$7:$U$1504,ROWS(U$7:$U405)))","v":""},"",{"$f":"IF(ISERROR(SMALL($W$7:$W$1504,ROWS($W$7:W405))),\"\",SMALL($W$7:$W$1504,ROWS($W$7:W405)))","v":""}]
[null,"Radviliškio r. sav.","Veikiančių mažų ir vidutinių įmonių skaičius metų pradžioje | vnt.",398,409,381,390,407,448,468,502,499,511,513,515,529,578,{"$f":"ROWS($R$7:R406)","v":400},"",{"$f":"IF(ISERROR(SMALL($S$7:$S$1504,ROWS($S$7:S406))),\"\",SMALL($S$7:$S$1504,ROWS($S$7:S406)))","v":""},"",{"$f":"IF(ISERROR(SMALL($U$7:$U$1504,ROWS(U$7:$U406))),\"\",SMALL($U$7:$U$1504,ROWS(U$7:$U406)))","v":""},"",{"$f":"IF(ISERROR(SMALL($W$7:$W$1504,ROWS($W$7:W406))),\"\",SMALL($W$7:$W$1504,ROWS($W$7:W406)))","v":""}]
[null,"Šiaulių m. sav.","Veikiančių mažų ir vidutinių įmonių skaičius metų pradžioje | vnt.",2595,2754,2596,2605,2616,2858,2912,3010,2966,2982,2971,2928,3051,3227,{"$f":"ROWS($R$7:R407)","v":401},"",{"$f":"IF(ISERROR(SMALL($S$7:$S$1504,ROWS($S$7:S407))),\"\",SMALL($S$7:$S$1504,ROWS($S$7:S407)))","v":""},"",{"$f":"IF(ISERROR(SMALL($U$7:$U$1504,ROWS(U$7:$U407))),\"\",SMALL($U$7:$U$1504,ROWS(U$7:$U407)))","v":""},"",{"$f":"IF(ISERROR(SMALL($W$7:$W$1504,ROWS($W$7:W407))),\"\",SMALL($W$7:$W$1504,ROWS($W$7:W407)))","v":""}]
[null,"Šiaulių r. sav.","Veikiančių mažų ir vidutinių įmonių skaičius metų pradžioje | vnt.",558,623,581,600,631,687,703,763,797,846,873,868,948,1022,{"$f":"ROWS($R$7:R408)","v":402},"",{"$f":"IF(ISERROR(SMALL($S$7:$S$1504,ROWS($S$7:S408))),\"\",SMALL($S$7:$S$1504,ROWS($S$7:S408)))","v":""},"",{"$f":"IF(ISERROR(SMALL($U$7:$U$1504,ROWS(U$7:$U408))),\"\",SMALL($U$7:$U$1504,ROWS(U$7:$U408)))","v":""},"",{"$f":"IF(ISERROR(SMALL($W$7:$W$1504,ROWS($W$7:W408))),\"\",SMALL($W$7:$W$1504,ROWS($W$7:W408)))","v":""}]
[null,"Tauragės apskritis","Veikiančių mažų ir vidutinių įmonių skaičius metų pradžioje | vnt.",1425,1508,1358,1448,1478,1613,1695,1745,1788,1800,1825,1811,1890,2023,{"$f":"ROWS($R$7:R409)","v":403},"",{"$f":"IF(ISERROR(SMALL($S$7:$S$1504,ROWS($S$7:S409))),\"\",SMALL($S$7:$S$1504,ROWS($S$7:S409)))","v":""},"",{"$f":"IF(ISERROR(SMALL($U$7:$U$1504,ROWS(U$7:$U409))),\"\",SMALL($U$7:$U$1504,ROWS(U$7:$U409)))","v":""},"",{"$f":"IF(ISERROR(SMALL($W$7:$W$1504,ROWS($W$7:W409))),\"\",SMALL($W$7:$W$1504,ROWS($W$7:W409)))","v":""}]
[null,"Jurbarko r. sav.","Veikiančių mažų ir vidutinių įmonių skaičius metų pradžioje | vnt.",329,359,302,308,306,328,344,376,389,390,399,396,426,459,{"$f":"ROWS($R$7:R410)","v":404},"",{"$f":"IF(ISERROR(SMALL($S$7:$S$1504,ROWS($S$7:S410))),\"\",SMALL($S$7:$S$1504,ROWS($S$7:S410)))","v":""},"",{"$f":"IF(ISERROR(SMALL($U$7:$U$1504,ROWS(U$7:$U410))),\"\",SMALL($U$7:$U$1504,ROWS(U$7:$U410)))","v":""},"",{"$f":"IF(ISERROR(SMALL($W$7:$W$1504,ROWS($W$7:W410))),\"\",SMALL($W$7:$W$1504,ROWS($W$7:W410)))","v":""}]
[null,"Pagėgių sav.","Veikiančių mažų ir vidutinių įmonių skaičius metų pradžioje | vnt.",53,63,64,84,89,102,111,107,111,110,107,106,109,121,{"$f":"ROWS($R$7:R411)","v":405},"",{"$f":"IF(ISERROR(SMALL($S$7:$S$1504,ROWS($S$7:S411))),\"\",SMALL($S$7:$S$1504,ROWS($S$7:S411)))","v":""},"",{"$f":"IF(ISERROR(SMALL($U$7:$U$1504,ROWS(U$7:$U411))),\"\",SMALL($U$7:$U$1504,ROWS(U$7:$U411)))","v":""},"",{"$f":"IF(ISERROR(SMALL($W$7:$W$1504,ROWS($W$7:W411))),\"\",SMALL($W$7:$W$1504,ROWS($W$7:W411)))","v":""}]
[null,"Šilalės r. sav.","Veikiančių mažų ir vidutinių įmonių skaičius metų pradžioje | vnt.",288,293,293,315,313,332,345,356,366,378,388,386,407,452,{"$f":"ROWS($R$7:R412)","v":406},"",{"$f":"IF(ISERROR(SMALL($S$7:$S$1504,ROWS($S$7:S412))),\"\",SMALL($S$7:$S$1504,ROWS($S$7:S412)))","v":""},"",{"$f":"IF(ISERROR(SMALL($U$7:$U$1504,ROWS(U$7:$U412))),\"\",SMALL($U$7:$U$1504,ROWS(U$7:$U412)))","v":""},"",{"$f":"IF(ISERROR(SMALL($W$7:$W$1504,ROWS($W$7:W412))),\"\",SMALL($W$7:$W$1504,ROWS($W$7:W412)))","v":""}]
[null,"Tauragės r. sav.","Veikiančių mažų ir vidutinių įmonių skaičius metų pradžioje | vnt.",755,793,699,741,770,851,895,906,922,922,931,923,948,991,{"$f":"ROWS($R$7:R413)","v":407},"",{"$f":"IF(ISERROR(SMALL($S$7:$S$1504,ROWS($S$7:S413))),\"\",SMALL($S$7:$S$1504,ROWS($S$7:S413)))","v":""},"",{"$f":"IF(ISERROR(SMALL($U$7:$U$1504,ROWS(U$7:$U413))),\"\",SMALL($U$7:$U$1504,ROWS(U$7:$U413)))","v":""},"",{"$f":"IF(ISERROR(SMALL($W$7:$W$1504,ROWS($W$7:W413))),\"\",SMALL($W$7:$W$1504,ROWS($W$7:W413)))","v":""}]
[null,"Telšių apskritis","Veikiančių mažų ir vidutinių įmonių skaičius metų pradžioje | vnt.",2441,2499,2349,2394,2426,2613,2663,2874,2874,2927,2982,2953,3081,3239,{"$f":"ROWS($R$7:R414)","v":408},"",{"$f":"IF(ISERROR(SMALL($S$7:$S$1504,ROWS($S$7:S414))),\"\",SMALL($S$7:$S$1504,ROWS($S$7:S414)))","v":""},"",{"$f":"IF(ISERROR(SMALL($U$7:$U$1504,ROWS(U$7:$U414))),\"\",SMALL($U$7:$U$1504,ROWS(U$7:$U414)))","v":""},"",{"$f":"IF(ISERROR(SMALL($W$7:$W$1504,ROWS($W$7:W414))),\"\",SMALL($W$7:$W$1504,ROWS($W$7:W414)))","v":""}]
[null,"Mažeikių r. sav.","Veikiančių mažų ir vidutinių įmonių skaičius metų pradžioje | vnt.",1082,1066,1033,1050,1082,1167,1187,1254,1271,1285,1290,1277,1315,1385,{"$f":"ROWS($R$7:R415)","v":409},"",{"$f":"IF(ISERROR(SMALL($S$7:$S$1504,ROWS($S$7:S415))),\"\",SMALL($S$7:$S$1504,ROWS($S$7:S415)))","v":""},"",{"$f":"IF(ISERROR(SMALL($U$7:$U$1504,ROWS(U$7:$U415))),\"\",SMALL($U$7:$U$1504,ROWS(U$7:$U415)))","v":""},"",{"$f":"IF(ISERROR(SMALL($W$7:$W$1504,ROWS($W$7:W415))),\"\",SMALL($W$7:$W$1504,ROWS($W$7:W415)))","v":""},null,17,{"$f":"+INDEX($AA$7:$AA$28,Z415)","v":"Materialinės investicijos to meto kainomis | mln. EUR"}]
[null,"Plungės r. sav.","Veikiančių mažų ir vidutinių įmonių skaičius metų pradžioje | vnt.",579,621,582,588,575,618,634,676,666,678,711,706,742,763,{"$f":"ROWS($R$7:R416)","v":410},"",{"$f":"IF(ISERROR(SMALL($S$7:$S$1504,ROWS($S$7:S416))),\"\",SMALL($S$7:$S$1504,ROWS($S$7:S416)))","v":""},"",{"$f":"IF(ISERROR(SMALL($U$7:$U$1504,ROWS(U$7:$U416))),\"\",SMALL($U$7:$U$1504,ROWS(U$7:$U416)))","v":""},"",{"$f":"IF(ISERROR(SMALL($W$7:$W$1504,ROWS($W$7:W416))),\"\",SMALL($W$7:$W$1504,ROWS($W$7:W416)))","v":""},null,null,null,{"$f":"+AB$6","v":"2010"},"2011","2012","2013","2014","2015","2016","2017","2018",2019,2020,2021,2022]
[null,"Rietavo sav.","Veikiančių mažų ir vidutinių įmonių skaičius metų pradžioje | vnt.",126,138,126,129,128,140,135,150,142,140,144,145,154,168,{"$f":"ROWS($R$7:R417)","v":411},"",{"$f":"IF(ISERROR(SMALL($S$7:$S$1504,ROWS($S$7:S417))),\"\",SMALL($S$7:$S$1504,ROWS($S$7:S417)))","v":""},"",{"$f":"IF(ISERROR(SMALL($U$7:$U$1504,ROWS(U$7:$U417))),\"\",SMALL($U$7:$U$1504,ROWS(U$7:$U417)))","v":""},"",{"$f":"IF(ISERROR(SMALL($W$7:$W$1504,ROWS($W$7:W417))),\"\",SMALL($W$7:$W$1504,ROWS($W$7:W417)))","v":""},null,null,{"$f":"+INDEX($Z$7:$Z$28,MATCH($AA415,$AA$7:$AA$28,0))","v":"Vilniaus m. sav."},{"$f":"+INDEX(AB$7:AB$28,MATCH($AA415,$AA$7:$AA$28,0))","v":1126.9680000000001},1415.4549999999999,1771.749,2008.2529999999999,2050.2049999999999,2266.8119999999999,2403.9589999999998,2482.9250000000002,2996.5030000000002,{"$f":"+INDEX(AK$7:AK$28,MATCH($AA415,$AA$7:$AA$28,0))","v":3351.768},{"$f":"+INDEX(AL$7:AL$28,MATCH($AA415,$AA$7:$AA$28,0))","v":3150.0929999999998},{"$f":"+INDEX(AM$7:AM$28,MATCH($AA415,$AA$7:$AA$28,0))","v":3894.7689999999998},{"$f":"+INDEX(AN$7:AN$28,MATCH($AA415,$AA$7:$AA$28,0))","v":0}]
[null,"Telšių r. sav.","Veikiančių mažų ir vidutinių įmonių skaičius metų pradžioje | vnt.",654,674,608,627,641,688,707,794,795,824,837,825,870,923,{"$f":"ROWS($R$7:R418)","v":412},"",{"$f":"IF(ISERROR(SMALL($S$7:$S$1504,ROWS($S$7:S418))),\"\",SMALL($S$7:$S$1504,ROWS($S$7:S418)))","v":""},"",{"$f":"IF(ISERROR(SMALL($U$7:$U$1504,ROWS(U$7:$U418))),\"\",SMALL($U$7:$U$1504,ROWS(U$7:$U418)))","v":""},"",{"$f":"IF(ISERROR(SMALL($W$7:$W$1504,ROWS($W$7:W418))),\"\",SMALL($W$7:$W$1504,ROWS($W$7:W418)))","v":""},null,null,{"$f":"IF(ISERROR(INDEX($Z$31:$Z$52,MATCH(AA415,$AA$31:$AA$52,0))),\"\",INDEX($Z$31:$Z$52,MATCH(AA415,$AA$31:$AA$52,0)))","v":"Vilniaus apskritis"},{"$f":"IF(ISERROR(INDEX(AB$31:AB$52,MATCH($AA415,$AA$31:$AA$52,0))),\"\",INDEX(AB$31:AB$52,MATCH($AA415,$AA$31:$AA$52,0)))","v":1583.9649999999999},1846.942,2156.038,2367.567,2475.8960000000002,2724.4749999999999,2882.7109999999998,2937.5230000000001,3591.1190000000001,{"$f":"IF(ISERROR(INDEX(AK$31:AK$52,MATCH($AA415,$AA$31:$AA$52,0))),\"\",INDEX(AK$31:AK$52,MATCH($AA415,$AA$31:$AA$52,0)))","v":3952.5569999999998},{"$f":"IF(ISERROR(INDEX(AL$31:AL$52,MATCH($AA415,$AA$31:$AA$52,0))),\"\",INDEX(AL$31:AL$52,MATCH($AA415,$AA$31:$AA$52,0)))","v":3771.335},{"$f":"IF(ISERROR(INDEX(AM$31:AM$52,MATCH($AA415,$AA$31:$AA$52,0))),\"\",INDEX(AM$31:AM$52,MATCH($AA415,$AA$31:$AA$52,0)))","v":4777.7719999999999},{"$f":"IF(ISERROR(INDEX(AN$31:AN$52,MATCH($AA415,$AA$31:$AA$52,0))),\"\",INDEX(AN$31:AN$52,MATCH($AA415,$AA$31:$AA$52,0)))","v":0}]
[null,"Utenos apskritis","Veikiančių mažų ir vidutinių įmonių skaičius metų pradžioje | vnt.",1830,1930,1680,1759,1786,1895,1965,2071,2073,2095,2125,2156,2281,2495,{"$f":"ROWS($R$7:R419)","v":413},"",{"$f":"IF(ISERROR(SMALL($S$7:$S$1504,ROWS($S$7:S419))),\"\",SMALL($S$7:$S$1504,ROWS($S$7:S419)))","v":""},"",{"$f":"IF(ISERROR(SMALL($U$7:$U$1504,ROWS(U$7:$U419))),\"\",SMALL($U$7:$U$1504,ROWS(U$7:$U419)))","v":""},"",{"$f":"IF(ISERROR(SMALL($W$7:$W$1504,ROWS($W$7:W419))),\"\",SMALL($W$7:$W$1504,ROWS($W$7:W419)))","v":""},null,null,{"$f":"IF(ISERROR(INDEX($Z$55:$Z$76,MATCH(AA415,$AA$55:$AA$76,0))),\"\",INDEX($Z$55:$Z$76,MATCH(AA415,$AA$55:$AA$76,0)))","v":"Lietuvos Respublika"},{"$f":"IF(ISERROR(INDEX(AB$55:AB$76,MATCH($AA415,$AA$55:$AA$76,0))),\"\",INDEX(AB$55:AB$76,MATCH($AA415,$AA$55:$AA$76,0)))","v":4153.6790000000001},5068.9769999999999,5305.5529999999999,5933.8670000000002,6081.759,6912.7359999999999,6895.3540000000003,7315.9319999999998,8077.81,{"$f":"IF(ISERROR(INDEX(AK$55:AK$76,MATCH($AA415,$AA$55:$AA$76,0))),\"\",INDEX(AK$55:AK$76,MATCH($AA415,$AA$55:$AA$76,0)))","v":9539.7170000000006},{"$f":"IF(ISERROR(INDEX(AL$55:AL$76,MATCH($AA415,$AA$55:$AA$76,0))),\"\",INDEX(AL$55:AL$76,MATCH($AA415,$AA$55:$AA$76,0)))","v":9053.2530000000006},{"$f":"IF(ISERROR(INDEX(AM$55:AM$76,MATCH($AA415,$AA$55:$AA$76,0))),\"\",INDEX(AM$55:AM$76,MATCH($AA415,$AA$55:$AA$76,0)))","v":10803.374},{"$f":"IF(ISERROR(INDEX(AN$55:AN$76,MATCH($AA415,$AA$55:$AA$76,0))),\"\",INDEX(AN$55:AN$76,MATCH($AA415,$AA$55:$AA$76,0)))","v":0}]
[null,"Anykščių r. sav.","Veikiančių mažų ir vidutinių įmonių skaičius metų pradžioje | vnt.",315,333,300,327,336,354,355,394,396,407,404,416,454,495,{"$f":"ROWS($R$7:R420)","v":414},"",{"$f":"IF(ISERROR(SMALL($S$7:$S$1504,ROWS($S$7:S420))),\"\",SMALL($S$7:$S$1504,ROWS($S$7:S420)))","v":""},"",{"$f":"IF(ISERROR(SMALL($U$7:$U$1504,ROWS(U$7:$U420))),\"\",SMALL($U$7:$U$1504,ROWS(U$7:$U420)))","v":""},"",{"$f":"IF(ISERROR(SMALL($W$7:$W$1504,ROWS($W$7:W420))),\"\",SMALL($W$7:$W$1504,ROWS($W$7:W420)))","v":""}]
[null,"Ignalinos r. sav.","Veikiančių mažų ir vidutinių įmonių skaičius metų pradžioje | vnt.",153,157,133,136,134,150,163,174,184,194,204,213,226,259,{"$f":"ROWS($R$7:R421)","v":415},"",{"$f":"IF(ISERROR(SMALL($S$7:$S$1504,ROWS($S$7:S421))),\"\",SMALL($S$7:$S$1504,ROWS($S$7:S421)))","v":""},"",{"$f":"IF(ISERROR(SMALL($U$7:$U$1504,ROWS(U$7:$U421))),\"\",SMALL($U$7:$U$1504,ROWS(U$7:$U421)))","v":""},"",{"$f":"IF(ISERROR(SMALL($W$7:$W$1504,ROWS($W$7:W421))),\"\",SMALL($W$7:$W$1504,ROWS($W$7:W421)))","v":""}]
[null,"Molėtų r. sav.","Veikiančių mažų ir vidutinių įmonių skaičius metų pradžioje | vnt.",254,274,251,254,266,283,310,314,326,330,341,335,370,413,{"$f":"ROWS($R$7:R422)","v":416},"",{"$f":"IF(ISERROR(SMALL($S$7:$S$1504,ROWS($S$7:S422))),\"\",SMALL($S$7:$S$1504,ROWS($S$7:S422)))","v":""},"",{"$f":"IF(ISERROR(SMALL($U$7:$U$1504,ROWS(U$7:$U422))),\"\",SMALL($U$7:$U$1504,ROWS(U$7:$U422)))","v":""},"",{"$f":"IF(ISERROR(SMALL($W$7:$W$1504,ROWS($W$7:W422))),\"\",SMALL($W$7:$W$1504,ROWS($W$7:W422)))","v":""}]
[null,"Utenos r. sav.","Veikiančių mažų ir vidutinių įmonių skaičius metų pradžioje | vnt.",637,645,561,585,596,637,668,699,693,703,699,710,725,790,{"$f":"ROWS($R$7:R423)","v":417},"",{"$f":"IF(ISERROR(SMALL($S$7:$S$1504,ROWS($S$7:S423))),\"\",SMALL($S$7:$S$1504,ROWS($S$7:S423)))","v":""},"",{"$f":"IF(ISERROR(SMALL($U$7:$U$1504,ROWS(U$7:$U423))),\"\",SMALL($U$7:$U$1504,ROWS(U$7:$U423)))","v":""},"",{"$f":"IF(ISERROR(SMALL($W$7:$W$1504,ROWS($W$7:W423))),\"\",SMALL($W$7:$W$1504,ROWS($W$7:W423)))","v":""}]
[null,"Visagino sav.","Veikiančių mažų ir vidutinių įmonių skaičius metų pradžioje | vnt.",312,335,280,301,287,299,293,296,291,286,283,273,279,291,{"$f":"ROWS($R$7:R424)","v":418},"",{"$f":"IF(ISERROR(SMALL($S$7:$S$1504,ROWS($S$7:S424))),\"\",SMALL($S$7:$S$1504,ROWS($S$7:S424)))","v":""},"",{"$f":"IF(ISERROR(SMALL($U$7:$U$1504,ROWS(U$7:$U424))),\"\",SMALL($U$7:$U$1504,ROWS(U$7:$U424)))","v":""},"",{"$f":"IF(ISERROR(SMALL($W$7:$W$1504,ROWS($W$7:W424))),\"\",SMALL($W$7:$W$1504,ROWS($W$7:W424)))","v":""}]
[null,"Zarasų r. sav.","Veikiančių mažų ir vidutinių įmonių skaičius metų pradžioje | vnt.",159,186,155,156,167,172,176,194,183,175,194,209,227,247,{"$f":"ROWS($R$7:R425)","v":419},"",{"$f":"IF(ISERROR(SMALL($S$7:$S$1504,ROWS($S$7:S425))),\"\",SMALL($S$7:$S$1504,ROWS($S$7:S425)))","v":""},"",{"$f":"IF(ISERROR(SMALL($U$7:$U$1504,ROWS(U$7:$U425))),\"\",SMALL($U$7:$U$1504,ROWS(U$7:$U425)))","v":""},"",{"$f":"IF(ISERROR(SMALL($W$7:$W$1504,ROWS($W$7:W425))),\"\",SMALL($W$7:$W$1504,ROWS($W$7:W425)))","v":""}]
[null,"Vilniaus apskritis","Veikiančių mažų ir vidutinių įmonių skaičius metų pradžioje | vnt.",23786,25071,24141,26070,27545,32122,33998,35119,34923,35384,36478,36945,39639,42774,{"$f":"ROWS($R$7:R426)","v":420},"",{"$f":"IF(ISERROR(SMALL($S$7:$S$1504,ROWS($S$7:S426))),\"\",SMALL($S$7:$S$1504,ROWS($S$7:S426)))","v":""},420,{"$f":"IF(ISERROR(SMALL($U$7:$U$1504,ROWS(U$7:$U426))),\"\",SMALL($U$7:$U$1504,ROWS(U$7:$U426)))","v":""},"",{"$f":"IF(ISERROR(SMALL($W$7:$W$1504,ROWS($W$7:W426))),\"\",SMALL($W$7:$W$1504,ROWS($W$7:W426)))","v":""}]
[null,"Elektrėnų sav.","Veikiančių mažų ir vidutinių įmonių skaičius metų pradžioje | vnt.",246,252,240,253,256,288,318,340,363,376,404,409,442,494,{"$f":"ROWS($R$7:R427)","v":421},"",{"$f":"IF(ISERROR(SMALL($S$7:$S$1504,ROWS($S$7:S427))),\"\",SMALL($S$7:$S$1504,ROWS($S$7:S427)))","v":""},"",{"$f":"IF(ISERROR(SMALL($U$7:$U$1504,ROWS(U$7:$U427))),\"\",SMALL($U$7:$U$1504,ROWS(U$7:$U427)))","v":""},"",{"$f":"IF(ISERROR(SMALL($W$7:$W$1504,ROWS($W$7:W427))),\"\",SMALL($W$7:$W$1504,ROWS($W$7:W427)))","v":""}]
[null,"Šalčininkų r. sav.","Veikiančių mažų ir vidutinių įmonių skaičius metų pradžioje | vnt.",311,314,297,313,323,365,390,418,428,425,435,424,447,483,{"$f":"ROWS($R$7:R428)","v":422},"",{"$f":"IF(ISERROR(SMALL($S$7:$S$1504,ROWS($S$7:S428))),\"\",SMALL($S$7:$S$1504,ROWS($S$7:S428)))","v":""},"",{"$f":"IF(ISERROR(SMALL($U$7:$U$1504,ROWS(U$7:$U428))),\"\",SMALL($U$7:$U$1504,ROWS(U$7:$U428)))","v":""},"",{"$f":"IF(ISERROR(SMALL($W$7:$W$1504,ROWS($W$7:W428))),\"\",SMALL($W$7:$W$1504,ROWS($W$7:W428)))","v":""}]
[null,"Širvintų r. sav.","Veikiančių mažų ir vidutinių įmonių skaičius metų pradžioje | vnt.",173,186,173,181,192,206,221,238,251,257,277,285,322,366,{"$f":"ROWS($R$7:R429)","v":423},"",{"$f":"IF(ISERROR(SMALL($S$7:$S$1504,ROWS($S$7:S429))),\"\",SMALL($S$7:$S$1504,ROWS($S$7:S429)))","v":""},"",{"$f":"IF(ISERROR(SMALL($U$7:$U$1504,ROWS(U$7:$U429))),\"\",SMALL($U$7:$U$1504,ROWS(U$7:$U429)))","v":""},"",{"$f":"IF(ISERROR(SMALL($W$7:$W$1504,ROWS($W$7:W429))),\"\",SMALL($W$7:$W$1504,ROWS($W$7:W429)))","v":""}]
[null,"Švenčionių r. sav.","Veikiančių mažų ir vidutinių įmonių skaičius metų pradžioje | vnt.",219,239,202,217,225,235,244,271,281,279,290,300,338,372,{"$f":"ROWS($R$7:R430)","v":424},"",{"$f":"IF(ISERROR(SMALL($S$7:$S$1504,ROWS($S$7:S430))),\"\",SMALL($S$7:$S$1504,ROWS($S$7:S430)))","v":""},"",{"$f":"IF(ISERROR(SMALL($U$7:$U$1504,ROWS(U$7:$U430))),\"\",SMALL($U$7:$U$1504,ROWS(U$7:$U430)))","v":""},"",{"$f":"IF(ISERROR(SMALL($W$7:$W$1504,ROWS($W$7:W430))),\"\",SMALL($W$7:$W$1504,ROWS($W$7:W430)))","v":""}]
[null,"Trakų r. sav.","Veikiančių mažų ir vidutinių įmonių skaičius metų pradžioje | vnt.",433,466,428,464,492,520,549,588,573,575,594,611,675,739,{"$f":"ROWS($R$7:R431)","v":425},"",{"$f":"IF(ISERROR(SMALL($S$7:$S$1504,ROWS($S$7:S431))),\"\",SMALL($S$7:$S$1504,ROWS($S$7:S431)))","v":""},"",{"$f":"IF(ISERROR(SMALL($U$7:$U$1504,ROWS(U$7:$U431))),\"\",SMALL($U$7:$U$1504,ROWS(U$7:$U431)))","v":""},"",{"$f":"IF(ISERROR(SMALL($W$7:$W$1504,ROWS($W$7:W431))),\"\",SMALL($W$7:$W$1504,ROWS($W$7:W431)))","v":""}]
[null,"Ukmergės r. sav.","Veikiančių mažų ir vidutinių įmonių skaičius metų pradžioje | vnt.",506,535,473,499,513,564,566,595,601,611,611,646,680,738,{"$f":"ROWS($R$7:R432)","v":426},"",{"$f":"IF(ISERROR(SMALL($S$7:$S$1504,ROWS($S$7:S432))),\"\",SMALL($S$7:$S$1504,ROWS($S$7:S432)))","v":""},"",{"$f":"IF(ISERROR(SMALL($U$7:$U$1504,ROWS(U$7:$U432))),\"\",SMALL($U$7:$U$1504,ROWS(U$7:$U432)))","v":""},"",{"$f":"IF(ISERROR(SMALL($W$7:$W$1504,ROWS($W$7:W432))),\"\",SMALL($W$7:$W$1504,ROWS($W$7:W432)))","v":""}]
[null,"Vilniaus m. sav.","Veikiančių mažų ir vidutinių įmonių skaičius metų pradžioje | vnt.",20753,21816,21047,22659,23958,28081,29670,30531,30213,30516,31392,31618,33781,36228,{"$f":"ROWS($R$7:R433)","v":427},427,{"$f":"IF(ISERROR(SMALL($S$7:$S$1504,ROWS($S$7:S433))),\"\",SMALL($S$7:$S$1504,ROWS($S$7:S433)))","v":""},"",{"$f":"IF(ISERROR(SMALL($U$7:$U$1504,ROWS(U$7:$U433))),\"\",SMALL($U$7:$U$1504,ROWS(U$7:$U433)))","v":""},"",{"$f":"IF(ISERROR(SMALL($W$7:$W$1504,ROWS($W$7:W433))),\"\",SMALL($W$7:$W$1504,ROWS($W$7:W433)))","v":""}]
[null,"Vilniaus r. sav.","Veikiančių mažų ir vidutinių įmonių skaičius metų pradžioje | vnt.",1145,1263,1281,1484,1586,1862,2040,2138,2213,2345,2475,2652,2954,3354,{"$f":"ROWS($R$7:R434)","v":428},"",{"$f":"IF(ISERROR(SMALL($S$7:$S$1504,ROWS($S$7:S434))),\"\",SMALL($S$7:$S$1504,ROWS($S$7:S434)))","v":""},"",{"$f":"IF(ISERROR(SMALL($U$7:$U$1504,ROWS(U$7:$U434))),\"\",SMALL($U$7:$U$1504,ROWS(U$7:$U434)))","v":""},"",{"$f":"IF(ISERROR(SMALL($W$7:$W$1504,ROWS($W$7:W434))),\"\",SMALL($W$7:$W$1504,ROWS($W$7:W434)))","v":""}]
[null,"Lietuvos Respublika","Veikiančių įmonių skaičius metų pradžioje | vnt.",63840,66840,62889,65779,68279,76427,79840,83256,83439,84890,87143,87707,93059,100488,{"$f":"ROWS($R$7:R435)","v":429},"",{"$f":"IF(ISERROR(SMALL($S$7:$S$1504,ROWS($S$7:S435))),\"\",SMALL($S$7:$S$1504,ROWS($S$7:S435)))","v":""},"",{"$f":"IF(ISERROR(SMALL($U$7:$U$1504,ROWS(U$7:$U435))),\"\",SMALL($U$7:$U$1504,ROWS(U$7:$U435)))","v":""},429,{"$f":"IF(ISERROR(SMALL($W$7:$W$1504,ROWS($W$7:W435))),\"\",SMALL($W$7:$W$1504,ROWS($W$7:W435)))","v":""}]
[null,"Alytaus apskritis","Veikiančių įmonių skaičius metų pradžioje | vnt.",2093,2300,2082,2147,2217,2431,2514,2680,2671,2731,2809,2768,2946,3149,{"$f":"ROWS($R$7:R436)","v":430},"",{"$f":"IF(ISERROR(SMALL($S$7:$S$1504,ROWS($S$7:S436))),\"\",SMALL($S$7:$S$1504,ROWS($S$7:S436)))","v":""},"",{"$f":"IF(ISERROR(SMALL($U$7:$U$1504,ROWS(U$7:$U436))),\"\",SMALL($U$7:$U$1504,ROWS(U$7:$U436)))","v":""},"",{"$f":"IF(ISERROR(SMALL($W$7:$W$1504,ROWS($W$7:W436))),\"\",SMALL($W$7:$W$1504,ROWS($W$7:W436)))","v":""},null,18,{"$f":"+INDEX($AA$7:$AA$28,Z436)","v":"Apyvarta pagal veiklos vykdymo vietą | mln. EUR"}]
[null,"Alytaus m. sav.","Veikiančių įmonių skaičius metų pradžioje | vnt.",1059,1186,1057,1084,1108,1229,1234,1302,1261,1282,1297,1271,1310,1362,{"$f":"ROWS($R$7:R437)","v":431},"",{"$f":"IF(ISERROR(SMALL($S$7:$S$1504,ROWS($S$7:S437))),\"\",SMALL($S$7:$S$1504,ROWS($S$7:S437)))","v":""},"",{"$f":"IF(ISERROR(SMALL($U$7:$U$1504,ROWS(U$7:$U437))),\"\",SMALL($U$7:$U$1504,ROWS(U$7:$U437)))","v":""},"",{"$f":"IF(ISERROR(SMALL($W$7:$W$1504,ROWS($W$7:W437))),\"\",SMALL($W$7:$W$1504,ROWS($W$7:W437)))","v":""},null,null,null,{"$f":"+AB$6","v":"2010"},"2011","2012","2013","2014","2015","2016","2017","2018",2019,2020,2021,2022]
[null,"Alytaus r. sav.","Veikiančių įmonių skaičius metų pradžioje | vnt.",236,262,242,250,258,298,335,359,384,423,465,478,541,610,{"$f":"ROWS($R$7:R438)","v":432},"",{"$f":"IF(ISERROR(SMALL($S$7:$S$1504,ROWS($S$7:S438))),\"\",SMALL($S$7:$S$1504,ROWS($S$7:S438)))","v":""},"",{"$f":"IF(ISERROR(SMALL($U$7:$U$1504,ROWS(U$7:$U438))),\"\",SMALL($U$7:$U$1504,ROWS(U$7:$U438)))","v":""},"",{"$f":"IF(ISERROR(SMALL($W$7:$W$1504,ROWS($W$7:W438))),\"\",SMALL($W$7:$W$1504,ROWS($W$7:W438)))","v":""},null,null,{"$f":"+INDEX($Z$7:$Z$28,MATCH($AA436,$AA$7:$AA$28,0))","v":"Vilniaus m. sav."},{"$f":"+INDEX(AB$7:AB$28,MATCH($AA436,$AA$7:$AA$28,0))","v":16618.971000000001},19255.164000000001,21824.419000000002,23889.722000000002,25677.258000000002,27060.076000000001,27992.600999999999,30555.714,33709.499000000003,{"$f":"+INDEX(AK$7:AK$28,MATCH($AA436,$AA$7:$AA$28,0))","v":37023.476000000002},{"$f":"+INDEX(AL$7:AL$28,MATCH($AA436,$AA$7:$AA$28,0))","v":37356.364999999998},{"$f":"+INDEX(AM$7:AM$28,MATCH($AA436,$AA$7:$AA$28,0))","v":46942.705000000002},{"$f":"+INDEX(AN$7:AN$28,MATCH($AA436,$AA$7:$AA$28,0))","v":0}]
[null,"Druskininkų sav.","Veikiančių įmonių skaičius metų pradžioje | vnt.",374,386,358,377,409,447,472,502,502,487,495,481,502,514,{"$f":"ROWS($R$7:R439)","v":433},"",{"$f":"IF(ISERROR(SMALL($S$7:$S$1504,ROWS($S$7:S439))),\"\",SMALL($S$7:$S$1504,ROWS($S$7:S439)))","v":""},"",{"$f":"IF(ISERROR(SMALL($U$7:$U$1504,ROWS(U$7:$U439))),\"\",SMALL($U$7:$U$1504,ROWS(U$7:$U439)))","v":""},"",{"$f":"IF(ISERROR(SMALL($W$7:$W$1504,ROWS($W$7:W439))),\"\",SMALL($W$7:$W$1504,ROWS($W$7:W439)))","v":""},null,null,{"$f":"IF(ISERROR(INDEX($Z$31:$Z$52,MATCH(AA436,$AA$31:$AA$52,0))),\"\",INDEX($Z$31:$Z$52,MATCH(AA436,$AA$31:$AA$52,0)))","v":"Vilniaus apskritis"},{"$f":"IF(ISERROR(INDEX(AB$31:AB$52,MATCH($AA436,$AA$31:$AA$52,0))),\"\",INDEX(AB$31:AB$52,MATCH($AA436,$AA$31:$AA$52,0)))","v":18853.001},22118.242999999999,25001.405999999999,27340.916000000001,28918.966,30542.642,31696.718000000001,34787.303999999996,38477.197,{"$f":"IF(ISERROR(INDEX(AK$31:AK$52,MATCH($AA436,$AA$31:$AA$52,0))),\"\",INDEX(AK$31:AK$52,MATCH($AA436,$AA$31:$AA$52,0)))","v":42205.447},{"$f":"IF(ISERROR(INDEX(AL$31:AL$52,MATCH($AA436,$AA$31:$AA$52,0))),\"\",INDEX(AL$31:AL$52,MATCH($AA436,$AA$31:$AA$52,0)))","v":42787.618999999999},{"$f":"IF(ISERROR(INDEX(AM$31:AM$52,MATCH($AA436,$AA$31:$AA$52,0))),\"\",INDEX(AM$31:AM$52,MATCH($AA436,$AA$31:$AA$52,0)))","v":53365.016000000003},{"$f":"IF(ISERROR(INDEX(AN$31:AN$52,MATCH($AA436,$AA$31:$AA$52,0))),\"\",INDEX(AN$31:AN$52,MATCH($AA436,$AA$31:$AA$52,0)))","v":0}]
[null,"Lazdijų r. sav.","Veikiančių įmonių skaičius metų pradžioje | vnt.",165,191,168,165,174,182,185,206,204,210,220,224,261,294,{"$f":"ROWS($R$7:R440)","v":434},"",{"$f":"IF(ISERROR(SMALL($S$7:$S$1504,ROWS($S$7:S440))),\"\",SMALL($S$7:$S$1504,ROWS($S$7:S440)))","v":""},"",{"$f":"IF(ISERROR(SMALL($U$7:$U$1504,ROWS(U$7:$U440))),\"\",SMALL($U$7:$U$1504,ROWS(U$7:$U440)))","v":""},"",{"$f":"IF(ISERROR(SMALL($W$7:$W$1504,ROWS($W$7:W440))),\"\",SMALL($W$7:$W$1504,ROWS($W$7:W440)))","v":""},null,null,{"$f":"IF(ISERROR(INDEX($Z$55:$Z$76,MATCH(AA436,$AA$55:$AA$76,0))),\"\",INDEX($Z$55:$Z$76,MATCH(AA436,$AA$55:$AA$76,0)))","v":"Lietuvos Respublika"},{"$f":"IF(ISERROR(INDEX(AB$55:AB$76,MATCH($AA436,$AA$55:$AA$76,0))),\"\",INDEX(AB$55:AB$76,MATCH($AA436,$AA$55:$AA$76,0)))","v":52800.998},63437.506999999998,69322.489000000001,73216.409,74876.148000000001,75995.990000000005,77979.909,86986.501000000004,94451.705000000002,{"$f":"IF(ISERROR(INDEX(AK$55:AK$76,MATCH($AA436,$AA$55:$AA$76,0))),\"\",INDEX(AK$55:AK$76,MATCH($AA436,$AA$55:$AA$76,0)))","v":101154.27499999999},{"$f":"IF(ISERROR(INDEX(AL$55:AL$76,MATCH($AA436,$AA$55:$AA$76,0))),\"\",INDEX(AL$55:AL$76,MATCH($AA436,$AA$55:$AA$76,0)))","v":99870.067999999999},{"$f":"IF(ISERROR(INDEX(AM$55:AM$76,MATCH($AA436,$AA$55:$AA$76,0))),\"\",INDEX(AM$55:AM$76,MATCH($AA436,$AA$55:$AA$76,0)))","v":124410.463},{"$f":"IF(ISERROR(INDEX(AN$55:AN$76,MATCH($AA436,$AA$55:$AA$76,0))),\"\",INDEX(AN$55:AN$76,MATCH($AA436,$AA$55:$AA$76,0)))","v":0}]
[null,"Varėnos r. sav.","Veikiančių įmonių skaičius metų pradžioje | vnt.",259,275,257,271,268,275,288,311,320,329,332,314,332,369,{"$f":"ROWS($R$7:R441)","v":435},"",{"$f":"IF(ISERROR(SMALL($S$7:$S$1504,ROWS($S$7:S441))),\"\",SMALL($S$7:$S$1504,ROWS($S$7:S441)))","v":""},"",{"$f":"IF(ISERROR(SMALL($U$7:$U$1504,ROWS(U$7:$U441))),\"\",SMALL($U$7:$U$1504,ROWS(U$7:$U441)))","v":""},"",{"$f":"IF(ISERROR(SMALL($W$7:$W$1504,ROWS($W$7:W441))),\"\",SMALL($W$7:$W$1504,ROWS($W$7:W441)))","v":""}]
[null,"Kauno apskritis","Veikiančių įmonių skaičius metų pradžioje | vnt.",13084,13698,13011,13366,13814,15213,15839,16566,16844,17323,17762,17861,19000,20908,{"$f":"ROWS($R$7:R442)","v":436},"",{"$f":"IF(ISERROR(SMALL($S$7:$S$1504,ROWS($S$7:S442))),\"\",SMALL($S$7:$S$1504,ROWS($S$7:S442)))","v":""},"",{"$f":"IF(ISERROR(SMALL($U$7:$U$1504,ROWS(U$7:$U442))),\"\",SMALL($U$7:$U$1504,ROWS(U$7:$U442)))","v":""},"",{"$f":"IF(ISERROR(SMALL($W$7:$W$1504,ROWS($W$7:W442))),\"\",SMALL($W$7:$W$1504,ROWS($W$7:W442)))","v":""}]
[null,"Birštono sav.","Veikiančių įmonių skaičius metų pradžioje | vnt.",59,58,58,59,60,59,66,71,68,78,84,84,90,100,{"$f":"ROWS($R$7:R443)","v":437},"",{"$f":"IF(ISERROR(SMALL($S$7:$S$1504,ROWS($S$7:S443))),\"\",SMALL($S$7:$S$1504,ROWS($S$7:S443)))","v":""},"",{"$f":"IF(ISERROR(SMALL($U$7:$U$1504,ROWS(U$7:$U443))),\"\",SMALL($U$7:$U$1504,ROWS(U$7:$U443)))","v":""},"",{"$f":"IF(ISERROR(SMALL($W$7:$W$1504,ROWS($W$7:W443))),\"\",SMALL($W$7:$W$1504,ROWS($W$7:W443)))","v":""}]
[null,"Jonavos r. sav.","Veikiančių įmonių skaičius metų pradžioje | vnt.",554,582,546,536,545,586,593,650,688,694,691,692,756,832,{"$f":"ROWS($R$7:R444)","v":438},"",{"$f":"IF(ISERROR(SMALL($S$7:$S$1504,ROWS($S$7:S444))),\"\",SMALL($S$7:$S$1504,ROWS($S$7:S444)))","v":""},"",{"$f":"IF(ISERROR(SMALL($U$7:$U$1504,ROWS(U$7:$U444))),\"\",SMALL($U$7:$U$1504,ROWS(U$7:$U444)))","v":""},"",{"$f":"IF(ISERROR(SMALL($W$7:$W$1504,ROWS($W$7:W444))),\"\",SMALL($W$7:$W$1504,ROWS($W$7:W444)))","v":""}]
[null,"Kaišiadorių r. sav.","Veikiančių įmonių skaičius metų pradžioje | vnt.",381,403,364,372,393,433,432,456,450,470,484,480,492,550,{"$f":"ROWS($R$7:R445)","v":439},"",{"$f":"IF(ISERROR(SMALL($S$7:$S$1504,ROWS($S$7:S445))),\"\",SMALL($S$7:$S$1504,ROWS($S$7:S445)))","v":""},"",{"$f":"IF(ISERROR(SMALL($U$7:$U$1504,ROWS(U$7:$U445))),\"\",SMALL($U$7:$U$1504,ROWS(U$7:$U445)))","v":""},"",{"$f":"IF(ISERROR(SMALL($W$7:$W$1504,ROWS($W$7:W445))),\"\",SMALL($W$7:$W$1504,ROWS($W$7:W445)))","v":""}]
[null,"Kauno m. sav.","Veikiančių įmonių skaičius metų pradžioje | vnt.",9417,9836,9269,9474,9713,10707,11118,11465,11585,11845,12051,12035,12697,13886,{"$f":"ROWS($R$7:R446)","v":440},"",{"$f":"IF(ISERROR(SMALL($S$7:$S$1504,ROWS($S$7:S446))),\"\",SMALL($S$7:$S$1504,ROWS($S$7:S446)))","v":""},"",{"$f":"IF(ISERROR(SMALL($U$7:$U$1504,ROWS(U$7:$U446))),\"\",SMALL($U$7:$U$1504,ROWS(U$7:$U446)))","v":""},"",{"$f":"IF(ISERROR(SMALL($W$7:$W$1504,ROWS($W$7:W446))),\"\",SMALL($W$7:$W$1504,ROWS($W$7:W446)))","v":""}]
[null,"Kauno r. sav.","Veikiančių įmonių skaičius metų pradžioje | vnt.",1305,1430,1425,1557,1699,1953,2079,2239,2352,2524,2718,2831,3103,3495,{"$f":"ROWS($R$7:R447)","v":441},"",{"$f":"IF(ISERROR(SMALL($S$7:$S$1504,ROWS($S$7:S447))),\"\",SMALL($S$7:$S$1504,ROWS($S$7:S447)))","v":""},"",{"$f":"IF(ISERROR(SMALL($U$7:$U$1504,ROWS(U$7:$U447))),\"\",SMALL($U$7:$U$1504,ROWS(U$7:$U447)))","v":""},"",{"$f":"IF(ISERROR(SMALL($W$7:$W$1504,ROWS($W$7:W447))),\"\",SMALL($W$7:$W$1504,ROWS($W$7:W447)))","v":""}]
[null,"Kėdainių r. sav.","Veikiančių įmonių skaičius metų pradžioje | vnt.",618,626,591,600,618,657,691,750,731,746,747,742,805,886,{"$f":"ROWS($R$7:R448)","v":442},"",{"$f":"IF(ISERROR(SMALL($S$7:$S$1504,ROWS($S$7:S448))),\"\",SMALL($S$7:$S$1504,ROWS($S$7:S448)))","v":""},"",{"$f":"IF(ISERROR(SMALL($U$7:$U$1504,ROWS(U$7:$U448))),\"\",SMALL($U$7:$U$1504,ROWS(U$7:$U448)))","v":""},"",{"$f":"IF(ISERROR(SMALL($W$7:$W$1504,ROWS($W$7:W448))),\"\",SMALL($W$7:$W$1504,ROWS($W$7:W448)))","v":""}]
[null,"Prienų r. sav.","Veikiančių įmonių skaičius metų pradžioje | vnt.",329,327,319,323,331,350,366,400,410,409,416,432,459,519,{"$f":"ROWS($R$7:R449)","v":443},"",{"$f":"IF(ISERROR(SMALL($S$7:$S$1504,ROWS($S$7:S449))),\"\",SMALL($S$7:$S$1504,ROWS($S$7:S449)))","v":""},"",{"$f":"IF(ISERROR(SMALL($U$7:$U$1504,ROWS(U$7:$U449))),\"\",SMALL($U$7:$U$1504,ROWS(U$7:$U449)))","v":""},"",{"$f":"IF(ISERROR(SMALL($W$7:$W$1504,ROWS($W$7:W449))),\"\",SMALL($W$7:$W$1504,ROWS($W$7:W449)))","v":""}]
[null,"Raseinių r. sav.","Veikiančių įmonių skaičius metų pradžioje | vnt.",421,436,439,445,455,468,494,535,560,557,571,565,598,640,{"$f":"ROWS($R$7:R450)","v":444},"",{"$f":"IF(ISERROR(SMALL($S$7:$S$1504,ROWS($S$7:S450))),\"\",SMALL($S$7:$S$1504,ROWS($S$7:S450)))","v":""},"",{"$f":"IF(ISERROR(SMALL($U$7:$U$1504,ROWS(U$7:$U450))),\"\",SMALL($U$7:$U$1504,ROWS(U$7:$U450)))","v":""},"",{"$f":"IF(ISERROR(SMALL($W$7:$W$1504,ROWS($W$7:W450))),\"\",SMALL($W$7:$W$1504,ROWS($W$7:W450)))","v":""}]
[null,"Klaipėdos apskritis","Veikiančių įmonių skaičius metų pradžioje | vnt.",8208,8440,7818,7982,8164,8844,9138,9457,9573,9715,10024,10146,10602,11431,{"$f":"ROWS($R$7:R451)","v":445},"",{"$f":"IF(ISERROR(SMALL($S$7:$S$1504,ROWS($S$7:S451))),\"\",SMALL($S$7:$S$1504,ROWS($S$7:S451)))","v":""},"",{"$f":"IF(ISERROR(SMALL($U$7:$U$1504,ROWS(U$7:$U451))),\"\",SMALL($U$7:$U$1504,ROWS(U$7:$U451)))","v":""},"",{"$f":"IF(ISERROR(SMALL($W$7:$W$1504,ROWS($W$7:W451))),\"\",SMALL($W$7:$W$1504,ROWS($W$7:W451)))","v":""}]
[null,"Klaipėdos m. sav.","Veikiančių įmonių skaičius metų pradžioje | vnt.",5065,5201,4823,4862,4910,5317,5415,5477,5469,5443,5550,5572,5727,6056,{"$f":"ROWS($R$7:R452)","v":446},"",{"$f":"IF(ISERROR(SMALL($S$7:$S$1504,ROWS($S$7:S452))),\"\",SMALL($S$7:$S$1504,ROWS($S$7:S452)))","v":""},"",{"$f":"IF(ISERROR(SMALL($U$7:$U$1504,ROWS(U$7:$U452))),\"\",SMALL($U$7:$U$1504,ROWS(U$7:$U452)))","v":""},"",{"$f":"IF(ISERROR(SMALL($W$7:$W$1504,ROWS($W$7:W452))),\"\",SMALL($W$7:$W$1504,ROWS($W$7:W452)))","v":""}]
[null,"Klaipėdos r. sav.","Veikiančių įmonių skaičius metų pradžioje | vnt.",951,980,936,1041,1086,1216,1322,1413,1491,1603,1733,1766,1919,2183,{"$f":"ROWS($R$7:R453)","v":447},"",{"$f":"IF(ISERROR(SMALL($S$7:$S$1504,ROWS($S$7:S453))),\"\",SMALL($S$7:$S$1504,ROWS($S$7:S453)))","v":""},"",{"$f":"IF(ISERROR(SMALL($U$7:$U$1504,ROWS(U$7:$U453))),\"\",SMALL($U$7:$U$1504,ROWS(U$7:$U453)))","v":""},"",{"$f":"IF(ISERROR(SMALL($W$7:$W$1504,ROWS($W$7:W453))),\"\",SMALL($W$7:$W$1504,ROWS($W$7:W453)))","v":""}]
[null,"Kretingos r. sav.","Veikiančių įmonių skaičius metų pradžioje | vnt.",683,705,648,638,654,712,754,811,837,856,868,863,906,961,{"$f":"ROWS($R$7:R454)","v":448},"",{"$f":"IF(ISERROR(SMALL($S$7:$S$1504,ROWS($S$7:S454))),\"\",SMALL($S$7:$S$1504,ROWS($S$7:S454)))","v":""},"",{"$f":"IF(ISERROR(SMALL($U$7:$U$1504,ROWS(U$7:$U454))),\"\",SMALL($U$7:$U$1504,ROWS(U$7:$U454)))","v":""},"",{"$f":"IF(ISERROR(SMALL($W$7:$W$1504,ROWS($W$7:W454))),\"\",SMALL($W$7:$W$1504,ROWS($W$7:W454)))","v":""}]
[null,"Neringos sav.","Veikiančių įmonių skaičius metų pradžioje | vnt.",141,149,128,132,143,160,178,192,195,194,213,245,285,339,{"$f":"ROWS($R$7:R455)","v":449},{"$f":"IF(ISNUMBER(SEARCH($R$3,B455)),R455,\"\")","v":""},{"$f":"IF(ISERROR(SMALL($S$7:$S$1504,ROWS($S$7:S455))),\"\",SMALL($S$7:$S$1504,ROWS($S$7:S455)))","v":""},{"$f":"IF($R$4=B455,R455,\"\")","v":""},{"$f":"IF(ISERROR(SMALL($U$7:$U$1504,ROWS(U$7:$U455))),\"\",SMALL($U$7:$U$1504,ROWS(U$7:$U455)))","v":""},{"$f":"IF(\"Lietuvos Respublika\"=B455,R455,\"\")","v":""},{"$f":"IF(ISERROR(SMALL($W$7:$W$1504,ROWS($W$7:W455))),\"\",SMALL($W$7:$W$1504,ROWS($W$7:W455)))","v":""}]
[null,"Palangos m. sav.","Veikiančių įmonių skaičius metų pradžioje | vnt.",542,552,499,503,523,552,561,585,609,645,650,664,684,753,{"$f":"ROWS($R$7:R456)","v":450},"",{"$f":"IF(ISERROR(SMALL($S$7:$S$1504,ROWS($S$7:S456))),\"\",SMALL($S$7:$S$1504,ROWS($S$7:S456)))","v":""},"",{"$f":"IF(ISERROR(SMALL($U$7:$U$1504,ROWS(U$7:$U456))),\"\",SMALL($U$7:$U$1504,ROWS(U$7:$U456)))","v":""},"",{"$f":"IF(ISERROR(SMALL($W$7:$W$1504,ROWS($W$7:W456))),\"\",SMALL($W$7:$W$1504,ROWS($W$7:W456)))","v":""}]
[null,"Skuodo r. sav.","Veikiančių įmonių skaičius metų pradžioje | vnt.",190,201,182,188,200,203,209,226,224,226,226,230,227,240,{"$f":"ROWS($R$7:R457)","v":451},"",{"$f":"IF(ISERROR(SMALL($S$7:$S$1504,ROWS($S$7:S457))),\"\",SMALL($S$7:$S$1504,ROWS($S$7:S457)))","v":""},"",{"$f":"IF(ISERROR(SMALL($U$7:$U$1504,ROWS(U$7:$U457))),\"\",SMALL($U$7:$U$1504,ROWS(U$7:$U457)))","v":""},"",{"$f":"IF(ISERROR(SMALL($W$7:$W$1504,ROWS($W$7:W457))),\"\",SMALL($W$7:$W$1504,ROWS($W$7:W457)))","v":""},null,19,{"$f":"+INDEX($AA$7:$AA$28,Z457)","v":"Pridėtinė vertė gamybos kainomis pagal veiklos vykdymo vietą | mln. EUR"}]
[null,"Šilutės r. sav.","Veikiančių įmonių skaičius metų pradžioje | vnt.",636,652,602,618,648,684,699,753,748,748,784,806,854,899,{"$f":"ROWS($R$7:R458)","v":452},"",{"$f":"IF(ISERROR(SMALL($S$7:$S$1504,ROWS($S$7:S458))),\"\",SMALL($S$7:$S$1504,ROWS($S$7:S458)))","v":""},"",{"$f":"IF(ISERROR(SMALL($U$7:$U$1504,ROWS(U$7:$U458))),\"\",SMALL($U$7:$U$1504,ROWS(U$7:$U458)))","v":""},"",{"$f":"IF(ISERROR(SMALL($W$7:$W$1504,ROWS($W$7:W458))),\"\",SMALL($W$7:$W$1504,ROWS($W$7:W458)))","v":""},null,null,null,{"$f":"+AB$6","v":"2010"},"2011","2012","2013","2014","2015","2016","2017","2018",2019,2020,2021,2022]
[null,"Marijampolės apskritis","Veikiančių įmonių skaičius metų pradžioje | vnt.",2031,2071,1895,1901,1968,2099,2159,2299,2287,2356,2441,2444,2533,2750,{"$f":"ROWS($R$7:R459)","v":453},"",{"$f":"IF(ISERROR(SMALL($S$7:$S$1504,ROWS($S$7:S459))),\"\",SMALL($S$7:$S$1504,ROWS($S$7:S459)))","v":""},"",{"$f":"IF(ISERROR(SMALL($U$7:$U$1504,ROWS(U$7:$U459))),\"\",SMALL($U$7:$U$1504,ROWS(U$7:$U459)))","v":""},"",{"$f":"IF(ISERROR(SMALL($W$7:$W$1504,ROWS($W$7:W459))),\"\",SMALL($W$7:$W$1504,ROWS($W$7:W459)))","v":""},null,null,{"$f":"+INDEX($Z$7:$Z$28,MATCH($AA457,$AA$7:$AA$28,0))","v":"Vilniaus m. sav."},{"$f":"+INDEX(AB$7:AB$28,MATCH($AA457,$AA$7:$AA$28,0))","v":3425.9830000000002},4167.5600000000004,4676.3410000000003,4909.2430000000004,5761.8069999999998,6124.33,6787.6329999999998,7434.0259999999998,8459.8940000000002,{"$f":"+INDEX(AK$7:AK$28,MATCH($AA457,$AA$7:$AA$28,0))","v":9679.33},{"$f":"+INDEX(AL$7:AL$28,MATCH($AA457,$AA$7:$AA$28,0))","v":10142.776},{"$f":"+INDEX(AM$7:AM$28,MATCH($AA457,$AA$7:$AA$28,0))","v":12330.55},{"$f":"+INDEX(AN$7:AN$28,MATCH($AA457,$AA$7:$AA$28,0))","v":0}]
[null,"Kalvarijos sav.","Veikiančių įmonių skaičius metų pradžioje | vnt.",89,95,81,81,84,92,90,101,107,124,133,146,151,162,{"$f":"ROWS($R$7:R460)","v":454},"",{"$f":"IF(ISERROR(SMALL($S$7:$S$1504,ROWS($S$7:S460))),\"\",SMALL($S$7:$S$1504,ROWS($S$7:S460)))","v":""},"",{"$f":"IF(ISERROR(SMALL($U$7:$U$1504,ROWS(U$7:$U460))),\"\",SMALL($U$7:$U$1504,ROWS(U$7:$U460)))","v":""},"",{"$f":"IF(ISERROR(SMALL($W$7:$W$1504,ROWS($W$7:W460))),\"\",SMALL($W$7:$W$1504,ROWS($W$7:W460)))","v":""},null,null,{"$f":"IF(ISERROR(INDEX($Z$31:$Z$52,MATCH(AA457,$AA$31:$AA$52,0))),\"\",INDEX($Z$31:$Z$52,MATCH(AA457,$AA$31:$AA$52,0)))","v":"Vilniaus apskritis"},{"$f":"IF(ISERROR(INDEX(AB$31:AB$52,MATCH($AA457,$AA$31:$AA$52,0))),\"\",INDEX(AB$31:AB$52,MATCH($AA457,$AA$31:$AA$52,0)))","v":3894.922},4716.2820000000002,5323.299,5642.2420000000002,6568.759,6984.6729999999998,7743.9449999999997,8510.8629999999994,9634.8649999999998,{"$f":"IF(ISERROR(INDEX(AK$31:AK$52,MATCH($AA457,$AA$31:$AA$52,0))),\"\",INDEX(AK$31:AK$52,MATCH($AA457,$AA$31:$AA$52,0)))","v":11006.246999999999},{"$f":"IF(ISERROR(INDEX(AL$31:AL$52,MATCH($AA457,$AA$31:$AA$52,0))),\"\",INDEX(AL$31:AL$52,MATCH($AA457,$AA$31:$AA$52,0)))","v":11616.342000000001},{"$f":"IF(ISERROR(INDEX(AM$31:AM$52,MATCH($AA457,$AA$31:$AA$52,0))),\"\",INDEX(AM$31:AM$52,MATCH($AA457,$AA$31:$AA$52,0)))","v":13990.178},{"$f":"IF(ISERROR(INDEX(AN$31:AN$52,MATCH($AA457,$AA$31:$AA$52,0))),\"\",INDEX(AN$31:AN$52,MATCH($AA457,$AA$31:$AA$52,0)))","v":0}]
[null,"Kazlų Rūdos sav.","Veikiančių įmonių skaičius metų pradžioje | vnt.",169,168,148,149,152,167,171,179,178,184,192,180,196,209,{"$f":"ROWS($R$7:R461)","v":455},"",{"$f":"IF(ISERROR(SMALL($S$7:$S$1504,ROWS($S$7:S461))),\"\",SMALL($S$7:$S$1504,ROWS($S$7:S461)))","v":""},"",{"$f":"IF(ISERROR(SMALL($U$7:$U$1504,ROWS(U$7:$U461))),\"\",SMALL($U$7:$U$1504,ROWS(U$7:$U461)))","v":""},"",{"$f":"IF(ISERROR(SMALL($W$7:$W$1504,ROWS($W$7:W461))),\"\",SMALL($W$7:$W$1504,ROWS($W$7:W461)))","v":""},null,null,{"$f":"IF(ISERROR(INDEX($Z$55:$Z$76,MATCH(AA457,$AA$55:$AA$76,0))),\"\",INDEX($Z$55:$Z$76,MATCH(AA457,$AA$55:$AA$76,0)))","v":"Lietuvos Respublika"},{"$f":"IF(ISERROR(INDEX(AB$55:AB$76,MATCH($AA457,$AA$55:$AA$76,0))),\"\",INDEX(AB$55:AB$76,MATCH($AA457,$AA$55:$AA$76,0)))","v":9753.9529999999995},11878.057000000001,12560.322,13002.056,15133.377,16364.799000000001,17591.092000000001,19445.508000000002,21611.072,{"$f":"IF(ISERROR(INDEX(AK$55:AK$76,MATCH($AA457,$AA$55:$AA$76,0))),\"\",INDEX(AK$55:AK$76,MATCH($AA457,$AA$55:$AA$76,0)))","v":24007.458999999999},{"$f":"IF(ISERROR(INDEX(AL$55:AL$76,MATCH($AA457,$AA$55:$AA$76,0))),\"\",INDEX(AL$55:AL$76,MATCH($AA457,$AA$55:$AA$76,0)))","v":25481.777999999998},{"$f":"IF(ISERROR(INDEX(AM$55:AM$76,MATCH($AA457,$AA$55:$AA$76,0))),\"\",INDEX(AM$55:AM$76,MATCH($AA457,$AA$55:$AA$76,0)))","v":30476.312999999998},{"$f":"IF(ISERROR(INDEX(AN$55:AN$76,MATCH($AA457,$AA$55:$AA$76,0))),\"\",INDEX(AN$55:AN$76,MATCH($AA457,$AA$55:$AA$76,0)))","v":0}]
[null,"Marijampolės sav.","Veikiančių įmonių skaičius metų pradžioje | vnt.",1091,1120,1033,1037,1062,1136,1162,1240,1222,1249,1298,1294,1327,1432,{"$f":"ROWS($R$7:R462)","v":456},"",{"$f":"IF(ISERROR(SMALL($S$7:$S$1504,ROWS($S$7:S462))),\"\",SMALL($S$7:$S$1504,ROWS($S$7:S462)))","v":""},"",{"$f":"IF(ISERROR(SMALL($U$7:$U$1504,ROWS(U$7:$U462))),\"\",SMALL($U$7:$U$1504,ROWS(U$7:$U462)))","v":""},"",{"$f":"IF(ISERROR(SMALL($W$7:$W$1504,ROWS($W$7:W462))),\"\",SMALL($W$7:$W$1504,ROWS($W$7:W462)))","v":""}]
[null,"Marijampolės r. sav.","Veikiančių įmonių skaičius metų pradžioje | vnt.",0,0,0,0,0,0,0,0,0,0,0,0,0,0,{"$f":"ROWS($R$7:R463)","v":457},"",{"$f":"IF(ISERROR(SMALL($S$7:$S$1504,ROWS($S$7:S463))),\"\",SMALL($S$7:$S$1504,ROWS($S$7:S463)))","v":""},"",{"$f":"IF(ISERROR(SMALL($U$7:$U$1504,ROWS(U$7:$U463))),\"\",SMALL($U$7:$U$1504,ROWS(U$7:$U463)))","v":""},"",{"$f":"IF(ISERROR(SMALL($W$7:$W$1504,ROWS($W$7:W463))),\"\",SMALL($W$7:$W$1504,ROWS($W$7:W463)))","v":""}]
[null,"Šakių r. sav.","Veikiančių įmonių skaičius metų pradžioje | vnt.",285,301,278,282,298,322,341,357,361,372,384,377,407,451,{"$f":"ROWS($R$7:R464)","v":458},"",{"$f":"IF(ISERROR(SMALL($S$7:$S$1504,ROWS($S$7:S464))),\"\",SMALL($S$7:$S$1504,ROWS($S$7:S464)))","v":""},"",{"$f":"IF(ISERROR(SMALL($U$7:$U$1504,ROWS(U$7:$U464))),\"\",SMALL($U$7:$U$1504,ROWS(U$7:$U464)))","v":""},"",{"$f":"IF(ISERROR(SMALL($W$7:$W$1504,ROWS($W$7:W464))),\"\",SMALL($W$7:$W$1504,ROWS($W$7:W464)))","v":""}]
[null,"Vilkaviškio r. sav.","Veikiančių įmonių skaičius metų pradžioje | vnt.",397,387,355,352,372,382,395,422,419,427,434,447,452,496,{"$f":"ROWS($R$7:R465)","v":459},"",{"$f":"IF(ISERROR(SMALL($S$7:$S$1504,ROWS($S$7:S465))),\"\",SMALL($S$7:$S$1504,ROWS($S$7:S465)))","v":""},"",{"$f":"IF(ISERROR(SMALL($U$7:$U$1504,ROWS(U$7:$U465))),\"\",SMALL($U$7:$U$1504,ROWS(U$7:$U465)))","v":""},"",{"$f":"IF(ISERROR(SMALL($W$7:$W$1504,ROWS($W$7:W465))),\"\",SMALL($W$7:$W$1504,ROWS($W$7:W465)))","v":""}]
[null,"Panevėžio apskritis","Veikiančių įmonių skaičius metų pradžioje | vnt.",4106,4247,3805,3931,4005,4312,4444,4713,4696,4725,4804,4784,4945,5195,{"$f":"ROWS($R$7:R466)","v":460},"",{"$f":"IF(ISERROR(SMALL($S$7:$S$1504,ROWS($S$7:S466))),\"\",SMALL($S$7:$S$1504,ROWS($S$7:S466)))","v":""},"",{"$f":"IF(ISERROR(SMALL($U$7:$U$1504,ROWS(U$7:$U466))),\"\",SMALL($U$7:$U$1504,ROWS(U$7:$U466)))","v":""},"",{"$f":"IF(ISERROR(SMALL($W$7:$W$1504,ROWS($W$7:W466))),\"\",SMALL($W$7:$W$1504,ROWS($W$7:W466)))","v":""}]
[null,"Biržų r. sav.","Veikiančių įmonių skaičius metų pradžioje | vnt.",329,319,278,285,291,294,314,351,355,345,352,351,355,374,{"$f":"ROWS($R$7:R467)","v":461},"",{"$f":"IF(ISERROR(SMALL($S$7:$S$1504,ROWS($S$7:S467))),\"\",SMALL($S$7:$S$1504,ROWS($S$7:S467)))","v":""},"",{"$f":"IF(ISERROR(SMALL($U$7:$U$1504,ROWS(U$7:$U467))),\"\",SMALL($U$7:$U$1504,ROWS(U$7:$U467)))","v":""},"",{"$f":"IF(ISERROR(SMALL($W$7:$W$1504,ROWS($W$7:W467))),\"\",SMALL($W$7:$W$1504,ROWS($W$7:W467)))","v":""}]
[null,"Kupiškio r. sav.","Veikiančių įmonių skaičius metų pradžioje | vnt.",230,219,199,201,198,209,213,240,235,233,250,252,260,274,{"$f":"ROWS($R$7:R468)","v":462},"",{"$f":"IF(ISERROR(SMALL($S$7:$S$1504,ROWS($S$7:S468))),\"\",SMALL($S$7:$S$1504,ROWS($S$7:S468)))","v":""},"",{"$f":"IF(ISERROR(SMALL($U$7:$U$1504,ROWS(U$7:$U468))),\"\",SMALL($U$7:$U$1504,ROWS(U$7:$U468)))","v":""},"",{"$f":"IF(ISERROR(SMALL($W$7:$W$1504,ROWS($W$7:W468))),\"\",SMALL($W$7:$W$1504,ROWS($W$7:W468)))","v":""}]
[null,"Panevėžio m. sav.","Veikiančių įmonių skaičius metų pradžioje | vnt.",2363,2443,2172,2224,2265,2460,2522,2648,2596,2567,2564,2516,2552,2612,{"$f":"ROWS($R$7:R469)","v":463},"",{"$f":"IF(ISERROR(SMALL($S$7:$S$1504,ROWS($S$7:S469))),\"\",SMALL($S$7:$S$1504,ROWS($S$7:S469)))","v":""},"",{"$f":"IF(ISERROR(SMALL($U$7:$U$1504,ROWS(U$7:$U469))),\"\",SMALL($U$7:$U$1504,ROWS(U$7:$U469)))","v":""},"",{"$f":"IF(ISERROR(SMALL($W$7:$W$1504,ROWS($W$7:W469))),\"\",SMALL($W$7:$W$1504,ROWS($W$7:W469)))","v":""}]
[null,"Panevėžio r. sav.","Veikiančių įmonių skaičius metų pradžioje | vnt.",548,590,535,578,590,657,685,710,739,782,812,805,864,949,{"$f":"ROWS($R$7:R470)","v":464},"",{"$f":"IF(ISERROR(SMALL($S$7:$S$1504,ROWS($S$7:S470))),\"\",SMALL($S$7:$S$1504,ROWS($S$7:S470)))","v":""},"",{"$f":"IF(ISERROR(SMALL($U$7:$U$1504,ROWS(U$7:$U470))),\"\",SMALL($U$7:$U$1504,ROWS(U$7:$U470)))","v":""},"",{"$f":"IF(ISERROR(SMALL($W$7:$W$1504,ROWS($W$7:W470))),\"\",SMALL($W$7:$W$1504,ROWS($W$7:W470)))","v":""}]
[null,"Pasvalio r. sav.","Veikiančių įmonių skaičius metų pradžioje | vnt.",277,281,267,268,278,286,294,321,323,326,340,353,372,410,{"$f":"ROWS($R$7:R471)","v":465},"",{"$f":"IF(ISERROR(SMALL($S$7:$S$1504,ROWS($S$7:S471))),\"\",SMALL($S$7:$S$1504,ROWS($S$7:S471)))","v":""},"",{"$f":"IF(ISERROR(SMALL($U$7:$U$1504,ROWS(U$7:$U471))),\"\",SMALL($U$7:$U$1504,ROWS(U$7:$U471)))","v":""},"",{"$f":"IF(ISERROR(SMALL($W$7:$W$1504,ROWS($W$7:W471))),\"\",SMALL($W$7:$W$1504,ROWS($W$7:W471)))","v":""}]
[null,"Rokiškio r. sav.","Veikiančių įmonių skaičius metų pradžioje | vnt.",359,395,354,375,383,406,416,443,448,472,486,507,542,576,{"$f":"ROWS($R$7:R472)","v":466},"",{"$f":"IF(ISERROR(SMALL($S$7:$S$1504,ROWS($S$7:S472))),\"\",SMALL($S$7:$S$1504,ROWS($S$7:S472)))","v":""},"",{"$f":"IF(ISERROR(SMALL($U$7:$U$1504,ROWS(U$7:$U472))),\"\",SMALL($U$7:$U$1504,ROWS(U$7:$U472)))","v":""},"",{"$f":"IF(ISERROR(SMALL($W$7:$W$1504,ROWS($W$7:W472))),\"\",SMALL($W$7:$W$1504,ROWS($W$7:W472)))","v":""}]
[null,"Šiaulių apskritis","Veikiančių įmonių skaičius metų pradžioje | vnt.",4622,4910,4586,4615,4695,5100,5227,5535,5518,5631,5677,5612,5917,6295,{"$f":"ROWS($R$7:R473)","v":467},"",{"$f":"IF(ISERROR(SMALL($S$7:$S$1504,ROWS($S$7:S473))),\"\",SMALL($S$7:$S$1504,ROWS($S$7:S473)))","v":""},"",{"$f":"IF(ISERROR(SMALL($U$7:$U$1504,ROWS(U$7:$U473))),\"\",SMALL($U$7:$U$1504,ROWS(U$7:$U473)))","v":""},"",{"$f":"IF(ISERROR(SMALL($W$7:$W$1504,ROWS($W$7:W473))),\"\",SMALL($W$7:$W$1504,ROWS($W$7:W473)))","v":""}]
[null,"Akmenės r. sav.","Veikiančių įmonių skaičius metų pradžioje | vnt.",202,201,193,192,192,219,221,259,254,252,258,254,287,312,{"$f":"ROWS($R$7:R474)","v":468},"",{"$f":"IF(ISERROR(SMALL($S$7:$S$1504,ROWS($S$7:S474))),\"\",SMALL($S$7:$S$1504,ROWS($S$7:S474)))","v":""},"",{"$f":"IF(ISERROR(SMALL($U$7:$U$1504,ROWS(U$7:$U474))),\"\",SMALL($U$7:$U$1504,ROWS(U$7:$U474)))","v":""},"",{"$f":"IF(ISERROR(SMALL($W$7:$W$1504,ROWS($W$7:W474))),\"\",SMALL($W$7:$W$1504,ROWS($W$7:W474)))","v":""},null,20,{"$f":"+INDEX($AA$7:$AA$28,Z474)","v":"Tarptautinės emigracijos lygis | %"}]
[null,"Joniškio r. sav.","Veikiančių įmonių skaičius metų pradžioje | vnt.",284,283,265,264,275,288,299,309,314,314,321,313,339,358,{"$f":"ROWS($R$7:R475)","v":469},"",{"$f":"IF(ISERROR(SMALL($S$7:$S$1504,ROWS($S$7:S475))),\"\",SMALL($S$7:$S$1504,ROWS($S$7:S475)))","v":""},"",{"$f":"IF(ISERROR(SMALL($U$7:$U$1504,ROWS(U$7:$U475))),\"\",SMALL($U$7:$U$1504,ROWS(U$7:$U475)))","v":""},"",{"$f":"IF(ISERROR(SMALL($W$7:$W$1504,ROWS($W$7:W475))),\"\",SMALL($W$7:$W$1504,ROWS($W$7:W475)))","v":""},null,null,null,{"$f":"+AB$6","v":"2010"},"2011","2012","2013","2014","2015","2016","2017","2018",2019,2020,2021,2022,2023]
[null,"Kelmės r. sav.","Veikiančių įmonių skaičius metų pradžioje | vnt.",336,370,323,319,323,333,348,385,388,419,439,427,449,467,{"$f":"ROWS($R$7:R476)","v":470},"",{"$f":"IF(ISERROR(SMALL($S$7:$S$1504,ROWS($S$7:S476))),\"\",SMALL($S$7:$S$1504,ROWS($S$7:S476)))","v":""},"",{"$f":"IF(ISERROR(SMALL($U$7:$U$1504,ROWS(U$7:$U476))),\"\",SMALL($U$7:$U$1504,ROWS(U$7:$U476)))","v":""},"",{"$f":"IF(ISERROR(SMALL($W$7:$W$1504,ROWS($W$7:W476))),\"\",SMALL($W$7:$W$1504,ROWS($W$7:W476)))","v":""},null,null,{"$f":"+INDEX($Z$7:$Z$28,MATCH($AA474,$AA$7:$AA$28,0))","v":"Vilniaus m. sav."},{"$f":"+INDEX(AB$7:AB$28,MATCH($AA474,$AA$7:$AA$28,0))","v":2.1102214546593312},1.6560595321140896,1.2615467400077727,1.2415727206879259,1.1979666165897034,1.7169373549883991,1.6262357959242155,1.4354426024283378,1.0849241917178361,{"$f":"+INDEX(AK$7:AK$28,MATCH($AA474,$AA$7:$AA$28,0))","v":1.0100883176563511},{"$f":"+INDEX(AL$7:AL$28,MATCH($AA474,$AA$7:$AA$28,0))","v":0.9024677349226381},{"$f":"+INDEX(AM$7:AM$28,MATCH($AA474,$AA$7:$AA$28,0))","v":0.9389889432980022},{"$f":"+INDEX(AN$7:AN$28,MATCH($AA474,$AA$7:$AA$28,0))","v":0.97294057735544459},{"$f":"+INDEX(AO$7:AO$28,MATCH($AA474,$AA$7:$AA$28,0))","v":0}]
[null,"Pakruojo r. sav.","Veikiančių įmonių skaičius metų pradžioje | vnt.",229,256,233,228,233,245,250,279,272,277,272,276,283,298,{"$f":"ROWS($R$7:R477)","v":471},"",{"$f":"IF(ISERROR(SMALL($S$7:$S$1504,ROWS($S$7:S477))),\"\",SMALL($S$7:$S$1504,ROWS($S$7:S477)))","v":""},"",{"$f":"IF(ISERROR(SMALL($U$7:$U$1504,ROWS(U$7:$U477))),\"\",SMALL($U$7:$U$1504,ROWS(U$7:$U477)))","v":""},"",{"$f":"IF(ISERROR(SMALL($W$7:$W$1504,ROWS($W$7:W477))),\"\",SMALL($W$7:$W$1504,ROWS($W$7:W477)))","v":""},null,null,{"$f":"IF(ISERROR(INDEX($Z$31:$Z$52,MATCH(AA474,$AA$31:$AA$52,0))),\"\",INDEX($Z$31:$Z$52,MATCH(AA474,$AA$31:$AA$52,0)))","v":"Vilniaus apskritis"},{"$f":"IF(ISERROR(INDEX(AB$31:AB$52,MATCH($AA474,$AA$31:$AA$52,0))),\"\",INDEX(AB$31:AB$52,MATCH($AA474,$AA$31:$AA$52,0)))","v":1.9805490955598433},1.5110391176125089,1.1699381350707285,1.1513172175384236,1.1166142382259108,1.549629177718175,1.5089236485378925,1.3792889341463113,1.0269161696286788,{"$f":"IF(ISERROR(INDEX(AK$31:AK$52,MATCH($AA474,$AA$31:$AA$52,0))),\"\",INDEX(AK$31:AK$52,MATCH($AA474,$AA$31:$AA$52,0)))","v":0.96661239382466602},{"$f":"IF(ISERROR(INDEX(AL$31:AL$52,MATCH($AA474,$AA$31:$AA$52,0))),\"\",INDEX(AL$31:AL$52,MATCH($AA474,$AA$31:$AA$52,0)))","v":0.85270895065655927},{"$f":"IF(ISERROR(INDEX(AM$31:AM$52,MATCH($AA474,$AA$31:$AA$52,0))),\"\",INDEX(AM$31:AM$52,MATCH($AA474,$AA$31:$AA$52,0)))","v":0.89676242119714045},{"$f":"IF(ISERROR(INDEX(AN$31:AN$52,MATCH($AA474,$AA$31:$AA$52,0))),\"\",INDEX(AN$31:AN$52,MATCH($AA474,$AA$31:$AA$52,0)))","v":0.9013380490937497},{"$f":"IF(ISERROR(INDEX(AO$31:AO$52,MATCH($AA474,$AA$31:$AA$52,0))),\"\",INDEX(AO$31:AO$52,MATCH($AA474,$AA$31:$AA$52,0)))","v":0}]
[null,"Radviliškio r. sav.","Veikiančių įmonių skaičius metų pradžioje | vnt.",398,409,381,390,407,448,469,503,501,513,515,518,533,582,{"$f":"ROWS($R$7:R478)","v":472},"",{"$f":"IF(ISERROR(SMALL($S$7:$S$1504,ROWS($S$7:S478))),\"\",SMALL($S$7:$S$1504,ROWS($S$7:S478)))","v":""},"",{"$f":"IF(ISERROR(SMALL($U$7:$U$1504,ROWS(U$7:$U478))),\"\",SMALL($U$7:$U$1504,ROWS(U$7:$U478)))","v":""},"",{"$f":"IF(ISERROR(SMALL($W$7:$W$1504,ROWS($W$7:W478))),\"\",SMALL($W$7:$W$1504,ROWS($W$7:W478)))","v":""},null,null,{"$f":"IF(ISERROR(INDEX($Z$55:$Z$76,MATCH(AA474,$AA$55:$AA$76,0))),\"\",INDEX($Z$55:$Z$76,MATCH(AA474,$AA$55:$AA$76,0)))","v":"Lietuvos Respublika"},{"$f":"IF(ISERROR(INDEX(AB$55:AB$76,MATCH($AA474,$AA$55:$AA$76,0))),\"\",INDEX(AB$55:AB$76,MATCH($AA474,$AA$55:$AA$76,0)))","v":2.6848378675238482},1.7787633560812584,1.3756065136139861,1.312443600392063,1.2488545942578129,1.5330251195389875,1.7548447109036895,1.6944190767722986,1.149580784589064,{"$f":"IF(ISERROR(INDEX(AK$55:AK$76,MATCH($AA474,$AA$55:$AA$76,0))),\"\",INDEX(AK$55:AK$76,MATCH($AA474,$AA$55:$AA$76,0)))","v":1.047613014837218},{"$f":"IF(ISERROR(INDEX(AL$55:AL$76,MATCH($AA474,$AA$55:$AA$76,0))),\"\",INDEX(AL$55:AL$76,MATCH($AA474,$AA$55:$AA$76,0)))","v":0.82669173376253691},{"$f":"IF(ISERROR(INDEX(AM$55:AM$76,MATCH($AA474,$AA$55:$AA$76,0))),\"\",INDEX(AM$55:AM$76,MATCH($AA474,$AA$55:$AA$76,0)))","v":0.8974925045755916},{"$f":"IF(ISERROR(INDEX(AN$55:AN$76,MATCH($AA474,$AA$55:$AA$76,0))),\"\",INDEX(AN$55:AN$76,MATCH($AA474,$AA$55:$AA$76,0)))","v":0.8126014825273562},{"$f":"IF(ISERROR(INDEX(AO$55:AO$76,MATCH($AA474,$AA$55:$AA$76,0))),\"\",INDEX(AO$55:AO$76,MATCH($AA474,$AA$55:$AA$76,0)))","v":0}]
[null,"Šiaulių m. sav.","Veikiančių įmonių skaičius metų pradžioje | vnt.",2615,2768,2610,2622,2634,2879,2936,3036,2991,3009,2998,2955,3077,3255,{"$f":"ROWS($R$7:R479)","v":473},"",{"$f":"IF(ISERROR(SMALL($S$7:$S$1504,ROWS($S$7:S479))),\"\",SMALL($S$7:$S$1504,ROWS($S$7:S479)))","v":""},"",{"$f":"IF(ISERROR(SMALL($U$7:$U$1504,ROWS(U$7:$U479))),\"\",SMALL($U$7:$U$1504,ROWS(U$7:$U479)))","v":""},"",{"$f":"IF(ISERROR(SMALL($W$7:$W$1504,ROWS($W$7:W479))),\"\",SMALL($W$7:$W$1504,ROWS($W$7:W479)))","v":""}]
[null,"Šiaulių r. sav.","Veikiančių įmonių skaičius metų pradžioje | vnt.",558,623,581,600,631,688,704,764,798,847,874,869,949,1023,{"$f":"ROWS($R$7:R480)","v":474},"",{"$f":"IF(ISERROR(SMALL($S$7:$S$1504,ROWS($S$7:S480))),\"\",SMALL($S$7:$S$1504,ROWS($S$7:S480)))","v":""},"",{"$f":"IF(ISERROR(SMALL($U$7:$U$1504,ROWS(U$7:$U480))),\"\",SMALL($U$7:$U$1504,ROWS(U$7:$U480)))","v":""},"",{"$f":"IF(ISERROR(SMALL($W$7:$W$1504,ROWS($W$7:W480))),\"\",SMALL($W$7:$W$1504,ROWS($W$7:W480)))","v":""}]
[null,"Tauragės apskritis","Veikiančių įmonių skaičius metų pradžioje | vnt.",1429,1511,1361,1450,1481,1617,1698,1750,1792,1805,1830,1815,1895,2027,{"$f":"ROWS($R$7:R481)","v":475},"",{"$f":"IF(ISERROR(SMALL($S$7:$S$1504,ROWS($S$7:S481))),\"\",SMALL($S$7:$S$1504,ROWS($S$7:S481)))","v":""},"",{"$f":"IF(ISERROR(SMALL($U$7:$U$1504,ROWS(U$7:$U481))),\"\",SMALL($U$7:$U$1504,ROWS(U$7:$U481)))","v":""},"",{"$f":"IF(ISERROR(SMALL($W$7:$W$1504,ROWS($W$7:W481))),\"\",SMALL($W$7:$W$1504,ROWS($W$7:W481)))","v":""}]
[null,"Jurbarko r. sav.","Veikiančių įmonių skaičius metų pradžioje | vnt.",330,359,302,308,307,329,345,378,390,392,401,397,427,460,{"$f":"ROWS($R$7:R482)","v":476},"",{"$f":"IF(ISERROR(SMALL($S$7:$S$1504,ROWS($S$7:S482))),\"\",SMALL($S$7:$S$1504,ROWS($S$7:S482)))","v":""},"",{"$f":"IF(ISERROR(SMALL($U$7:$U$1504,ROWS(U$7:$U482))),\"\",SMALL($U$7:$U$1504,ROWS(U$7:$U482)))","v":""},"",{"$f":"IF(ISERROR(SMALL($W$7:$W$1504,ROWS($W$7:W482))),\"\",SMALL($W$7:$W$1504,ROWS($W$7:W482)))","v":""}]
[null,"Pagėgių sav.","Veikiančių įmonių skaičius metų pradžioje | vnt.",54,64,65,85,90,103,112,108,112,111,108,107,110,122,{"$f":"ROWS($R$7:R483)","v":477},"",{"$f":"IF(ISERROR(SMALL($S$7:$S$1504,ROWS($S$7:S483))),\"\",SMALL($S$7:$S$1504,ROWS($S$7:S483)))","v":""},"",{"$f":"IF(ISERROR(SMALL($U$7:$U$1504,ROWS(U$7:$U483))),\"\",SMALL($U$7:$U$1504,ROWS(U$7:$U483)))","v":""},"",{"$f":"IF(ISERROR(SMALL($W$7:$W$1504,ROWS($W$7:W483))),\"\",SMALL($W$7:$W$1504,ROWS($W$7:W483)))","v":""}]
[null,"Šilalės r. sav.","Veikiančių įmonių skaičius metų pradžioje | vnt.",288,293,293,315,313,333,345,356,366,378,388,386,407,452,{"$f":"ROWS($R$7:R484)","v":478},"",{"$f":"IF(ISERROR(SMALL($S$7:$S$1504,ROWS($S$7:S484))),\"\",SMALL($S$7:$S$1504,ROWS($S$7:S484)))","v":""},"",{"$f":"IF(ISERROR(SMALL($U$7:$U$1504,ROWS(U$7:$U484))),\"\",SMALL($U$7:$U$1504,ROWS(U$7:$U484)))","v":""},"",{"$f":"IF(ISERROR(SMALL($W$7:$W$1504,ROWS($W$7:W484))),\"\",SMALL($W$7:$W$1504,ROWS($W$7:W484)))","v":""}]
[null,"Tauragės r. sav.","Veikiančių įmonių skaičius metų pradžioje | vnt.",757,795,701,742,771,852,896,908,924,924,933,925,951,993,{"$f":"ROWS($R$7:R485)","v":479},"",{"$f":"IF(ISERROR(SMALL($S$7:$S$1504,ROWS($S$7:S485))),\"\",SMALL($S$7:$S$1504,ROWS($S$7:S485)))","v":""},"",{"$f":"IF(ISERROR(SMALL($U$7:$U$1504,ROWS(U$7:$U485))),\"\",SMALL($U$7:$U$1504,ROWS(U$7:$U485)))","v":""},"",{"$f":"IF(ISERROR(SMALL($W$7:$W$1504,ROWS($W$7:W485))),\"\",SMALL($W$7:$W$1504,ROWS($W$7:W485)))","v":""}]
[null,"Telšių apskritis","Veikiančių įmonių skaičius metų pradžioje | vnt.",2458,2511,2362,2405,2439,2626,2678,2889,2886,2939,2995,2966,3094,3254,{"$f":"ROWS($R$7:R486)","v":480},"",{"$f":"IF(ISERROR(SMALL($S$7:$S$1504,ROWS($S$7:S486))),\"\",SMALL($S$7:$S$1504,ROWS($S$7:S486)))","v":""},"",{"$f":"IF(ISERROR(SMALL($U$7:$U$1504,ROWS(U$7:$U486))),\"\",SMALL($U$7:$U$1504,ROWS(U$7:$U486)))","v":""},"",{"$f":"IF(ISERROR(SMALL($W$7:$W$1504,ROWS($W$7:W486))),\"\",SMALL($W$7:$W$1504,ROWS($W$7:W486)))","v":""}]
[null,"Mažeikių r. sav.","Veikiančių įmonių skaičius metų pradžioje | vnt.",1087,1070,1037,1054,1087,1172,1193,1260,1276,1290,1294,1282,1321,1392,{"$f":"ROWS($R$7:R487)","v":481},"",{"$f":"IF(ISERROR(SMALL($S$7:$S$1504,ROWS($S$7:S487))),\"\",SMALL($S$7:$S$1504,ROWS($S$7:S487)))","v":""},"",{"$f":"IF(ISERROR(SMALL($U$7:$U$1504,ROWS(U$7:$U487))),\"\",SMALL($U$7:$U$1504,ROWS(U$7:$U487)))","v":""},"",{"$f":"IF(ISERROR(SMALL($W$7:$W$1504,ROWS($W$7:W487))),\"\",SMALL($W$7:$W$1504,ROWS($W$7:W487)))","v":""}]
[null,"Plungės r. sav.","Veikiančių įmonių skaičius metų pradžioje | vnt.",585,624,586,590,578,621,638,680,669,681,715,710,745,767,{"$f":"ROWS($R$7:R488)","v":482},"",{"$f":"IF(ISERROR(SMALL($S$7:$S$1504,ROWS($S$7:S488))),\"\",SMALL($S$7:$S$1504,ROWS($S$7:S488)))","v":""},"",{"$f":"IF(ISERROR(SMALL($U$7:$U$1504,ROWS(U$7:$U488))),\"\",SMALL($U$7:$U$1504,ROWS(U$7:$U488)))","v":""},"",{"$f":"IF(ISERROR(SMALL($W$7:$W$1504,ROWS($W$7:W488))),\"\",SMALL($W$7:$W$1504,ROWS($W$7:W488)))","v":""}]
[null,"Rietavo sav.","Veikiančių įmonių skaičius metų pradžioje | vnt.",127,138,126,129,129,141,136,151,142,140,145,146,155,169,{"$f":"ROWS($R$7:R489)","v":483},"",{"$f":"IF(ISERROR(SMALL($S$7:$S$1504,ROWS($S$7:S489))),\"\",SMALL($S$7:$S$1504,ROWS($S$7:S489)))","v":""},"",{"$f":"IF(ISERROR(SMALL($U$7:$U$1504,ROWS(U$7:$U489))),\"\",SMALL($U$7:$U$1504,ROWS(U$7:$U489)))","v":""},"",{"$f":"IF(ISERROR(SMALL($W$7:$W$1504,ROWS($W$7:W489))),\"\",SMALL($W$7:$W$1504,ROWS($W$7:W489)))","v":""}]
[null,"Telšių r. sav.","Veikiančių įmonių skaičius metų pradžioje | vnt.",659,679,613,632,645,692,711,798,799,828,841,828,873,926,{"$f":"ROWS($R$7:R490)","v":484},"",{"$f":"IF(ISERROR(SMALL($S$7:$S$1504,ROWS($S$7:S490))),\"\",SMALL($S$7:$S$1504,ROWS($S$7:S490)))","v":""},"",{"$f":"IF(ISERROR(SMALL($U$7:$U$1504,ROWS(U$7:$U490))),\"\",SMALL($U$7:$U$1504,ROWS(U$7:$U490)))","v":""},"",{"$f":"IF(ISERROR(SMALL($W$7:$W$1504,ROWS($W$7:W490))),\"\",SMALL($W$7:$W$1504,ROWS($W$7:W490)))","v":""}]
[null,"Utenos apskritis","Veikiančių įmonių skaičius metų pradžioje | vnt.",1848,1944,1693,1773,1798,1908,1978,2083,2083,2104,2135,2166,2291,2505,{"$f":"ROWS($R$7:R491)","v":485},"",{"$f":"IF(ISERROR(SMALL($S$7:$S$1504,ROWS($S$7:S491))),\"\",SMALL($S$7:$S$1504,ROWS($S$7:S491)))","v":""},"",{"$f":"IF(ISERROR(SMALL($U$7:$U$1504,ROWS(U$7:$U491))),\"\",SMALL($U$7:$U$1504,ROWS(U$7:$U491)))","v":""},"",{"$f":"IF(ISERROR(SMALL($W$7:$W$1504,ROWS($W$7:W491))),\"\",SMALL($W$7:$W$1504,ROWS($W$7:W491)))","v":""},null,21,{"$f":"+INDEX($AA$7:$AA$28,Z491)","v":"Tarptautinės imigracijos lygis | %"}]
[null,"Anykščių r. sav.","Veikiančių įmonių skaičius metų pradžioje | vnt.",316,333,300,327,336,354,355,394,396,407,404,416,454,495,{"$f":"ROWS($R$7:R492)","v":486},"",{"$f":"IF(ISERROR(SMALL($S$7:$S$1504,ROWS($S$7:S492))),\"\",SMALL($S$7:$S$1504,ROWS($S$7:S492)))","v":""},"",{"$f":"IF(ISERROR(SMALL($U$7:$U$1504,ROWS(U$7:$U492))),\"\",SMALL($U$7:$U$1504,ROWS(U$7:$U492)))","v":""},"",{"$f":"IF(ISERROR(SMALL($W$7:$W$1504,ROWS($W$7:W492))),\"\",SMALL($W$7:$W$1504,ROWS($W$7:W492)))","v":""},null,null,null,{"$f":"+AB$6","v":"2010"},"2011","2012","2013","2014","2015","2016","2017","2018",2019,2020,2021,2022,2023]
[null,"Ignalinos r. sav.","Veikiančių įmonių skaičius metų pradžioje | vnt.",153,157,133,136,134,150,163,174,184,194,204,213,226,259,{"$f":"ROWS($R$7:R493)","v":487},"",{"$f":"IF(ISERROR(SMALL($S$7:$S$1504,ROWS($S$7:S493))),\"\",SMALL($S$7:$S$1504,ROWS($S$7:S493)))","v":""},"",{"$f":"IF(ISERROR(SMALL($U$7:$U$1504,ROWS(U$7:$U493))),\"\",SMALL($U$7:$U$1504,ROWS(U$7:$U493)))","v":""},"",{"$f":"IF(ISERROR(SMALL($W$7:$W$1504,ROWS($W$7:W493))),\"\",SMALL($W$7:$W$1504,ROWS($W$7:W493)))","v":""},null,null,{"$f":"+INDEX($Z$7:$Z$28,MATCH($AA491,$AA$7:$AA$28,0))","v":"Vilniaus m. sav."},{"$f":"+INDEX(AB$7:AB$28,MATCH($AA491,$AA$7:$AA$28,0))","v":0.21254162350669592},0.55133410510133662,0.74287764192400829,0.86696506509667004,1.071573100355343,0.85957352778698493,0.97651298894534388,0.92133342606454827,1.1833221779239298,{"$f":"+INDEX(AK$7:AK$28,MATCH($AA491,$AA$7:$AA$28,0))","v":1.7029870036619514},{"$f":"+INDEX(AL$7:AL$28,MATCH($AA491,$AA$7:$AA$28,0))","v":1.8339218992474131},{"$f":"+INDEX(AM$7:AM$28,MATCH($AA491,$AA$7:$AA$28,0))","v":1.9687325257123256},{"$f":"+INDEX(AN$7:AN$28,MATCH($AA491,$AA$7:$AA$28,0))","v":5.5509750191400986},{"$f":"+INDEX(AO$7:AO$28,MATCH($AA491,$AA$7:$AA$28,0))","v":0}]
[null,"Molėtų r. sav.","Veikiančių įmonių skaičius metų pradžioje | vnt.",258,275,252,256,266,283,310,314,326,330,341,335,370,413,{"$f":"ROWS($R$7:R494)","v":488},"",{"$f":"IF(ISERROR(SMALL($S$7:$S$1504,ROWS($S$7:S494))),\"\",SMALL($S$7:$S$1504,ROWS($S$7:S494)))","v":""},"",{"$f":"IF(ISERROR(SMALL($U$7:$U$1504,ROWS(U$7:$U494))),\"\",SMALL($U$7:$U$1504,ROWS(U$7:$U494)))","v":""},"",{"$f":"IF(ISERROR(SMALL($W$7:$W$1504,ROWS($W$7:W494))),\"\",SMALL($W$7:$W$1504,ROWS($W$7:W494)))","v":""},null,null,{"$f":"IF(ISERROR(INDEX($Z$31:$Z$52,MATCH(AA491,$AA$31:$AA$52,0))),\"\",INDEX($Z$31:$Z$52,MATCH(AA491,$AA$31:$AA$52,0)))","v":"Vilniaus apskritis"},{"$f":"IF(ISERROR(INDEX(AB$31:AB$52,MATCH($AA491,$AA$31:$AA$52,0))),\"\",INDEX(AB$31:AB$52,MATCH($AA491,$AA$31:$AA$52,0)))","v":0.17448101983972689},0.48941839832326595,0.63862172827315344,0.75762180184493555,0.92921044999219149,0.76669258268636287,0.84343752949299378,0.84667254461236596,1.1394227139449942,{"$f":"IF(ISERROR(INDEX(AK$31:AK$52,MATCH($AA491,$AA$31:$AA$52,0))),\"\",INDEX(AK$31:AK$52,MATCH($AA491,$AA$31:$AA$52,0)))","v":1.6082007572042294},{"$f":"IF(ISERROR(INDEX(AL$31:AL$52,MATCH($AA491,$AA$31:$AA$52,0))),\"\",INDEX(AL$31:AL$52,MATCH($AA491,$AA$31:$AA$52,0)))","v":1.7322013973471009},{"$f":"IF(ISERROR(INDEX(AM$31:AM$52,MATCH($AA491,$AA$31:$AA$52,0))),\"\",INDEX(AM$31:AM$52,MATCH($AA491,$AA$31:$AA$52,0)))","v":1.8388357192150044},{"$f":"IF(ISERROR(INDEX(AN$31:AN$52,MATCH($AA491,$AA$31:$AA$52,0))),\"\",INDEX(AN$31:AN$52,MATCH($AA491,$AA$31:$AA$52,0)))","v":4.4252187748607801},{"$f":"IF(ISERROR(INDEX(AO$31:AO$52,MATCH($AA491,$AA$31:$AA$52,0))),\"\",INDEX(AO$31:AO$52,MATCH($AA491,$AA$31:$AA$52,0)))","v":0}]
[null,"Utenos r. sav.","Veikiančių įmonių skaičius metų pradžioje | vnt.",646,655,570,594,605,647,678,708,700,709,706,717,732,797,{"$f":"ROWS($R$7:R495)","v":489},"",{"$f":"IF(ISERROR(SMALL($S$7:$S$1504,ROWS($S$7:S495))),\"\",SMALL($S$7:$S$1504,ROWS($S$7:S495)))","v":""},"",{"$f":"IF(ISERROR(SMALL($U$7:$U$1504,ROWS(U$7:$U495))),\"\",SMALL($U$7:$U$1504,ROWS(U$7:$U495)))","v":""},"",{"$f":"IF(ISERROR(SMALL($W$7:$W$1504,ROWS($W$7:W495))),\"\",SMALL($W$7:$W$1504,ROWS($W$7:W495)))","v":""},null,null,{"$f":"IF(ISERROR(INDEX($Z$55:$Z$76,MATCH(AA491,$AA$55:$AA$76,0))),\"\",INDEX($Z$55:$Z$76,MATCH(AA491,$AA$55:$AA$76,0)))","v":"Lietuvos Respublika"},{"$f":"IF(ISERROR(INDEX(AB$55:AB$76,MATCH($AA491,$AA$55:$AA$76,0))),\"\",INDEX(AB$55:AB$76,MATCH($AA491,$AA$55:$AA$76,0)))","v":0.16830885918686125},0.51797900674181796,0.66414014719324388,0.74419589077823933,0.82847747229456614,0.76181361901057176,0.70294198758747117,0.72012368817314931,1.0320741105883438,{"$f":"IF(ISERROR(INDEX(AK$55:AK$76,MATCH($AA491,$AA$55:$AA$76,0))),\"\",INDEX(AK$55:AK$76,MATCH($AA491,$AA$55:$AA$76,0)))","v":1.4339053279637484},{"$f":"IF(ISERROR(INDEX(AL$55:AL$76,MATCH($AA491,$AA$55:$AA$76,0))),\"\",INDEX(AL$55:AL$76,MATCH($AA491,$AA$55:$AA$76,0)))","v":1.5420987299584596},{"$f":"IF(ISERROR(INDEX(AM$55:AM$76,MATCH($AA491,$AA$55:$AA$76,0))),\"\",INDEX(AM$55:AM$76,MATCH($AA491,$AA$55:$AA$76,0)))","v":1.5972909648979128},{"$f":"IF(ISERROR(INDEX(AN$55:AN$76,MATCH($AA491,$AA$55:$AA$76,0))),\"\",INDEX(AN$55:AN$76,MATCH($AA491,$AA$55:$AA$76,0)))","v":3.367207906812566},{"$f":"IF(ISERROR(INDEX(AO$55:AO$76,MATCH($AA491,$AA$55:$AA$76,0))),\"\",INDEX(AO$55:AO$76,MATCH($AA491,$AA$55:$AA$76,0)))","v":0}]
[null,"Visagino sav.","Veikiančių įmonių skaičius metų pradžioje | vnt.",316,338,283,304,290,302,296,299,294,289,286,276,282,294,{"$f":"ROWS($R$7:R496)","v":490},"",{"$f":"IF(ISERROR(SMALL($S$7:$S$1504,ROWS($S$7:S496))),\"\",SMALL($S$7:$S$1504,ROWS($S$7:S496)))","v":""},"",{"$f":"IF(ISERROR(SMALL($U$7:$U$1504,ROWS(U$7:$U496))),\"\",SMALL($U$7:$U$1504,ROWS(U$7:$U496)))","v":""},"",{"$f":"IF(ISERROR(SMALL($W$7:$W$1504,ROWS($W$7:W496))),\"\",SMALL($W$7:$W$1504,ROWS($W$7:W496)))","v":""}]
[null,"Zarasų r. sav.","Veikiančių įmonių skaičius metų pradžioje | vnt.",159,186,155,156,167,172,176,194,183,175,194,209,227,247,{"$f":"ROWS($R$7:R497)","v":491},"",{"$f":"IF(ISERROR(SMALL($S$7:$S$1504,ROWS($S$7:S497))),\"\",SMALL($S$7:$S$1504,ROWS($S$7:S497)))","v":""},"",{"$f":"IF(ISERROR(SMALL($U$7:$U$1504,ROWS(U$7:$U497))),\"\",SMALL($U$7:$U$1504,ROWS(U$7:$U497)))","v":""},"",{"$f":"IF(ISERROR(SMALL($W$7:$W$1504,ROWS($W$7:W497))),\"\",SMALL($W$7:$W$1504,ROWS($W$7:W497)))","v":""}]
[null,"Vilniaus apskritis","Veikiančių įmonių skaičius metų pradžioje | vnt.",23961,25208,24276,26209,27698,32277,34165,35284,35089,35561,36666,37145,39836,42974,{"$f":"ROWS($R$7:R498)","v":492},"",{"$f":"IF(ISERROR(SMALL($S$7:$S$1504,ROWS($S$7:S498))),\"\",SMALL($S$7:$S$1504,ROWS($S$7:S498)))","v":""},492,{"$f":"IF(ISERROR(SMALL($U$7:$U$1504,ROWS(U$7:$U498))),\"\",SMALL($U$7:$U$1504,ROWS(U$7:$U498)))","v":""},"",{"$f":"IF(ISERROR(SMALL($W$7:$W$1504,ROWS($W$7:W498))),\"\",SMALL($W$7:$W$1504,ROWS($W$7:W498)))","v":""}]
[null,"Elektrėnų sav.","Veikiančių įmonių skaičius metų pradžioje | vnt.",251,257,246,258,261,291,321,343,366,379,409,414,448,500,{"$f":"ROWS($R$7:R499)","v":493},"",{"$f":"IF(ISERROR(SMALL($S$7:$S$1504,ROWS($S$7:S499))),\"\",SMALL($S$7:$S$1504,ROWS($S$7:S499)))","v":""},"",{"$f":"IF(ISERROR(SMALL($U$7:$U$1504,ROWS(U$7:$U499))),\"\",SMALL($U$7:$U$1504,ROWS(U$7:$U499)))","v":""},"",{"$f":"IF(ISERROR(SMALL($W$7:$W$1504,ROWS($W$7:W499))),\"\",SMALL($W$7:$W$1504,ROWS($W$7:W499)))","v":""}]
[null,"Šalčininkų r. sav.","Veikiančių įmonių skaičius metų pradžioje | vnt.",311,314,297,313,323,365,390,418,428,425,435,424,447,483,{"$f":"ROWS($R$7:R500)","v":494},"",{"$f":"IF(ISERROR(SMALL($S$7:$S$1504,ROWS($S$7:S500))),\"\",SMALL($S$7:$S$1504,ROWS($S$7:S500)))","v":""},"",{"$f":"IF(ISERROR(SMALL($U$7:$U$1504,ROWS(U$7:$U500))),\"\",SMALL($U$7:$U$1504,ROWS(U$7:$U500)))","v":""},"",{"$f":"IF(ISERROR(SMALL($W$7:$W$1504,ROWS($W$7:W500))),\"\",SMALL($W$7:$W$1504,ROWS($W$7:W500)))","v":""}]
[null,"Širvintų r. sav.","Veikiančių įmonių skaičius metų pradžioje | vnt.",173,186,173,181,192,206,221,238,251,257,277,285,322,366,{"$f":"ROWS($R$7:R501)","v":495},"",{"$f":"IF(ISERROR(SMALL($S$7:$S$1504,ROWS($S$7:S501))),\"\",SMALL($S$7:$S$1504,ROWS($S$7:S501)))","v":""},"",{"$f":"IF(ISERROR(SMALL($U$7:$U$1504,ROWS(U$7:$U501))),\"\",SMALL($U$7:$U$1504,ROWS(U$7:$U501)))","v":""},"",{"$f":"IF(ISERROR(SMALL($W$7:$W$1504,ROWS($W$7:W501))),\"\",SMALL($W$7:$W$1504,ROWS($W$7:W501)))","v":""}]
[null,"Švenčionių r. sav.","Veikiančių įmonių skaičius metų pradžioje | vnt.",220,240,203,218,226,236,245,272,282,280,291,301,339,373,{"$f":"ROWS($R$7:R502)","v":496},"",{"$f":"IF(ISERROR(SMALL($S$7:$S$1504,ROWS($S$7:S502))),\"\",SMALL($S$7:$S$1504,ROWS($S$7:S502)))","v":""},"",{"$f":"IF(ISERROR(SMALL($U$7:$U$1504,ROWS(U$7:$U502))),\"\",SMALL($U$7:$U$1504,ROWS(U$7:$U502)))","v":""},"",{"$f":"IF(ISERROR(SMALL($W$7:$W$1504,ROWS($W$7:W502))),\"\",SMALL($W$7:$W$1504,ROWS($W$7:W502)))","v":""}]
[null,"Trakų r. sav.","Veikiančių įmonių skaičius metų pradžioje | vnt.",434,467,428,465,494,522,551,590,575,577,596,614,677,741,{"$f":"ROWS($R$7:R503)","v":497},"",{"$f":"IF(ISERROR(SMALL($S$7:$S$1504,ROWS($S$7:S503))),\"\",SMALL($S$7:$S$1504,ROWS($S$7:S503)))","v":""},"",{"$f":"IF(ISERROR(SMALL($U$7:$U$1504,ROWS(U$7:$U503))),\"\",SMALL($U$7:$U$1504,ROWS(U$7:$U503)))","v":""},"",{"$f":"IF(ISERROR(SMALL($W$7:$W$1504,ROWS($W$7:W503))),\"\",SMALL($W$7:$W$1504,ROWS($W$7:W503)))","v":""}]
[null,"Ukmergės r. sav.","Veikiančių įmonių skaičius metų pradžioje | vnt.",511,536,474,500,513,564,567,596,602,613,613,647,681,740,{"$f":"ROWS($R$7:R504)","v":498},"",{"$f":"IF(ISERROR(SMALL($S$7:$S$1504,ROWS($S$7:S504))),\"\",SMALL($S$7:$S$1504,ROWS($S$7:S504)))","v":""},"",{"$f":"IF(ISERROR(SMALL($U$7:$U$1504,ROWS(U$7:$U504))),\"\",SMALL($U$7:$U$1504,ROWS(U$7:$U504)))","v":""},"",{"$f":"IF(ISERROR(SMALL($W$7:$W$1504,ROWS($W$7:W504))),\"\",SMALL($W$7:$W$1504,ROWS($W$7:W504)))","v":""}]
[null,"Vilniaus m. sav.","Veikiančių įmonių skaičius metų pradžioje | vnt.",20908,21940,21169,22783,24095,28222,29822,30680,30360,30675,31560,31799,33960,36408,{"$f":"ROWS($R$7:R505)","v":499},499,{"$f":"IF(ISERROR(SMALL($S$7:$S$1504,ROWS($S$7:S505))),\"\",SMALL($S$7:$S$1504,ROWS($S$7:S505)))","v":""},"",{"$f":"IF(ISERROR(SMALL($U$7:$U$1504,ROWS(U$7:$U505))),\"\",SMALL($U$7:$U$1504,ROWS(U$7:$U505)))","v":""},"",{"$f":"IF(ISERROR(SMALL($W$7:$W$1504,ROWS($W$7:W505))),\"\",SMALL($W$7:$W$1504,ROWS($W$7:W505)))","v":""}]
["Lietuvos Respublika","Vilniaus r. sav.","Veikiančių įmonių skaičius metų pradžioje | vnt.",1153,1268,1286,1491,1594,1871,2048,2147,2225,2355,2485,2661,2962,3363,{"$f":"ROWS($R$7:R506)","v":500},"",{"$f":"IF(ISERROR(SMALL($S$7:$S$1504,ROWS($S$7:S506))),\"\",SMALL($S$7:$S$1504,ROWS($S$7:S506)))","v":""},"",{"$f":"IF(ISERROR(SMALL($U$7:$U$1504,ROWS(U$7:$U506))),\"\",SMALL($U$7:$U$1504,ROWS(U$7:$U506)))","v":""},"",{"$f":"IF(ISERROR(SMALL($W$7:$W$1504,ROWS($W$7:W506))),\"\",SMALL($W$7:$W$1504,ROWS($W$7:W506)))","v":""}]
[null,"Lietuvos Respublika","Darbuotojų skaičius veikiančiose mažose ir vidutinėse įmonėse metų pradžioje | vnt.",720489,630270,608232,636340,646017,671862,686412,696118,700080,694455,686952,674337,668249,701866,{"$f":"ROWS($R$7:R507)","v":501},"",{"$f":"IF(ISERROR(SMALL($S$7:$S$1504,ROWS($S$7:S507))),\"\",SMALL($S$7:$S$1504,ROWS($S$7:S507)))","v":""},"",{"$f":"IF(ISERROR(SMALL($U$7:$U$1504,ROWS(U$7:$U507))),\"\",SMALL($U$7:$U$1504,ROWS(U$7:$U507)))","v":""},501,{"$f":"IF(ISERROR(SMALL($W$7:$W$1504,ROWS($W$7:W507))),\"\",SMALL($W$7:$W$1504,ROWS($W$7:W507)))","v":""}]
[null,"Alytaus apskritis","Darbuotojų skaičius veikiančiose mažose ir vidutinėse įmonėse metų pradžioje | vnt.",25854,23319,22184,23066,23702,23794,24946,24129,23865,23759,22945,21902,22089,23100,{"$f":"ROWS($R$7:R508)","v":502},"",{"$f":"IF(ISERROR(SMALL($S$7:$S$1504,ROWS($S$7:S508))),\"\",SMALL($S$7:$S$1504,ROWS($S$7:S508)))","v":""},"",{"$f":"IF(ISERROR(SMALL($U$7:$U$1504,ROWS(U$7:$U508))),\"\",SMALL($U$7:$U$1504,ROWS(U$7:$U508)))","v":""},"",{"$f":"IF(ISERROR(SMALL($W$7:$W$1504,ROWS($W$7:W508))),\"\",SMALL($W$7:$W$1504,ROWS($W$7:W508)))","v":""}]
[null,"Alytaus m. sav.","Darbuotojų skaičius veikiančiose mažose ir vidutinėse įmonėse metų pradžioje | vnt.",13447,12837,11766,12443,12814,12953,13553,12827,12254,12120,11599,10694,10689,10957,{"$f":"ROWS($R$7:R509)","v":503},"",{"$f":"IF(ISERROR(SMALL($S$7:$S$1504,ROWS($S$7:S509))),\"\",SMALL($S$7:$S$1504,ROWS($S$7:S509)))","v":""},"",{"$f":"IF(ISERROR(SMALL($U$7:$U$1504,ROWS(U$7:$U509))),\"\",SMALL($U$7:$U$1504,ROWS(U$7:$U509)))","v":""},"",{"$f":"IF(ISERROR(SMALL($W$7:$W$1504,ROWS($W$7:W509))),\"\",SMALL($W$7:$W$1504,ROWS($W$7:W509)))","v":""}]
[null,"Alytaus r. sav.","Darbuotojų skaičius veikiančiose mažose ir vidutinėse įmonėse metų pradžioje | vnt.",2375,2061,2100,2064,2093,2099,2302,2436,2812,2952,3119,3165,3394,3696,{"$f":"ROWS($R$7:R510)","v":504},"",{"$f":"IF(ISERROR(SMALL($S$7:$S$1504,ROWS($S$7:S510))),\"\",SMALL($S$7:$S$1504,ROWS($S$7:S510)))","v":""},"",{"$f":"IF(ISERROR(SMALL($U$7:$U$1504,ROWS(U$7:$U510))),\"\",SMALL($U$7:$U$1504,ROWS(U$7:$U510)))","v":""},"",{"$f":"IF(ISERROR(SMALL($W$7:$W$1504,ROWS($W$7:W510))),\"\",SMALL($W$7:$W$1504,ROWS($W$7:W510)))","v":""}]
[null,"Druskininkų sav.","Darbuotojų skaičius veikiančiose mažose ir vidutinėse įmonėse metų pradžioje | vnt.",4565,3627,3569,3808,3976,3989,4154,4234,4251,4215,4039,4331,4245,4465,{"$f":"ROWS($R$7:R511)","v":505},"",{"$f":"IF(ISERROR(SMALL($S$7:$S$1504,ROWS($S$7:S511))),\"\",SMALL($S$7:$S$1504,ROWS($S$7:S511)))","v":""},"",{"$f":"IF(ISERROR(SMALL($U$7:$U$1504,ROWS(U$7:$U511))),\"\",SMALL($U$7:$U$1504,ROWS(U$7:$U511)))","v":""},"",{"$f":"IF(ISERROR(SMALL($W$7:$W$1504,ROWS($W$7:W511))),\"\",SMALL($W$7:$W$1504,ROWS($W$7:W511)))","v":""}]
[null,"Lazdijų r. sav.","Darbuotojų skaičius veikiančiose mažose ir vidutinėse įmonėse metų pradžioje | vnt.",1929,1740,1812,1709,1828,1789,1783,1586,1547,1565,1542,1426,1390,1552,{"$f":"ROWS($R$7:R512)","v":506},"",{"$f":"IF(ISERROR(SMALL($S$7:$S$1504,ROWS($S$7:S512))),\"\",SMALL($S$7:$S$1504,ROWS($S$7:S512)))","v":""},"",{"$f":"IF(ISERROR(SMALL($U$7:$U$1504,ROWS(U$7:$U512))),\"\",SMALL($U$7:$U$1504,ROWS(U$7:$U512)))","v":""},"",{"$f":"IF(ISERROR(SMALL($W$7:$W$1504,ROWS($W$7:W512))),\"\",SMALL($W$7:$W$1504,ROWS($W$7:W512)))","v":""}]
[null,"Varėnos r. sav.","Darbuotojų skaičius veikiančiose mažose ir vidutinėse įmonėse metų pradžioje | vnt.",3538,3054,2937,3042,2991,2964,3154,3046,3001,2907,2646,2286,2371,2430,{"$f":"ROWS($R$7:R513)","v":507},"",{"$f":"IF(ISERROR(SMALL($S$7:$S$1504,ROWS($S$7:S513))),\"\",SMALL($S$7:$S$1504,ROWS($S$7:S513)))","v":""},"",{"$f":"IF(ISERROR(SMALL($U$7:$U$1504,ROWS(U$7:$U513))),\"\",SMALL($U$7:$U$1504,ROWS(U$7:$U513)))","v":""},"",{"$f":"IF(ISERROR(SMALL($W$7:$W$1504,ROWS($W$7:W513))),\"\",SMALL($W$7:$W$1504,ROWS($W$7:W513)))","v":""}]
[null,"Kauno apskritis","Darbuotojų skaičius veikiančiose mažose ir vidutinėse įmonėse metų pradžioje | vnt.",157206,137864,132357,138661,140351,146132,149562,152408,152418,153718,150110,147201,144786,150183,{"$f":"ROWS($R$7:R514)","v":508},"",{"$f":"IF(ISERROR(SMALL($S$7:$S$1504,ROWS($S$7:S514))),\"\",SMALL($S$7:$S$1504,ROWS($S$7:S514)))","v":""},"",{"$f":"IF(ISERROR(SMALL($U$7:$U$1504,ROWS(U$7:$U514))),\"\",SMALL($U$7:$U$1504,ROWS(U$7:$U514)))","v":""},"",{"$f":"IF(ISERROR(SMALL($W$7:$W$1504,ROWS($W$7:W514))),\"\",SMALL($W$7:$W$1504,ROWS($W$7:W514)))","v":""}]
[null,"Birštono sav.","Darbuotojų skaičius veikiančiose mažose ir vidutinėse įmonėse metų pradžioje | vnt.",671,618,686,669,636,640,695,709,747,926,996,1073,1303,1374,{"$f":"ROWS($R$7:R515)","v":509},"",{"$f":"IF(ISERROR(SMALL($S$7:$S$1504,ROWS($S$7:S515))),\"\",SMALL($S$7:$S$1504,ROWS($S$7:S515)))","v":""},"",{"$f":"IF(ISERROR(SMALL($U$7:$U$1504,ROWS(U$7:$U515))),\"\",SMALL($U$7:$U$1504,ROWS(U$7:$U515)))","v":""},"",{"$f":"IF(ISERROR(SMALL($W$7:$W$1504,ROWS($W$7:W515))),\"\",SMALL($W$7:$W$1504,ROWS($W$7:W515)))","v":""}]
[null,"Jonavos r. sav.","Darbuotojų skaičius veikiančiose mažose ir vidutinėse įmonėse metų pradžioje | vnt.",7899,6764,6429,6288,6224,6274,6155,6094,6429,6481,6232,6271,5850,5889,{"$f":"ROWS($R$7:R516)","v":510},"",{"$f":"IF(ISERROR(SMALL($S$7:$S$1504,ROWS($S$7:S516))),\"\",SMALL($S$7:$S$1504,ROWS($S$7:S516)))","v":""},"",{"$f":"IF(ISERROR(SMALL($U$7:$U$1504,ROWS(U$7:$U516))),\"\",SMALL($U$7:$U$1504,ROWS(U$7:$U516)))","v":""},"",{"$f":"IF(ISERROR(SMALL($W$7:$W$1504,ROWS($W$7:W516))),\"\",SMALL($W$7:$W$1504,ROWS($W$7:W516)))","v":""}]
[null,"Kaišiadorių r. sav.","Darbuotojų skaičius veikiančiose mažose ir vidutinėse įmonėse metų pradžioje | vnt.",5754,4570,4323,4630,4577,4554,4704,4833,4671,4602,4478,4260,4133,4182,{"$f":"ROWS($R$7:R517)","v":511},"",{"$f":"IF(ISERROR(SMALL($S$7:$S$1504,ROWS($S$7:S517))),\"\",SMALL($S$7:$S$1504,ROWS($S$7:S517)))","v":""},"",{"$f":"IF(ISERROR(SMALL($U$7:$U$1504,ROWS(U$7:$U517))),\"\",SMALL($U$7:$U$1504,ROWS(U$7:$U517)))","v":""},"",{"$f":"IF(ISERROR(SMALL($W$7:$W$1504,ROWS($W$7:W517))),\"\",SMALL($W$7:$W$1504,ROWS($W$7:W517)))","v":""}]
[null,"Kauno m. sav.","Darbuotojų skaičius veikiančiose mažose ir vidutinėse įmonėse metų pradžioje | vnt.",111863,98084,92703,97167,98636,102447,104179,104910,104492,105233,100633,97998,96444,100805,{"$f":"ROWS($R$7:R518)","v":512},"",{"$f":"IF(ISERROR(SMALL($S$7:$S$1504,ROWS($S$7:S518))),\"\",SMALL($S$7:$S$1504,ROWS($S$7:S518)))","v":""},"",{"$f":"IF(ISERROR(SMALL($U$7:$U$1504,ROWS(U$7:$U518))),\"\",SMALL($U$7:$U$1504,ROWS(U$7:$U518)))","v":""},"",{"$f":"IF(ISERROR(SMALL($W$7:$W$1504,ROWS($W$7:W518))),\"\",SMALL($W$7:$W$1504,ROWS($W$7:W518)))","v":""}]
[null,"Kauno r. sav.","Darbuotojų skaičius veikiančiose mažose ir vidutinėse įmonėse metų pradžioje | vnt.",14240,12730,13775,14990,15606,17448,18569,20225,21261,21655,23057,23262,23063,23455,{"$f":"ROWS($R$7:R519)","v":513},{"$f":"IF(ISNUMBER(SEARCH($R$3,B519)),R519,\"\")","v":""},{"$f":"IF(ISERROR(SMALL($S$7:$S$1504,ROWS($S$7:S519))),\"\",SMALL($S$7:$S$1504,ROWS($S$7:S519)))","v":""},{"$f":"IF($R$4=B519,R519,\"\")","v":""},{"$f":"IF(ISERROR(SMALL($U$7:$U$1504,ROWS(U$7:$U519))),\"\",SMALL($U$7:$U$1504,ROWS(U$7:$U519)))","v":""},{"$f":"IF(\"Lietuvos Respublika\"=B519,R519,\"\")","v":""},{"$f":"IF(ISERROR(SMALL($W$7:$W$1504,ROWS($W$7:W519))),\"\",SMALL($W$7:$W$1504,ROWS($W$7:W519)))","v":""}]
[null,"Kėdainių r. sav.","Darbuotojų skaičius veikiančiose mažose ir vidutinėse įmonėse metų pradžioje | vnt.",7808,6979,6416,6583,6554,6659,6758,7085,6327,6406,6507,6189,5896,5836,{"$f":"ROWS($R$7:R520)","v":514},"",{"$f":"IF(ISERROR(SMALL($S$7:$S$1504,ROWS($S$7:S520))),\"\",SMALL($S$7:$S$1504,ROWS($S$7:S520)))","v":""},"",{"$f":"IF(ISERROR(SMALL($U$7:$U$1504,ROWS(U$7:$U520))),\"\",SMALL($U$7:$U$1504,ROWS(U$7:$U520)))","v":""},"",{"$f":"IF(ISERROR(SMALL($W$7:$W$1504,ROWS($W$7:W520))),\"\",SMALL($W$7:$W$1504,ROWS($W$7:W520)))","v":""}]
[null,"Prienų r. sav.","Darbuotojų skaičius veikiančiose mažose ir vidutinėse įmonėse metų pradžioje | vnt.",3400,3011,2896,3019,2952,3043,3529,3535,3495,3475,3346,3427,3303,3657,{"$f":"ROWS($R$7:R521)","v":515},"",{"$f":"IF(ISERROR(SMALL($S$7:$S$1504,ROWS($S$7:S521))),\"\",SMALL($S$7:$S$1504,ROWS($S$7:S521)))","v":""},"",{"$f":"IF(ISERROR(SMALL($U$7:$U$1504,ROWS(U$7:$U521))),\"\",SMALL($U$7:$U$1504,ROWS(U$7:$U521)))","v":""},"",{"$f":"IF(ISERROR(SMALL($W$7:$W$1504,ROWS($W$7:W521))),\"\",SMALL($W$7:$W$1504,ROWS($W$7:W521)))","v":""}]
[null,"Raseinių r. sav.","Darbuotojų skaičius veikiančiose mažose ir vidutinėse įmonėse metų pradžioje | vnt.",5571,5108,5129,5315,5166,5067,4973,5017,4996,4940,4861,4721,4794,4985,{"$f":"ROWS($R$7:R522)","v":516},"",{"$f":"IF(ISERROR(SMALL($S$7:$S$1504,ROWS($S$7:S522))),\"\",SMALL($S$7:$S$1504,ROWS($S$7:S522)))","v":""},"",{"$f":"IF(ISERROR(SMALL($U$7:$U$1504,ROWS(U$7:$U522))),\"\",SMALL($U$7:$U$1504,ROWS(U$7:$U522)))","v":""},"",{"$f":"IF(ISERROR(SMALL($W$7:$W$1504,ROWS($W$7:W522))),\"\",SMALL($W$7:$W$1504,ROWS($W$7:W522)))","v":""}]
[null,"Klaipėdos apskritis","Darbuotojų skaičius veikiančiose mažose ir vidutinėse įmonėse metų pradžioje | vnt.",80822,70638,68136,70748,72747,75811,77591,78295,79605,79596,79683,78767,77595,81775,{"$f":"ROWS($R$7:R523)","v":517},"",{"$f":"IF(ISERROR(SMALL($S$7:$S$1504,ROWS($S$7:S523))),\"\",SMALL($S$7:$S$1504,ROWS($S$7:S523)))","v":""},"",{"$f":"IF(ISERROR(SMALL($U$7:$U$1504,ROWS(U$7:$U523))),\"\",SMALL($U$7:$U$1504,ROWS(U$7:$U523)))","v":""},"",{"$f":"IF(ISERROR(SMALL($W$7:$W$1504,ROWS($W$7:W523))),\"\",SMALL($W$7:$W$1504,ROWS($W$7:W523)))","v":""}]
[null,"Klaipėdos m. sav.","Darbuotojų skaičius veikiančiose mažose ir vidutinėse įmonėse metų pradžioje | vnt.",49164,43271,42248,43748,44844,46410,47362,46934,47496,47079,47580,47420,45965,48341,{"$f":"ROWS($R$7:R524)","v":518},"",{"$f":"IF(ISERROR(SMALL($S$7:$S$1504,ROWS($S$7:S524))),\"\",SMALL($S$7:$S$1504,ROWS($S$7:S524)))","v":""},"",{"$f":"IF(ISERROR(SMALL($U$7:$U$1504,ROWS(U$7:$U524))),\"\",SMALL($U$7:$U$1504,ROWS(U$7:$U524)))","v":""},"",{"$f":"IF(ISERROR(SMALL($W$7:$W$1504,ROWS($W$7:W524))),\"\",SMALL($W$7:$W$1504,ROWS($W$7:W524)))","v":""}]
[null,"Klaipėdos r. sav.","Darbuotojų skaičius veikiančiose mažose ir vidutinėse įmonėse metų pradžioje | vnt.",9621,8124,7690,8572,9139,9948,10493,11001,11563,11938,12191,11946,12123,12671,{"$f":"ROWS($R$7:R525)","v":519},"",{"$f":"IF(ISERROR(SMALL($S$7:$S$1504,ROWS($S$7:S525))),\"\",SMALL($S$7:$S$1504,ROWS($S$7:S525)))","v":""},"",{"$f":"IF(ISERROR(SMALL($U$7:$U$1504,ROWS(U$7:$U525))),\"\",SMALL($U$7:$U$1504,ROWS(U$7:$U525)))","v":""},"",{"$f":"IF(ISERROR(SMALL($W$7:$W$1504,ROWS($W$7:W525))),\"\",SMALL($W$7:$W$1504,ROWS($W$7:W525)))","v":""}]
[null,"Kretingos r. sav.","Darbuotojų skaičius veikiančiose mažose ir vidutinėse įmonėse metų pradžioje | vnt.",6940,6159,6077,5921,6192,6410,6523,6773,6841,6993,6680,6165,6111,6468,{"$f":"ROWS($R$7:R526)","v":520},"",{"$f":"IF(ISERROR(SMALL($S$7:$S$1504,ROWS($S$7:S526))),\"\",SMALL($S$7:$S$1504,ROWS($S$7:S526)))","v":""},"",{"$f":"IF(ISERROR(SMALL($U$7:$U$1504,ROWS(U$7:$U526))),\"\",SMALL($U$7:$U$1504,ROWS(U$7:$U526)))","v":""},"",{"$f":"IF(ISERROR(SMALL($W$7:$W$1504,ROWS($W$7:W526))),\"\",SMALL($W$7:$W$1504,ROWS($W$7:W526)))","v":""}]
[null,"Neringos sav.","Darbuotojų skaičius veikiančiose mažose ir vidutinėse įmonėse metų pradžioje | vnt.",896,885,806,928,985,1124,1167,1236,1308,1107,1179,1241,1233,1576,{"$f":"ROWS($R$7:R527)","v":521},"",{"$f":"IF(ISERROR(SMALL($S$7:$S$1504,ROWS($S$7:S527))),\"\",SMALL($S$7:$S$1504,ROWS($S$7:S527)))","v":""},"",{"$f":"IF(ISERROR(SMALL($U$7:$U$1504,ROWS(U$7:$U527))),\"\",SMALL($U$7:$U$1504,ROWS(U$7:$U527)))","v":""},"",{"$f":"IF(ISERROR(SMALL($W$7:$W$1504,ROWS($W$7:W527))),\"\",SMALL($W$7:$W$1504,ROWS($W$7:W527)))","v":""}]
[null,"Palangos m. sav.","Darbuotojų skaičius veikiančiose mažose ir vidutinėse įmonėse metų pradžioje | vnt.",4869,4289,3877,4027,4019,4145,4370,4404,4547,4757,4381,4609,4846,5093,{"$f":"ROWS($R$7:R528)","v":522},"",{"$f":"IF(ISERROR(SMALL($S$7:$S$1504,ROWS($S$7:S528))),\"\",SMALL($S$7:$S$1504,ROWS($S$7:S528)))","v":""},"",{"$f":"IF(ISERROR(SMALL($U$7:$U$1504,ROWS(U$7:$U528))),\"\",SMALL($U$7:$U$1504,ROWS(U$7:$U528)))","v":""},"",{"$f":"IF(ISERROR(SMALL($W$7:$W$1504,ROWS($W$7:W528))),\"\",SMALL($W$7:$W$1504,ROWS($W$7:W528)))","v":""}]
[null,"Skuodo r. sav.","Darbuotojų skaičius veikiančiose mažose ir vidutinėse įmonėse metų pradžioje | vnt.",1692,1484,1410,1400,1483,1558,1563,1584,1533,1493,1444,1431,1320,1391,{"$f":"ROWS($R$7:R529)","v":523},"",{"$f":"IF(ISERROR(SMALL($S$7:$S$1504,ROWS($S$7:S529))),\"\",SMALL($S$7:$S$1504,ROWS($S$7:S529)))","v":""},"",{"$f":"IF(ISERROR(SMALL($U$7:$U$1504,ROWS(U$7:$U529))),\"\",SMALL($U$7:$U$1504,ROWS(U$7:$U529)))","v":""},"",{"$f":"IF(ISERROR(SMALL($W$7:$W$1504,ROWS($W$7:W529))),\"\",SMALL($W$7:$W$1504,ROWS($W$7:W529)))","v":""}]
[null,"Šilutės r. sav.","Darbuotojų skaičius veikiančiose mažose ir vidutinėse įmonėse metų pradžioje | vnt.",7640,6426,6028,6152,6085,6216,6113,6363,6317,6229,6228,5955,5997,6235,{"$f":"ROWS($R$7:R530)","v":524},"",{"$f":"IF(ISERROR(SMALL($S$7:$S$1504,ROWS($S$7:S530))),\"\",SMALL($S$7:$S$1504,ROWS($S$7:S530)))","v":""},"",{"$f":"IF(ISERROR(SMALL($U$7:$U$1504,ROWS(U$7:$U530))),\"\",SMALL($U$7:$U$1504,ROWS(U$7:$U530)))","v":""},"",{"$f":"IF(ISERROR(SMALL($W$7:$W$1504,ROWS($W$7:W530))),\"\",SMALL($W$7:$W$1504,ROWS($W$7:W530)))","v":""}]
[null,"Marijampolės apskritis","Darbuotojų skaičius veikiančiose mažose ir vidutinėse įmonėse metų pradžioje | vnt.",26307,22302,21728,21444,21685,22048,21466,21555,21151,20713,21557,21518,21046,22155,{"$f":"ROWS($R$7:R531)","v":525},"",{"$f":"IF(ISERROR(SMALL($S$7:$S$1504,ROWS($S$7:S531))),\"\",SMALL($S$7:$S$1504,ROWS($S$7:S531)))","v":""},"",{"$f":"IF(ISERROR(SMALL($U$7:$U$1504,ROWS(U$7:$U531))),\"\",SMALL($U$7:$U$1504,ROWS(U$7:$U531)))","v":""},"",{"$f":"IF(ISERROR(SMALL($W$7:$W$1504,ROWS($W$7:W531))),\"\",SMALL($W$7:$W$1504,ROWS($W$7:W531)))","v":""}]
[null,"Kalvarijos sav.","Darbuotojų skaičius veikiančiose mažose ir vidutinėse įmonėse metų pradžioje | vnt.",930,764,767,845,805,828,838,879,864,927,973,959,936,1069,{"$f":"ROWS($R$7:R532)","v":526},"",{"$f":"IF(ISERROR(SMALL($S$7:$S$1504,ROWS($S$7:S532))),\"\",SMALL($S$7:$S$1504,ROWS($S$7:S532)))","v":""},"",{"$f":"IF(ISERROR(SMALL($U$7:$U$1504,ROWS(U$7:$U532))),\"\",SMALL($U$7:$U$1504,ROWS(U$7:$U532)))","v":""},"",{"$f":"IF(ISERROR(SMALL($W$7:$W$1504,ROWS($W$7:W532))),\"\",SMALL($W$7:$W$1504,ROWS($W$7:W532)))","v":""}]
[null,"Kazlų Rūdos sav.","Darbuotojų skaičius veikiančiose mažose ir vidutinėse įmonėse metų pradžioje | vnt.",2000,1586,1802,1766,1754,1827,1666,1617,1598,1404,1581,1546,1604,1684,{"$f":"ROWS($R$7:R533)","v":527},"",{"$f":"IF(ISERROR(SMALL($S$7:$S$1504,ROWS($S$7:S533))),\"\",SMALL($S$7:$S$1504,ROWS($S$7:S533)))","v":""},"",{"$f":"IF(ISERROR(SMALL($U$7:$U$1504,ROWS(U$7:$U533))),\"\",SMALL($U$7:$U$1504,ROWS(U$7:$U533)))","v":""},"",{"$f":"IF(ISERROR(SMALL($W$7:$W$1504,ROWS($W$7:W533))),\"\",SMALL($W$7:$W$1504,ROWS($W$7:W533)))","v":""}]
[null,"Marijampolės sav.","Darbuotojų skaičius veikiančiose mažose ir vidutinėse įmonėse metų pradžioje | vnt.",15343,12739,12257,11819,11688,11836,11253,11639,11572,11606,12128,12535,11937,12640,{"$f":"ROWS($R$7:R534)","v":528},"",{"$f":"IF(ISERROR(SMALL($S$7:$S$1504,ROWS($S$7:S534))),\"\",SMALL($S$7:$S$1504,ROWS($S$7:S534)))","v":""},"",{"$f":"IF(ISERROR(SMALL($U$7:$U$1504,ROWS(U$7:$U534))),\"\",SMALL($U$7:$U$1504,ROWS(U$7:$U534)))","v":""},"",{"$f":"IF(ISERROR(SMALL($W$7:$W$1504,ROWS($W$7:W534))),\"\",SMALL($W$7:$W$1504,ROWS($W$7:W534)))","v":""}]
[null,"Šakių r. sav.","Darbuotojų skaičius veikiančiose mažose ir vidutinėse įmonėse metų pradžioje | vnt.",4067,3688,3607,3469,3556,3676,3787,3705,3561,3435,3585,3235,3180,3324,{"$f":"ROWS($R$7:R535)","v":529},"",{"$f":"IF(ISERROR(SMALL($S$7:$S$1504,ROWS($S$7:S535))),\"\",SMALL($S$7:$S$1504,ROWS($S$7:S535)))","v":""},"",{"$f":"IF(ISERROR(SMALL($U$7:$U$1504,ROWS(U$7:$U535))),\"\",SMALL($U$7:$U$1504,ROWS(U$7:$U535)))","v":""},"",{"$f":"IF(ISERROR(SMALL($W$7:$W$1504,ROWS($W$7:W535))),\"\",SMALL($W$7:$W$1504,ROWS($W$7:W535)))","v":""}]
[null,"Vilkaviškio r. sav.","Darbuotojų skaičius veikiančiose mažose ir vidutinėse įmonėse metų pradžioje | vnt.",3967,3525,3295,3545,3882,3881,3922,3715,3556,3341,3290,3243,3389,3438,{"$f":"ROWS($R$7:R536)","v":530},"",{"$f":"IF(ISERROR(SMALL($S$7:$S$1504,ROWS($S$7:S536))),\"\",SMALL($S$7:$S$1504,ROWS($S$7:S536)))","v":""},"",{"$f":"IF(ISERROR(SMALL($U$7:$U$1504,ROWS(U$7:$U536))),\"\",SMALL($U$7:$U$1504,ROWS(U$7:$U536)))","v":""},"",{"$f":"IF(ISERROR(SMALL($W$7:$W$1504,ROWS($W$7:W536))),\"\",SMALL($W$7:$W$1504,ROWS($W$7:W536)))","v":""}]
[null,"Panevėžio apskritis","Darbuotojų skaičius veikiančiose mažose ir vidutinėse įmonėse metų pradžioje | vnt.",45395,38956,37241,38206,37893,39703,40206,41381,41175,40045,39542,38461,37079,38930,{"$f":"ROWS($R$7:R537)","v":531},"",{"$f":"IF(ISERROR(SMALL($S$7:$S$1504,ROWS($S$7:S537))),\"\",SMALL($S$7:$S$1504,ROWS($S$7:S537)))","v":""},"",{"$f":"IF(ISERROR(SMALL($U$7:$U$1504,ROWS(U$7:$U537))),\"\",SMALL($U$7:$U$1504,ROWS(U$7:$U537)))","v":""},"",{"$f":"IF(ISERROR(SMALL($W$7:$W$1504,ROWS($W$7:W537))),\"\",SMALL($W$7:$W$1504,ROWS($W$7:W537)))","v":""}]
[null,"Biržų r. sav.","Darbuotojų skaičius veikiančiose mažose ir vidutinėse įmonėse metų pradžioje | vnt.",3307,3158,3115,2894,2866,2909,2931,2915,2899,2707,2602,2582,2505,2641,{"$f":"ROWS($R$7:R538)","v":532},"",{"$f":"IF(ISERROR(SMALL($S$7:$S$1504,ROWS($S$7:S538))),\"\",SMALL($S$7:$S$1504,ROWS($S$7:S538)))","v":""},"",{"$f":"IF(ISERROR(SMALL($U$7:$U$1504,ROWS(U$7:$U538))),\"\",SMALL($U$7:$U$1504,ROWS(U$7:$U538)))","v":""},"",{"$f":"IF(ISERROR(SMALL($W$7:$W$1504,ROWS($W$7:W538))),\"\",SMALL($W$7:$W$1504,ROWS($W$7:W538)))","v":""}]
[null,"Kupiškio r. sav.","Darbuotojų skaičius veikiančiose mažose ir vidutinėse įmonėse metų pradžioje | vnt.",3187,2358,2247,2397,2373,2429,2491,2538,2374,2273,2264,2279,2213,2324,{"$f":"ROWS($R$7:R539)","v":533},"",{"$f":"IF(ISERROR(SMALL($S$7:$S$1504,ROWS($S$7:S539))),\"\",SMALL($S$7:$S$1504,ROWS($S$7:S539)))","v":""},"",{"$f":"IF(ISERROR(SMALL($U$7:$U$1504,ROWS(U$7:$U539))),\"\",SMALL($U$7:$U$1504,ROWS(U$7:$U539)))","v":""},"",{"$f":"IF(ISERROR(SMALL($W$7:$W$1504,ROWS($W$7:W539))),\"\",SMALL($W$7:$W$1504,ROWS($W$7:W539)))","v":""}]
[null,"Panevėžio m. sav.","Darbuotojų skaičius veikiančiose mažose ir vidutinėse įmonėse metų pradžioje | vnt.",25397,21407,19937,20347,20271,21258,21322,22148,22148,21835,21629,20712,19999,21029,{"$f":"ROWS($R$7:R540)","v":534},"",{"$f":"IF(ISERROR(SMALL($S$7:$S$1504,ROWS($S$7:S540))),\"\",SMALL($S$7:$S$1504,ROWS($S$7:S540)))","v":""},"",{"$f":"IF(ISERROR(SMALL($U$7:$U$1504,ROWS(U$7:$U540))),\"\",SMALL($U$7:$U$1504,ROWS(U$7:$U540)))","v":""},"",{"$f":"IF(ISERROR(SMALL($W$7:$W$1504,ROWS($W$7:W540))),\"\",SMALL($W$7:$W$1504,ROWS($W$7:W540)))","v":""}]
[null,"Panevėžio r. sav.","Darbuotojų skaičius veikiančiose mažose ir vidutinėse įmonėse metų pradžioje | vnt.",5897,5071,4979,5423,5255,5725,5947,6230,6240,5862,5781,5761,5637,5951,{"$f":"ROWS($R$7:R541)","v":535},"",{"$f":"IF(ISERROR(SMALL($S$7:$S$1504,ROWS($S$7:S541))),\"\",SMALL($S$7:$S$1504,ROWS($S$7:S541)))","v":""},"",{"$f":"IF(ISERROR(SMALL($U$7:$U$1504,ROWS(U$7:$U541))),\"\",SMALL($U$7:$U$1504,ROWS(U$7:$U541)))","v":""},"",{"$f":"IF(ISERROR(SMALL($W$7:$W$1504,ROWS($W$7:W541))),\"\",SMALL($W$7:$W$1504,ROWS($W$7:W541)))","v":""}]
[null,"Pasvalio r. sav.","Darbuotojų skaičius veikiančiose mažose ir vidutinėse įmonėse metų pradžioje | vnt.",3488,3106,3094,3166,3218,3227,3291,3334,3354,3349,3291,3276,2987,3062,{"$f":"ROWS($R$7:R542)","v":536},"",{"$f":"IF(ISERROR(SMALL($S$7:$S$1504,ROWS($S$7:S542))),\"\",SMALL($S$7:$S$1504,ROWS($S$7:S542)))","v":""},"",{"$f":"IF(ISERROR(SMALL($U$7:$U$1504,ROWS(U$7:$U542))),\"\",SMALL($U$7:$U$1504,ROWS(U$7:$U542)))","v":""},"",{"$f":"IF(ISERROR(SMALL($W$7:$W$1504,ROWS($W$7:W542))),\"\",SMALL($W$7:$W$1504,ROWS($W$7:W542)))","v":""}]
[null,"Rokiškio r. sav.","Darbuotojų skaičius veikiančiose mažose ir vidutinėse įmonėse metų pradžioje | vnt.",4119,3856,3869,3979,3910,4155,4224,4216,4160,4019,3975,3851,3738,3923,{"$f":"ROWS($R$7:R543)","v":537},"",{"$f":"IF(ISERROR(SMALL($S$7:$S$1504,ROWS($S$7:S543))),\"\",SMALL($S$7:$S$1504,ROWS($S$7:S543)))","v":""},"",{"$f":"IF(ISERROR(SMALL($U$7:$U$1504,ROWS(U$7:$U543))),\"\",SMALL($U$7:$U$1504,ROWS(U$7:$U543)))","v":""},"",{"$f":"IF(ISERROR(SMALL($W$7:$W$1504,ROWS($W$7:W543))),\"\",SMALL($W$7:$W$1504,ROWS($W$7:W543)))","v":""}]
[null,"Šiaulių apskritis","Darbuotojų skaičius veikiančiose mažose ir vidutinėse įmonėse metų pradžioje | vnt.",59673,52397,50573,52145,52956,53392,53183,53024,52777,52270,50793,49468,48835,49813,{"$f":"ROWS($R$7:R544)","v":538},"",{"$f":"IF(ISERROR(SMALL($S$7:$S$1504,ROWS($S$7:S544))),\"\",SMALL($S$7:$S$1504,ROWS($S$7:S544)))","v":""},"",{"$f":"IF(ISERROR(SMALL($U$7:$U$1504,ROWS(U$7:$U544))),\"\",SMALL($U$7:$U$1504,ROWS(U$7:$U544)))","v":""},"",{"$f":"IF(ISERROR(SMALL($W$7:$W$1504,ROWS($W$7:W544))),\"\",SMALL($W$7:$W$1504,ROWS($W$7:W544)))","v":""}]
[null,"Akmenės r. sav.","Darbuotojų skaičius veikiančiose mažose ir vidutinėse įmonėse metų pradžioje | vnt.",2480,2282,2129,2256,2316,2377,2423,2545,2481,2571,2171,2237,2291,2321,{"$f":"ROWS($R$7:R545)","v":539},"",{"$f":"IF(ISERROR(SMALL($S$7:$S$1504,ROWS($S$7:S545))),\"\",SMALL($S$7:$S$1504,ROWS($S$7:S545)))","v":""},"",{"$f":"IF(ISERROR(SMALL($U$7:$U$1504,ROWS(U$7:$U545))),\"\",SMALL($U$7:$U$1504,ROWS(U$7:$U545)))","v":""},"",{"$f":"IF(ISERROR(SMALL($W$7:$W$1504,ROWS($W$7:W545))),\"\",SMALL($W$7:$W$1504,ROWS($W$7:W545)))","v":""}]
[null,"Joniškio r. sav.","Darbuotojų skaičius veikiančiose mažose ir vidutinėse įmonėse metų pradžioje | vnt.",4023,3673,3428,3429,3506,3582,3562,3488,3358,3171,2923,2849,2819,2914,{"$f":"ROWS($R$7:R546)","v":540},"",{"$f":"IF(ISERROR(SMALL($S$7:$S$1504,ROWS($S$7:S546))),\"\",SMALL($S$7:$S$1504,ROWS($S$7:S546)))","v":""},"",{"$f":"IF(ISERROR(SMALL($U$7:$U$1504,ROWS(U$7:$U546))),\"\",SMALL($U$7:$U$1504,ROWS(U$7:$U546)))","v":""},"",{"$f":"IF(ISERROR(SMALL($W$7:$W$1504,ROWS($W$7:W546))),\"\",SMALL($W$7:$W$1504,ROWS($W$7:W546)))","v":""}]
[null,"Kelmės r. sav.","Darbuotojų skaičius veikiančiose mažose ir vidutinėse įmonėse metų pradžioje | vnt.",2939,2721,2621,2727,2879,2721,3117,2871,2805,3055,2949,2885,2744,2895,{"$f":"ROWS($R$7:R547)","v":541},"",{"$f":"IF(ISERROR(SMALL($S$7:$S$1504,ROWS($S$7:S547))),\"\",SMALL($S$7:$S$1504,ROWS($S$7:S547)))","v":""},"",{"$f":"IF(ISERROR(SMALL($U$7:$U$1504,ROWS(U$7:$U547))),\"\",SMALL($U$7:$U$1504,ROWS(U$7:$U547)))","v":""},"",{"$f":"IF(ISERROR(SMALL($W$7:$W$1504,ROWS($W$7:W547))),\"\",SMALL($W$7:$W$1504,ROWS($W$7:W547)))","v":""}]
[null,"Pakruojo r. sav.","Darbuotojų skaičius veikiančiose mažose ir vidutinėse įmonėse metų pradžioje | vnt.",3852,3525,3349,3407,3272,3273,3261,3172,3090,3023,2958,2908,2836,2818,{"$f":"ROWS($R$7:R548)","v":542},"",{"$f":"IF(ISERROR(SMALL($S$7:$S$1504,ROWS($S$7:S548))),\"\",SMALL($S$7:$S$1504,ROWS($S$7:S548)))","v":""},"",{"$f":"IF(ISERROR(SMALL($U$7:$U$1504,ROWS(U$7:$U548))),\"\",SMALL($U$7:$U$1504,ROWS(U$7:$U548)))","v":""},"",{"$f":"IF(ISERROR(SMALL($W$7:$W$1504,ROWS($W$7:W548))),\"\",SMALL($W$7:$W$1504,ROWS($W$7:W548)))","v":""}]
[null,"Radviliškio r. sav.","Darbuotojų skaičius veikiančiose mažose ir vidutinėse įmonėse metų pradžioje | vnt.",5689,4864,4716,4793,4897,5187,5068,4907,4920,4593,4438,4381,3964,4190,{"$f":"ROWS($R$7:R549)","v":543},"",{"$f":"IF(ISERROR(SMALL($S$7:$S$1504,ROWS($S$7:S549))),\"\",SMALL($S$7:$S$1504,ROWS($S$7:S549)))","v":""},"",{"$f":"IF(ISERROR(SMALL($U$7:$U$1504,ROWS(U$7:$U549))),\"\",SMALL($U$7:$U$1504,ROWS(U$7:$U549)))","v":""},"",{"$f":"IF(ISERROR(SMALL($W$7:$W$1504,ROWS($W$7:W549))),\"\",SMALL($W$7:$W$1504,ROWS($W$7:W549)))","v":""}]
[null,"Šiaulių m. sav.","Darbuotojų skaičius veikiančiose mažose ir vidutinėse įmonėse metų pradžioje | vnt.",34308,29693,28828,29776,30119,30189,29429,29602,29681,29216,28732,28053,28004,28395,{"$f":"ROWS($R$7:R550)","v":544},"",{"$f":"IF(ISERROR(SMALL($S$7:$S$1504,ROWS($S$7:S550))),\"\",SMALL($S$7:$S$1504,ROWS($S$7:S550)))","v":""},"",{"$f":"IF(ISERROR(SMALL($U$7:$U$1504,ROWS(U$7:$U550))),\"\",SMALL($U$7:$U$1504,ROWS(U$7:$U550)))","v":""},"",{"$f":"IF(ISERROR(SMALL($W$7:$W$1504,ROWS($W$7:W550))),\"\",SMALL($W$7:$W$1504,ROWS($W$7:W550)))","v":""}]
[null,"Šiaulių r. sav.","Darbuotojų skaičius veikiančiose mažose ir vidutinėse įmonėse metų pradžioje | vnt.",6382,5639,5502,5757,5967,6063,6323,6439,6442,6641,6622,6155,6177,6280,{"$f":"ROWS($R$7:R551)","v":545},"",{"$f":"IF(ISERROR(SMALL($S$7:$S$1504,ROWS($S$7:S551))),\"\",SMALL($S$7:$S$1504,ROWS($S$7:S551)))","v":""},"",{"$f":"IF(ISERROR(SMALL($U$7:$U$1504,ROWS(U$7:$U551))),\"\",SMALL($U$7:$U$1504,ROWS(U$7:$U551)))","v":""},"",{"$f":"IF(ISERROR(SMALL($W$7:$W$1504,ROWS($W$7:W551))),\"\",SMALL($W$7:$W$1504,ROWS($W$7:W551)))","v":""}]
[null,"Tauragės apskritis","Darbuotojų skaičius veikiančiose mažose ir vidutinėse įmonėse metų pradžioje | vnt.",16928,14850,14691,15555,15310,15310,15697,15188,15667,14820,14836,13972,13361,14279,{"$f":"ROWS($R$7:R552)","v":546},"",{"$f":"IF(ISERROR(SMALL($S$7:$S$1504,ROWS($S$7:S552))),\"\",SMALL($S$7:$S$1504,ROWS($S$7:S552)))","v":""},"",{"$f":"IF(ISERROR(SMALL($U$7:$U$1504,ROWS(U$7:$U552))),\"\",SMALL($U$7:$U$1504,ROWS(U$7:$U552)))","v":""},"",{"$f":"IF(ISERROR(SMALL($W$7:$W$1504,ROWS($W$7:W552))),\"\",SMALL($W$7:$W$1504,ROWS($W$7:W552)))","v":""}]
[null,"Jurbarko r. sav.","Darbuotojų skaičius veikiančiose mažose ir vidutinėse įmonėse metų pradžioje | vnt.",3358,3092,2999,3227,2990,3077,3393,3290,3777,3209,3251,3065,2909,3014,{"$f":"ROWS($R$7:R553)","v":547},"",{"$f":"IF(ISERROR(SMALL($S$7:$S$1504,ROWS($S$7:S553))),\"\",SMALL($S$7:$S$1504,ROWS($S$7:S553)))","v":""},"",{"$f":"IF(ISERROR(SMALL($U$7:$U$1504,ROWS(U$7:$U553))),\"\",SMALL($U$7:$U$1504,ROWS(U$7:$U553)))","v":""},"",{"$f":"IF(ISERROR(SMALL($W$7:$W$1504,ROWS($W$7:W553))),\"\",SMALL($W$7:$W$1504,ROWS($W$7:W553)))","v":""}]
[null,"Pagėgių sav.","Darbuotojų skaičius veikiančiose mažose ir vidutinėse įmonėse metų pradžioje | vnt.",861,848,853,928,988,1006,810,688,732,708,667,561,559,615,{"$f":"ROWS($R$7:R554)","v":548},"",{"$f":"IF(ISERROR(SMALL($S$7:$S$1504,ROWS($S$7:S554))),\"\",SMALL($S$7:$S$1504,ROWS($S$7:S554)))","v":""},"",{"$f":"IF(ISERROR(SMALL($U$7:$U$1504,ROWS(U$7:$U554))),\"\",SMALL($U$7:$U$1504,ROWS(U$7:$U554)))","v":""},"",{"$f":"IF(ISERROR(SMALL($W$7:$W$1504,ROWS($W$7:W554))),\"\",SMALL($W$7:$W$1504,ROWS($W$7:W554)))","v":""}]
[null,"Šilalės r. sav.","Darbuotojų skaičius veikiančiose mažose ir vidutinėse įmonėse metų pradžioje | vnt.",3266,2889,3036,3050,3086,2981,3244,3188,3158,3209,3276,3117,2878,3113,{"$f":"ROWS($R$7:R555)","v":549},"",{"$f":"IF(ISERROR(SMALL($S$7:$S$1504,ROWS($S$7:S555))),\"\",SMALL($S$7:$S$1504,ROWS($S$7:S555)))","v":""},"",{"$f":"IF(ISERROR(SMALL($U$7:$U$1504,ROWS(U$7:$U555))),\"\",SMALL($U$7:$U$1504,ROWS(U$7:$U555)))","v":""},"",{"$f":"IF(ISERROR(SMALL($W$7:$W$1504,ROWS($W$7:W555))),\"\",SMALL($W$7:$W$1504,ROWS($W$7:W555)))","v":""}]
[null,"Tauragės r. sav.","Darbuotojų skaičius veikiančiose mažose ir vidutinėse įmonėse metų pradžioje | vnt.",9443,8021,7803,8350,8246,8246,8250,8022,8000,7694,7642,7229,7015,7537,{"$f":"ROWS($R$7:R556)","v":550},"",{"$f":"IF(ISERROR(SMALL($S$7:$S$1504,ROWS($S$7:S556))),\"\",SMALL($S$7:$S$1504,ROWS($S$7:S556)))","v":""},"",{"$f":"IF(ISERROR(SMALL($U$7:$U$1504,ROWS(U$7:$U556))),\"\",SMALL($U$7:$U$1504,ROWS(U$7:$U556)))","v":""},"",{"$f":"IF(ISERROR(SMALL($W$7:$W$1504,ROWS($W$7:W556))),\"\",SMALL($W$7:$W$1504,ROWS($W$7:W556)))","v":""}]
[null,"Telšių apskritis","Darbuotojų skaičius veikiančiose mažose ir vidutinėse įmonėse metų pradžioje | vnt.",29621,24834,23804,25780,25237,26042,26151,26376,27233,26752,26633,26198,26175,27039,{"$f":"ROWS($R$7:R557)","v":551},"",{"$f":"IF(ISERROR(SMALL($S$7:$S$1504,ROWS($S$7:S557))),\"\",SMALL($S$7:$S$1504,ROWS($S$7:S557)))","v":""},"",{"$f":"IF(ISERROR(SMALL($U$7:$U$1504,ROWS(U$7:$U557))),\"\",SMALL($U$7:$U$1504,ROWS(U$7:$U557)))","v":""},"",{"$f":"IF(ISERROR(SMALL($W$7:$W$1504,ROWS($W$7:W557))),\"\",SMALL($W$7:$W$1504,ROWS($W$7:W557)))","v":""}]
[null,"Mažeikių r. sav.","Darbuotojų skaičius veikiančiose mažose ir vidutinėse įmonėse metų pradžioje | vnt.",13197,11103,10623,11309,11513,11917,11855,12040,12409,12590,12696,12090,11893,12431,{"$f":"ROWS($R$7:R558)","v":552},"",{"$f":"IF(ISERROR(SMALL($S$7:$S$1504,ROWS($S$7:S558))),\"\",SMALL($S$7:$S$1504,ROWS($S$7:S558)))","v":""},"",{"$f":"IF(ISERROR(SMALL($U$7:$U$1504,ROWS(U$7:$U558))),\"\",SMALL($U$7:$U$1504,ROWS(U$7:$U558)))","v":""},"",{"$f":"IF(ISERROR(SMALL($W$7:$W$1504,ROWS($W$7:W558))),\"\",SMALL($W$7:$W$1504,ROWS($W$7:W558)))","v":""}]
[null,"Plungės r. sav.","Darbuotojų skaičius veikiančiose mažose ir vidutinėse įmonėse metų pradžioje | vnt.",6227,5921,5360,6237,5754,6039,5959,5992,6238,6169,6190,6296,6523,6680,{"$f":"ROWS($R$7:R559)","v":553},"",{"$f":"IF(ISERROR(SMALL($S$7:$S$1504,ROWS($S$7:S559))),\"\",SMALL($S$7:$S$1504,ROWS($S$7:S559)))","v":""},"",{"$f":"IF(ISERROR(SMALL($U$7:$U$1504,ROWS(U$7:$U559))),\"\",SMALL($U$7:$U$1504,ROWS(U$7:$U559)))","v":""},"",{"$f":"IF(ISERROR(SMALL($W$7:$W$1504,ROWS($W$7:W559))),\"\",SMALL($W$7:$W$1504,ROWS($W$7:W559)))","v":""}]
[null,"Rietavo sav.","Darbuotojų skaičius veikiančiose mažose ir vidutinėse įmonėse metų pradžioje | vnt.",1224,1288,1308,1383,1167,1214,1216,1121,1272,1152,982,992,979,1011,{"$f":"ROWS($R$7:R560)","v":554},"",{"$f":"IF(ISERROR(SMALL($S$7:$S$1504,ROWS($S$7:S560))),\"\",SMALL($S$7:$S$1504,ROWS($S$7:S560)))","v":""},"",{"$f":"IF(ISERROR(SMALL($U$7:$U$1504,ROWS(U$7:$U560))),\"\",SMALL($U$7:$U$1504,ROWS(U$7:$U560)))","v":""},"",{"$f":"IF(ISERROR(SMALL($W$7:$W$1504,ROWS($W$7:W560))),\"\",SMALL($W$7:$W$1504,ROWS($W$7:W560)))","v":""}]
[null,"Telšių r. sav.","Darbuotojų skaičius veikiančiose mažose ir vidutinėse įmonėse metų pradžioje | vnt.",8973,6522,6513,6851,6803,6872,7121,7223,7314,6841,6765,6820,6780,6917,{"$f":"ROWS($R$7:R561)","v":555},"",{"$f":"IF(ISERROR(SMALL($S$7:$S$1504,ROWS($S$7:S561))),\"\",SMALL($S$7:$S$1504,ROWS($S$7:S561)))","v":""},"",{"$f":"IF(ISERROR(SMALL($U$7:$U$1504,ROWS(U$7:$U561))),\"\",SMALL($U$7:$U$1504,ROWS(U$7:$U561)))","v":""},"",{"$f":"IF(ISERROR(SMALL($W$7:$W$1504,ROWS($W$7:W561))),\"\",SMALL($W$7:$W$1504,ROWS($W$7:W561)))","v":""}]
[null,"Utenos apskritis","Darbuotojų skaičius veikiančiose mažose ir vidutinėse įmonėse metų pradžioje | vnt.",21768,19210,18268,18334,18696,18705,19175,18822,18891,17627,17251,16695,16288,16992,{"$f":"ROWS($R$7:R562)","v":556},"",{"$f":"IF(ISERROR(SMALL($S$7:$S$1504,ROWS($S$7:S562))),\"\",SMALL($S$7:$S$1504,ROWS($S$7:S562)))","v":""},"",{"$f":"IF(ISERROR(SMALL($U$7:$U$1504,ROWS(U$7:$U562))),\"\",SMALL($U$7:$U$1504,ROWS(U$7:$U562)))","v":""},"",{"$f":"IF(ISERROR(SMALL($W$7:$W$1504,ROWS($W$7:W562))),\"\",SMALL($W$7:$W$1504,ROWS($W$7:W562)))","v":""}]
[null,"Anykščių r. sav.","Darbuotojų skaičius veikiančiose mažose ir vidutinėse įmonėse metų pradžioje | vnt.",3387,3106,3018,3065,3166,3250,3296,3333,3402,3159,3161,3035,3082,3273,{"$f":"ROWS($R$7:R563)","v":557},"",{"$f":"IF(ISERROR(SMALL($S$7:$S$1504,ROWS($S$7:S563))),\"\",SMALL($S$7:$S$1504,ROWS($S$7:S563)))","v":""},"",{"$f":"IF(ISERROR(SMALL($U$7:$U$1504,ROWS(U$7:$U563))),\"\",SMALL($U$7:$U$1504,ROWS(U$7:$U563)))","v":""},"",{"$f":"IF(ISERROR(SMALL($W$7:$W$1504,ROWS($W$7:W563))),\"\",SMALL($W$7:$W$1504,ROWS($W$7:W563)))","v":""}]
[null,"Ignalinos r. sav.","Darbuotojų skaičius veikiančiose mažose ir vidutinėse įmonėse metų pradžioje | vnt.",1938,1670,1682,1711,1591,1622,1655,1598,1610,1524,1554,1404,1349,1461,{"$f":"ROWS($R$7:R564)","v":558},"",{"$f":"IF(ISERROR(SMALL($S$7:$S$1504,ROWS($S$7:S564))),\"\",SMALL($S$7:$S$1504,ROWS($S$7:S564)))","v":""},"",{"$f":"IF(ISERROR(SMALL($U$7:$U$1504,ROWS(U$7:$U564))),\"\",SMALL($U$7:$U$1504,ROWS(U$7:$U564)))","v":""},"",{"$f":"IF(ISERROR(SMALL($W$7:$W$1504,ROWS($W$7:W564))),\"\",SMALL($W$7:$W$1504,ROWS($W$7:W564)))","v":""}]
[null,"Molėtų r. sav.","Darbuotojų skaičius veikiančiose mažose ir vidutinėse įmonėse metų pradžioje | vnt.",2478,2597,2519,2206,2456,2520,2675,2588,2592,2284,2312,2197,2256,2426,{"$f":"ROWS($R$7:R565)","v":559},"",{"$f":"IF(ISERROR(SMALL($S$7:$S$1504,ROWS($S$7:S565))),\"\",SMALL($S$7:$S$1504,ROWS($S$7:S565)))","v":""},"",{"$f":"IF(ISERROR(SMALL($U$7:$U$1504,ROWS(U$7:$U565))),\"\",SMALL($U$7:$U$1504,ROWS(U$7:$U565)))","v":""},"",{"$f":"IF(ISERROR(SMALL($W$7:$W$1504,ROWS($W$7:W565))),\"\",SMALL($W$7:$W$1504,ROWS($W$7:W565)))","v":""}]
[null,"Utenos r. sav.","Darbuotojų skaičius veikiančiose mažose ir vidutinėse įmonėse metų pradžioje | vnt.",7827,6281,6012,6398,6676,6534,6744,6549,6896,6672,6333,6306,5999,6143,{"$f":"ROWS($R$7:R566)","v":560},"",{"$f":"IF(ISERROR(SMALL($S$7:$S$1504,ROWS($S$7:S566))),\"\",SMALL($S$7:$S$1504,ROWS($S$7:S566)))","v":""},"",{"$f":"IF(ISERROR(SMALL($U$7:$U$1504,ROWS(U$7:$U566))),\"\",SMALL($U$7:$U$1504,ROWS(U$7:$U566)))","v":""},"",{"$f":"IF(ISERROR(SMALL($W$7:$W$1504,ROWS($W$7:W566))),\"\",SMALL($W$7:$W$1504,ROWS($W$7:W566)))","v":""}]
[null,"Visagino sav.","Darbuotojų skaičius veikiančiose mažose ir vidutinėse įmonėse metų pradžioje | vnt.",4086,3764,3357,3284,3065,2983,2916,2892,2640,2374,2319,2128,2032,2115,{"$f":"ROWS($R$7:R567)","v":561},"",{"$f":"IF(ISERROR(SMALL($S$7:$S$1504,ROWS($S$7:S567))),\"\",SMALL($S$7:$S$1504,ROWS($S$7:S567)))","v":""},"",{"$f":"IF(ISERROR(SMALL($U$7:$U$1504,ROWS(U$7:$U567))),\"\",SMALL($U$7:$U$1504,ROWS(U$7:$U567)))","v":""},"",{"$f":"IF(ISERROR(SMALL($W$7:$W$1504,ROWS($W$7:W567))),\"\",SMALL($W$7:$W$1504,ROWS($W$7:W567)))","v":""}]
[null,"Zarasų r. sav.","Darbuotojų skaičius veikiančiose mažose ir vidutinėse įmonėse metų pradžioje | vnt.",2052,1792,1680,1670,1742,1796,1889,1862,1751,1614,1572,1625,1570,1574,{"$f":"ROWS($R$7:R568)","v":562},"",{"$f":"IF(ISERROR(SMALL($S$7:$S$1504,ROWS($S$7:S568))),\"\",SMALL($S$7:$S$1504,ROWS($S$7:S568)))","v":""},"",{"$f":"IF(ISERROR(SMALL($U$7:$U$1504,ROWS(U$7:$U568))),\"\",SMALL($U$7:$U$1504,ROWS(U$7:$U568)))","v":""},"",{"$f":"IF(ISERROR(SMALL($W$7:$W$1504,ROWS($W$7:W568))),\"\",SMALL($W$7:$W$1504,ROWS($W$7:W568)))","v":""}]
[null,"Vilniaus apskritis","Darbuotojų skaičius veikiančiose mažose ir vidutinėse įmonėse metų pradžioje | vnt.",256915,225900,219250,232401,237440,250944,258435,264940,267298,265155,263602,260155,260995,277600,{"$f":"ROWS($R$7:R569)","v":563},"",{"$f":"IF(ISERROR(SMALL($S$7:$S$1504,ROWS($S$7:S569))),\"\",SMALL($S$7:$S$1504,ROWS($S$7:S569)))","v":""},563,{"$f":"IF(ISERROR(SMALL($U$7:$U$1504,ROWS(U$7:$U569))),\"\",SMALL($U$7:$U$1504,ROWS(U$7:$U569)))","v":""},"",{"$f":"IF(ISERROR(SMALL($W$7:$W$1504,ROWS($W$7:W569))),\"\",SMALL($W$7:$W$1504,ROWS($W$7:W569)))","v":""}]
[null,"Elektrėnų sav.","Darbuotojų skaičius veikiančiose mažose ir vidutinėse įmonėse metų pradžioje | vnt.",3921,3450,3114,3498,3342,4031,4330,4452,4710,4541,4455,4569,4611,4787,{"$f":"ROWS($R$7:R570)","v":564},"",{"$f":"IF(ISERROR(SMALL($S$7:$S$1504,ROWS($S$7:S570))),\"\",SMALL($S$7:$S$1504,ROWS($S$7:S570)))","v":""},"",{"$f":"IF(ISERROR(SMALL($U$7:$U$1504,ROWS(U$7:$U570))),\"\",SMALL($U$7:$U$1504,ROWS(U$7:$U570)))","v":""},"",{"$f":"IF(ISERROR(SMALL($W$7:$W$1504,ROWS($W$7:W570))),\"\",SMALL($W$7:$W$1504,ROWS($W$7:W570)))","v":""}]
[null,"Šalčininkų r. sav.","Darbuotojų skaičius veikiančiose mažose ir vidutinėse įmonėse metų pradžioje | vnt.",3579,2885,2810,3134,3165,3394,3521,3537,3399,3517,3718,3756,3798,4089,{"$f":"ROWS($R$7:R571)","v":565},"",{"$f":"IF(ISERROR(SMALL($S$7:$S$1504,ROWS($S$7:S571))),\"\",SMALL($S$7:$S$1504,ROWS($S$7:S571)))","v":""},"",{"$f":"IF(ISERROR(SMALL($U$7:$U$1504,ROWS(U$7:$U571))),\"\",SMALL($U$7:$U$1504,ROWS(U$7:$U571)))","v":""},"",{"$f":"IF(ISERROR(SMALL($W$7:$W$1504,ROWS($W$7:W571))),\"\",SMALL($W$7:$W$1504,ROWS($W$7:W571)))","v":""}]
[null,"Širvintų r. sav.","Darbuotojų skaičius veikiančiose mažose ir vidutinėse įmonėse metų pradžioje | vnt.",1648,1535,1498,1546,1639,1799,1867,2029,2164,2102,2087,2199,2308,2507,{"$f":"ROWS($R$7:R572)","v":566},"",{"$f":"IF(ISERROR(SMALL($S$7:$S$1504,ROWS($S$7:S572))),\"\",SMALL($S$7:$S$1504,ROWS($S$7:S572)))","v":""},"",{"$f":"IF(ISERROR(SMALL($U$7:$U$1504,ROWS(U$7:$U572))),\"\",SMALL($U$7:$U$1504,ROWS(U$7:$U572)))","v":""},"",{"$f":"IF(ISERROR(SMALL($W$7:$W$1504,ROWS($W$7:W572))),\"\",SMALL($W$7:$W$1504,ROWS($W$7:W572)))","v":""}]
[null,"Švenčionių r. sav.","Darbuotojų skaičius veikiančiose mažose ir vidutinėse įmonėse metų pradžioje | vnt.",2842,2444,2345,2465,2481,2547,2712,2489,2564,2390,2339,2317,2308,2460,{"$f":"ROWS($R$7:R573)","v":567},"",{"$f":"IF(ISERROR(SMALL($S$7:$S$1504,ROWS($S$7:S573))),\"\",SMALL($S$7:$S$1504,ROWS($S$7:S573)))","v":""},"",{"$f":"IF(ISERROR(SMALL($U$7:$U$1504,ROWS(U$7:$U573))),\"\",SMALL($U$7:$U$1504,ROWS(U$7:$U573)))","v":""},"",{"$f":"IF(ISERROR(SMALL($W$7:$W$1504,ROWS($W$7:W573))),\"\",SMALL($W$7:$W$1504,ROWS($W$7:W573)))","v":""}]
[null,"Trakų r. sav.","Darbuotojų skaičius veikiančiose mažose ir vidutinėse įmonėse metų pradžioje | vnt.",5715,5186,5066,5250,5184,5256,5348,5422,5207,5253,5245,5001,5006,5498,{"$f":"ROWS($R$7:R574)","v":568},"",{"$f":"IF(ISERROR(SMALL($S$7:$S$1504,ROWS($S$7:S574))),\"\",SMALL($S$7:$S$1504,ROWS($S$7:S574)))","v":""},"",{"$f":"IF(ISERROR(SMALL($U$7:$U$1504,ROWS(U$7:$U574))),\"\",SMALL($U$7:$U$1504,ROWS(U$7:$U574)))","v":""},"",{"$f":"IF(ISERROR(SMALL($W$7:$W$1504,ROWS($W$7:W574))),\"\",SMALL($W$7:$W$1504,ROWS($W$7:W574)))","v":""}]
[null,"Ukmergės r. sav.","Darbuotojų skaičius veikiančiose mažose ir vidutinėse įmonėse metų pradžioje | vnt.",6630,6714,6420,6731,6896,6932,6826,6973,6996,6613,6416,6718,6438,6352,{"$f":"ROWS($R$7:R575)","v":569},"",{"$f":"IF(ISERROR(SMALL($S$7:$S$1504,ROWS($S$7:S575))),\"\",SMALL($S$7:$S$1504,ROWS($S$7:S575)))","v":""},"",{"$f":"IF(ISERROR(SMALL($U$7:$U$1504,ROWS(U$7:$U575))),\"\",SMALL($U$7:$U$1504,ROWS(U$7:$U575)))","v":""},"",{"$f":"IF(ISERROR(SMALL($W$7:$W$1504,ROWS($W$7:W575))),\"\",SMALL($W$7:$W$1504,ROWS($W$7:W575)))","v":""}]
[null,"Vilniaus m. sav.","Darbuotojų skaičius veikiančiose mažose ir vidutinėse įmonėse metų pradžioje | vnt.",220646,192432,186157,196564,200480,212049,217827,223023,224590,222943,221149,216689,216992,230859,{"$f":"ROWS($R$7:R576)","v":570},570,{"$f":"IF(ISERROR(SMALL($S$7:$S$1504,ROWS($S$7:S576))),\"\",SMALL($S$7:$S$1504,ROWS($S$7:S576)))","v":""},"",{"$f":"IF(ISERROR(SMALL($U$7:$U$1504,ROWS(U$7:$U576))),\"\",SMALL($U$7:$U$1504,ROWS(U$7:$U576)))","v":""},"",{"$f":"IF(ISERROR(SMALL($W$7:$W$1504,ROWS($W$7:W576))),\"\",SMALL($W$7:$W$1504,ROWS($W$7:W576)))","v":""}]
[null,"Vilniaus r. sav.","Darbuotojų skaičius veikiančiose mažose ir vidutinėse įmonėse metų pradžioje | vnt.",11934,11254,11840,13213,14253,14917,16004,17015,17668,17796,18193,18906,19534,21048,{"$f":"ROWS($R$7:R577)","v":571},"",{"$f":"IF(ISERROR(SMALL($S$7:$S$1504,ROWS($S$7:S577))),\"\",SMALL($S$7:$S$1504,ROWS($S$7:S577)))","v":""},"",{"$f":"IF(ISERROR(SMALL($U$7:$U$1504,ROWS(U$7:$U577))),\"\",SMALL($U$7:$U$1504,ROWS(U$7:$U577)))","v":""},"",{"$f":"IF(ISERROR(SMALL($W$7:$W$1504,ROWS($W$7:W577))),\"\",SMALL($W$7:$W$1504,ROWS($W$7:W577)))","v":""}]
[null,"Lietuvos Respublika","Darbuotojų skaičius veikiančiose įmonėse metų pradžioje | vnt.",995148,834408,806359,847365,865974,901324,928022,939388,951548,948024,960147,958041,952156,992770,{"$f":"ROWS($R$7:R578)","v":572},"",{"$f":"IF(ISERROR(SMALL($S$7:$S$1504,ROWS($S$7:S578))),\"\",SMALL($S$7:$S$1504,ROWS($S$7:S578)))","v":""},"",{"$f":"IF(ISERROR(SMALL($U$7:$U$1504,ROWS(U$7:$U578))),\"\",SMALL($U$7:$U$1504,ROWS(U$7:$U578)))","v":""},572,{"$f":"IF(ISERROR(SMALL($W$7:$W$1504,ROWS($W$7:W578))),\"\",SMALL($W$7:$W$1504,ROWS($W$7:W578)))","v":""}]
[null,"Alytaus apskritis","Darbuotojų skaičius veikiančiose įmonėse metų pradžioje | vnt.",31715,26483,25238,25887,26114,26932,27936,27995,27975,27925,27440,26327,26393,26976,{"$f":"ROWS($R$7:R579)","v":573},"",{"$f":"IF(ISERROR(SMALL($S$7:$S$1504,ROWS($S$7:S579))),\"\",SMALL($S$7:$S$1504,ROWS($S$7:S579)))","v":""},"",{"$f":"IF(ISERROR(SMALL($U$7:$U$1504,ROWS(U$7:$U579))),\"\",SMALL($U$7:$U$1504,ROWS(U$7:$U579)))","v":""},"",{"$f":"IF(ISERROR(SMALL($W$7:$W$1504,ROWS($W$7:W579))),\"\",SMALL($W$7:$W$1504,ROWS($W$7:W579)))","v":""}]
[null,"Alytaus m. sav.","Darbuotojų skaičius veikiančiose įmonėse metų pradžioje | vnt.",18621,15333,14127,14509,14458,14963,15347,15522,15097,14977,14559,13797,13684,13989,{"$f":"ROWS($R$7:R580)","v":574},"",{"$f":"IF(ISERROR(SMALL($S$7:$S$1504,ROWS($S$7:S580))),\"\",SMALL($S$7:$S$1504,ROWS($S$7:S580)))","v":""},"",{"$f":"IF(ISERROR(SMALL($U$7:$U$1504,ROWS(U$7:$U580))),\"\",SMALL($U$7:$U$1504,ROWS(U$7:$U580)))","v":""},"",{"$f":"IF(ISERROR(SMALL($W$7:$W$1504,ROWS($W$7:W580))),\"\",SMALL($W$7:$W$1504,ROWS($W$7:W580)))","v":""}]
[null,"Alytaus r. sav.","Darbuotojų skaičius veikiančiose įmonėse metų pradžioje | vnt.",2375,2061,2100,2064,2093,2099,2302,2436,2812,2952,3119,3165,3394,3696,{"$f":"ROWS($R$7:R581)","v":575},"",{"$f":"IF(ISERROR(SMALL($S$7:$S$1504,ROWS($S$7:S581))),\"\",SMALL($S$7:$S$1504,ROWS($S$7:S581)))","v":""},"",{"$f":"IF(ISERROR(SMALL($U$7:$U$1504,ROWS(U$7:$U581))),\"\",SMALL($U$7:$U$1504,ROWS(U$7:$U581)))","v":""},"",{"$f":"IF(ISERROR(SMALL($W$7:$W$1504,ROWS($W$7:W581))),\"\",SMALL($W$7:$W$1504,ROWS($W$7:W581)))","v":""}]
[null,"Druskininkų sav.","Darbuotojų skaičius veikiančiose įmonėse metų pradžioje | vnt.",5252,4295,4262,4563,4744,5117,5350,5405,5518,5524,5574,5653,5554,5309,{"$f":"ROWS($R$7:R582)","v":576},"",{"$f":"IF(ISERROR(SMALL($S$7:$S$1504,ROWS($S$7:S582))),\"\",SMALL($S$7:$S$1504,ROWS($S$7:S582)))","v":""},"",{"$f":"IF(ISERROR(SMALL($U$7:$U$1504,ROWS(U$7:$U582))),\"\",SMALL($U$7:$U$1504,ROWS(U$7:$U582)))","v":""},"",{"$f":"IF(ISERROR(SMALL($W$7:$W$1504,ROWS($W$7:W582))),\"\",SMALL($W$7:$W$1504,ROWS($W$7:W582)))","v":""}]
[null,"Lazdijų r. sav.","Darbuotojų skaičius veikiančiose įmonėse metų pradžioje | vnt.",1929,1740,1812,1709,1828,1789,1783,1586,1547,1565,1542,1426,1390,1552,{"$f":"ROWS($R$7:R583)","v":577},{"$f":"IF(ISNUMBER(SEARCH($R$3,B583)),R583,\"\")","v":""},{"$f":"IF(ISERROR(SMALL($S$7:$S$1504,ROWS($S$7:S583))),\"\",SMALL($S$7:$S$1504,ROWS($S$7:S583)))","v":""},{"$f":"IF($R$4=B583,R583,\"\")","v":""},{"$f":"IF(ISERROR(SMALL($U$7:$U$1504,ROWS(U$7:$U583))),\"\",SMALL($U$7:$U$1504,ROWS(U$7:$U583)))","v":""},{"$f":"IF(\"Lietuvos Respublika\"=B583,R583,\"\")","v":""},{"$f":"IF(ISERROR(SMALL($W$7:$W$1504,ROWS($W$7:W583))),\"\",SMALL($W$7:$W$1504,ROWS($W$7:W583)))","v":""}]
[null,"Varėnos r. sav.","Darbuotojų skaičius veikiančiose įmonėse metų pradžioje | vnt.",3538,3054,2937,3042,2991,2964,3154,3046,3001,2907,2646,2286,2371,2430,{"$f":"ROWS($R$7:R584)","v":578},"",{"$f":"IF(ISERROR(SMALL($S$7:$S$1504,ROWS($S$7:S584))),\"\",SMALL($S$7:$S$1504,ROWS($S$7:S584)))","v":""},"",{"$f":"IF(ISERROR(SMALL($U$7:$U$1504,ROWS(U$7:$U584))),\"\",SMALL($U$7:$U$1504,ROWS(U$7:$U584)))","v":""},"",{"$f":"IF(ISERROR(SMALL($W$7:$W$1504,ROWS($W$7:W584))),\"\",SMALL($W$7:$W$1504,ROWS($W$7:W584)))","v":""}]
[null,"Kauno apskritis","Darbuotojų skaičius veikiančiose įmonėse metų pradžioje | vnt.",199305,170949,164429,170948,173799,180509,185398,190949,194338,196847,197837,197534,196466,204382,{"$f":"ROWS($R$7:R585)","v":579},"",{"$f":"IF(ISERROR(SMALL($S$7:$S$1504,ROWS($S$7:S585))),\"\",SMALL($S$7:$S$1504,ROWS($S$7:S585)))","v":""},"",{"$f":"IF(ISERROR(SMALL($U$7:$U$1504,ROWS(U$7:$U585))),\"\",SMALL($U$7:$U$1504,ROWS(U$7:$U585)))","v":""},"",{"$f":"IF(ISERROR(SMALL($W$7:$W$1504,ROWS($W$7:W585))),\"\",SMALL($W$7:$W$1504,ROWS($W$7:W585)))","v":""}]
[null,"Birštono sav.","Darbuotojų skaičius veikiančiose įmonėse metų pradžioje | vnt.",671,618,686,669,636,640,695,709,747,926,996,1073,1303,1374,{"$f":"ROWS($R$7:R586)","v":580},"",{"$f":"IF(ISERROR(SMALL($S$7:$S$1504,ROWS($S$7:S586))),\"\",SMALL($S$7:$S$1504,ROWS($S$7:S586)))","v":""},"",{"$f":"IF(ISERROR(SMALL($U$7:$U$1504,ROWS(U$7:$U586))),\"\",SMALL($U$7:$U$1504,ROWS(U$7:$U586)))","v":""},"",{"$f":"IF(ISERROR(SMALL($W$7:$W$1504,ROWS($W$7:W586))),\"\",SMALL($W$7:$W$1504,ROWS($W$7:W586)))","v":""}]
[null,"Jonavos r. sav.","Darbuotojų skaičius veikiančiose įmonėse metų pradžioje | vnt.",11530,9240,8623,8511,8548,8511,8429,8692,8722,8712,8845,8806,8605,8723,{"$f":"ROWS($R$7:R587)","v":581},"",{"$f":"IF(ISERROR(SMALL($S$7:$S$1504,ROWS($S$7:S587))),\"\",SMALL($S$7:$S$1504,ROWS($S$7:S587)))","v":""},"",{"$f":"IF(ISERROR(SMALL($U$7:$U$1504,ROWS(U$7:$U587))),\"\",SMALL($U$7:$U$1504,ROWS(U$7:$U587)))","v":""},"",{"$f":"IF(ISERROR(SMALL($W$7:$W$1504,ROWS($W$7:W587))),\"\",SMALL($W$7:$W$1504,ROWS($W$7:W587)))","v":""}]
[null,"Kaišiadorių r. sav.","Darbuotojų skaičius veikiančiose įmonėse metų pradžioje | vnt.",7142,6518,6284,6063,5985,6018,6165,6255,6130,6070,5836,5513,5312,5251,{"$f":"ROWS($R$7:R588)","v":582},"",{"$f":"IF(ISERROR(SMALL($S$7:$S$1504,ROWS($S$7:S588))),\"\",SMALL($S$7:$S$1504,ROWS($S$7:S588)))","v":""},"",{"$f":"IF(ISERROR(SMALL($U$7:$U$1504,ROWS(U$7:$U588))),\"\",SMALL($U$7:$U$1504,ROWS(U$7:$U588)))","v":""},"",{"$f":"IF(ISERROR(SMALL($W$7:$W$1504,ROWS($W$7:W588))),\"\",SMALL($W$7:$W$1504,ROWS($W$7:W588)))","v":""}]
[null,"Kauno m. sav.","Darbuotojų skaičius veikiančiose įmonėse metų pradžioje | vnt.",143936,122643,116259,120970,123091,126484,129388,132918,134908,137233,136685,136176,134745,138454,{"$f":"ROWS($R$7:R589)","v":583},"",{"$f":"IF(ISERROR(SMALL($S$7:$S$1504,ROWS($S$7:S589))),\"\",SMALL($S$7:$S$1504,ROWS($S$7:S589)))","v":""},"",{"$f":"IF(ISERROR(SMALL($U$7:$U$1504,ROWS(U$7:$U589))),\"\",SMALL($U$7:$U$1504,ROWS(U$7:$U589)))","v":""},"",{"$f":"IF(ISERROR(SMALL($W$7:$W$1504,ROWS($W$7:W589))),\"\",SMALL($W$7:$W$1504,ROWS($W$7:W589)))","v":""}]
[null,"Kauno r. sav.","Darbuotojų skaičius veikiančiose įmonėse metų pradžioje | vnt.",15299,13950,14907,16535,17334,20107,21519,23113,24512,24990,27000,27814,28450,31881,{"$f":"ROWS($R$7:R590)","v":584},"",{"$f":"IF(ISERROR(SMALL($S$7:$S$1504,ROWS($S$7:S590))),\"\",SMALL($S$7:$S$1504,ROWS($S$7:S590)))","v":""},"",{"$f":"IF(ISERROR(SMALL($U$7:$U$1504,ROWS(U$7:$U590))),\"\",SMALL($U$7:$U$1504,ROWS(U$7:$U590)))","v":""},"",{"$f":"IF(ISERROR(SMALL($W$7:$W$1504,ROWS($W$7:W590))),\"\",SMALL($W$7:$W$1504,ROWS($W$7:W590)))","v":""}]
[null,"Kėdainių r. sav.","Darbuotojų skaičius veikiančiose įmonėse metų pradžioje | vnt.",10833,9206,8855,9022,9278,9459,9646,9562,9702,9422,9368,9132,9123,9199,{"$f":"ROWS($R$7:R591)","v":585},"",{"$f":"IF(ISERROR(SMALL($S$7:$S$1504,ROWS($S$7:S591))),\"\",SMALL($S$7:$S$1504,ROWS($S$7:S591)))","v":""},"",{"$f":"IF(ISERROR(SMALL($U$7:$U$1504,ROWS(U$7:$U591))),\"\",SMALL($U$7:$U$1504,ROWS(U$7:$U591)))","v":""},"",{"$f":"IF(ISERROR(SMALL($W$7:$W$1504,ROWS($W$7:W591))),\"\",SMALL($W$7:$W$1504,ROWS($W$7:W591)))","v":""}]
[null,"Prienų r. sav.","Darbuotojų skaičius veikiančiose įmonėse metų pradžioje | vnt.",3652,3262,3179,3317,3221,3293,3529,3535,3495,3475,3346,3427,3303,3657,{"$f":"ROWS($R$7:R592)","v":586},"",{"$f":"IF(ISERROR(SMALL($S$7:$S$1504,ROWS($S$7:S592))),\"\",SMALL($S$7:$S$1504,ROWS($S$7:S592)))","v":""},"",{"$f":"IF(ISERROR(SMALL($U$7:$U$1504,ROWS(U$7:$U592))),\"\",SMALL($U$7:$U$1504,ROWS(U$7:$U592)))","v":""},"",{"$f":"IF(ISERROR(SMALL($W$7:$W$1504,ROWS($W$7:W592))),\"\",SMALL($W$7:$W$1504,ROWS($W$7:W592)))","v":""}]
[null,"Raseinių r. sav.","Darbuotojų skaičius veikiančiose įmonėse metų pradžioje | vnt.",6242,5512,5636,5861,5706,5997,6027,6165,6122,6019,5761,5593,5625,5843,{"$f":"ROWS($R$7:R593)","v":587},"",{"$f":"IF(ISERROR(SMALL($S$7:$S$1504,ROWS($S$7:S593))),\"\",SMALL($S$7:$S$1504,ROWS($S$7:S593)))","v":""},"",{"$f":"IF(ISERROR(SMALL($U$7:$U$1504,ROWS(U$7:$U593))),\"\",SMALL($U$7:$U$1504,ROWS(U$7:$U593)))","v":""},"",{"$f":"IF(ISERROR(SMALL($W$7:$W$1504,ROWS($W$7:W593))),\"\",SMALL($W$7:$W$1504,ROWS($W$7:W593)))","v":""}]
[null,"Klaipėdos apskritis","Darbuotojų skaičius veikiančiose įmonėse metų pradžioje | vnt.",99629,85101,80410,84986,87474,92086,94888,95405,96962,95405,98028,98637,97328,101489,{"$f":"ROWS($R$7:R594)","v":588},"",{"$f":"IF(ISERROR(SMALL($S$7:$S$1504,ROWS($S$7:S594))),\"\",SMALL($S$7:$S$1504,ROWS($S$7:S594)))","v":""},"",{"$f":"IF(ISERROR(SMALL($U$7:$U$1504,ROWS(U$7:$U594))),\"\",SMALL($U$7:$U$1504,ROWS(U$7:$U594)))","v":""},"",{"$f":"IF(ISERROR(SMALL($W$7:$W$1504,ROWS($W$7:W594))),\"\",SMALL($W$7:$W$1504,ROWS($W$7:W594)))","v":""}]
[null,"Klaipėdos m. sav.","Darbuotojų skaičius veikiančiose įmonėse metų pradžioje | vnt.",64232,54420,50659,53490,55415,58181,60014,59381,60435,58095,59742,60694,59523,62431,{"$f":"ROWS($R$7:R595)","v":589},"",{"$f":"IF(ISERROR(SMALL($S$7:$S$1504,ROWS($S$7:S595))),\"\",SMALL($S$7:$S$1504,ROWS($S$7:S595)))","v":""},"",{"$f":"IF(ISERROR(SMALL($U$7:$U$1504,ROWS(U$7:$U595))),\"\",SMALL($U$7:$U$1504,ROWS(U$7:$U595)))","v":""},"",{"$f":"IF(ISERROR(SMALL($W$7:$W$1504,ROWS($W$7:W595))),\"\",SMALL($W$7:$W$1504,ROWS($W$7:W595)))","v":""}]
[null,"Klaipėdos r. sav.","Darbuotojų skaičius veikiančiose įmonėse metų pradžioje | vnt.",12229,10689,10541,11760,12025,13135,13801,14367,14710,15422,16811,16728,16578,17048,{"$f":"ROWS($R$7:R596)","v":590},"",{"$f":"IF(ISERROR(SMALL($S$7:$S$1504,ROWS($S$7:S596))),\"\",SMALL($S$7:$S$1504,ROWS($S$7:S596)))","v":""},"",{"$f":"IF(ISERROR(SMALL($U$7:$U$1504,ROWS(U$7:$U596))),\"\",SMALL($U$7:$U$1504,ROWS(U$7:$U596)))","v":""},"",{"$f":"IF(ISERROR(SMALL($W$7:$W$1504,ROWS($W$7:W596))),\"\",SMALL($W$7:$W$1504,ROWS($W$7:W596)))","v":""}]
[null,"Kretingos r. sav.","Darbuotojų skaičius veikiančiose įmonėse metų pradžioje | vnt.",6940,6159,6077,6196,6192,6410,6523,6773,6841,6993,6935,6761,6651,6972,{"$f":"ROWS($R$7:R597)","v":591},"",{"$f":"IF(ISERROR(SMALL($S$7:$S$1504,ROWS($S$7:S597))),\"\",SMALL($S$7:$S$1504,ROWS($S$7:S597)))","v":""},"",{"$f":"IF(ISERROR(SMALL($U$7:$U$1504,ROWS(U$7:$U597))),\"\",SMALL($U$7:$U$1504,ROWS(U$7:$U597)))","v":""},"",{"$f":"IF(ISERROR(SMALL($W$7:$W$1504,ROWS($W$7:W597))),\"\",SMALL($W$7:$W$1504,ROWS($W$7:W597)))","v":""}]
[null,"Neringos sav.","Darbuotojų skaičius veikiančiose įmonėse metų pradžioje | vnt.",896,885,806,928,985,1124,1167,1236,1308,1107,1179,1241,1233,1576,{"$f":"ROWS($R$7:R598)","v":592},"",{"$f":"IF(ISERROR(SMALL($S$7:$S$1504,ROWS($S$7:S598))),\"\",SMALL($S$7:$S$1504,ROWS($S$7:S598)))","v":""},"",{"$f":"IF(ISERROR(SMALL($U$7:$U$1504,ROWS(U$7:$U598))),\"\",SMALL($U$7:$U$1504,ROWS(U$7:$U598)))","v":""},"",{"$f":"IF(ISERROR(SMALL($W$7:$W$1504,ROWS($W$7:W598))),\"\",SMALL($W$7:$W$1504,ROWS($W$7:W598)))","v":""}]
[null,"Palangos m. sav.","Darbuotojų skaičius veikiančiose įmonėse metų pradžioje | vnt.",5192,4289,3877,4027,4019,4145,4370,4404,4547,4757,4381,4609,4846,5093,{"$f":"ROWS($R$7:R599)","v":593},"",{"$f":"IF(ISERROR(SMALL($S$7:$S$1504,ROWS($S$7:S599))),\"\",SMALL($S$7:$S$1504,ROWS($S$7:S599)))","v":""},"",{"$f":"IF(ISERROR(SMALL($U$7:$U$1504,ROWS(U$7:$U599))),\"\",SMALL($U$7:$U$1504,ROWS(U$7:$U599)))","v":""},"",{"$f":"IF(ISERROR(SMALL($W$7:$W$1504,ROWS($W$7:W599))),\"\",SMALL($W$7:$W$1504,ROWS($W$7:W599)))","v":""}]
[null,"Skuodo r. sav.","Darbuotojų skaičius veikiančiose įmonėse metų pradžioje | vnt.",1692,1484,1410,1400,1483,1558,1563,1584,1533,1493,1444,1431,1320,1391,{"$f":"ROWS($R$7:R600)","v":594},"",{"$f":"IF(ISERROR(SMALL($S$7:$S$1504,ROWS($S$7:S600))),\"\",SMALL($S$7:$S$1504,ROWS($S$7:S600)))","v":""},"",{"$f":"IF(ISERROR(SMALL($U$7:$U$1504,ROWS(U$7:$U600))),\"\",SMALL($U$7:$U$1504,ROWS(U$7:$U600)))","v":""},"",{"$f":"IF(ISERROR(SMALL($W$7:$W$1504,ROWS($W$7:W600))),\"\",SMALL($W$7:$W$1504,ROWS($W$7:W600)))","v":""}]
[null,"Šilutės r. sav.","Darbuotojų skaičius veikiančiose įmonėse metų pradžioje | vnt.",8448,7175,7040,7185,7355,7533,7450,7660,7588,7538,7536,7173,7177,6978,{"$f":"ROWS($R$7:R601)","v":595},"",{"$f":"IF(ISERROR(SMALL($S$7:$S$1504,ROWS($S$7:S601))),\"\",SMALL($S$7:$S$1504,ROWS($S$7:S601)))","v":""},"",{"$f":"IF(ISERROR(SMALL($U$7:$U$1504,ROWS(U$7:$U601))),\"\",SMALL($U$7:$U$1504,ROWS(U$7:$U601)))","v":""},"",{"$f":"IF(ISERROR(SMALL($W$7:$W$1504,ROWS($W$7:W601))),\"\",SMALL($W$7:$W$1504,ROWS($W$7:W601)))","v":""}]
[null,"Marijampolės apskritis","Darbuotojų skaičius veikiančiose įmonėse metų pradžioje | vnt.",30780,26142,24805,25814,26139,26144,26996,26591,26439,26071,26483,26162,25984,27017,{"$f":"ROWS($R$7:R602)","v":596},"",{"$f":"IF(ISERROR(SMALL($S$7:$S$1504,ROWS($S$7:S602))),\"\",SMALL($S$7:$S$1504,ROWS($S$7:S602)))","v":""},"",{"$f":"IF(ISERROR(SMALL($U$7:$U$1504,ROWS(U$7:$U602))),\"\",SMALL($U$7:$U$1504,ROWS(U$7:$U602)))","v":""},"",{"$f":"IF(ISERROR(SMALL($W$7:$W$1504,ROWS($W$7:W602))),\"\",SMALL($W$7:$W$1504,ROWS($W$7:W602)))","v":""}]
[null,"Kalvarijos sav.","Darbuotojų skaičius veikiančiose įmonėse metų pradžioje | vnt.",930,764,767,845,805,828,838,879,864,927,973,959,936,1069,{"$f":"ROWS($R$7:R603)","v":597},"",{"$f":"IF(ISERROR(SMALL($S$7:$S$1504,ROWS($S$7:S603))),\"\",SMALL($S$7:$S$1504,ROWS($S$7:S603)))","v":""},"",{"$f":"IF(ISERROR(SMALL($U$7:$U$1504,ROWS(U$7:$U603))),\"\",SMALL($U$7:$U$1504,ROWS(U$7:$U603)))","v":""},"",{"$f":"IF(ISERROR(SMALL($W$7:$W$1504,ROWS($W$7:W603))),\"\",SMALL($W$7:$W$1504,ROWS($W$7:W603)))","v":""}]
[null,"Kazlų Rūdos sav.","Darbuotojų skaičius veikiančiose įmonėse metų pradžioje | vnt.",2678,2429,2289,2246,2222,1827,2280,2270,2298,2092,2252,2243,2318,2392,{"$f":"ROWS($R$7:R604)","v":598},"",{"$f":"IF(ISERROR(SMALL($S$7:$S$1504,ROWS($S$7:S604))),\"\",SMALL($S$7:$S$1504,ROWS($S$7:S604)))","v":""},"",{"$f":"IF(ISERROR(SMALL($U$7:$U$1504,ROWS(U$7:$U604))),\"\",SMALL($U$7:$U$1504,ROWS(U$7:$U604)))","v":""},"",{"$f":"IF(ISERROR(SMALL($W$7:$W$1504,ROWS($W$7:W604))),\"\",SMALL($W$7:$W$1504,ROWS($W$7:W604)))","v":""}]
[null,"Marijampolės sav.","Darbuotojų skaičius veikiančiose įmonėse metų pradžioje | vnt.",18505,15197,14321,14902,15096,15291,15474,15295,15188,15288,15709,15551,15480,16134,{"$f":"ROWS($R$7:R605)","v":599},"",{"$f":"IF(ISERROR(SMALL($S$7:$S$1504,ROWS($S$7:S605))),\"\",SMALL($S$7:$S$1504,ROWS($S$7:S605)))","v":""},"",{"$f":"IF(ISERROR(SMALL($U$7:$U$1504,ROWS(U$7:$U605))),\"\",SMALL($U$7:$U$1504,ROWS(U$7:$U605)))","v":""},"",{"$f":"IF(ISERROR(SMALL($W$7:$W$1504,ROWS($W$7:W605))),\"\",SMALL($W$7:$W$1504,ROWS($W$7:W605)))","v":""}]
[null,"Šakių r. sav.","Darbuotojų skaičius veikiančiose įmonėse metų pradžioje | vnt.",4067,3688,3607,3740,3855,4027,4179,4138,4244,4141,3993,3906,3861,3984,{"$f":"ROWS($R$7:R606)","v":600},"",{"$f":"IF(ISERROR(SMALL($S$7:$S$1504,ROWS($S$7:S606))),\"\",SMALL($S$7:$S$1504,ROWS($S$7:S606)))","v":""},"",{"$f":"IF(ISERROR(SMALL($U$7:$U$1504,ROWS(U$7:$U606))),\"\",SMALL($U$7:$U$1504,ROWS(U$7:$U606)))","v":""},"",{"$f":"IF(ISERROR(SMALL($W$7:$W$1504,ROWS($W$7:W606))),\"\",SMALL($W$7:$W$1504,ROWS($W$7:W606)))","v":""}]
[null,"Vilkaviškio r. sav.","Darbuotojų skaičius veikiančiose įmonėse metų pradžioje | vnt.",4600,4064,3821,4081,4161,4171,4225,4009,3845,3623,3556,3503,3389,3438,{"$f":"ROWS($R$7:R607)","v":601},"",{"$f":"IF(ISERROR(SMALL($S$7:$S$1504,ROWS($S$7:S607))),\"\",SMALL($S$7:$S$1504,ROWS($S$7:S607)))","v":""},"",{"$f":"IF(ISERROR(SMALL($U$7:$U$1504,ROWS(U$7:$U607))),\"\",SMALL($U$7:$U$1504,ROWS(U$7:$U607)))","v":""},"",{"$f":"IF(ISERROR(SMALL($W$7:$W$1504,ROWS($W$7:W607))),\"\",SMALL($W$7:$W$1504,ROWS($W$7:W607)))","v":""}]
[null,"Panevėžio apskritis","Darbuotojų skaičius veikiančiose įmonėse metų pradžioje | vnt.",55605,45691,44224,46564,47813,49501,50447,50853,50572,49562,49051,47863,45757,48532,{"$f":"ROWS($R$7:R608)","v":602},"",{"$f":"IF(ISERROR(SMALL($S$7:$S$1504,ROWS($S$7:S608))),\"\",SMALL($S$7:$S$1504,ROWS($S$7:S608)))","v":""},"",{"$f":"IF(ISERROR(SMALL($U$7:$U$1504,ROWS(U$7:$U608))),\"\",SMALL($U$7:$U$1504,ROWS(U$7:$U608)))","v":""},"",{"$f":"IF(ISERROR(SMALL($W$7:$W$1504,ROWS($W$7:W608))),\"\",SMALL($W$7:$W$1504,ROWS($W$7:W608)))","v":""}]
[null,"Biržų r. sav.","Darbuotojų skaičius veikiančiose įmonėse metų pradžioje | vnt.",3995,3509,3443,3480,3479,3545,3582,3600,3623,3463,3357,3340,3237,3371,{"$f":"ROWS($R$7:R609)","v":603},"",{"$f":"IF(ISERROR(SMALL($S$7:$S$1504,ROWS($S$7:S609))),\"\",SMALL($S$7:$S$1504,ROWS($S$7:S609)))","v":""},"",{"$f":"IF(ISERROR(SMALL($U$7:$U$1504,ROWS(U$7:$U609))),\"\",SMALL($U$7:$U$1504,ROWS(U$7:$U609)))","v":""},"",{"$f":"IF(ISERROR(SMALL($W$7:$W$1504,ROWS($W$7:W609))),\"\",SMALL($W$7:$W$1504,ROWS($W$7:W609)))","v":""}]
[null,"Kupiškio r. sav.","Darbuotojų skaičius veikiančiose įmonėse metų pradžioje | vnt.",3187,2358,2247,2397,2373,2429,2491,2538,2374,2273,2264,2279,2213,2324,{"$f":"ROWS($R$7:R610)","v":604},"",{"$f":"IF(ISERROR(SMALL($S$7:$S$1504,ROWS($S$7:S610))),\"\",SMALL($S$7:$S$1504,ROWS($S$7:S610)))","v":""},"",{"$f":"IF(ISERROR(SMALL($U$7:$U$1504,ROWS(U$7:$U610))),\"\",SMALL($U$7:$U$1504,ROWS(U$7:$U610)))","v":""},"",{"$f":"IF(ISERROR(SMALL($W$7:$W$1504,ROWS($W$7:W610))),\"\",SMALL($W$7:$W$1504,ROWS($W$7:W610)))","v":""}]
[null,"Panevėžio m. sav.","Darbuotojų skaičius veikiančiose įmonėse metų pradžioje | vnt.",33695,26714,25563,26793,27554,28408,28926,29187,29169,28750,28781,27775,26311,27791,{"$f":"ROWS($R$7:R611)","v":605},"",{"$f":"IF(ISERROR(SMALL($S$7:$S$1504,ROWS($S$7:S611))),\"\",SMALL($S$7:$S$1504,ROWS($S$7:S611)))","v":""},"",{"$f":"IF(ISERROR(SMALL($U$7:$U$1504,ROWS(U$7:$U611))),\"\",SMALL($U$7:$U$1504,ROWS(U$7:$U611)))","v":""},"",{"$f":"IF(ISERROR(SMALL($W$7:$W$1504,ROWS($W$7:W611))),\"\",SMALL($W$7:$W$1504,ROWS($W$7:W611)))","v":""}]
[null,"Panevėžio r. sav.","Darbuotojų skaičius veikiančiose įmonėse metų pradžioje | vnt.",5897,5071,4979,5423,5751,6201,6431,6533,6519,6385,6424,6409,6388,6921,{"$f":"ROWS($R$7:R612)","v":606},"",{"$f":"IF(ISERROR(SMALL($S$7:$S$1504,ROWS($S$7:S612))),\"\",SMALL($S$7:$S$1504,ROWS($S$7:S612)))","v":""},"",{"$f":"IF(ISERROR(SMALL($U$7:$U$1504,ROWS(U$7:$U612))),\"\",SMALL($U$7:$U$1504,ROWS(U$7:$U612)))","v":""},"",{"$f":"IF(ISERROR(SMALL($W$7:$W$1504,ROWS($W$7:W612))),\"\",SMALL($W$7:$W$1504,ROWS($W$7:W612)))","v":""}]
[null,"Pasvalio r. sav.","Darbuotojų skaičius veikiančiose įmonėse metų pradžioje | vnt.",3488,3106,3094,3166,3689,3693,3720,3718,3715,3696,3291,3276,2987,3375,{"$f":"ROWS($R$7:R613)","v":607},"",{"$f":"IF(ISERROR(SMALL($S$7:$S$1504,ROWS($S$7:S613))),\"\",SMALL($S$7:$S$1504,ROWS($S$7:S613)))","v":""},"",{"$f":"IF(ISERROR(SMALL($U$7:$U$1504,ROWS(U$7:$U613))),\"\",SMALL($U$7:$U$1504,ROWS(U$7:$U613)))","v":""},"",{"$f":"IF(ISERROR(SMALL($W$7:$W$1504,ROWS($W$7:W613))),\"\",SMALL($W$7:$W$1504,ROWS($W$7:W613)))","v":""}]
[null,"Rokiškio r. sav.","Darbuotojų skaičius veikiančiose įmonėse metų pradžioje | vnt.",5343,4933,4898,5305,4967,5225,5297,5277,5172,4995,4934,4784,4621,4750,{"$f":"ROWS($R$7:R614)","v":608},"",{"$f":"IF(ISERROR(SMALL($S$7:$S$1504,ROWS($S$7:S614))),\"\",SMALL($S$7:$S$1504,ROWS($S$7:S614)))","v":""},"",{"$f":"IF(ISERROR(SMALL($U$7:$U$1504,ROWS(U$7:$U614))),\"\",SMALL($U$7:$U$1504,ROWS(U$7:$U614)))","v":""},"",{"$f":"IF(ISERROR(SMALL($W$7:$W$1504,ROWS($W$7:W614))),\"\",SMALL($W$7:$W$1504,ROWS($W$7:W614)))","v":""}]
[null,"Šiaulių apskritis","Darbuotojų skaičius veikiančiose įmonėse metų pradžioje | vnt.",67990,57912,56186,58901,60303,62355,63813,64420,64509,65031,68263,68828,68558,70448,{"$f":"ROWS($R$7:R615)","v":609},"",{"$f":"IF(ISERROR(SMALL($S$7:$S$1504,ROWS($S$7:S615))),\"\",SMALL($S$7:$S$1504,ROWS($S$7:S615)))","v":""},"",{"$f":"IF(ISERROR(SMALL($U$7:$U$1504,ROWS(U$7:$U615))),\"\",SMALL($U$7:$U$1504,ROWS(U$7:$U615)))","v":""},"",{"$f":"IF(ISERROR(SMALL($W$7:$W$1504,ROWS($W$7:W615))),\"\",SMALL($W$7:$W$1504,ROWS($W$7:W615)))","v":""}]
[null,"Akmenės r. sav.","Darbuotojų skaičius veikiančiose įmonėse metų pradžioje | vnt.",3315,2786,2643,2799,2863,2937,2964,3056,2941,3026,2940,2984,3035,3078,{"$f":"ROWS($R$7:R616)","v":610},"",{"$f":"IF(ISERROR(SMALL($S$7:$S$1504,ROWS($S$7:S616))),\"\",SMALL($S$7:$S$1504,ROWS($S$7:S616)))","v":""},"",{"$f":"IF(ISERROR(SMALL($U$7:$U$1504,ROWS(U$7:$U616))),\"\",SMALL($U$7:$U$1504,ROWS(U$7:$U616)))","v":""},"",{"$f":"IF(ISERROR(SMALL($W$7:$W$1504,ROWS($W$7:W616))),\"\",SMALL($W$7:$W$1504,ROWS($W$7:W616)))","v":""}]
[null,"Joniškio r. sav.","Darbuotojų skaičius veikiančiose įmonėse metų pradžioje | vnt.",4023,3673,3428,3429,3506,3582,3562,3488,3358,3171,2923,2849,2819,2914,{"$f":"ROWS($R$7:R617)","v":611},"",{"$f":"IF(ISERROR(SMALL($S$7:$S$1504,ROWS($S$7:S617))),\"\",SMALL($S$7:$S$1504,ROWS($S$7:S617)))","v":""},"",{"$f":"IF(ISERROR(SMALL($U$7:$U$1504,ROWS(U$7:$U617))),\"\",SMALL($U$7:$U$1504,ROWS(U$7:$U617)))","v":""},"",{"$f":"IF(ISERROR(SMALL($W$7:$W$1504,ROWS($W$7:W617))),\"\",SMALL($W$7:$W$1504,ROWS($W$7:W617)))","v":""}]
[null,"Kelmės r. sav.","Darbuotojų skaičius veikiančiose įmonėse metų pradžioje | vnt.",2939,2721,2621,2727,2879,2974,3117,3121,3059,3055,2949,2885,2744,2895,{"$f":"ROWS($R$7:R618)","v":612},"",{"$f":"IF(ISERROR(SMALL($S$7:$S$1504,ROWS($S$7:S618))),\"\",SMALL($S$7:$S$1504,ROWS($S$7:S618)))","v":""},"",{"$f":"IF(ISERROR(SMALL($U$7:$U$1504,ROWS(U$7:$U618))),\"\",SMALL($U$7:$U$1504,ROWS(U$7:$U618)))","v":""},"",{"$f":"IF(ISERROR(SMALL($W$7:$W$1504,ROWS($W$7:W618))),\"\",SMALL($W$7:$W$1504,ROWS($W$7:W618)))","v":""}]
[null,"Pakruojo r. sav.","Darbuotojų skaičius veikiančiose įmonėse metų pradžioje | vnt.",4211,3875,3674,3738,3585,3582,3565,3428,3349,3281,3280,3284,3222,3194,{"$f":"ROWS($R$7:R619)","v":613},"",{"$f":"IF(ISERROR(SMALL($S$7:$S$1504,ROWS($S$7:S619))),\"\",SMALL($S$7:$S$1504,ROWS($S$7:S619)))","v":""},"",{"$f":"IF(ISERROR(SMALL($U$7:$U$1504,ROWS(U$7:$U619))),\"\",SMALL($U$7:$U$1504,ROWS(U$7:$U619)))","v":""},"",{"$f":"IF(ISERROR(SMALL($W$7:$W$1504,ROWS($W$7:W619))),\"\",SMALL($W$7:$W$1504,ROWS($W$7:W619)))","v":""}]
[null,"Radviliškio r. sav.","Darbuotojų skaičius veikiančiose įmonėse metų pradžioje | vnt.",5689,4864,4716,4793,4897,5187,5337,5180,5567,5282,5251,5450,5318,5612,{"$f":"ROWS($R$7:R620)","v":614},"",{"$f":"IF(ISERROR(SMALL($S$7:$S$1504,ROWS($S$7:S620))),\"\",SMALL($S$7:$S$1504,ROWS($S$7:S620)))","v":""},"",{"$f":"IF(ISERROR(SMALL($U$7:$U$1504,ROWS(U$7:$U620))),\"\",SMALL($U$7:$U$1504,ROWS(U$7:$U620)))","v":""},"",{"$f":"IF(ISERROR(SMALL($W$7:$W$1504,ROWS($W$7:W620))),\"\",SMALL($W$7:$W$1504,ROWS($W$7:W620)))","v":""}]
[null,"Šiaulių m. sav.","Darbuotojų skaičius veikiančiose įmonėse metų pradžioje | vnt.",41431,34354,33602,35658,36606,37779,38427,39206,39269,40058,43805,44747,44735,45976,{"$f":"ROWS($R$7:R621)","v":615},"",{"$f":"IF(ISERROR(SMALL($S$7:$S$1504,ROWS($S$7:S621))),\"\",SMALL($S$7:$S$1504,ROWS($S$7:S621)))","v":""},"",{"$f":"IF(ISERROR(SMALL($U$7:$U$1504,ROWS(U$7:$U621))),\"\",SMALL($U$7:$U$1504,ROWS(U$7:$U621)))","v":""},"",{"$f":"IF(ISERROR(SMALL($W$7:$W$1504,ROWS($W$7:W621))),\"\",SMALL($W$7:$W$1504,ROWS($W$7:W621)))","v":""}]
[null,"Šiaulių r. sav.","Darbuotojų skaičius veikiančiose įmonėse metų pradžioje | vnt.",6382,5639,5502,5757,5967,6314,6841,6941,6966,7158,7115,6629,6685,6779,{"$f":"ROWS($R$7:R622)","v":616},"",{"$f":"IF(ISERROR(SMALL($S$7:$S$1504,ROWS($S$7:S622))),\"\",SMALL($S$7:$S$1504,ROWS($S$7:S622)))","v":""},"",{"$f":"IF(ISERROR(SMALL($U$7:$U$1504,ROWS(U$7:$U622))),\"\",SMALL($U$7:$U$1504,ROWS(U$7:$U622)))","v":""},"",{"$f":"IF(ISERROR(SMALL($W$7:$W$1504,ROWS($W$7:W622))),\"\",SMALL($W$7:$W$1504,ROWS($W$7:W622)))","v":""}]
[null,"Tauragės apskritis","Darbuotojų skaičius veikiančiose įmonėse metų pradžioje | vnt.",18208,15945,15782,16442,16523,16780,16979,17006,17163,16561,16860,15789,15517,16378,{"$f":"ROWS($R$7:R623)","v":617},"",{"$f":"IF(ISERROR(SMALL($S$7:$S$1504,ROWS($S$7:S623))),\"\",SMALL($S$7:$S$1504,ROWS($S$7:S623)))","v":""},"",{"$f":"IF(ISERROR(SMALL($U$7:$U$1504,ROWS(U$7:$U623))),\"\",SMALL($U$7:$U$1504,ROWS(U$7:$U623)))","v":""},"",{"$f":"IF(ISERROR(SMALL($W$7:$W$1504,ROWS($W$7:W623))),\"\",SMALL($W$7:$W$1504,ROWS($W$7:W623)))","v":""}]
[null,"Jurbarko r. sav.","Darbuotojų skaičius veikiančiose įmonėse metų pradžioje | vnt.",3630,3092,2999,3227,3259,3356,3734,3905,4090,3889,4221,3836,3804,4108,{"$f":"ROWS($R$7:R624)","v":618},"",{"$f":"IF(ISERROR(SMALL($S$7:$S$1504,ROWS($S$7:S624))),\"\",SMALL($S$7:$S$1504,ROWS($S$7:S624)))","v":""},"",{"$f":"IF(ISERROR(SMALL($U$7:$U$1504,ROWS(U$7:$U624))),\"\",SMALL($U$7:$U$1504,ROWS(U$7:$U624)))","v":""},"",{"$f":"IF(ISERROR(SMALL($W$7:$W$1504,ROWS($W$7:W624))),\"\",SMALL($W$7:$W$1504,ROWS($W$7:W624)))","v":""}]
[null,"Pagėgių sav.","Darbuotojų skaičius veikiančiose įmonėse metų pradžioje | vnt.",1250,1292,1303,1423,1523,1538,1365,1253,1288,1239,1165,1031,1001,1045,{"$f":"ROWS($R$7:R625)","v":619},"",{"$f":"IF(ISERROR(SMALL($S$7:$S$1504,ROWS($S$7:S625))),\"\",SMALL($S$7:$S$1504,ROWS($S$7:S625)))","v":""},"",{"$f":"IF(ISERROR(SMALL($U$7:$U$1504,ROWS(U$7:$U625))),\"\",SMALL($U$7:$U$1504,ROWS(U$7:$U625)))","v":""},"",{"$f":"IF(ISERROR(SMALL($W$7:$W$1504,ROWS($W$7:W625))),\"\",SMALL($W$7:$W$1504,ROWS($W$7:W625)))","v":""}]
[null,"Šilalės r. sav.","Darbuotojų skaičius veikiančiose įmonėse metų pradžioje | vnt.",3266,2889,3036,3050,3086,3243,3244,3188,3158,3209,3276,3117,2878,3113,{"$f":"ROWS($R$7:R626)","v":620},"",{"$f":"IF(ISERROR(SMALL($S$7:$S$1504,ROWS($S$7:S626))),\"\",SMALL($S$7:$S$1504,ROWS($S$7:S626)))","v":""},"",{"$f":"IF(ISERROR(SMALL($U$7:$U$1504,ROWS(U$7:$U626))),\"\",SMALL($U$7:$U$1504,ROWS(U$7:$U626)))","v":""},"",{"$f":"IF(ISERROR(SMALL($W$7:$W$1504,ROWS($W$7:W626))),\"\",SMALL($W$7:$W$1504,ROWS($W$7:W626)))","v":""}]
[null,"Tauragės r. sav.","Darbuotojų skaičius veikiančiose įmonėse metų pradžioje | vnt.",10062,8672,8444,8742,8655,8643,8636,8660,8627,8224,8198,7805,7834,8112,{"$f":"ROWS($R$7:R627)","v":621},"",{"$f":"IF(ISERROR(SMALL($S$7:$S$1504,ROWS($S$7:S627))),\"\",SMALL($S$7:$S$1504,ROWS($S$7:S627)))","v":""},"",{"$f":"IF(ISERROR(SMALL($U$7:$U$1504,ROWS(U$7:$U627))),\"\",SMALL($U$7:$U$1504,ROWS(U$7:$U627)))","v":""},"",{"$f":"IF(ISERROR(SMALL($W$7:$W$1504,ROWS($W$7:W627))),\"\",SMALL($W$7:$W$1504,ROWS($W$7:W627)))","v":""}]
[null,"Telšių apskritis","Darbuotojų skaičius veikiančiose įmonėse metų pradžioje | vnt.",42977,33520,32661,33886,32951,33583,33946,34278,34575,34209,34364,34096,33963,35602,{"$f":"ROWS($R$7:R628)","v":622},"",{"$f":"IF(ISERROR(SMALL($S$7:$S$1504,ROWS($S$7:S628))),\"\",SMALL($S$7:$S$1504,ROWS($S$7:S628)))","v":""},"",{"$f":"IF(ISERROR(SMALL($U$7:$U$1504,ROWS(U$7:$U628))),\"\",SMALL($U$7:$U$1504,ROWS(U$7:$U628)))","v":""},"",{"$f":"IF(ISERROR(SMALL($W$7:$W$1504,ROWS($W$7:W628))),\"\",SMALL($W$7:$W$1504,ROWS($W$7:W628)))","v":""}]
[null,"Mažeikių r. sav.","Darbuotojų skaičius veikiančiose įmonėse metų pradžioje | vnt.",19132,14702,13973,14632,14934,15254,15187,15209,15326,15582,15355,15093,15301,16282,{"$f":"ROWS($R$7:R629)","v":623},"",{"$f":"IF(ISERROR(SMALL($S$7:$S$1504,ROWS($S$7:S629))),\"\",SMALL($S$7:$S$1504,ROWS($S$7:S629)))","v":""},"",{"$f":"IF(ISERROR(SMALL($U$7:$U$1504,ROWS(U$7:$U629))),\"\",SMALL($U$7:$U$1504,ROWS(U$7:$U629)))","v":""},"",{"$f":"IF(ISERROR(SMALL($W$7:$W$1504,ROWS($W$7:W629))),\"\",SMALL($W$7:$W$1504,ROWS($W$7:W629)))","v":""}]
[null,"Plungės r. sav.","Darbuotojų skaičius veikiančiose įmonėse metų pradžioje | vnt.",9575,7926,7586,7831,7432,7686,7861,7999,8005,7983,8505,8696,8479,9036,{"$f":"ROWS($R$7:R630)","v":624},"",{"$f":"IF(ISERROR(SMALL($S$7:$S$1504,ROWS($S$7:S630))),\"\",SMALL($S$7:$S$1504,ROWS($S$7:S630)))","v":""},"",{"$f":"IF(ISERROR(SMALL($U$7:$U$1504,ROWS(U$7:$U630))),\"\",SMALL($U$7:$U$1504,ROWS(U$7:$U630)))","v":""},"",{"$f":"IF(ISERROR(SMALL($W$7:$W$1504,ROWS($W$7:W630))),\"\",SMALL($W$7:$W$1504,ROWS($W$7:W630)))","v":""}]
[null,"Rietavo sav.","Darbuotojų skaičius veikiančiose įmonėse metų pradžioje | vnt.",1488,1288,1308,1383,1435,1483,1493,1413,1272,1152,1235,1259,1233,1261,{"$f":"ROWS($R$7:R631)","v":625},"",{"$f":"IF(ISERROR(SMALL($S$7:$S$1504,ROWS($S$7:S631))),\"\",SMALL($S$7:$S$1504,ROWS($S$7:S631)))","v":""},"",{"$f":"IF(ISERROR(SMALL($U$7:$U$1504,ROWS(U$7:$U631))),\"\",SMALL($U$7:$U$1504,ROWS(U$7:$U631)))","v":""},"",{"$f":"IF(ISERROR(SMALL($W$7:$W$1504,ROWS($W$7:W631))),\"\",SMALL($W$7:$W$1504,ROWS($W$7:W631)))","v":""}]
[null,"Telšių r. sav.","Darbuotojų skaičius veikiančiose įmonėse metų pradžioje | vnt.",12782,9604,9794,10040,9150,9160,9405,9657,9972,9492,9269,9048,8950,9023,{"$f":"ROWS($R$7:R632)","v":626},"",{"$f":"IF(ISERROR(SMALL($S$7:$S$1504,ROWS($S$7:S632))),\"\",SMALL($S$7:$S$1504,ROWS($S$7:S632)))","v":""},"",{"$f":"IF(ISERROR(SMALL($U$7:$U$1504,ROWS(U$7:$U632))),\"\",SMALL($U$7:$U$1504,ROWS(U$7:$U632)))","v":""},"",{"$f":"IF(ISERROR(SMALL($W$7:$W$1504,ROWS($W$7:W632))),\"\",SMALL($W$7:$W$1504,ROWS($W$7:W632)))","v":""}]
[null,"Utenos apskritis","Darbuotojų skaičius veikiančiose įmonėse metų pradžioje | vnt.",32835,28064,25710,26088,26036,26295,26746,26115,25592,24015,23910,23237,22669,23335,{"$f":"ROWS($R$7:R633)","v":627},"",{"$f":"IF(ISERROR(SMALL($S$7:$S$1504,ROWS($S$7:S633))),\"\",SMALL($S$7:$S$1504,ROWS($S$7:S633)))","v":""},"",{"$f":"IF(ISERROR(SMALL($U$7:$U$1504,ROWS(U$7:$U633))),\"\",SMALL($U$7:$U$1504,ROWS(U$7:$U633)))","v":""},"",{"$f":"IF(ISERROR(SMALL($W$7:$W$1504,ROWS($W$7:W633))),\"\",SMALL($W$7:$W$1504,ROWS($W$7:W633)))","v":""}]
[null,"Anykščių r. sav.","Darbuotojų skaičius veikiančiose įmonėse metų pradžioje | vnt.",3653,3106,3018,3065,3166,3250,3296,3333,3402,3159,3161,3035,3082,3273,{"$f":"ROWS($R$7:R634)","v":628},"",{"$f":"IF(ISERROR(SMALL($S$7:$S$1504,ROWS($S$7:S634))),\"\",SMALL($S$7:$S$1504,ROWS($S$7:S634)))","v":""},"",{"$f":"IF(ISERROR(SMALL($U$7:$U$1504,ROWS(U$7:$U634))),\"\",SMALL($U$7:$U$1504,ROWS(U$7:$U634)))","v":""},"",{"$f":"IF(ISERROR(SMALL($W$7:$W$1504,ROWS($W$7:W634))),\"\",SMALL($W$7:$W$1504,ROWS($W$7:W634)))","v":""}]
[null,"Ignalinos r. sav.","Darbuotojų skaičius veikiančiose įmonėse metų pradžioje | vnt.",1938,1670,1682,1711,1591,1622,1655,1598,1610,1524,1554,1404,1349,1461,{"$f":"ROWS($R$7:R635)","v":629},"",{"$f":"IF(ISERROR(SMALL($S$7:$S$1504,ROWS($S$7:S635))),\"\",SMALL($S$7:$S$1504,ROWS($S$7:S635)))","v":""},"",{"$f":"IF(ISERROR(SMALL($U$7:$U$1504,ROWS(U$7:$U635))),\"\",SMALL($U$7:$U$1504,ROWS(U$7:$U635)))","v":""},"",{"$f":"IF(ISERROR(SMALL($W$7:$W$1504,ROWS($W$7:W635))),\"\",SMALL($W$7:$W$1504,ROWS($W$7:W635)))","v":""}]
[null,"Molėtų r. sav.","Darbuotojų skaičius veikiančiose įmonėse metų pradžioje | vnt.",3666,2854,2805,2741,2456,2520,2675,2588,2592,2284,2312,2197,2256,2426,{"$f":"ROWS($R$7:R636)","v":630},"",{"$f":"IF(ISERROR(SMALL($S$7:$S$1504,ROWS($S$7:S636))),\"\",SMALL($S$7:$S$1504,ROWS($S$7:S636)))","v":""},"",{"$f":"IF(ISERROR(SMALL($U$7:$U$1504,ROWS(U$7:$U636))),\"\",SMALL($U$7:$U$1504,ROWS(U$7:$U636)))","v":""},"",{"$f":"IF(ISERROR(SMALL($W$7:$W$1504,ROWS($W$7:W636))),\"\",SMALL($W$7:$W$1504,ROWS($W$7:W636)))","v":""}]
[null,"Utenos r. sav.","Darbuotojų skaičius veikiančiose įmonėse metų pradžioje | vnt.",13053,11043,10009,10476,10738,10838,10947,10469,10304,9825,9736,9697,9314,9515,{"$f":"ROWS($R$7:R637)","v":631},"",{"$f":"IF(ISERROR(SMALL($S$7:$S$1504,ROWS($S$7:S637))),\"\",SMALL($S$7:$S$1504,ROWS($S$7:S637)))","v":""},"",{"$f":"IF(ISERROR(SMALL($U$7:$U$1504,ROWS(U$7:$U637))),\"\",SMALL($U$7:$U$1504,ROWS(U$7:$U637)))","v":""},"",{"$f":"IF(ISERROR(SMALL($W$7:$W$1504,ROWS($W$7:W637))),\"\",SMALL($W$7:$W$1504,ROWS($W$7:W637)))","v":""}]
[null,"Visagino sav.","Darbuotojų skaičius veikiančiose įmonėse metų pradžioje | vnt.",8473,7599,6516,6425,6343,6269,6284,6265,5933,5609,5575,5279,5098,5086,{"$f":"ROWS($R$7:R638)","v":632},"",{"$f":"IF(ISERROR(SMALL($S$7:$S$1504,ROWS($S$7:S638))),\"\",SMALL($S$7:$S$1504,ROWS($S$7:S638)))","v":""},"",{"$f":"IF(ISERROR(SMALL($U$7:$U$1504,ROWS(U$7:$U638))),\"\",SMALL($U$7:$U$1504,ROWS(U$7:$U638)))","v":""},"",{"$f":"IF(ISERROR(SMALL($W$7:$W$1504,ROWS($W$7:W638))),\"\",SMALL($W$7:$W$1504,ROWS($W$7:W638)))","v":""}]
[null,"Zarasų r. sav.","Darbuotojų skaičius veikiančiose įmonėse metų pradžioje | vnt.",2052,1792,1680,1670,1742,1796,1889,1862,1751,1614,1572,1625,1570,1574,{"$f":"ROWS($R$7:R639)","v":633},"",{"$f":"IF(ISERROR(SMALL($S$7:$S$1504,ROWS($S$7:S639))),\"\",SMALL($S$7:$S$1504,ROWS($S$7:S639)))","v":""},"",{"$f":"IF(ISERROR(SMALL($U$7:$U$1504,ROWS(U$7:$U639))),\"\",SMALL($U$7:$U$1504,ROWS(U$7:$U639)))","v":""},"",{"$f":"IF(ISERROR(SMALL($W$7:$W$1504,ROWS($W$7:W639))),\"\",SMALL($W$7:$W$1504,ROWS($W$7:W639)))","v":""}]
[null,"Vilniaus apskritis","Darbuotojų skaičius veikiančiose įmonėse metų pradžioje | vnt.",416104,344601,336914,357849,368822,387139,400873,405776,413423,412398,417911,419568,419521,438611,{"$f":"ROWS($R$7:R640)","v":634},"",{"$f":"IF(ISERROR(SMALL($S$7:$S$1504,ROWS($S$7:S640))),\"\",SMALL($S$7:$S$1504,ROWS($S$7:S640)))","v":""},634,{"$f":"IF(ISERROR(SMALL($U$7:$U$1504,ROWS(U$7:$U640))),\"\",SMALL($U$7:$U$1504,ROWS(U$7:$U640)))","v":""},"",{"$f":"IF(ISERROR(SMALL($W$7:$W$1504,ROWS($W$7:W640))),\"\",SMALL($W$7:$W$1504,ROWS($W$7:W640)))","v":""}]
[null,"Elektrėnų sav.","Darbuotojų skaičius veikiančiose įmonėse metų pradžioje | vnt.",6224,5778,5553,5743,5358,5674,6367,6727,7117,6712,7221,7388,7672,7853,{"$f":"ROWS($R$7:R641)","v":635},"",{"$f":"IF(ISERROR(SMALL($S$7:$S$1504,ROWS($S$7:S641))),\"\",SMALL($S$7:$S$1504,ROWS($S$7:S641)))","v":""},"",{"$f":"IF(ISERROR(SMALL($U$7:$U$1504,ROWS(U$7:$U641))),\"\",SMALL($U$7:$U$1504,ROWS(U$7:$U641)))","v":""},"",{"$f":"IF(ISERROR(SMALL($W$7:$W$1504,ROWS($W$7:W641))),\"\",SMALL($W$7:$W$1504,ROWS($W$7:W641)))","v":""}]
[null,"Šalčininkų r. sav.","Darbuotojų skaičius veikiančiose įmonėse metų pradžioje | vnt.",3579,2885,2810,3134,3165,3394,3521,3537,3399,3517,3718,3756,3798,4089,{"$f":"ROWS($R$7:R642)","v":636},"",{"$f":"IF(ISERROR(SMALL($S$7:$S$1504,ROWS($S$7:S642))),\"\",SMALL($S$7:$S$1504,ROWS($S$7:S642)))","v":""},"",{"$f":"IF(ISERROR(SMALL($U$7:$U$1504,ROWS(U$7:$U642))),\"\",SMALL($U$7:$U$1504,ROWS(U$7:$U642)))","v":""},"",{"$f":"IF(ISERROR(SMALL($W$7:$W$1504,ROWS($W$7:W642))),\"\",SMALL($W$7:$W$1504,ROWS($W$7:W642)))","v":""}]
[null,"Širvintų r. sav.","Darbuotojų skaičius veikiančiose įmonėse metų pradžioje | vnt.",1648,1535,1498,1546,1639,1799,1867,2029,2164,2102,2087,2199,2308,2507,{"$f":"ROWS($R$7:R643)","v":637},"",{"$f":"IF(ISERROR(SMALL($S$7:$S$1504,ROWS($S$7:S643))),\"\",SMALL($S$7:$S$1504,ROWS($S$7:S643)))","v":""},"",{"$f":"IF(ISERROR(SMALL($U$7:$U$1504,ROWS(U$7:$U643))),\"\",SMALL($U$7:$U$1504,ROWS(U$7:$U643)))","v":""},"",{"$f":"IF(ISERROR(SMALL($W$7:$W$1504,ROWS($W$7:W643))),\"\",SMALL($W$7:$W$1504,ROWS($W$7:W643)))","v":""}]
[null,"Švenčionių r. sav.","Darbuotojų skaičius veikiančiose įmonėse metų pradžioje | vnt.",4058,3685,3561,3868,3948,4109,4391,4358,4510,4603,4605,4546,4691,4838,{"$f":"ROWS($R$7:R644)","v":638},"",{"$f":"IF(ISERROR(SMALL($S$7:$S$1504,ROWS($S$7:S644))),\"\",SMALL($S$7:$S$1504,ROWS($S$7:S644)))","v":""},"",{"$f":"IF(ISERROR(SMALL($U$7:$U$1504,ROWS(U$7:$U644))),\"\",SMALL($U$7:$U$1504,ROWS(U$7:$U644)))","v":""},"",{"$f":"IF(ISERROR(SMALL($W$7:$W$1504,ROWS($W$7:W644))),\"\",SMALL($W$7:$W$1504,ROWS($W$7:W644)))","v":""}]
[null,"Trakų r. sav.","Darbuotojų skaičius veikiančiose įmonėse metų pradžioje | vnt.",6394,5719,5066,5564,5815,5998,6215,6266,6000,6032,6195,6209,5904,6376,{"$f":"ROWS($R$7:R645)","v":639},"",{"$f":"IF(ISERROR(SMALL($S$7:$S$1504,ROWS($S$7:S645))),\"\",SMALL($S$7:$S$1504,ROWS($S$7:S645)))","v":""},"",{"$f":"IF(ISERROR(SMALL($U$7:$U$1504,ROWS(U$7:$U645))),\"\",SMALL($U$7:$U$1504,ROWS(U$7:$U645)))","v":""},"",{"$f":"IF(ISERROR(SMALL($W$7:$W$1504,ROWS($W$7:W645))),\"\",SMALL($W$7:$W$1504,ROWS($W$7:W645)))","v":""}]
[null,"Ukmergės r. sav.","Darbuotojų skaičius veikiančiose įmonėse metų pradžioje | vnt.",8044,6973,6702,6986,6896,6932,7108,7262,7279,7150,6931,6987,6715,6886,{"$f":"ROWS($R$7:R646)","v":640},"",{"$f":"IF(ISERROR(SMALL($S$7:$S$1504,ROWS($S$7:S646))),\"\",SMALL($S$7:$S$1504,ROWS($S$7:S646)))","v":""},"",{"$f":"IF(ISERROR(SMALL($U$7:$U$1504,ROWS(U$7:$U646))),\"\",SMALL($U$7:$U$1504,ROWS(U$7:$U646)))","v":""},"",{"$f":"IF(ISERROR(SMALL($W$7:$W$1504,ROWS($W$7:W646))),\"\",SMALL($W$7:$W$1504,ROWS($W$7:W646)))","v":""}]
[null,"Vilniaus m. sav.","Darbuotojų skaičius veikiančiose įmonėse metų pradžioje | vnt.",370515,303804,296663,314042,323015,339027,350764,353527,358469,357993,361636,362206,361777,378169,{"$f":"ROWS($R$7:R647)","v":641},{"$f":"IF(ISNUMBER(SEARCH($R$3,B647)),R647,\"\")","v":641},{"$f":"IF(ISERROR(SMALL($S$7:$S$1504,ROWS($S$7:S647))),\"\",SMALL($S$7:$S$1504,ROWS($S$7:S647)))","v":""},{"$f":"IF($R$4=B647,R647,\"\")","v":""},{"$f":"IF(ISERROR(SMALL($U$7:$U$1504,ROWS(U$7:$U647))),\"\",SMALL($U$7:$U$1504,ROWS(U$7:$U647)))","v":""},{"$f":"IF(\"Lietuvos Respublika\"=B647,R647,\"\")","v":""},{"$f":"IF(ISERROR(SMALL($W$7:$W$1504,ROWS($W$7:W647))),\"\",SMALL($W$7:$W$1504,ROWS($W$7:W647)))","v":""}]
[null,"Vilniaus r. sav.","Darbuotojų skaičius veikiančiose įmonėse metų pradžioje | vnt.",15642,14222,15061,16966,18986,20206,20640,22070,24485,24289,25518,26277,26656,27893,{"$f":"ROWS($R$7:R648)","v":642},"",{"$f":"IF(ISERROR(SMALL($S$7:$S$1504,ROWS($S$7:S648))),\"\",SMALL($S$7:$S$1504,ROWS($S$7:S648)))","v":""},"",{"$f":"IF(ISERROR(SMALL($U$7:$U$1504,ROWS(U$7:$U648))),\"\",SMALL($U$7:$U$1504,ROWS(U$7:$U648)))","v":""},"",{"$f":"IF(ISERROR(SMALL($W$7:$W$1504,ROWS($W$7:W648))),\"\",SMALL($W$7:$W$1504,ROWS($W$7:W648)))","v":""}]
[null,"Lietuvos Respublika","Asmenys, įsigiję verslo liudijimus | vnt.","",85754,78253,80886,89451,94067,101816,101039,96796,105107,96094,{"$f":"VLOOKUP(B649,'[2]+To DB'!$E$1:$F$71,2,FALSE)","v":91185},99193,null,{"$f":"ROWS($R$7:R649)","v":643},"",{"$f":"IF(ISERROR(SMALL($S$7:$S$1504,ROWS($S$7:S649))),\"\",SMALL($S$7:$S$1504,ROWS($S$7:S649)))","v":""},"",{"$f":"IF(ISERROR(SMALL($U$7:$U$1504,ROWS(U$7:$U649))),\"\",SMALL($U$7:$U$1504,ROWS(U$7:$U649)))","v":""},643,{"$f":"IF(ISERROR(SMALL($W$7:$W$1504,ROWS($W$7:W649))),\"\",SMALL($W$7:$W$1504,ROWS($W$7:W649)))","v":""}]
[null,"Alytaus apskritis","Asmenys, įsigiję verslo liudijimus | vnt.","",4848,4449,4651,5075,5198,5328,5135,4675,4976,4490,{"$f":"VLOOKUP(B650,'[2]+To DB'!$E$1:$F$71,2,FALSE)","v":4099},4226,null,{"$f":"ROWS($R$7:R650)","v":644},"",{"$f":"IF(ISERROR(SMALL($S$7:$S$1504,ROWS($S$7:S650))),\"\",SMALL($S$7:$S$1504,ROWS($S$7:S650)))","v":""},"",{"$f":"IF(ISERROR(SMALL($U$7:$U$1504,ROWS(U$7:$U650))),\"\",SMALL($U$7:$U$1504,ROWS(U$7:$U650)))","v":""},"",{"$f":"IF(ISERROR(SMALL($W$7:$W$1504,ROWS($W$7:W650))),\"\",SMALL($W$7:$W$1504,ROWS($W$7:W650)))","v":""}]
[null,"Alytaus m. sav.","Asmenys, įsigiję verslo liudijimus | vnt.","",2069,1894,1994,2142,2122,2176,2088,1866,1982,1849,{"$f":"VLOOKUP(B651,'[2]+To DB'!$E$1:$F$71,2,FALSE)","v":1687},1746,null,{"$f":"ROWS($R$7:R651)","v":645},"",{"$f":"IF(ISERROR(SMALL($S$7:$S$1504,ROWS($S$7:S651))),\"\",SMALL($S$7:$S$1504,ROWS($S$7:S651)))","v":""},"",{"$f":"IF(ISERROR(SMALL($U$7:$U$1504,ROWS(U$7:$U651))),\"\",SMALL($U$7:$U$1504,ROWS(U$7:$U651)))","v":""},"",{"$f":"IF(ISERROR(SMALL($W$7:$W$1504,ROWS($W$7:W651))),\"\",SMALL($W$7:$W$1504,ROWS($W$7:W651)))","v":""}]
[null,"Alytaus r. sav.","Asmenys, įsigiję verslo liudijimus | vnt.","",823,717,727,833,907,899,891,810,780,686,{"$f":"VLOOKUP(B652,'[2]+To DB'!$E$1:$F$71,2,FALSE)","v":588},588,null,{"$f":"ROWS($R$7:R652)","v":646},"",{"$f":"IF(ISERROR(SMALL($S$7:$S$1504,ROWS($S$7:S652))),\"\",SMALL($S$7:$S$1504,ROWS($S$7:S652)))","v":""},"",{"$f":"IF(ISERROR(SMALL($U$7:$U$1504,ROWS(U$7:$U652))),\"\",SMALL($U$7:$U$1504,ROWS(U$7:$U652)))","v":""},"",{"$f":"IF(ISERROR(SMALL($W$7:$W$1504,ROWS($W$7:W652))),\"\",SMALL($W$7:$W$1504,ROWS($W$7:W652)))","v":""}]
[null,"Druskininkų sav.","Asmenys, įsigiję verslo liudijimus | vnt.","",738,730,818,884,881,946,919,886,1031,917,{"$f":"VLOOKUP(B653,'[2]+To DB'!$E$1:$F$71,2,FALSE)","v":835},857,null,{"$f":"ROWS($R$7:R653)","v":647},"",{"$f":"IF(ISERROR(SMALL($S$7:$S$1504,ROWS($S$7:S653))),\"\",SMALL($S$7:$S$1504,ROWS($S$7:S653)))","v":""},"",{"$f":"IF(ISERROR(SMALL($U$7:$U$1504,ROWS(U$7:$U653))),\"\",SMALL($U$7:$U$1504,ROWS(U$7:$U653)))","v":""},"",{"$f":"IF(ISERROR(SMALL($W$7:$W$1504,ROWS($W$7:W653))),\"\",SMALL($W$7:$W$1504,ROWS($W$7:W653)))","v":""}]
[null,"Lazdijų r. sav.","Asmenys, įsigiję verslo liudijimus | vnt.","",464,397,451,500,588,597,589,539,566,506,{"$f":"VLOOKUP(B654,'[2]+To DB'!$E$1:$F$71,2,FALSE)","v":493},490,null,{"$f":"ROWS($R$7:R654)","v":648},"",{"$f":"IF(ISERROR(SMALL($S$7:$S$1504,ROWS($S$7:S654))),\"\",SMALL($S$7:$S$1504,ROWS($S$7:S654)))","v":""},"",{"$f":"IF(ISERROR(SMALL($U$7:$U$1504,ROWS(U$7:$U654))),\"\",SMALL($U$7:$U$1504,ROWS(U$7:$U654)))","v":""},"",{"$f":"IF(ISERROR(SMALL($W$7:$W$1504,ROWS($W$7:W654))),\"\",SMALL($W$7:$W$1504,ROWS($W$7:W654)))","v":""}]
[null,"Varėnos r. sav.","Asmenys, įsigiję verslo liudijimus | vnt.","",754,711,661,716,700,710,648,574,617,532,{"$f":"VLOOKUP(B655,'[2]+To DB'!$E$1:$F$71,2,FALSE)","v":496},545,null,{"$f":"ROWS($R$7:R655)","v":649},"",{"$f":"IF(ISERROR(SMALL($S$7:$S$1504,ROWS($S$7:S655))),\"\",SMALL($S$7:$S$1504,ROWS($S$7:S655)))","v":""},"",{"$f":"IF(ISERROR(SMALL($U$7:$U$1504,ROWS(U$7:$U655))),\"\",SMALL($U$7:$U$1504,ROWS(U$7:$U655)))","v":""},"",{"$f":"IF(ISERROR(SMALL($W$7:$W$1504,ROWS($W$7:W655))),\"\",SMALL($W$7:$W$1504,ROWS($W$7:W655)))","v":""}]
[null,"Kauno apskritis","Asmenys, įsigiję verslo liudijimus | vnt.","",16457,14333,14869,16819,17644,18664,18580,17800,19651,18225,{"$f":"VLOOKUP(B656,'[2]+To DB'!$E$1:$F$71,2,FALSE)","v":16810},18541,null,{"$f":"ROWS($R$7:R656)","v":650},"",{"$f":"IF(ISERROR(SMALL($S$7:$S$1504,ROWS($S$7:S656))),\"\",SMALL($S$7:$S$1504,ROWS($S$7:S656)))","v":""},"",{"$f":"IF(ISERROR(SMALL($U$7:$U$1504,ROWS(U$7:$U656))),\"\",SMALL($U$7:$U$1504,ROWS(U$7:$U656)))","v":""},"",{"$f":"IF(ISERROR(SMALL($W$7:$W$1504,ROWS($W$7:W656))),\"\",SMALL($W$7:$W$1504,ROWS($W$7:W656)))","v":""}]
[null,"Birštono sav.","Asmenys, įsigiję verslo liudijimus | vnt.","",144,138,169,185,206,231,213,213,292,244,{"$f":"VLOOKUP(B657,'[2]+To DB'!$E$1:$F$71,2,FALSE)","v":232},227,null,{"$f":"ROWS($R$7:R657)","v":651},"",{"$f":"IF(ISERROR(SMALL($S$7:$S$1504,ROWS($S$7:S657))),\"\",SMALL($S$7:$S$1504,ROWS($S$7:S657)))","v":""},"",{"$f":"IF(ISERROR(SMALL($U$7:$U$1504,ROWS(U$7:$U657))),\"\",SMALL($U$7:$U$1504,ROWS(U$7:$U657)))","v":""},"",{"$f":"IF(ISERROR(SMALL($W$7:$W$1504,ROWS($W$7:W657))),\"\",SMALL($W$7:$W$1504,ROWS($W$7:W657)))","v":""}]
[null,"Jonavos r. sav.","Asmenys, įsigiję verslo liudijimus | vnt.","",1218,1094,1109,1280,1292,1327,1253,1237,1155,1042,{"$f":"VLOOKUP(B658,'[2]+To DB'!$E$1:$F$71,2,FALSE)","v":1016},1137,null,{"$f":"ROWS($R$7:R658)","v":652},"",{"$f":"IF(ISERROR(SMALL($S$7:$S$1504,ROWS($S$7:S658))),\"\",SMALL($S$7:$S$1504,ROWS($S$7:S658)))","v":""},"",{"$f":"IF(ISERROR(SMALL($U$7:$U$1504,ROWS(U$7:$U658))),\"\",SMALL($U$7:$U$1504,ROWS(U$7:$U658)))","v":""},"",{"$f":"IF(ISERROR(SMALL($W$7:$W$1504,ROWS($W$7:W658))),\"\",SMALL($W$7:$W$1504,ROWS($W$7:W658)))","v":""}]
[null,"Kaišiadorių r. sav.","Asmenys, įsigiję verslo liudijimus | vnt.","",620,576,606,686,712,776,734,673,646,559,{"$f":"VLOOKUP(B659,'[2]+To DB'!$E$1:$F$71,2,FALSE)","v":545},599,null,{"$f":"ROWS($R$7:R659)","v":653},"",{"$f":"IF(ISERROR(SMALL($S$7:$S$1504,ROWS($S$7:S659))),\"\",SMALL($S$7:$S$1504,ROWS($S$7:S659)))","v":""},"",{"$f":"IF(ISERROR(SMALL($U$7:$U$1504,ROWS(U$7:$U659))),\"\",SMALL($U$7:$U$1504,ROWS(U$7:$U659)))","v":""},"",{"$f":"IF(ISERROR(SMALL($W$7:$W$1504,ROWS($W$7:W659))),\"\",SMALL($W$7:$W$1504,ROWS($W$7:W659)))","v":""}]
[null,"Kauno m. sav.","Asmenys, įsigiję verslo liudijimus | vnt.","",8942,7460,7740,8630,9128,9726,9752,9394,11183,10600,{"$f":"VLOOKUP(B660,'[2]+To DB'!$E$1:$F$71,2,FALSE)","v":9743},10780,null,{"$f":"ROWS($R$7:R660)","v":654},"",{"$f":"IF(ISERROR(SMALL($S$7:$S$1504,ROWS($S$7:S660))),\"\",SMALL($S$7:$S$1504,ROWS($S$7:S660)))","v":""},"",{"$f":"IF(ISERROR(SMALL($U$7:$U$1504,ROWS(U$7:$U660))),\"\",SMALL($U$7:$U$1504,ROWS(U$7:$U660)))","v":""},"",{"$f":"IF(ISERROR(SMALL($W$7:$W$1504,ROWS($W$7:W660))),\"\",SMALL($W$7:$W$1504,ROWS($W$7:W660)))","v":""}]
[null,"Kauno r. sav.","Asmenys, įsigiję verslo liudijimus | vnt.","",2913,2506,2605,2990,3155,3388,3483,3388,3601,3299,{"$f":"VLOOKUP(B661,'[2]+To DB'!$E$1:$F$71,2,FALSE)","v":2982},3404,null,{"$f":"ROWS($R$7:R661)","v":655},"",{"$f":"IF(ISERROR(SMALL($S$7:$S$1504,ROWS($S$7:S661))),\"\",SMALL($S$7:$S$1504,ROWS($S$7:S661)))","v":""},"",{"$f":"IF(ISERROR(SMALL($U$7:$U$1504,ROWS(U$7:$U661))),\"\",SMALL($U$7:$U$1504,ROWS(U$7:$U661)))","v":""},"",{"$f":"IF(ISERROR(SMALL($W$7:$W$1504,ROWS($W$7:W661))),\"\",SMALL($W$7:$W$1504,ROWS($W$7:W661)))","v":""}]
[null,"Kėdainių r. sav.","Asmenys, įsigiję verslo liudijimus | vnt.","",1091,1095,1111,1263,1282,1282,1255,1153,1125,948,{"$f":"VLOOKUP(B662,'[2]+To DB'!$E$1:$F$71,2,FALSE)","v":913},955,null,{"$f":"ROWS($R$7:R662)","v":656},"",{"$f":"IF(ISERROR(SMALL($S$7:$S$1504,ROWS($S$7:S662))),\"\",SMALL($S$7:$S$1504,ROWS($S$7:S662)))","v":""},"",{"$f":"IF(ISERROR(SMALL($U$7:$U$1504,ROWS(U$7:$U662))),\"\",SMALL($U$7:$U$1504,ROWS(U$7:$U662)))","v":""},"",{"$f":"IF(ISERROR(SMALL($W$7:$W$1504,ROWS($W$7:W662))),\"\",SMALL($W$7:$W$1504,ROWS($W$7:W662)))","v":""}]
[null,"Prienų r. sav.","Asmenys, įsigiję verslo liudijimus | vnt.","",728,657,734,846,909,922,938,883,845,767,{"$f":"VLOOKUP(B663,'[2]+To DB'!$E$1:$F$71,2,FALSE)","v":701},696,null,{"$f":"ROWS($R$7:R663)","v":657},"",{"$f":"IF(ISERROR(SMALL($S$7:$S$1504,ROWS($S$7:S663))),\"\",SMALL($S$7:$S$1504,ROWS($S$7:S663)))","v":""},"",{"$f":"IF(ISERROR(SMALL($U$7:$U$1504,ROWS(U$7:$U663))),\"\",SMALL($U$7:$U$1504,ROWS(U$7:$U663)))","v":""},"",{"$f":"IF(ISERROR(SMALL($W$7:$W$1504,ROWS($W$7:W663))),\"\",SMALL($W$7:$W$1504,ROWS($W$7:W663)))","v":""}]
[null,"Raseinių r. sav.","Asmenys, įsigiję verslo liudijimus | vnt.","",801,807,795,939,960,1012,952,859,804,766,{"$f":"VLOOKUP(B664,'[2]+To DB'!$E$1:$F$71,2,FALSE)","v":678},743,null,{"$f":"ROWS($R$7:R664)","v":658},"",{"$f":"IF(ISERROR(SMALL($S$7:$S$1504,ROWS($S$7:S664))),\"\",SMALL($S$7:$S$1504,ROWS($S$7:S664)))","v":""},"",{"$f":"IF(ISERROR(SMALL($U$7:$U$1504,ROWS(U$7:$U664))),\"\",SMALL($U$7:$U$1504,ROWS(U$7:$U664)))","v":""},"",{"$f":"IF(ISERROR(SMALL($W$7:$W$1504,ROWS($W$7:W664))),\"\",SMALL($W$7:$W$1504,ROWS($W$7:W664)))","v":""}]
[null,"Klaipėdos apskritis","Asmenys, įsigiję verslo liudijimus | vnt.","",10220,9686,10372,11452,12246,13397,13719,13265,15030,14456,{"$f":"VLOOKUP(B665,'[2]+To DB'!$E$1:$F$71,2,FALSE)","v":14401},15672,null,{"$f":"ROWS($R$7:R665)","v":659},"",{"$f":"IF(ISERROR(SMALL($S$7:$S$1504,ROWS($S$7:S665))),\"\",SMALL($S$7:$S$1504,ROWS($S$7:S665)))","v":""},"",{"$f":"IF(ISERROR(SMALL($U$7:$U$1504,ROWS(U$7:$U665))),\"\",SMALL($U$7:$U$1504,ROWS(U$7:$U665)))","v":""},"",{"$f":"IF(ISERROR(SMALL($W$7:$W$1504,ROWS($W$7:W665))),\"\",SMALL($W$7:$W$1504,ROWS($W$7:W665)))","v":""}]
[null,"Klaipėdos m. sav.","Asmenys, įsigiję verslo liudijimus | vnt.","",3811,3430,3666,4031,4482,4954,5338,5118,6196,6092,{"$f":"VLOOKUP(B666,'[2]+To DB'!$E$1:$F$71,2,FALSE)","v":6134},7128,null,{"$f":"ROWS($R$7:R666)","v":660},"",{"$f":"IF(ISERROR(SMALL($S$7:$S$1504,ROWS($S$7:S666))),\"\",SMALL($S$7:$S$1504,ROWS($S$7:S666)))","v":""},"",{"$f":"IF(ISERROR(SMALL($U$7:$U$1504,ROWS(U$7:$U666))),\"\",SMALL($U$7:$U$1504,ROWS(U$7:$U666)))","v":""},"",{"$f":"IF(ISERROR(SMALL($W$7:$W$1504,ROWS($W$7:W666))),\"\",SMALL($W$7:$W$1504,ROWS($W$7:W666)))","v":""}]
[null,"Klaipėdos r. sav.","Asmenys, įsigiję verslo liudijimus | vnt.","",1500,1462,1568,1751,1939,2167,2245,2261,2495,2183,{"$f":"VLOOKUP(B667,'[2]+To DB'!$E$1:$F$71,2,FALSE)","v":2117},2212,null,{"$f":"ROWS($R$7:R667)","v":661},"",{"$f":"IF(ISERROR(SMALL($S$7:$S$1504,ROWS($S$7:S667))),\"\",SMALL($S$7:$S$1504,ROWS($S$7:S667)))","v":""},"",{"$f":"IF(ISERROR(SMALL($U$7:$U$1504,ROWS(U$7:$U667))),\"\",SMALL($U$7:$U$1504,ROWS(U$7:$U667)))","v":""},"",{"$f":"IF(ISERROR(SMALL($W$7:$W$1504,ROWS($W$7:W667))),\"\",SMALL($W$7:$W$1504,ROWS($W$7:W667)))","v":""}]
[null,"Kretingos r. sav.","Asmenys, įsigiję verslo liudijimus | vnt.","",1299,1298,1370,1597,1612,1722,1697,1587,1455,1334,{"$f":"VLOOKUP(B668,'[2]+To DB'!$E$1:$F$71,2,FALSE)","v":1278},1292,null,{"$f":"ROWS($R$7:R668)","v":662},"",{"$f":"IF(ISERROR(SMALL($S$7:$S$1504,ROWS($S$7:S668))),\"\",SMALL($S$7:$S$1504,ROWS($S$7:S668)))","v":""},"",{"$f":"IF(ISERROR(SMALL($U$7:$U$1504,ROWS(U$7:$U668))),\"\",SMALL($U$7:$U$1504,ROWS(U$7:$U668)))","v":""},"",{"$f":"IF(ISERROR(SMALL($W$7:$W$1504,ROWS($W$7:W668))),\"\",SMALL($W$7:$W$1504,ROWS($W$7:W668)))","v":""}]
[null,"Neringos sav.","Asmenys, įsigiję verslo liudijimus | vnt.","",710,694,722,766,790,860,850,858,936,961,{"$f":"VLOOKUP(B669,'[2]+To DB'!$E$1:$F$71,2,FALSE)","v":1001},964,null,{"$f":"ROWS($R$7:R669)","v":663},"",{"$f":"IF(ISERROR(SMALL($S$7:$S$1504,ROWS($S$7:S669))),\"\",SMALL($S$7:$S$1504,ROWS($S$7:S669)))","v":""},"",{"$f":"IF(ISERROR(SMALL($U$7:$U$1504,ROWS(U$7:$U669))),\"\",SMALL($U$7:$U$1504,ROWS(U$7:$U669)))","v":""},"",{"$f":"IF(ISERROR(SMALL($W$7:$W$1504,ROWS($W$7:W669))),\"\",SMALL($W$7:$W$1504,ROWS($W$7:W669)))","v":""}]
[null,"Palangos m. sav.","Asmenys, įsigiję verslo liudijimus | vnt.","",1490,1413,1460,1505,1550,1599,1558,1607,2363,2467,{"$f":"VLOOKUP(B670,'[2]+To DB'!$E$1:$F$71,2,FALSE)","v":2538},2694,null,{"$f":"ROWS($R$7:R670)","v":664},"",{"$f":"IF(ISERROR(SMALL($S$7:$S$1504,ROWS($S$7:S670))),\"\",SMALL($S$7:$S$1504,ROWS($S$7:S670)))","v":""},"",{"$f":"IF(ISERROR(SMALL($U$7:$U$1504,ROWS(U$7:$U670))),\"\",SMALL($U$7:$U$1504,ROWS(U$7:$U670)))","v":""},"",{"$f":"IF(ISERROR(SMALL($W$7:$W$1504,ROWS($W$7:W670))),\"\",SMALL($W$7:$W$1504,ROWS($W$7:W670)))","v":""}]
[null,"Skuodo r. sav.","Asmenys, įsigiję verslo liudijimus | vnt.","",424,424,438,483,489,620,577,536,509,454,{"$f":"VLOOKUP(B671,'[2]+To DB'!$E$1:$F$71,2,FALSE)","v":395},413,null,{"$f":"ROWS($R$7:R671)","v":665},"",{"$f":"IF(ISERROR(SMALL($S$7:$S$1504,ROWS($S$7:S671))),\"\",SMALL($S$7:$S$1504,ROWS($S$7:S671)))","v":""},"",{"$f":"IF(ISERROR(SMALL($U$7:$U$1504,ROWS(U$7:$U671))),\"\",SMALL($U$7:$U$1504,ROWS(U$7:$U671)))","v":""},"",{"$f":"IF(ISERROR(SMALL($W$7:$W$1504,ROWS($W$7:W671))),\"\",SMALL($W$7:$W$1504,ROWS($W$7:W671)))","v":""}]
[null,"Šilutės r. sav.","Asmenys, įsigiję verslo liudijimus | vnt.","",986,965,1148,1319,1384,1475,1454,1298,1076,965,{"$f":"VLOOKUP(B672,'[2]+To DB'!$E$1:$F$71,2,FALSE)","v":938},969,null,{"$f":"ROWS($R$7:R672)","v":666},"",{"$f":"IF(ISERROR(SMALL($S$7:$S$1504,ROWS($S$7:S672))),\"\",SMALL($S$7:$S$1504,ROWS($S$7:S672)))","v":""},"",{"$f":"IF(ISERROR(SMALL($U$7:$U$1504,ROWS(U$7:$U672))),\"\",SMALL($U$7:$U$1504,ROWS(U$7:$U672)))","v":""},"",{"$f":"IF(ISERROR(SMALL($W$7:$W$1504,ROWS($W$7:W672))),\"\",SMALL($W$7:$W$1504,ROWS($W$7:W672)))","v":""}]
[null,"Marijampolės apskritis","Asmenys, įsigiję verslo liudijimus | vnt.","",4340,3690,3794,4178,4284,4832,4870,4472,4589,4022,{"$f":"VLOOKUP(B673,'[2]+To DB'!$E$1:$F$71,2,FALSE)","v":3790},3995,null,{"$f":"ROWS($R$7:R673)","v":667},"",{"$f":"IF(ISERROR(SMALL($S$7:$S$1504,ROWS($S$7:S673))),\"\",SMALL($S$7:$S$1504,ROWS($S$7:S673)))","v":""},"",{"$f":"IF(ISERROR(SMALL($U$7:$U$1504,ROWS(U$7:$U673))),\"\",SMALL($U$7:$U$1504,ROWS(U$7:$U673)))","v":""},"",{"$f":"IF(ISERROR(SMALL($W$7:$W$1504,ROWS($W$7:W673))),\"\",SMALL($W$7:$W$1504,ROWS($W$7:W673)))","v":""}]
[null,"Kalvarijos sav.","Asmenys, įsigiję verslo liudijimus | vnt.","",262,216,221,255,280,334,310,273,349,320,{"$f":"VLOOKUP(B674,'[2]+To DB'!$E$1:$F$71,2,FALSE)","v":317},337,null,{"$f":"ROWS($R$7:R674)","v":668},"",{"$f":"IF(ISERROR(SMALL($S$7:$S$1504,ROWS($S$7:S674))),\"\",SMALL($S$7:$S$1504,ROWS($S$7:S674)))","v":""},"",{"$f":"IF(ISERROR(SMALL($U$7:$U$1504,ROWS(U$7:$U674))),\"\",SMALL($U$7:$U$1504,ROWS(U$7:$U674)))","v":""},"",{"$f":"IF(ISERROR(SMALL($W$7:$W$1504,ROWS($W$7:W674))),\"\",SMALL($W$7:$W$1504,ROWS($W$7:W674)))","v":""}]
[null,"Kazlų Rūdos sav.","Asmenys, įsigiję verslo liudijimus | vnt.","",286,244,236,287,280,316,325,308,292,246,{"$f":"VLOOKUP(B675,'[2]+To DB'!$E$1:$F$71,2,FALSE)","v":231},272,null,{"$f":"ROWS($R$7:R675)","v":669},"",{"$f":"IF(ISERROR(SMALL($S$7:$S$1504,ROWS($S$7:S675))),\"\",SMALL($S$7:$S$1504,ROWS($S$7:S675)))","v":""},"",{"$f":"IF(ISERROR(SMALL($U$7:$U$1504,ROWS(U$7:$U675))),\"\",SMALL($U$7:$U$1504,ROWS(U$7:$U675)))","v":""},"",{"$f":"IF(ISERROR(SMALL($W$7:$W$1504,ROWS($W$7:W675))),\"\",SMALL($W$7:$W$1504,ROWS($W$7:W675)))","v":""}]
[null,"Marijampolės sav.","Asmenys, įsigiję verslo liudijimus | vnt.","",1764,1528,1545,1765,1829,2035,2011,1878,1976,1776,{"$f":"VLOOKUP(B676,'[2]+To DB'!$E$1:$F$71,2,FALSE)","v":1615},1743,null,{"$f":"ROWS($R$7:R676)","v":670},"",{"$f":"IF(ISERROR(SMALL($S$7:$S$1504,ROWS($S$7:S676))),\"\",SMALL($S$7:$S$1504,ROWS($S$7:S676)))","v":""},"",{"$f":"IF(ISERROR(SMALL($U$7:$U$1504,ROWS(U$7:$U676))),\"\",SMALL($U$7:$U$1504,ROWS(U$7:$U676)))","v":""},"",{"$f":"IF(ISERROR(SMALL($W$7:$W$1504,ROWS($W$7:W676))),\"\",SMALL($W$7:$W$1504,ROWS($W$7:W676)))","v":""}]
[null,"Šakių r. sav.","Asmenys, įsigiję verslo liudijimus | vnt.","",780,618,627,698,710,794,937,801,803,684,{"$f":"VLOOKUP(B677,'[2]+To DB'!$E$1:$F$71,2,FALSE)","v":681},676,null,{"$f":"ROWS($R$7:R677)","v":671},"",{"$f":"IF(ISERROR(SMALL($S$7:$S$1504,ROWS($S$7:S677))),\"\",SMALL($S$7:$S$1504,ROWS($S$7:S677)))","v":""},"",{"$f":"IF(ISERROR(SMALL($U$7:$U$1504,ROWS(U$7:$U677))),\"\",SMALL($U$7:$U$1504,ROWS(U$7:$U677)))","v":""},"",{"$f":"IF(ISERROR(SMALL($W$7:$W$1504,ROWS($W$7:W677))),\"\",SMALL($W$7:$W$1504,ROWS($W$7:W677)))","v":""}]
[null,"Vilkaviškio r. sav.","Asmenys, įsigiję verslo liudijimus | vnt.","",1248,1084,1165,1173,1185,1353,1287,1212,1169,996,{"$f":"VLOOKUP(B678,'[2]+To DB'!$E$1:$F$71,2,FALSE)","v":946},967,null,{"$f":"ROWS($R$7:R678)","v":672},"",{"$f":"IF(ISERROR(SMALL($S$7:$S$1504,ROWS($S$7:S678))),\"\",SMALL($S$7:$S$1504,ROWS($S$7:S678)))","v":""},"",{"$f":"IF(ISERROR(SMALL($U$7:$U$1504,ROWS(U$7:$U678))),\"\",SMALL($U$7:$U$1504,ROWS(U$7:$U678)))","v":""},"",{"$f":"IF(ISERROR(SMALL($W$7:$W$1504,ROWS($W$7:W678))),\"\",SMALL($W$7:$W$1504,ROWS($W$7:W678)))","v":""}]
[null,"Panevėžio apskritis","Asmenys, įsigiję verslo liudijimus | vnt.","",7007,6499,6586,7044,7099,7888,7456,6934,6966,6029,{"$f":"VLOOKUP(B679,'[2]+To DB'!$E$1:$F$71,2,FALSE)","v":5561},5613,null,{"$f":"ROWS($R$7:R679)","v":673},"",{"$f":"IF(ISERROR(SMALL($S$7:$S$1504,ROWS($S$7:S679))),\"\",SMALL($S$7:$S$1504,ROWS($S$7:S679)))","v":""},"",{"$f":"IF(ISERROR(SMALL($U$7:$U$1504,ROWS(U$7:$U679))),\"\",SMALL($U$7:$U$1504,ROWS(U$7:$U679)))","v":""},"",{"$f":"IF(ISERROR(SMALL($W$7:$W$1504,ROWS($W$7:W679))),\"\",SMALL($W$7:$W$1504,ROWS($W$7:W679)))","v":""}]
[null,"Biržų r. sav.","Asmenys, įsigiję verslo liudijimus | vnt.","",611,506,514,562,580,604,590,542,527,473,{"$f":"VLOOKUP(B680,'[2]+To DB'!$E$1:$F$71,2,FALSE)","v":452},441,null,{"$f":"ROWS($R$7:R680)","v":674},"",{"$f":"IF(ISERROR(SMALL($S$7:$S$1504,ROWS($S$7:S680))),\"\",SMALL($S$7:$S$1504,ROWS($S$7:S680)))","v":""},"",{"$f":"IF(ISERROR(SMALL($U$7:$U$1504,ROWS(U$7:$U680))),\"\",SMALL($U$7:$U$1504,ROWS(U$7:$U680)))","v":""},"",{"$f":"IF(ISERROR(SMALL($W$7:$W$1504,ROWS($W$7:W680))),\"\",SMALL($W$7:$W$1504,ROWS($W$7:W680)))","v":""}]
[null,"Kupiškio r. sav.","Asmenys, įsigiję verslo liudijimus | vnt.","",512,508,525,531,596,700,626,563,533,462,{"$f":"VLOOKUP(B681,'[2]+To DB'!$E$1:$F$71,2,FALSE)","v":423},412,null,{"$f":"ROWS($R$7:R681)","v":675},"",{"$f":"IF(ISERROR(SMALL($S$7:$S$1504,ROWS($S$7:S681))),\"\",SMALL($S$7:$S$1504,ROWS($S$7:S681)))","v":""},"",{"$f":"IF(ISERROR(SMALL($U$7:$U$1504,ROWS(U$7:$U681))),\"\",SMALL($U$7:$U$1504,ROWS(U$7:$U681)))","v":""},"",{"$f":"IF(ISERROR(SMALL($W$7:$W$1504,ROWS($W$7:W681))),\"\",SMALL($W$7:$W$1504,ROWS($W$7:W681)))","v":""}]
[null,"Panevėžio m. sav.","Asmenys, įsigiję verslo liudijimus | vnt.","",3338,3163,3112,3228,3219,3523,3322,3115,3306,2859,{"$f":"VLOOKUP(B682,'[2]+To DB'!$E$1:$F$71,2,FALSE)","v":2591},2620,null,{"$f":"ROWS($R$7:R682)","v":676},"",{"$f":"IF(ISERROR(SMALL($S$7:$S$1504,ROWS($S$7:S682))),\"\",SMALL($S$7:$S$1504,ROWS($S$7:S682)))","v":""},"",{"$f":"IF(ISERROR(SMALL($U$7:$U$1504,ROWS(U$7:$U682))),\"\",SMALL($U$7:$U$1504,ROWS(U$7:$U682)))","v":""},"",{"$f":"IF(ISERROR(SMALL($W$7:$W$1504,ROWS($W$7:W682))),\"\",SMALL($W$7:$W$1504,ROWS($W$7:W682)))","v":""}]
[null,"Panevėžio r. sav.","Asmenys, įsigiję verslo liudijimus | vnt.","",1204,1041,1019,1083,1067,1215,1115,1046,933,780,{"$f":"VLOOKUP(B683,'[2]+To DB'!$E$1:$F$71,2,FALSE)","v":749},746,null,{"$f":"ROWS($R$7:R683)","v":677},"",{"$f":"IF(ISERROR(SMALL($S$7:$S$1504,ROWS($S$7:S683))),\"\",SMALL($S$7:$S$1504,ROWS($S$7:S683)))","v":""},"",{"$f":"IF(ISERROR(SMALL($U$7:$U$1504,ROWS(U$7:$U683))),\"\",SMALL($U$7:$U$1504,ROWS(U$7:$U683)))","v":""},"",{"$f":"IF(ISERROR(SMALL($W$7:$W$1504,ROWS($W$7:W683))),\"\",SMALL($W$7:$W$1504,ROWS($W$7:W683)))","v":""}]
[null,"Pasvalio r. sav.","Asmenys, įsigiję verslo liudijimus | vnt.","",619,580,647,748,749,810,808,742,663,587,{"$f":"VLOOKUP(B684,'[2]+To DB'!$E$1:$F$71,2,FALSE)","v":521},532,null,{"$f":"ROWS($R$7:R684)","v":678},"",{"$f":"IF(ISERROR(SMALL($S$7:$S$1504,ROWS($S$7:S684))),\"\",SMALL($S$7:$S$1504,ROWS($S$7:S684)))","v":""},"",{"$f":"IF(ISERROR(SMALL($U$7:$U$1504,ROWS(U$7:$U684))),\"\",SMALL($U$7:$U$1504,ROWS(U$7:$U684)))","v":""},"",{"$f":"IF(ISERROR(SMALL($W$7:$W$1504,ROWS($W$7:W684))),\"\",SMALL($W$7:$W$1504,ROWS($W$7:W684)))","v":""}]
[null,"Rokiškio r. sav.","Asmenys, įsigiję verslo liudijimus | vnt.","",723,701,769,892,888,1036,995,926,1004,868,{"$f":"VLOOKUP(B685,'[2]+To DB'!$E$1:$F$71,2,FALSE)","v":825},862,null,{"$f":"ROWS($R$7:R685)","v":679},"",{"$f":"IF(ISERROR(SMALL($S$7:$S$1504,ROWS($S$7:S685))),\"\",SMALL($S$7:$S$1504,ROWS($S$7:S685)))","v":""},"",{"$f":"IF(ISERROR(SMALL($U$7:$U$1504,ROWS(U$7:$U685))),\"\",SMALL($U$7:$U$1504,ROWS(U$7:$U685)))","v":""},"",{"$f":"IF(ISERROR(SMALL($W$7:$W$1504,ROWS($W$7:W685))),\"\",SMALL($W$7:$W$1504,ROWS($W$7:W685)))","v":""}]
[null,"Šiaulių apskritis","Asmenys, įsigiję verslo liudijimus | vnt.","",7279,6759,6902,7361,7563,8144,7731,7288,7724,6739,{"$f":"VLOOKUP(B686,'[2]+To DB'!$E$1:$F$71,2,FALSE)","v":6338},6476,null,{"$f":"ROWS($R$7:R686)","v":680},"",{"$f":"IF(ISERROR(SMALL($S$7:$S$1504,ROWS($S$7:S686))),\"\",SMALL($S$7:$S$1504,ROWS($S$7:S686)))","v":""},"",{"$f":"IF(ISERROR(SMALL($U$7:$U$1504,ROWS(U$7:$U686))),\"\",SMALL($U$7:$U$1504,ROWS(U$7:$U686)))","v":""},"",{"$f":"IF(ISERROR(SMALL($W$7:$W$1504,ROWS($W$7:W686))),\"\",SMALL($W$7:$W$1504,ROWS($W$7:W686)))","v":""}]
[null,"Akmenės r. sav.","Asmenys, įsigiję verslo liudijimus | vnt.","",361,323,328,362,377,415,417,395,419,368,{"$f":"VLOOKUP(B687,'[2]+To DB'!$E$1:$F$71,2,FALSE)","v":326},340,null,{"$f":"ROWS($R$7:R687)","v":681},"",{"$f":"IF(ISERROR(SMALL($S$7:$S$1504,ROWS($S$7:S687))),\"\",SMALL($S$7:$S$1504,ROWS($S$7:S687)))","v":""},"",{"$f":"IF(ISERROR(SMALL($U$7:$U$1504,ROWS(U$7:$U687))),\"\",SMALL($U$7:$U$1504,ROWS(U$7:$U687)))","v":""},"",{"$f":"IF(ISERROR(SMALL($W$7:$W$1504,ROWS($W$7:W687))),\"\",SMALL($W$7:$W$1504,ROWS($W$7:W687)))","v":""}]
[null,"Joniškio r. sav.","Asmenys, įsigiję verslo liudijimus | vnt.","",657,607,575,605,574,635,561,548,574,494,{"$f":"VLOOKUP(B688,'[2]+To DB'!$E$1:$F$71,2,FALSE)","v":445},444,null,{"$f":"ROWS($R$7:R688)","v":682},"",{"$f":"IF(ISERROR(SMALL($S$7:$S$1504,ROWS($S$7:S688))),\"\",SMALL($S$7:$S$1504,ROWS($S$7:S688)))","v":""},"",{"$f":"IF(ISERROR(SMALL($U$7:$U$1504,ROWS(U$7:$U688))),\"\",SMALL($U$7:$U$1504,ROWS(U$7:$U688)))","v":""},"",{"$f":"IF(ISERROR(SMALL($W$7:$W$1504,ROWS($W$7:W688))),\"\",SMALL($W$7:$W$1504,ROWS($W$7:W688)))","v":""}]
[null,"Kelmės r. sav.","Asmenys, įsigiję verslo liudijimus | vnt.","",692,636,720,822,840,973,871,771,727,606,{"$f":"VLOOKUP(B689,'[2]+To DB'!$E$1:$F$71,2,FALSE)","v":574},563,null,{"$f":"ROWS($R$7:R689)","v":683},"",{"$f":"IF(ISERROR(SMALL($S$7:$S$1504,ROWS($S$7:S689))),\"\",SMALL($S$7:$S$1504,ROWS($S$7:S689)))","v":""},"",{"$f":"IF(ISERROR(SMALL($U$7:$U$1504,ROWS(U$7:$U689))),\"\",SMALL($U$7:$U$1504,ROWS(U$7:$U689)))","v":""},"",{"$f":"IF(ISERROR(SMALL($W$7:$W$1504,ROWS($W$7:W689))),\"\",SMALL($W$7:$W$1504,ROWS($W$7:W689)))","v":""}]
[null,"Pakruojo r. sav.","Asmenys, įsigiję verslo liudijimus | vnt.","",380,357,342,394,406,463,479,464,503,449,{"$f":"VLOOKUP(B690,'[2]+To DB'!$E$1:$F$71,2,FALSE)","v":425},404,null,{"$f":"ROWS($R$7:R690)","v":684},"",{"$f":"IF(ISERROR(SMALL($S$7:$S$1504,ROWS($S$7:S690))),\"\",SMALL($S$7:$S$1504,ROWS($S$7:S690)))","v":""},"",{"$f":"IF(ISERROR(SMALL($U$7:$U$1504,ROWS(U$7:$U690))),\"\",SMALL($U$7:$U$1504,ROWS(U$7:$U690)))","v":""},"",{"$f":"IF(ISERROR(SMALL($W$7:$W$1504,ROWS($W$7:W690))),\"\",SMALL($W$7:$W$1504,ROWS($W$7:W690)))","v":""}]
[null,"Radviliškio r. sav.","Asmenys, įsigiję verslo liudijimus | vnt.","",786,696,707,689,791,897,822,750,710,588,{"$f":"VLOOKUP(B691,'[2]+To DB'!$E$1:$F$71,2,FALSE)","v":571},619,null,{"$f":"ROWS($R$7:R691)","v":685},"",{"$f":"IF(ISERROR(SMALL($S$7:$S$1504,ROWS($S$7:S691))),\"\",SMALL($S$7:$S$1504,ROWS($S$7:S691)))","v":""},"",{"$f":"IF(ISERROR(SMALL($U$7:$U$1504,ROWS(U$7:$U691))),\"\",SMALL($U$7:$U$1504,ROWS(U$7:$U691)))","v":""},"",{"$f":"IF(ISERROR(SMALL($W$7:$W$1504,ROWS($W$7:W691))),\"\",SMALL($W$7:$W$1504,ROWS($W$7:W691)))","v":""}]
[null,"Šiaulių m. sav.","Asmenys, įsigiję verslo liudijimus | vnt.","",3295,3127,3122,3335,3417,3556,3384,3223,3684,3282,{"$f":"VLOOKUP(B692,'[2]+To DB'!$E$1:$F$71,2,FALSE)","v":3021},3127,null,{"$f":"ROWS($R$7:R692)","v":686},"",{"$f":"IF(ISERROR(SMALL($S$7:$S$1504,ROWS($S$7:S692))),\"\",SMALL($S$7:$S$1504,ROWS($S$7:S692)))","v":""},"",{"$f":"IF(ISERROR(SMALL($U$7:$U$1504,ROWS(U$7:$U692))),\"\",SMALL($U$7:$U$1504,ROWS(U$7:$U692)))","v":""},"",{"$f":"IF(ISERROR(SMALL($W$7:$W$1504,ROWS($W$7:W692))),\"\",SMALL($W$7:$W$1504,ROWS($W$7:W692)))","v":""}]
[null,"Šiaulių r. sav.","Asmenys, įsigiję verslo liudijimus | vnt.","",1108,1013,1108,1154,1158,1205,1197,1137,1107,952,{"$f":"VLOOKUP(B693,'[2]+To DB'!$E$1:$F$71,2,FALSE)","v":976},979,null,{"$f":"ROWS($R$7:R693)","v":687},"",{"$f":"IF(ISERROR(SMALL($S$7:$S$1504,ROWS($S$7:S693))),\"\",SMALL($S$7:$S$1504,ROWS($S$7:S693)))","v":""},"",{"$f":"IF(ISERROR(SMALL($U$7:$U$1504,ROWS(U$7:$U693))),\"\",SMALL($U$7:$U$1504,ROWS(U$7:$U693)))","v":""},"",{"$f":"IF(ISERROR(SMALL($W$7:$W$1504,ROWS($W$7:W693))),\"\",SMALL($W$7:$W$1504,ROWS($W$7:W693)))","v":""}]
[null,"Tauragės apskritis","Asmenys, įsigiję verslo liudijimus | vnt.","",2916,2892,2954,3204,3257,3520,3492,3415,3505,3146,{"$f":"VLOOKUP(B694,'[2]+To DB'!$E$1:$F$71,2,FALSE)","v":2925},3064,null,{"$f":"ROWS($R$7:R694)","v":688},"",{"$f":"IF(ISERROR(SMALL($S$7:$S$1504,ROWS($S$7:S694))),\"\",SMALL($S$7:$S$1504,ROWS($S$7:S694)))","v":""},"",{"$f":"IF(ISERROR(SMALL($U$7:$U$1504,ROWS(U$7:$U694))),\"\",SMALL($U$7:$U$1504,ROWS(U$7:$U694)))","v":""},"",{"$f":"IF(ISERROR(SMALL($W$7:$W$1504,ROWS($W$7:W694))),\"\",SMALL($W$7:$W$1504,ROWS($W$7:W694)))","v":""}]
[null,"Jurbarko r. sav.","Asmenys, įsigiję verslo liudijimus | vnt.","",836,821,836,846,845,867,813,759,775,666,{"$f":"VLOOKUP(B695,'[2]+To DB'!$E$1:$F$71,2,FALSE)","v":644},664,null,{"$f":"ROWS($R$7:R695)","v":689},"",{"$f":"IF(ISERROR(SMALL($S$7:$S$1504,ROWS($S$7:S695))),\"\",SMALL($S$7:$S$1504,ROWS($S$7:S695)))","v":""},"",{"$f":"IF(ISERROR(SMALL($U$7:$U$1504,ROWS(U$7:$U695))),\"\",SMALL($U$7:$U$1504,ROWS(U$7:$U695)))","v":""},"",{"$f":"IF(ISERROR(SMALL($W$7:$W$1504,ROWS($W$7:W695))),\"\",SMALL($W$7:$W$1504,ROWS($W$7:W695)))","v":""}]
[null,"Pagėgių sav.","Asmenys, įsigiję verslo liudijimus | vnt.","",144,153,148,168,173,169,170,177,155,106,{"$f":"VLOOKUP(B696,'[2]+To DB'!$E$1:$F$71,2,FALSE)","v":96},103,null,{"$f":"ROWS($R$7:R696)","v":690},"",{"$f":"IF(ISERROR(SMALL($S$7:$S$1504,ROWS($S$7:S696))),\"\",SMALL($S$7:$S$1504,ROWS($S$7:S696)))","v":""},"",{"$f":"IF(ISERROR(SMALL($U$7:$U$1504,ROWS(U$7:$U696))),\"\",SMALL($U$7:$U$1504,ROWS(U$7:$U696)))","v":""},"",{"$f":"IF(ISERROR(SMALL($W$7:$W$1504,ROWS($W$7:W696))),\"\",SMALL($W$7:$W$1504,ROWS($W$7:W696)))","v":""}]
[null,"Šilalės r. sav.","Asmenys, įsigiję verslo liudijimus | vnt.","",658,683,714,761,713,768,780,747,695,603,{"$f":"VLOOKUP(B697,'[2]+To DB'!$E$1:$F$71,2,FALSE)","v":586},579,null,{"$f":"ROWS($R$7:R697)","v":691},"",{"$f":"IF(ISERROR(SMALL($S$7:$S$1504,ROWS($S$7:S697))),\"\",SMALL($S$7:$S$1504,ROWS($S$7:S697)))","v":""},"",{"$f":"IF(ISERROR(SMALL($U$7:$U$1504,ROWS(U$7:$U697))),\"\",SMALL($U$7:$U$1504,ROWS(U$7:$U697)))","v":""},"",{"$f":"IF(ISERROR(SMALL($W$7:$W$1504,ROWS($W$7:W697))),\"\",SMALL($W$7:$W$1504,ROWS($W$7:W697)))","v":""}]
[null,"Tauragės r. sav.","Asmenys, įsigiję verslo liudijimus | vnt.","",1278,1235,1256,1429,1526,1716,1729,1732,1880,1771,{"$f":"VLOOKUP(B698,'[2]+To DB'!$E$1:$F$71,2,FALSE)","v":1599},1718,null,{"$f":"ROWS($R$7:R698)","v":692},"",{"$f":"IF(ISERROR(SMALL($S$7:$S$1504,ROWS($S$7:S698))),\"\",SMALL($S$7:$S$1504,ROWS($S$7:S698)))","v":""},"",{"$f":"IF(ISERROR(SMALL($U$7:$U$1504,ROWS(U$7:$U698))),\"\",SMALL($U$7:$U$1504,ROWS(U$7:$U698)))","v":""},"",{"$f":"IF(ISERROR(SMALL($W$7:$W$1504,ROWS($W$7:W698))),\"\",SMALL($W$7:$W$1504,ROWS($W$7:W698)))","v":""}]
[null,"Telšių apskritis","Asmenys, įsigiję verslo liudijimus | vnt.","",3682,3223,3474,3772,3919,4213,3980,3709,3615,3193,{"$f":"VLOOKUP(B699,'[2]+To DB'!$E$1:$F$71,2,FALSE)","v":2873},2898,null,{"$f":"ROWS($R$7:R699)","v":693},"",{"$f":"IF(ISERROR(SMALL($S$7:$S$1504,ROWS($S$7:S699))),\"\",SMALL($S$7:$S$1504,ROWS($S$7:S699)))","v":""},"",{"$f":"IF(ISERROR(SMALL($U$7:$U$1504,ROWS(U$7:$U699))),\"\",SMALL($U$7:$U$1504,ROWS(U$7:$U699)))","v":""},"",{"$f":"IF(ISERROR(SMALL($W$7:$W$1504,ROWS($W$7:W699))),\"\",SMALL($W$7:$W$1504,ROWS($W$7:W699)))","v":""}]
[null,"Mažeikių r. sav.","Asmenys, įsigiję verslo liudijimus | vnt.","",1241,1062,1112,1198,1228,1356,1279,1208,1086,905,{"$f":"VLOOKUP(B700,'[2]+To DB'!$E$1:$F$71,2,FALSE)","v":805},864,null,{"$f":"ROWS($R$7:R700)","v":694},"",{"$f":"IF(ISERROR(SMALL($S$7:$S$1504,ROWS($S$7:S700))),\"\",SMALL($S$7:$S$1504,ROWS($S$7:S700)))","v":""},"",{"$f":"IF(ISERROR(SMALL($U$7:$U$1504,ROWS(U$7:$U700))),\"\",SMALL($U$7:$U$1504,ROWS(U$7:$U700)))","v":""},"",{"$f":"IF(ISERROR(SMALL($W$7:$W$1504,ROWS($W$7:W700))),\"\",SMALL($W$7:$W$1504,ROWS($W$7:W700)))","v":""}]
[null,"Plungės r. sav.","Asmenys, įsigiję verslo liudijimus | vnt.","",1113,975,1084,1217,1257,1322,1348,1232,1188,1061,{"$f":"VLOOKUP(B701,'[2]+To DB'!$E$1:$F$71,2,FALSE)","v":987},972,null,{"$f":"ROWS($R$7:R701)","v":695},"",{"$f":"IF(ISERROR(SMALL($S$7:$S$1504,ROWS($S$7:S701))),\"\",SMALL($S$7:$S$1504,ROWS($S$7:S701)))","v":""},"",{"$f":"IF(ISERROR(SMALL($U$7:$U$1504,ROWS(U$7:$U701))),\"\",SMALL($U$7:$U$1504,ROWS(U$7:$U701)))","v":""},"",{"$f":"IF(ISERROR(SMALL($W$7:$W$1504,ROWS($W$7:W701))),\"\",SMALL($W$7:$W$1504,ROWS($W$7:W701)))","v":""}]
[null,"Rietavo sav.","Asmenys, įsigiję verslo liudijimus | vnt.","",274,275,281,288,297,293,266,237,482,440,{"$f":"VLOOKUP(B702,'[2]+To DB'!$E$1:$F$71,2,FALSE)","v":367},378,null,{"$f":"ROWS($R$7:R702)","v":696},"",{"$f":"IF(ISERROR(SMALL($S$7:$S$1504,ROWS($S$7:S702))),\"\",SMALL($S$7:$S$1504,ROWS($S$7:S702)))","v":""},"",{"$f":"IF(ISERROR(SMALL($U$7:$U$1504,ROWS(U$7:$U702))),\"\",SMALL($U$7:$U$1504,ROWS(U$7:$U702)))","v":""},"",{"$f":"IF(ISERROR(SMALL($W$7:$W$1504,ROWS($W$7:W702))),\"\",SMALL($W$7:$W$1504,ROWS($W$7:W702)))","v":""}]
[null,"Telšių r. sav.","Asmenys, įsigiję verslo liudijimus | vnt.","",1054,911,997,1069,1137,1242,1087,1032,859,787,{"$f":"VLOOKUP(B703,'[2]+To DB'!$E$1:$F$71,2,FALSE)","v":714},684,null,{"$f":"ROWS($R$7:R703)","v":697},"",{"$f":"IF(ISERROR(SMALL($S$7:$S$1504,ROWS($S$7:S703))),\"\",SMALL($S$7:$S$1504,ROWS($S$7:S703)))","v":""},"",{"$f":"IF(ISERROR(SMALL($U$7:$U$1504,ROWS(U$7:$U703))),\"\",SMALL($U$7:$U$1504,ROWS(U$7:$U703)))","v":""},"",{"$f":"IF(ISERROR(SMALL($W$7:$W$1504,ROWS($W$7:W703))),\"\",SMALL($W$7:$W$1504,ROWS($W$7:W703)))","v":""}]
[null,"Utenos apskritis","Asmenys, įsigiję verslo liudijimus | vnt.","",3555,3418,3634,3986,4238,4451,4253,4068,4267,3836,{"$f":"VLOOKUP(B704,'[2]+To DB'!$E$1:$F$71,2,FALSE)","v":3580},3777,null,{"$f":"ROWS($R$7:R704)","v":698},"",{"$f":"IF(ISERROR(SMALL($S$7:$S$1504,ROWS($S$7:S704))),\"\",SMALL($S$7:$S$1504,ROWS($S$7:S704)))","v":""},"",{"$f":"IF(ISERROR(SMALL($U$7:$U$1504,ROWS(U$7:$U704))),\"\",SMALL($U$7:$U$1504,ROWS(U$7:$U704)))","v":""},"",{"$f":"IF(ISERROR(SMALL($W$7:$W$1504,ROWS($W$7:W704))),\"\",SMALL($W$7:$W$1504,ROWS($W$7:W704)))","v":""}]
[null,"Anykščių r. sav.","Asmenys, įsigiję verslo liudijimus | vnt.","",584,554,640,689,732,769,747,719,710,635,{"$f":"VLOOKUP(B705,'[2]+To DB'!$E$1:$F$71,2,FALSE)","v":557},612,null,{"$f":"ROWS($R$7:R705)","v":699},"",{"$f":"IF(ISERROR(SMALL($S$7:$S$1504,ROWS($S$7:S705))),\"\",SMALL($S$7:$S$1504,ROWS($S$7:S705)))","v":""},"",{"$f":"IF(ISERROR(SMALL($U$7:$U$1504,ROWS(U$7:$U705))),\"\",SMALL($U$7:$U$1504,ROWS(U$7:$U705)))","v":""},"",{"$f":"IF(ISERROR(SMALL($W$7:$W$1504,ROWS($W$7:W705))),\"\",SMALL($W$7:$W$1504,ROWS($W$7:W705)))","v":""}]
[null,"Ignalinos r. sav.","Asmenys, įsigiję verslo liudijimus | vnt.","",326,328,360,382,409,437,398,388,421,389,{"$f":"VLOOKUP(B706,'[2]+To DB'!$E$1:$F$71,2,FALSE)","v":351},379,null,{"$f":"ROWS($R$7:R706)","v":700},"",{"$f":"IF(ISERROR(SMALL($S$7:$S$1504,ROWS($S$7:S706))),\"\",SMALL($S$7:$S$1504,ROWS($S$7:S706)))","v":""},"",{"$f":"IF(ISERROR(SMALL($U$7:$U$1504,ROWS(U$7:$U706))),\"\",SMALL($U$7:$U$1504,ROWS(U$7:$U706)))","v":""},"",{"$f":"IF(ISERROR(SMALL($W$7:$W$1504,ROWS($W$7:W706))),\"\",SMALL($W$7:$W$1504,ROWS($W$7:W706)))","v":""}]
[null,"Molėtų r. sav.","Asmenys, įsigiję verslo liudijimus | vnt.","",553,564,603,676,747,772,752,740,749,685,{"$f":"VLOOKUP(B707,'[2]+To DB'!$E$1:$F$71,2,FALSE)","v":711},734,null,{"$f":"ROWS($R$7:R707)","v":701},"",{"$f":"IF(ISERROR(SMALL($S$7:$S$1504,ROWS($S$7:S707))),\"\",SMALL($S$7:$S$1504,ROWS($S$7:S707)))","v":""},"",{"$f":"IF(ISERROR(SMALL($U$7:$U$1504,ROWS(U$7:$U707))),\"\",SMALL($U$7:$U$1504,ROWS(U$7:$U707)))","v":""},"",{"$f":"IF(ISERROR(SMALL($W$7:$W$1504,ROWS($W$7:W707))),\"\",SMALL($W$7:$W$1504,ROWS($W$7:W707)))","v":""}]
[null,"Utenos r. sav.","Asmenys, įsigiję verslo liudijimus | vnt.","",1247,1195,1255,1371,1457,1509,1467,1416,1519,1398,{"$f":"VLOOKUP(B708,'[2]+To DB'!$E$1:$F$71,2,FALSE)","v":1228},1330,null,{"$f":"ROWS($R$7:R708)","v":702},"",{"$f":"IF(ISERROR(SMALL($S$7:$S$1504,ROWS($S$7:S708))),\"\",SMALL($S$7:$S$1504,ROWS($S$7:S708)))","v":""},"",{"$f":"IF(ISERROR(SMALL($U$7:$U$1504,ROWS(U$7:$U708))),\"\",SMALL($U$7:$U$1504,ROWS(U$7:$U708)))","v":""},"",{"$f":"IF(ISERROR(SMALL($W$7:$W$1504,ROWS($W$7:W708))),\"\",SMALL($W$7:$W$1504,ROWS($W$7:W708)))","v":""}]
[null,"Visagino sav.","Asmenys, įsigiję verslo liudijimus | vnt.","",427,406,390,439,425,458,443,393,463,361,{"$f":"VLOOKUP(B709,'[2]+To DB'!$E$1:$F$71,2,FALSE)","v":355},355,null,{"$f":"ROWS($R$7:R709)","v":703},"",{"$f":"IF(ISERROR(SMALL($S$7:$S$1504,ROWS($S$7:S709))),\"\",SMALL($S$7:$S$1504,ROWS($S$7:S709)))","v":""},"",{"$f":"IF(ISERROR(SMALL($U$7:$U$1504,ROWS(U$7:$U709))),\"\",SMALL($U$7:$U$1504,ROWS(U$7:$U709)))","v":""},"",{"$f":"IF(ISERROR(SMALL($W$7:$W$1504,ROWS($W$7:W709))),\"\",SMALL($W$7:$W$1504,ROWS($W$7:W709)))","v":""}]
[null,"Zarasų r. sav.","Asmenys, įsigiję verslo liudijimus | vnt.","",418,371,386,429,468,506,446,412,405,368,{"$f":"VLOOKUP(B710,'[2]+To DB'!$E$1:$F$71,2,FALSE)","v":378},367,null,{"$f":"ROWS($R$7:R710)","v":704},"",{"$f":"IF(ISERROR(SMALL($S$7:$S$1504,ROWS($S$7:S710))),\"\",SMALL($S$7:$S$1504,ROWS($S$7:S710)))","v":""},"",{"$f":"IF(ISERROR(SMALL($U$7:$U$1504,ROWS(U$7:$U710))),\"\",SMALL($U$7:$U$1504,ROWS(U$7:$U710)))","v":""},"",{"$f":"IF(ISERROR(SMALL($W$7:$W$1504,ROWS($W$7:W710))),\"\",SMALL($W$7:$W$1504,ROWS($W$7:W710)))","v":""}]
[null,"Vilniaus apskritis","Asmenys, įsigiję verslo liudijimus | vnt.","",25450,23304,23650,26560,28619,31379,31823,31170,34784,31958,{"$f":"VLOOKUP(B711,'[2]+To DB'!$E$1:$F$71,2,FALSE)","v":30808},34931,null,{"$f":"ROWS($R$7:R711)","v":705},{"$f":"IF(ISNUMBER(SEARCH($R$3,B711)),R711,\"\")","v":""},{"$f":"IF(ISERROR(SMALL($S$7:$S$1504,ROWS($S$7:S711))),\"\",SMALL($S$7:$S$1504,ROWS($S$7:S711)))","v":""},{"$f":"IF($R$4=B711,R711,\"\")","v":705},{"$f":"IF(ISERROR(SMALL($U$7:$U$1504,ROWS(U$7:$U711))),\"\",SMALL($U$7:$U$1504,ROWS(U$7:$U711)))","v":""},{"$f":"IF(\"Lietuvos Respublika\"=B711,R711,\"\")","v":""},{"$f":"IF(ISERROR(SMALL($W$7:$W$1504,ROWS($W$7:W711))),\"\",SMALL($W$7:$W$1504,ROWS($W$7:W711)))","v":""}]
[null,"Elektrėnų sav.","Asmenys, įsigiję verslo liudijimus | vnt.","",576,548,558,591,637,660,614,606,637,543,{"$f":"VLOOKUP(B712,'[2]+To DB'!$E$1:$F$71,2,FALSE)","v":514},539,null,{"$f":"ROWS($R$7:R712)","v":706},"",{"$f":"IF(ISERROR(SMALL($S$7:$S$1504,ROWS($S$7:S712))),\"\",SMALL($S$7:$S$1504,ROWS($S$7:S712)))","v":""},"",{"$f":"IF(ISERROR(SMALL($U$7:$U$1504,ROWS(U$7:$U712))),\"\",SMALL($U$7:$U$1504,ROWS(U$7:$U712)))","v":""},"",{"$f":"IF(ISERROR(SMALL($W$7:$W$1504,ROWS($W$7:W712))),\"\",SMALL($W$7:$W$1504,ROWS($W$7:W712)))","v":""}]
[null,"Šalčininkų r. sav.","Asmenys, įsigiję verslo liudijimus | vnt.","",698,714,800,873,968,1088,969,952,840,792,{"$f":"VLOOKUP(B713,'[2]+To DB'!$E$1:$F$71,2,FALSE)","v":745},810,null,{"$f":"ROWS($R$7:R713)","v":707},"",{"$f":"IF(ISERROR(SMALL($S$7:$S$1504,ROWS($S$7:S713))),\"\",SMALL($S$7:$S$1504,ROWS($S$7:S713)))","v":""},"",{"$f":"IF(ISERROR(SMALL($U$7:$U$1504,ROWS(U$7:$U713))),\"\",SMALL($U$7:$U$1504,ROWS(U$7:$U713)))","v":""},"",{"$f":"IF(ISERROR(SMALL($W$7:$W$1504,ROWS($W$7:W713))),\"\",SMALL($W$7:$W$1504,ROWS($W$7:W713)))","v":""}]
[null,"Širvintų r. sav.","Asmenys, įsigiję verslo liudijimus | vnt.","",410,375,409,495,512,530,562,562,558,456,{"$f":"VLOOKUP(B714,'[2]+To DB'!$E$1:$F$71,2,FALSE)","v":433},489,null,{"$f":"ROWS($R$7:R714)","v":708},"",{"$f":"IF(ISERROR(SMALL($S$7:$S$1504,ROWS($S$7:S714))),\"\",SMALL($S$7:$S$1504,ROWS($S$7:S714)))","v":""},"",{"$f":"IF(ISERROR(SMALL($U$7:$U$1504,ROWS(U$7:$U714))),\"\",SMALL($U$7:$U$1504,ROWS(U$7:$U714)))","v":""},"",{"$f":"IF(ISERROR(SMALL($W$7:$W$1504,ROWS($W$7:W714))),\"\",SMALL($W$7:$W$1504,ROWS($W$7:W714)))","v":""}]
[null,"Švenčionių r. sav.","Asmenys, įsigiję verslo liudijimus | vnt.","",529,456,475,538,597,599,548,536,516,479,{"$f":"VLOOKUP(B715,'[2]+To DB'!$E$1:$F$71,2,FALSE)","v":500},487,null,{"$f":"ROWS($R$7:R715)","v":709},"",{"$f":"IF(ISERROR(SMALL($S$7:$S$1504,ROWS($S$7:S715))),\"\",SMALL($S$7:$S$1504,ROWS($S$7:S715)))","v":""},"",{"$f":"IF(ISERROR(SMALL($U$7:$U$1504,ROWS(U$7:$U715))),\"\",SMALL($U$7:$U$1504,ROWS(U$7:$U715)))","v":""},"",{"$f":"IF(ISERROR(SMALL($W$7:$W$1504,ROWS($W$7:W715))),\"\",SMALL($W$7:$W$1504,ROWS($W$7:W715)))","v":""}]
[null,"Trakų r. sav.","Asmenys, įsigiję verslo liudijimus | vnt.","",950,893,972,1054,1073,1161,1180,1174,1252,1055,{"$f":"VLOOKUP(B716,'[2]+To DB'!$E$1:$F$71,2,FALSE)","v":1005},1108,null,{"$f":"ROWS($R$7:R716)","v":710},"",{"$f":"IF(ISERROR(SMALL($S$7:$S$1504,ROWS($S$7:S716))),\"\",SMALL($S$7:$S$1504,ROWS($S$7:S716)))","v":""},"",{"$f":"IF(ISERROR(SMALL($U$7:$U$1504,ROWS(U$7:$U716))),\"\",SMALL($U$7:$U$1504,ROWS(U$7:$U716)))","v":""},"",{"$f":"IF(ISERROR(SMALL($W$7:$W$1504,ROWS($W$7:W716))),\"\",SMALL($W$7:$W$1504,ROWS($W$7:W716)))","v":""}]
[null,"Ukmergės r. sav.","Asmenys, įsigiję verslo liudijimus | vnt.","",787,731,793,876,886,947,958,874,1076,867,{"$f":"VLOOKUP(B717,'[2]+To DB'!$E$1:$F$71,2,FALSE)","v":899},933,null,{"$f":"ROWS($R$7:R717)","v":711},"",{"$f":"IF(ISERROR(SMALL($S$7:$S$1504,ROWS($S$7:S717))),\"\",SMALL($S$7:$S$1504,ROWS($S$7:S717)))","v":""},"",{"$f":"IF(ISERROR(SMALL($U$7:$U$1504,ROWS(U$7:$U717))),\"\",SMALL($U$7:$U$1504,ROWS(U$7:$U717)))","v":""},"",{"$f":"IF(ISERROR(SMALL($W$7:$W$1504,ROWS($W$7:W717))),\"\",SMALL($W$7:$W$1504,ROWS($W$7:W717)))","v":""}]
[null,"Vilniaus m. sav.","Asmenys, įsigiję verslo liudijimus | vnt.","",18717,16996,16984,19062,20503,22494,22974,22526,25788,24031,{"$f":"VLOOKUP(B718,'[2]+To DB'!$E$1:$F$71,2,FALSE)","v":23009},26390,null,{"$f":"ROWS($R$7:R718)","v":712},712,{"$f":"IF(ISERROR(SMALL($S$7:$S$1504,ROWS($S$7:S718))),\"\",SMALL($S$7:$S$1504,ROWS($S$7:S718)))","v":""},"",{"$f":"IF(ISERROR(SMALL($U$7:$U$1504,ROWS(U$7:$U718))),\"\",SMALL($U$7:$U$1504,ROWS(U$7:$U718)))","v":""},"",{"$f":"IF(ISERROR(SMALL($W$7:$W$1504,ROWS($W$7:W718))),\"\",SMALL($W$7:$W$1504,ROWS($W$7:W718)))","v":""}]
[null,"Vilniaus r. sav.","Asmenys, įsigiję verslo liudijimus | vnt.","",2783,2591,2659,3071,3443,3900,4018,3940,4117,3735,{"$f":"VLOOKUP(B719,'[2]+To DB'!$E$1:$F$71,2,FALSE)","v":3703},4175,null,{"$f":"ROWS($R$7:R719)","v":713},"",{"$f":"IF(ISERROR(SMALL($S$7:$S$1504,ROWS($S$7:S719))),\"\",SMALL($S$7:$S$1504,ROWS($S$7:S719)))","v":""},"",{"$f":"IF(ISERROR(SMALL($U$7:$U$1504,ROWS(U$7:$U719))),\"\",SMALL($U$7:$U$1504,ROWS(U$7:$U719)))","v":""},"",{"$f":"IF(ISERROR(SMALL($W$7:$W$1504,ROWS($W$7:W719))),\"\",SMALL($W$7:$W$1504,ROWS($W$7:W719)))","v":""}]
[null,"Lietuvos Respublika","Veikiančios MVĮ tenkančios 1000 gyventojų metų pradžioje | vnt.",20.193343297338998,21.795931845371861,20.836711178200055,22.026612559957336,23.082604488848546,26.042169445944939,27.512689722692084,29.103860242480085,29.573487994058887,30.244965972176491,31.040725698369805,31.053511842522362,33.010714904287177,34.980744768709954,{"$f":"ROWS($R$7:R720)","v":714},"",{"$f":"IF(ISERROR(SMALL($S$7:$S$1504,ROWS($S$7:S720))),\"\",SMALL($S$7:$S$1504,ROWS($S$7:S720)))","v":""},"",{"$f":"IF(ISERROR(SMALL($U$7:$U$1504,ROWS(U$7:$U720))),\"\",SMALL($U$7:$U$1504,ROWS(U$7:$U720)))","v":""},714,{"$f":"IF(ISERROR(SMALL($W$7:$W$1504,ROWS($W$7:W720))),\"\",SMALL($W$7:$W$1504,ROWS($W$7:W720)))","v":""}]
[null,"Alytaus apskritis","Veikiančios MVĮ tenkančios 1000 gyventojų metų pradžioje | vnt.",12.618832393998774,14.469422927596069,13.382371918957285,14.066084304484715,14.754656291916636,16.39277716512526,17.276667884142267,18.853801830301659,19.269343567833737,20.021191117389961,20.864570512103242,20.008566802912714,21.620745304083183,23.181425310452326,{"$f":"ROWS($R$7:R721)","v":715},"",{"$f":"IF(ISERROR(SMALL($S$7:$S$1504,ROWS($S$7:S721))),\"\",SMALL($S$7:$S$1504,ROWS($S$7:S721)))","v":""},"",{"$f":"IF(ISERROR(SMALL($U$7:$U$1504,ROWS(U$7:$U721))),\"\",SMALL($U$7:$U$1504,ROWS(U$7:$U721)))","v":""},"",{"$f":"IF(ISERROR(SMALL($W$7:$W$1504,ROWS($W$7:W721))),\"\",SMALL($W$7:$W$1504,ROWS($W$7:W721)))","v":""}]
[null,"Alytaus m. sav.","Veikiančios MVĮ tenkančios 1000 gyventojų metų pradžioje | vnt.",16.470218450416471,19.568173526582864,17.961206528240623,18.836961645222672,19.589403268449352,22.00884669327867,22.597416913156106,24.530231853311108,24.333449761322623,25.286581254214429,25.837876844130854,23.934606558309785,25.119224605641687,26.091484109842639,{"$f":"ROWS($R$7:R722)","v":716},"",{"$f":"IF(ISERROR(SMALL($S$7:$S$1504,ROWS($S$7:S722))),\"\",SMALL($S$7:$S$1504,ROWS($S$7:S722)))","v":""},"",{"$f":"IF(ISERROR(SMALL($U$7:$U$1504,ROWS(U$7:$U722))),\"\",SMALL($U$7:$U$1504,ROWS(U$7:$U722)))","v":""},"",{"$f":"IF(ISERROR(SMALL($W$7:$W$1504,ROWS($W$7:W722))),\"\",SMALL($W$7:$W$1504,ROWS($W$7:W722)))","v":""}]
[null,"Alytaus r. sav.","Veikiančios MVĮ tenkančios 1000 gyventojų metų pradžioje | vnt.",8.1233650006884197,9.2874867068415465,8.6552217453505005,9.0520674922152224,9.4343072366255907,10.985770109857702,12.485557750363386,13.515039716899446,14.725620278406259,16.17405268993997,17.962683972650364,18.685743325124115,21.27492233276967,24.05742230635747,{"$f":"ROWS($R$7:R723)","v":717},"",{"$f":"IF(ISERROR(SMALL($S$7:$S$1504,ROWS($S$7:S723))),\"\",SMALL($S$7:$S$1504,ROWS($S$7:S723)))","v":""},"",{"$f":"IF(ISERROR(SMALL($U$7:$U$1504,ROWS(U$7:$U723))),\"\",SMALL($U$7:$U$1504,ROWS(U$7:$U723)))","v":""},"",{"$f":"IF(ISERROR(SMALL($W$7:$W$1504,ROWS($W$7:W723))),\"\",SMALL($W$7:$W$1504,ROWS($W$7:W723)))","v":""}]
[null,"Druskininkų sav.","Veikiančios MVĮ tenkančios 1000 gyventojų metų pradžioje | vnt.",16.41949152542373,17.553483269336258,16.561991160735055,17.671174779699356,19.433700997946808,21.420301042068697,22.990196078431371,24.89895713786737,25.452690640142819,25,25.694698833010623,23.841588109132623,25.14740714609686,25.310198230263484,{"$f":"ROWS($R$7:R724)","v":718},"",{"$f":"IF(ISERROR(SMALL($S$7:$S$1504,ROWS($S$7:S724))),\"\",SMALL($S$7:$S$1504,ROWS($S$7:S724)))","v":""},"",{"$f":"IF(ISERROR(SMALL($U$7:$U$1504,ROWS(U$7:$U724))),\"\",SMALL($U$7:$U$1504,ROWS(U$7:$U724)))","v":""},"",{"$f":"IF(ISERROR(SMALL($W$7:$W$1504,ROWS($W$7:W724))),\"\",SMALL($W$7:$W$1504,ROWS($W$7:W724)))","v":""}]
[null,"Lazdijų r. sav.","Veikiančios MVĮ tenkančios 1000 gyventojų metų pradžioje | vnt.",7.1496663489037182,8.4854946910124855,7.6142131979695433,7.6251213087480938,8.1866942693140121,8.7445346658338536,9.0517663176436045,10.39301750668483,10.672246926497515,11.232949986627441,12.001527467132181,12.275990573792953,14.587525150905433,16.846206738482692,{"$f":"ROWS($R$7:R725)","v":719},"",{"$f":"IF(ISERROR(SMALL($S$7:$S$1504,ROWS($S$7:S725))),\"\",SMALL($S$7:$S$1504,ROWS($S$7:S725)))","v":""},"",{"$f":"IF(ISERROR(SMALL($U$7:$U$1504,ROWS(U$7:$U725))),\"\",SMALL($U$7:$U$1504,ROWS(U$7:$U725)))","v":""},"",{"$f":"IF(ISERROR(SMALL($W$7:$W$1504,ROWS($W$7:W725))),\"\",SMALL($W$7:$W$1504,ROWS($W$7:W725)))","v":""}]
[null,"Varėnos r. sav.","Veikiančios MVĮ tenkančios 1000 gyventojų metų pradžioje | vnt.",9.8042926903130567,10.781776836822708,10.302252866190972,11.115668580803938,11.189979123173279,11.688201292077524,12.516841236038072,13.88454841734006,14.703179562580408,15.463432976123331,15.930902111324377,14.855466717131097,16.003084932035094,18.022858259255642,{"$f":"ROWS($R$7:R726)","v":720},"",{"$f":"IF(ISERROR(SMALL($S$7:$S$1504,ROWS($S$7:S726))),\"\",SMALL($S$7:$S$1504,ROWS($S$7:S726)))","v":""},"",{"$f":"IF(ISERROR(SMALL($U$7:$U$1504,ROWS(U$7:$U726))),\"\",SMALL($U$7:$U$1504,ROWS(U$7:$U726)))","v":""},"",{"$f":"IF(ISERROR(SMALL($W$7:$W$1504,ROWS($W$7:W726))),\"\",SMALL($W$7:$W$1504,ROWS($W$7:W726)))","v":""}]
[null,"Kauno apskritis","Veikiančios MVĮ tenkančios 1000 gyventojų metų pradžioje | vnt.",20.652615669888363,22.344217296898687,21.593027793435375,22.443726215216863,23.418103051914215,25.980752838107392,27.322735633696944,28.950208379030489,29.780931679665859,30.721550326843953,31.407501629978096,31.205942718291485,33.193694848358227,35.855276194874321,{"$f":"ROWS($R$7:R727)","v":721},"",{"$f":"IF(ISERROR(SMALL($S$7:$S$1504,ROWS($S$7:S727))),\"\",SMALL($S$7:$S$1504,ROWS($S$7:S727)))","v":""},"",{"$f":"IF(ISERROR(SMALL($U$7:$U$1504,ROWS(U$7:$U727))),\"\",SMALL($U$7:$U$1504,ROWS(U$7:$U727)))","v":""},"",{"$f":"IF(ISERROR(SMALL($W$7:$W$1504,ROWS($W$7:W727))),\"\",SMALL($W$7:$W$1504,ROWS($W$7:W727)))","v":""}]
[null,"Birštono sav.","Veikiančios MVĮ tenkančios 1000 gyventojų metų pradžioje | vnt.",12.60953195127164,12.627912040060963,12.797881729920565,13.228699551569507,13.733119707026779,13.498055364905056,15.242494226327944,16.690173953925719,16.314779270633398,18.945834345397135,20.643892848365692,20.348837209302328,22.053418279833373,24.271844660194173,{"$f":"ROWS($R$7:R728)","v":722},"",{"$f":"IF(ISERROR(SMALL($S$7:$S$1504,ROWS($S$7:S728))),\"\",SMALL($S$7:$S$1504,ROWS($S$7:S728)))","v":""},"",{"$f":"IF(ISERROR(SMALL($U$7:$U$1504,ROWS(U$7:$U728))),\"\",SMALL($U$7:$U$1504,ROWS(U$7:$U728)))","v":""},"",{"$f":"IF(ISERROR(SMALL($W$7:$W$1504,ROWS($W$7:W728))),\"\",SMALL($W$7:$W$1504,ROWS($W$7:W728)))","v":""}]
[null,"Jonavos r. sav.","Veikiančios MVĮ tenkančios 1000 gyventojų metų pradžioje | vnt.",11.428928303772171,12.389342593188005,11.856583466409992,11.801504026265002,12.165504834720037,13.264957264957266,13.635521807574776,15.154719109043491,16.26557595358128,16.574187504503854,16.689745645361125,16.540449573266017,18.206943366951126,19.895590251882503,{"$f":"ROWS($R$7:R729)","v":723},"",{"$f":"IF(ISERROR(SMALL($S$7:$S$1504,ROWS($S$7:S729))),\"\",SMALL($S$7:$S$1504,ROWS($S$7:S729)))","v":""},"",{"$f":"IF(ISERROR(SMALL($U$7:$U$1504,ROWS(U$7:$U729))),\"\",SMALL($U$7:$U$1504,ROWS(U$7:$U729)))","v":""},"",{"$f":"IF(ISERROR(SMALL($W$7:$W$1504,ROWS($W$7:W729))),\"\",SMALL($W$7:$W$1504,ROWS($W$7:W729)))","v":""}]
[null,"Kaišiadorių r. sav.","Veikiančios MVĮ tenkančios 1000 gyventojų metų pradžioje | vnt.",10.892369593332376,11.79245283018868,10.811944053430771,11.238685377559079,12.083565115272885,13.504621651261163,13.673800362514708,14.723050979374756,14.806491059920019,15.65008025682183,16.324595271963695,16.021451315568964,16.725261972215584,18.678846547140228,{"$f":"ROWS($R$7:R730)","v":724},"",{"$f":"IF(ISERROR(SMALL($S$7:$S$1504,ROWS($S$7:S730))),\"\",SMALL($S$7:$S$1504,ROWS($S$7:S730)))","v":""},"",{"$f":"IF(ISERROR(SMALL($U$7:$U$1504,ROWS(U$7:$U730))),\"\",SMALL($U$7:$U$1504,ROWS(U$7:$U730)))","v":""},"",{"$f":"IF(ISERROR(SMALL($W$7:$W$1504,ROWS($W$7:W730))),\"\",SMALL($W$7:$W$1504,ROWS($W$7:W730)))","v":""}]
[null,"Kauno m. sav.","Veikiančios MVĮ tenkančios 1000 gyventojų metų pradžioje | vnt.",28.403056363073599,30.849082469061102,29.677610345815111,30.727822528088421,31.80466560530505,35.37996462667202,37.180287799735432,39.003590817619944,39.991261014762642,41.115381128074937,41.426498030271617,40.063196018115299,42.389210019267821,45.280545359202939,{"$f":"ROWS($R$7:R731)","v":725},"",{"$f":"IF(ISERROR(SMALL($S$7:$S$1504,ROWS($S$7:S731))),\"\",SMALL($S$7:$S$1504,ROWS($S$7:S731)))","v":""},"",{"$f":"IF(ISERROR(SMALL($U$7:$U$1504,ROWS(U$7:$U731))),\"\",SMALL($U$7:$U$1504,ROWS(U$7:$U731)))","v":""},"",{"$f":"IF(ISERROR(SMALL($W$7:$W$1504,ROWS($W$7:W731))),\"\",SMALL($W$7:$W$1504,ROWS($W$7:W731)))","v":""}]
[null,"Kauno r. sav.","Veikiančios MVĮ tenkančios 1000 gyventojų metų pradžioje | vnt.",14.980799742463612,16.608086403947766,16.513953245305366,17.970585172242213,19.451903876609517,22.037196253224128,23.157871218553108,24.518792616911707,25.311946807132681,26.461312026913372,28.100081915367944,30.541125541125542,32.380014870511353,35.04759985896338,{"$f":"ROWS($R$7:R732)","v":726},"",{"$f":"IF(ISERROR(SMALL($S$7:$S$1504,ROWS($S$7:S732))),\"\",SMALL($S$7:$S$1504,ROWS($S$7:S732)))","v":""},"",{"$f":"IF(ISERROR(SMALL($U$7:$U$1504,ROWS(U$7:$U732))),\"\",SMALL($U$7:$U$1504,ROWS(U$7:$U732)))","v":""},"",{"$f":"IF(ISERROR(SMALL($W$7:$W$1504,ROWS($W$7:W732))),\"\",SMALL($W$7:$W$1504,ROWS($W$7:W732)))","v":""}]
[null,"Kėdainių r. sav.","Veikiančios MVĮ tenkančios 1000 gyventojų metų pradžioje | vnt.",10.923694779116465,11.464592472444428,11.075201753888607,11.44913313706248,12.028065486134313,13.03590380263922,13.964487391189122,15.583221925133691,15.549264358941363,16.153997078764363,16.407198851716903,15.911344918287266,17.424258924487617,19.221538595802244,{"$f":"ROWS($R$7:R733)","v":727},"",{"$f":"IF(ISERROR(SMALL($S$7:$S$1504,ROWS($S$7:S733))),\"\",SMALL($S$7:$S$1504,ROWS($S$7:S733)))","v":""},"",{"$f":"IF(ISERROR(SMALL($U$7:$U$1504,ROWS(U$7:$U733))),\"\",SMALL($U$7:$U$1504,ROWS(U$7:$U733)))","v":""},"",{"$f":"IF(ISERROR(SMALL($W$7:$W$1504,ROWS($W$7:W733))),\"\",SMALL($W$7:$W$1504,ROWS($W$7:W733)))","v":""}]
[null,"Prienų r. sav.","Veikiančios MVĮ tenkančios 1000 gyventojų metų pradžioje | vnt.",10.584400916454225,10.889898450026724,10.829218457347183,11.09464907142611,11.570421794467235,12.38423050991803,13.224454400924989,14.748718705062497,15.476370224973577,15.663296568627452,16.122781179753506,17.084552716918456,18.352658936425431,20.831660913542589,{"$f":"ROWS($R$7:R734)","v":728},"",{"$f":"IF(ISERROR(SMALL($S$7:$S$1504,ROWS($S$7:S734))),\"\",SMALL($S$7:$S$1504,ROWS($S$7:S734)))","v":""},"",{"$f":"IF(ISERROR(SMALL($U$7:$U$1504,ROWS(U$7:$U734))),\"\",SMALL($U$7:$U$1504,ROWS(U$7:$U734)))","v":""},"",{"$f":"IF(ISERROR(SMALL($W$7:$W$1504,ROWS($W$7:W734))),\"\",SMALL($W$7:$W$1504,ROWS($W$7:W734)))","v":""}]
[null,"Raseinių r. sav.","Veikiančios MVĮ tenkančios 1000 gyventojų metų pradžioje | vnt.",10.78451559765263,11.560540023386841,11.887314769581502,12.314177945418237,12.792696328439799,13.309342244309256,14.346532921210708,15.926136193862611,17.16394955398339,17.3866733498324,18.222578062449958,18.049499871761988,19.46440235140431,21.143330571665288,{"$f":"ROWS($R$7:R735)","v":729},"",{"$f":"IF(ISERROR(SMALL($S$7:$S$1504,ROWS($S$7:S735))),\"\",SMALL($S$7:$S$1504,ROWS($S$7:S735)))","v":""},"",{"$f":"IF(ISERROR(SMALL($U$7:$U$1504,ROWS(U$7:$U735))),\"\",SMALL($U$7:$U$1504,ROWS(U$7:$U735)))","v":""},"",{"$f":"IF(ISERROR(SMALL($W$7:$W$1504,ROWS($W$7:W735))),\"\",SMALL($W$7:$W$1504,ROWS($W$7:W735)))","v":""}]
[null,"Klaipėdos apskritis","Veikiančios MVĮ tenkančios 1000 gyventojų metų pradžioje | vnt.",23.32246664344887,24.734816069543328,23.271514948736947,23.975050746034572,24.716348594128497,26.917201344332419,28.045271673166614,29.403413965997622,30.077036551385017,30.485770579311474,31.220509102726755,31.369945048296064,32.57849338345725,33.894270820936377,{"$f":"ROWS($R$7:R736)","v":730},"",{"$f":"IF(ISERROR(SMALL($S$7:$S$1504,ROWS($S$7:S736))),\"\",SMALL($S$7:$S$1504,ROWS($S$7:S736)))","v":""},"",{"$f":"IF(ISERROR(SMALL($U$7:$U$1504,ROWS(U$7:$U736))),\"\",SMALL($U$7:$U$1504,ROWS(U$7:$U736)))","v":""},"",{"$f":"IF(ISERROR(SMALL($W$7:$W$1504,ROWS($W$7:W736))),\"\",SMALL($W$7:$W$1504,ROWS($W$7:W736)))","v":""}]
[null,"Klaipėdos m. sav.","Veikiančios MVĮ tenkančios 1000 gyventojų metų pradžioje | vnt.",29.940404677221739,31.786762268413366,29.992131982865207,30.515765637910697,31.054321223101617,33.879634432980446,34.913106022316398,36.02561645374697,36.559486394283716,36.655126714088659,37.048210945513787,36.478343245092368,37.42191451486827,38.02550183057695,{"$f":"ROWS($R$7:R737)","v":731},"",{"$f":"IF(ISERROR(SMALL($S$7:$S$1504,ROWS($S$7:S737))),\"\",SMALL($S$7:$S$1504,ROWS($S$7:S737)))","v":""},"",{"$f":"IF(ISERROR(SMALL($U$7:$U$1504,ROWS(U$7:$U737))),\"\",SMALL($U$7:$U$1504,ROWS(U$7:$U737)))","v":""},"",{"$f":"IF(ISERROR(SMALL($W$7:$W$1504,ROWS($W$7:W737))),\"\",SMALL($W$7:$W$1504,ROWS($W$7:W737)))","v":""}]
[null,"Klaipėdos r. sav.","Veikiančios MVĮ tenkančios 1000 gyventojų metų pradžioje | vnt.",18.247400806280503,19.013631311063008,18.091625328275459,20.0526988801488,20.744578775666859,22.92214798129886,24.635702126863578,25.771025899148896,26.491600007126188,27.344752648060371,28.716806065947221,30.896706691945791,32.211918746528887,34.104788450095519,{"$f":"ROWS($R$7:R738)","v":732},"",{"$f":"IF(ISERROR(SMALL($S$7:$S$1504,ROWS($S$7:S738))),\"\",SMALL($S$7:$S$1504,ROWS($S$7:S738)))","v":""},"",{"$f":"IF(ISERROR(SMALL($U$7:$U$1504,ROWS(U$7:$U738))),\"\",SMALL($U$7:$U$1504,ROWS(U$7:$U738)))","v":""},"",{"$f":"IF(ISERROR(SMALL($W$7:$W$1504,ROWS($W$7:W738))),\"\",SMALL($W$7:$W$1504,ROWS($W$7:W738)))","v":""}]
[null,"Kretingos r. sav.","Veikiančios MVĮ tenkančios 1000 gyventojų metų pradžioje | vnt.",16.030229774450209,17.003931405417138,15.851272015655578,15.691587633945067,16.2958164104353,17.908345490215805,19.273535952557449,21.033248612479902,22.058242192647253,22.781104457751166,23.165094717717157,22.901777411727199,24.195273232809324,25.484470400849482,{"$f":"ROWS($R$7:R739)","v":733},"",{"$f":"IF(ISERROR(SMALL($S$7:$S$1504,ROWS($S$7:S739))),\"\",SMALL($S$7:$S$1504,ROWS($S$7:S739)))","v":""},"",{"$f":"IF(ISERROR(SMALL($U$7:$U$1504,ROWS(U$7:$U739))),\"\",SMALL($U$7:$U$1504,ROWS(U$7:$U739)))","v":""},"",{"$f":"IF(ISERROR(SMALL($W$7:$W$1504,ROWS($W$7:W739))),\"\",SMALL($W$7:$W$1504,ROWS($W$7:W739)))","v":""}]
[null,"Neringos sav.","Veikiančios MVĮ tenkančios 1000 gyventojų metų pradžioje | vnt.",58.676654182272159,58.112324492979717,48.466489965921994,48.547260022066936,51.962209302325583,55.574852379298363,58.940397350993379,61.995479496286727,60.483870967741936,56.150506512301014,60.339943342776202,67.885840953172632,73.020753266717904,84.286424664346086,{"$f":"ROWS($R$7:R740)","v":734},"",{"$f":"IF(ISERROR(SMALL($S$7:$S$1504,ROWS($S$7:S740))),\"\",SMALL($S$7:$S$1504,ROWS($S$7:S740)))","v":""},"",{"$f":"IF(ISERROR(SMALL($U$7:$U$1504,ROWS(U$7:$U740))),\"\",SMALL($U$7:$U$1504,ROWS(U$7:$U740)))","v":""},"",{"$f":"IF(ISERROR(SMALL($W$7:$W$1504,ROWS($W$7:W740))),\"\",SMALL($W$7:$W$1504,ROWS($W$7:W740)))","v":""}]
[null,"Palangos m. sav.","Veikiančios MVĮ tenkančios 1000 gyventojų metų pradžioje | vnt.",33.370342955835184,35.000951112801978,32.168643630737492,32.762326581124213,34.053913269957029,35.893100981858375,36.095740573928708,37.866528577901484,39.594304661595473,41.177221654749744,40.508537953384021,39.651260002388632,40.292177191328939,41.528788881535405,{"$f":"ROWS($R$7:R741)","v":735},"",{"$f":"IF(ISERROR(SMALL($S$7:$S$1504,ROWS($S$7:S741))),\"\",SMALL($S$7:$S$1504,ROWS($S$7:S741)))","v":""},"",{"$f":"IF(ISERROR(SMALL($U$7:$U$1504,ROWS(U$7:$U741))),\"\",SMALL($U$7:$U$1504,ROWS(U$7:$U741)))","v":""},"",{"$f":"IF(ISERROR(SMALL($W$7:$W$1504,ROWS($W$7:W741))),\"\",SMALL($W$7:$W$1504,ROWS($W$7:W741)))","v":""}]
[null,"Skuodo r. sav.","Veikiančios MVĮ tenkančios 1000 gyventojų metų pradžioje | vnt.",8.8809946714031973,9.7129602783415496,9.0439276485788103,9.63460257264388,10.577533319229955,10.974159368580388,11.57445865869192,12.872358603406049,13.243466950455245,13.702782998847995,14.056474685906208,14.153846153846153,14.338955214452655,15.499870834409714,{"$f":"ROWS($R$7:R742)","v":736},"",{"$f":"IF(ISERROR(SMALL($S$7:$S$1504,ROWS($S$7:S742))),\"\",SMALL($S$7:$S$1504,ROWS($S$7:S742)))","v":""},"",{"$f":"IF(ISERROR(SMALL($U$7:$U$1504,ROWS(U$7:$U742))),\"\",SMALL($U$7:$U$1504,ROWS(U$7:$U742)))","v":""},"",{"$f":"IF(ISERROR(SMALL($W$7:$W$1504,ROWS($W$7:W742))),\"\",SMALL($W$7:$W$1504,ROWS($W$7:W742)))","v":""}]
[null,"Šilutės r. sav.","Veikiančios MVĮ tenkančios 1000 gyventojų metų pradžioje | vnt.",13.308741852325362,14.345526663728513,13.623978201634877,14.253320375769356,15.218978961999671,16.310326684842398,16.961526294016011,18.821111723723121,19.252109731864049,19.526751125536592,20.777426468634587,20.580029180638391,22.133894474320005,23.316196707690708,{"$f":"ROWS($R$7:R743)","v":737},"",{"$f":"IF(ISERROR(SMALL($S$7:$S$1504,ROWS($S$7:S743))),\"\",SMALL($S$7:$S$1504,ROWS($S$7:S743)))","v":""},"",{"$f":"IF(ISERROR(SMALL($U$7:$U$1504,ROWS(U$7:$U743))),\"\",SMALL($U$7:$U$1504,ROWS(U$7:$U743)))","v":""},"",{"$f":"IF(ISERROR(SMALL($W$7:$W$1504,ROWS($W$7:W743))),\"\",SMALL($W$7:$W$1504,ROWS($W$7:W743)))","v":""}]
[null,"Marijampolės apskritis","Veikiančios MVĮ tenkančios 1000 gyventojų metų pradžioje | vnt.",12.091442656886619,12.71230849850498,11.853860980831655,12.08015084209517,12.700864463539368,13.762162945590376,14.395245410090087,15.740231150247661,16.101976827308953,16.902464702404131,17.781745538099035,17.600439649437423,18.485805803751404,20.163219050562585,{"$f":"ROWS($R$7:R744)","v":738},"",{"$f":"IF(ISERROR(SMALL($S$7:$S$1504,ROWS($S$7:S744))),\"\",SMALL($S$7:$S$1504,ROWS($S$7:S744)))","v":""},"",{"$f":"IF(ISERROR(SMALL($U$7:$U$1504,ROWS(U$7:$U744))),\"\",SMALL($U$7:$U$1504,ROWS(U$7:$U744)))","v":""},"",{"$f":"IF(ISERROR(SMALL($W$7:$W$1504,ROWS($W$7:W744))),\"\",SMALL($W$7:$W$1504,ROWS($W$7:W744)))","v":""}]
[null,"Kalvarijos sav.","Veikiančios MVĮ tenkančios 1000 gyventojų metų pradžioje | vnt.",7.1901761189206654,7.8479966955803393,6.7947319855716799,6.8778126857433985,7.218975592987281,8.0097510012188753,7.9596710002653221,9.1262311376163368,9.9294729027468449,11.879670434949224,13.052011776251227,14.465471118597048,15.223308801290452,16.342176939372543,{"$f":"ROWS($R$7:R745)","v":739},"",{"$f":"IF(ISERROR(SMALL($S$7:$S$1504,ROWS($S$7:S745))),\"\",SMALL($S$7:$S$1504,ROWS($S$7:S745)))","v":""},"",{"$f":"IF(ISERROR(SMALL($U$7:$U$1504,ROWS(U$7:$U745))),\"\",SMALL($U$7:$U$1504,ROWS(U$7:$U745)))","v":""},"",{"$f":"IF(ISERROR(SMALL($W$7:$W$1504,ROWS($W$7:W745))),\"\",SMALL($W$7:$W$1504,ROWS($W$7:W745)))","v":""}]
[null,"Kazlų Rūdos sav.","Veikiančios MVĮ tenkančios 1000 gyventojų metų pradžioje | vnt.",12.299582692730068,12.506592330294584,11.278195488721805,11.618778458156696,11.951875890454328,13.366415879622219,13.732934808950642,14.68041237113402,15.045902754165249,15.922735578178022,16.847490517773661,16.193233218744346,17.793594306049823,19.028451193852344,{"$f":"ROWS($R$7:R746)","v":740},"",{"$f":"IF(ISERROR(SMALL($S$7:$S$1504,ROWS($S$7:S746))),\"\",SMALL($S$7:$S$1504,ROWS($S$7:S746)))","v":""},"",{"$f":"IF(ISERROR(SMALL($U$7:$U$1504,ROWS(U$7:$U746))),\"\",SMALL($U$7:$U$1504,ROWS(U$7:$U746)))","v":""},"",{"$f":"IF(ISERROR(SMALL($W$7:$W$1504,ROWS($W$7:W746))),\"\",SMALL($W$7:$W$1504,ROWS($W$7:W746)))","v":""}]
[null,"Marijampolės sav.","Veikiančios MVĮ tenkančios 1000 gyventojų metų pradžioje | vnt.",17.073017073017073,18.122125245827036,17.019798541160128,17.315871761679805,17.957236561887726,19.439226566942974,20.174071414811831,22.095880337894794,22.234432234432234,22.943242743575521,23.990180763222494,23.483936841337563,24.295002854985171,26.046426613050631,{"$f":"ROWS($R$7:R747)","v":741},"",{"$f":"IF(ISERROR(SMALL($S$7:$S$1504,ROWS($S$7:S747))),\"\",SMALL($S$7:$S$1504,ROWS($S$7:S747)))","v":""},"",{"$f":"IF(ISERROR(SMALL($U$7:$U$1504,ROWS(U$7:$U747))),\"\",SMALL($U$7:$U$1504,ROWS(U$7:$U747)))","v":""},"",{"$f":"IF(ISERROR(SMALL($W$7:$W$1504,ROWS($W$7:W747))),\"\",SMALL($W$7:$W$1504,ROWS($W$7:W747)))","v":""}]
[null,"Šakių r. sav.","Veikiančios MVĮ tenkančios 1000 gyventojų metų pradžioje | vnt.",8.5110195305500813,9.2359619515188722,8.6804471367014298,8.948474619450991,9.623797025371827,10.586722073810231,11.45051022126427,12.302163245559472,12.803594992688755,13.532789583409532,14.345643868454566,13.924473654895845,15.38870734858272,17.323867582375183,{"$f":"ROWS($R$7:R748)","v":742},"",{"$f":"IF(ISERROR(SMALL($S$7:$S$1504,ROWS($S$7:S748))),\"\",SMALL($S$7:$S$1504,ROWS($S$7:S748)))","v":""},"",{"$f":"IF(ISERROR(SMALL($U$7:$U$1504,ROWS(U$7:$U748))),\"\",SMALL($U$7:$U$1504,ROWS(U$7:$U748)))","v":""},"",{"$f":"IF(ISERROR(SMALL($W$7:$W$1504,ROWS($W$7:W748))),\"\",SMALL($W$7:$W$1504,ROWS($W$7:W748)))","v":""}]
[null,"Vilkaviškio r. sav.","Veikiančios MVĮ tenkančios 1000 gyventojų metų pradžioje | vnt.",8.9512327773749085,9.0142823694685088,8.4383142495159333,8.5251491901108274,9.2155596403199365,9.6541239072595975,10.208576240445653,11.234755690764016,11.576381965215464,12.062521236833163,12.492787074437391,12.610269169871071,12.93572205368897,14.410645283128504,{"$f":"ROWS($R$7:R749)","v":743},"",{"$f":"IF(ISERROR(SMALL($S$7:$S$1504,ROWS($S$7:S749))),\"\",SMALL($S$7:$S$1504,ROWS($S$7:S749)))","v":""},"",{"$f":"IF(ISERROR(SMALL($U$7:$U$1504,ROWS(U$7:$U749))),\"\",SMALL($U$7:$U$1504,ROWS(U$7:$U749)))","v":""},"",{"$f":"IF(ISERROR(SMALL($W$7:$W$1504,ROWS($W$7:W749))),\"\",SMALL($W$7:$W$1504,ROWS($W$7:W749)))","v":""}]
[null,"Panevėžio apskritis","Veikiančios MVĮ tenkančios 1000 gyventojų metų pradžioje | vnt.",15.753313747715655,16.833664146125113,15.379743237866325,16.13435668894941,16.674485231289896,18.220515391216427,19.134116302526827,20.850275292957033,21.378345509907373,21.927433521109698,22.669798543298509,22.045663705354873,23.167257444267889,24.459962580084287,{"$f":"ROWS($R$7:R750)","v":744},"",{"$f":"IF(ISERROR(SMALL($S$7:$S$1504,ROWS($S$7:S750))),\"\",SMALL($S$7:$S$1504,ROWS($S$7:S750)))","v":""},"",{"$f":"IF(ISERROR(SMALL($U$7:$U$1504,ROWS(U$7:$U750))),\"\",SMALL($U$7:$U$1504,ROWS(U$7:$U750)))","v":""},"",{"$f":"IF(ISERROR(SMALL($W$7:$W$1504,ROWS($W$7:W750))),\"\",SMALL($W$7:$W$1504,ROWS($W$7:W750)))","v":""}]
[null,"Biržų r. sav.","Veikiančios MVĮ tenkančios 1000 gyventojų metų pradžioje | vnt.",11.10771425659839,11.228020620012712,10.024609148812971,10.471397913120699,10.916783137536358,11.25804834791996,12.27476591391927,14.161087441671739,14.845655648078056,14.802347660970137,15.406285764591953,14.969546195419062,15.512392336087185,16.576062739506281,{"$f":"ROWS($R$7:R751)","v":745},"",{"$f":"IF(ISERROR(SMALL($S$7:$S$1504,ROWS($S$7:S751))),\"\",SMALL($S$7:$S$1504,ROWS($S$7:S751)))","v":""},"",{"$f":"IF(ISERROR(SMALL($U$7:$U$1504,ROWS(U$7:$U751))),\"\",SMALL($U$7:$U$1504,ROWS(U$7:$U751)))","v":""},"",{"$f":"IF(ISERROR(SMALL($W$7:$W$1504,ROWS($W$7:W751))),\"\",SMALL($W$7:$W$1504,ROWS($W$7:W751)))","v":""}]
[null,"Kupiškio r. sav.","Veikiančios MVĮ tenkančios 1000 gyventojų metų pradžioje | vnt.",10.919103684010635,10.759027266028003,10.032770355432318,10.347490347490348,10.389337810893062,11.189634864546525,11.687242798353909,13.582342954159593,13.745101479791776,13.905466698496062,15.284910736121301,15.245009074410165,16.017742730409068,17.139997497810587,{"$f":"ROWS($R$7:R752)","v":746},"",{"$f":"IF(ISERROR(SMALL($S$7:$S$1504,ROWS($S$7:S752))),\"\",SMALL($S$7:$S$1504,ROWS($S$7:S752)))","v":""},"",{"$f":"IF(ISERROR(SMALL($U$7:$U$1504,ROWS(U$7:$U752))),\"\",SMALL($U$7:$U$1504,ROWS(U$7:$U752)))","v":""},"",{"$f":"IF(ISERROR(SMALL($W$7:$W$1504,ROWS($W$7:W752))),\"\",SMALL($W$7:$W$1504,ROWS($W$7:W752)))","v":""}]
[null,"Panevėžio m. sav.","Veikiančios MVĮ tenkančios 1000 gyventojų metų pradžioje | vnt.",22.754386475397911,24.293440770991833,21.905371233586205,22.67240582270939,23.316169753342749,25.650721623495304,26.742024402230818,28.905923957212202,29.105302329777398,29.298018108998267,29.704930249889379,28.092031425364759,28.987327320470374,29.563318280572837,{"$f":"ROWS($R$7:R753)","v":747},"",{"$f":"IF(ISERROR(SMALL($S$7:$S$1504,ROWS($S$7:S753))),\"\",SMALL($S$7:$S$1504,ROWS($S$7:S753)))","v":""},"",{"$f":"IF(ISERROR(SMALL($U$7:$U$1504,ROWS(U$7:$U753))),\"\",SMALL($U$7:$U$1504,ROWS(U$7:$U753)))","v":""},"",{"$f":"IF(ISERROR(SMALL($W$7:$W$1504,ROWS($W$7:W753))),\"\",SMALL($W$7:$W$1504,ROWS($W$7:W753)))","v":""}]
[null,"Panevėžio r. sav.","Veikiančios MVĮ tenkančios 1000 gyventojų metų pradžioje | vnt.",13.572083116625802,15.064855479522009,13.93519483225672,15.263950141283967,15.711694408877506,17.647217066150162,18.635063342868818,19.468929346184474,20.652599764929757,22.03413739596558,22.958894802400636,22.695195619036866,24.4725499092559,26.912704045422288,{"$f":"ROWS($R$7:R754)","v":748},"",{"$f":"IF(ISERROR(SMALL($S$7:$S$1504,ROWS($S$7:S754))),\"\",SMALL($S$7:$S$1504,ROWS($S$7:S754)))","v":""},"",{"$f":"IF(ISERROR(SMALL($U$7:$U$1504,ROWS(U$7:$U754))),\"\",SMALL($U$7:$U$1504,ROWS(U$7:$U754)))","v":""},"",{"$f":"IF(ISERROR(SMALL($W$7:$W$1504,ROWS($W$7:W754))),\"\",SMALL($W$7:$W$1504,ROWS($W$7:W754)))","v":""}]
[null,"Pasvalio r. sav.","Veikiančios MVĮ tenkančios 1000 gyventojų metų pradžioje | vnt.",9.4217687074829932,9.8558451124127533,9.62092822138945,9.8366672783997071,10.392826323490789,10.872467859459048,11.444865434943948,12.905307307630263,13.435139984144866,13.902553792188904,14.901823281907433,15.249697598064627,16.410799364743248,18.344097595981342,{"$f":"ROWS($R$7:R755)","v":749},"",{"$f":"IF(ISERROR(SMALL($S$7:$S$1504,ROWS($S$7:S755))),\"\",SMALL($S$7:$S$1504,ROWS($S$7:S755)))","v":""},"",{"$f":"IF(ISERROR(SMALL($U$7:$U$1504,ROWS(U$7:$U755))),\"\",SMALL($U$7:$U$1504,ROWS(U$7:$U755)))","v":""},"",{"$f":"IF(ISERROR(SMALL($W$7:$W$1504,ROWS($W$7:W755))),\"\",SMALL($W$7:$W$1504,ROWS($W$7:W755)))","v":""}]
[null,"Rokiškio r. sav.","Veikiančios MVĮ tenkančios 1000 gyventojų metų pradžioje | vnt.",9.9463784624788154,11.250071383701673,10.316207843824888,11.156307949991028,11.66483449370954,12.581156223789257,13.193870413937814,14.515122656070409,15.166938110749186,16.395154553049291,17.27823298895618,17.621452202681528,19.181676357963411,20.690896005757466,{"$f":"ROWS($R$7:R756)","v":750},"",{"$f":"IF(ISERROR(SMALL($S$7:$S$1504,ROWS($S$7:S756))),\"\",SMALL($S$7:$S$1504,ROWS($S$7:S756)))","v":""},"",{"$f":"IF(ISERROR(SMALL($U$7:$U$1504,ROWS(U$7:$U756))),\"\",SMALL($U$7:$U$1504,ROWS(U$7:$U756)))","v":""},"",{"$f":"IF(ISERROR(SMALL($W$7:$W$1504,ROWS($W$7:W756))),\"\",SMALL($W$7:$W$1504,ROWS($W$7:W756)))","v":""}]
[null,"Šiaulių apskritis","Veikiančios MVĮ tenkančios 1000 gyventojų metų pradžioje | vnt.",14.541005065164191,16.145953614199467,15.448374709286602,15.82257781327568,16.359710669330877,18.01996932166799,18.814529057753621,20.348858704091214,20.66923572421431,21.330580181113731,21.58903564638965,21.272214171306537,22.527714488119624,23.910850995553243,{"$f":"ROWS($R$7:R757)","v":751},"",{"$f":"IF(ISERROR(SMALL($S$7:$S$1504,ROWS($S$7:S757))),\"\",SMALL($S$7:$S$1504,ROWS($S$7:S757)))","v":""},"",{"$f":"IF(ISERROR(SMALL($U$7:$U$1504,ROWS(U$7:$U757))),\"\",SMALL($U$7:$U$1504,ROWS(U$7:$U757)))","v":""},"",{"$f":"IF(ISERROR(SMALL($W$7:$W$1504,ROWS($W$7:W757))),\"\",SMALL($W$7:$W$1504,ROWS($W$7:W757)))","v":""}]
[null,"Akmenės r. sav.","Veikiančios MVĮ tenkančios 1000 gyventojų metų pradžioje | vnt.",8.1629321252193794,8.5251491901108274,8.4225302684681509,8.5997298514182798,8.8111823591825438,10.219388711794487,10.564733000384171,12.76595744680851,12.904212996021625,13.124869274210416,13.643146450650182,12.866990043400561,14.79827613064022,16.073835943171211,{"$f":"ROWS($R$7:R758)","v":752},"",{"$f":"IF(ISERROR(SMALL($S$7:$S$1504,ROWS($S$7:S758))),\"\",SMALL($S$7:$S$1504,ROWS($S$7:S758)))","v":""},"",{"$f":"IF(ISERROR(SMALL($U$7:$U$1504,ROWS(U$7:$U758))),\"\",SMALL($U$7:$U$1504,ROWS(U$7:$U758)))","v":""},"",{"$f":"IF(ISERROR(SMALL($W$7:$W$1504,ROWS($W$7:W758))),\"\",SMALL($W$7:$W$1504,ROWS($W$7:W758)))","v":""}]
[null,"Joniškio r. sav.","Veikiančios MVĮ tenkančios 1000 gyventojų metų pradžioje | vnt.",10.354759908119735,10.751462654813464,10.358036272670418,10.606669345118521,11.314078828272855,12.097282311925065,12.91744070505897,13.764532941333689,14.548487235324098,14.870944825953114,15.487793110103253,14.705882352941176,16.221648004593739,17.434498879906499,{"$f":"ROWS($R$7:R759)","v":753},"",{"$f":"IF(ISERROR(SMALL($S$7:$S$1504,ROWS($S$7:S759))),\"\",SMALL($S$7:$S$1504,ROWS($S$7:S759)))","v":""},"",{"$f":"IF(ISERROR(SMALL($U$7:$U$1504,ROWS(U$7:$U759))),\"\",SMALL($U$7:$U$1504,ROWS(U$7:$U759)))","v":""},"",{"$f":"IF(ISERROR(SMALL($W$7:$W$1504,ROWS($W$7:W759))),\"\",SMALL($W$7:$W$1504,ROWS($W$7:W759)))","v":""}]
[null,"Kelmės r. sav.","Veikiančios MVĮ tenkančios 1000 gyventojų metų pradžioje | vnt.",9.9284912239229364,11.361542713259228,10.182207931404072,10.278055224409576,10.658307210031349,11.231773740654285,12.147868886794429,13.840331591277709,14.452162222720144,16.10361658787809,17.295721377354031,16.4066702528241,17.676469430337388,18.773114648657341,{"$f":"ROWS($R$7:R760)","v":754},"",{"$f":"IF(ISERROR(SMALL($S$7:$S$1504,ROWS($S$7:S760))),\"\",SMALL($S$7:$S$1504,ROWS($S$7:S760)))","v":""},"",{"$f":"IF(ISERROR(SMALL($U$7:$U$1504,ROWS(U$7:$U760))),\"\",SMALL($U$7:$U$1504,ROWS(U$7:$U760)))","v":""},"",{"$f":"IF(ISERROR(SMALL($W$7:$W$1504,ROWS($W$7:W760))),\"\",SMALL($W$7:$W$1504,ROWS($W$7:W760)))","v":""}]
[null,"Pakruojo r. sav.","Veikiančios MVĮ tenkančios 1000 gyventojų metų pradžioje | vnt.",9.2289010321797207,10.693168952069444,10.01294777729823,10.066965275621978,10.555530278902589,11.319879378334493,11.882038556976521,13.687164590615922,13.864729356390054,14.472235331131037,14.565194023433301,14.606681893025975,15.245715521435908,16.442451420029897,{"$f":"ROWS($R$7:R761)","v":755},"",{"$f":"IF(ISERROR(SMALL($S$7:$S$1504,ROWS($S$7:S761))),\"\",SMALL($S$7:$S$1504,ROWS($S$7:S761)))","v":""},"",{"$f":"IF(ISERROR(SMALL($U$7:$U$1504,ROWS(U$7:$U761))),\"\",SMALL($U$7:$U$1504,ROWS(U$7:$U761)))","v":""},"",{"$f":"IF(ISERROR(SMALL($W$7:$W$1504,ROWS($W$7:W761))),\"\",SMALL($W$7:$W$1504,ROWS($W$7:W761)))","v":""}]
[null,"Radviliškio r. sav.","Veikiančios MVĮ tenkančios 1000 gyventojų metų pradžioje | vnt.",8.9402039624421583,9.5995869126414117,9.1831569813685547,9.6137254418616109,10.254730529869736,11.474528084419742,12.234334561995137,13.526622116835524,13.795963505667681,14.386261261261261,14.659237033861981,14.744617498854787,15.307155878352962,16.966565884873923,{"$f":"ROWS($R$7:R762)","v":756},"",{"$f":"IF(ISERROR(SMALL($S$7:$S$1504,ROWS($S$7:S762))),\"\",SMALL($S$7:$S$1504,ROWS($S$7:S762)))","v":""},"",{"$f":"IF(ISERROR(SMALL($U$7:$U$1504,ROWS(U$7:$U762))),\"\",SMALL($U$7:$U$1504,ROWS(U$7:$U762)))","v":""},"",{"$f":"IF(ISERROR(SMALL($W$7:$W$1504,ROWS($W$7:W762))),\"\",SMALL($W$7:$W$1504,ROWS($W$7:W762)))","v":""}]
[null,"Šiaulių m. sav.","Veikiančios MVĮ tenkančios 1000 gyventojų metų pradžioje | vnt.",22.662567900372032,25.09385136858986,24.106454698251447,24.466986005447545,24.77038159265221,27.331235834712007,28.277060817043921,29.738968917343449,29.490430027342779,29.780986907151632,29.266899146915698,29.090042025573009,29.983489917056488,30.939597315436242,{"$f":"ROWS($R$7:R763)","v":757},"",{"$f":"IF(ISERROR(SMALL($S$7:$S$1504,ROWS($S$7:S763))),\"\",SMALL($S$7:$S$1504,ROWS($S$7:S763)))","v":""},"",{"$f":"IF(ISERROR(SMALL($U$7:$U$1504,ROWS(U$7:$U763))),\"\",SMALL($U$7:$U$1504,ROWS(U$7:$U763)))","v":""},"",{"$f":"IF(ISERROR(SMALL($W$7:$W$1504,ROWS($W$7:W763))),\"\",SMALL($W$7:$W$1504,ROWS($W$7:W763)))","v":""}]
[null,"Šiaulių r. sav.","Veikiančios MVĮ tenkančios 1000 gyventojų metų pradžioje | vnt.",11.928429423459244,13.980835259531878,13.395121501360261,14.035744362309348,14.95366969215821,16.448392271410444,16.931191445292743,18.411717863951161,19.340435341794269,20.382104223384008,21.065585637758794,21.213676466994158,23.249540159411403,25.148875436783307,{"$f":"ROWS($R$7:R764)","v":758},"",{"$f":"IF(ISERROR(SMALL($S$7:$S$1504,ROWS($S$7:S764))),\"\",SMALL($S$7:$S$1504,ROWS($S$7:S764)))","v":""},"",{"$f":"IF(ISERROR(SMALL($U$7:$U$1504,ROWS(U$7:$U764))),\"\",SMALL($U$7:$U$1504,ROWS(U$7:$U764)))","v":""},"",{"$f":"IF(ISERROR(SMALL($W$7:$W$1504,ROWS($W$7:W764))),\"\",SMALL($W$7:$W$1504,ROWS($W$7:W764)))","v":""}]
[null,"Tauragės apskritis","Veikiančios MVĮ tenkančios 1000 gyventojų metų pradžioje | vnt.",12.41689394665528,13.64570042801169,12.559537572254335,13.617341420980862,14.126912820316756,15.647584955812308,16.749011857707512,17.69633295472984,18.660571714831399,19.211270612092427,19.879741182109321,19.543095168722413,20.793680481445215,22.316109958963949,{"$f":"ROWS($R$7:R765)","v":759},"",{"$f":"IF(ISERROR(SMALL($S$7:$S$1504,ROWS($S$7:S765))),\"\",SMALL($S$7:$S$1504,ROWS($S$7:S765)))","v":""},"",{"$f":"IF(ISERROR(SMALL($U$7:$U$1504,ROWS(U$7:$U765))),\"\",SMALL($U$7:$U$1504,ROWS(U$7:$U765)))","v":""},"",{"$f":"IF(ISERROR(SMALL($W$7:$W$1504,ROWS($W$7:W765))),\"\",SMALL($W$7:$W$1504,ROWS($W$7:W765)))","v":""}]
[null,"Jurbarko r. sav.","Veikiančios MVĮ tenkančios 1000 gyventojų metų pradžioje | vnt.",10.440798451334455,11.836075302495797,10.183093367501771,10.553728070175438,10.675039246467817,11.646900078119453,12.479593687647379,14.029850746268657,14.936835234036018,15.322960867515324,16.074450084602368,15.730515611345037,17.269336792605802,18.505825908156272,{"$f":"ROWS($R$7:R766)","v":760},"",{"$f":"IF(ISERROR(SMALL($S$7:$S$1504,ROWS($S$7:S766))),\"\",SMALL($S$7:$S$1504,ROWS($S$7:S766)))","v":""},"",{"$f":"IF(ISERROR(SMALL($U$7:$U$1504,ROWS(U$7:$U766))),\"\",SMALL($U$7:$U$1504,ROWS(U$7:$U766)))","v":""},"",{"$f":"IF(ISERROR(SMALL($W$7:$W$1504,ROWS($W$7:W766))),\"\",SMALL($W$7:$W$1504,ROWS($W$7:W766)))","v":""}]
[null,"Pagėgių sav.","Veikiančios MVĮ tenkančios 1000 gyventojų metų pradžioje | vnt.",5.3309193321263324,6.6072364971158892,6.8839410562547059,9.2064883822884713,9.9686379928315425,11.709333027206981,13.192298550035655,13.2196688905362,14.243551905556268,14.583057139069336,14.681668496158068,14.24731182795699,15.063571033720288,17.071106094808126,{"$f":"ROWS($R$7:R767)","v":761},"",{"$f":"IF(ISERROR(SMALL($S$7:$S$1504,ROWS($S$7:S767))),\"\",SMALL($S$7:$S$1504,ROWS($S$7:S767)))","v":""},"",{"$f":"IF(ISERROR(SMALL($U$7:$U$1504,ROWS(U$7:$U767))),\"\",SMALL($U$7:$U$1504,ROWS(U$7:$U767)))","v":""},"",{"$f":"IF(ISERROR(SMALL($W$7:$W$1504,ROWS($W$7:W767))),\"\",SMALL($W$7:$W$1504,ROWS($W$7:W767)))","v":""}]
[null,"Šilalės r. sav.","Veikiančios MVĮ tenkančios 1000 gyventojų metų pradžioje | vnt.",10.504814706740589,11.020838035056045,11.248896226052905,12.336975678533662,12.425072446508674,13.349953757690297,14.120247206646749,14.96364171325291,15.871639202081527,16.867469879518072,17.727418102069723,17.504875062355449,18.854813304919855,21.341895273620096,{"$f":"ROWS($R$7:R768)","v":762},"",{"$f":"IF(ISERROR(SMALL($S$7:$S$1504,ROWS($S$7:S768))),\"\",SMALL($S$7:$S$1504,ROWS($S$7:S768)))","v":""},"",{"$f":"IF(ISERROR(SMALL($U$7:$U$1504,ROWS(U$7:$U768))),\"\",SMALL($U$7:$U$1504,ROWS(U$7:$U768)))","v":""},"",{"$f":"IF(ISERROR(SMALL($W$7:$W$1504,ROWS($W$7:W768))),\"\",SMALL($W$7:$W$1504,ROWS($W$7:W768)))","v":""}]
[null,"Tauragės r. sav.","Veikiančios MVĮ tenkančios 1000 gyventojų metų pradžioje | vnt.",16.450952194186605,17.998592796023516,16.20907151470179,17.437755918482608,18.403881545926051,20.584891512058249,21.942728253407864,22.693685344287754,23.68901107371342,24.079394097675632,24.626372172992991,24.288195358139046,25.345560516536104,26.369006439252832,{"$f":"ROWS($R$7:R769)","v":763},"",{"$f":"IF(ISERROR(SMALL($S$7:$S$1504,ROWS($S$7:S769))),\"\",SMALL($S$7:$S$1504,ROWS($S$7:S769)))","v":""},"",{"$f":"IF(ISERROR(SMALL($U$7:$U$1504,ROWS(U$7:$U769))),\"\",SMALL($U$7:$U$1504,ROWS(U$7:$U769)))","v":""},"",{"$f":"IF(ISERROR(SMALL($W$7:$W$1504,ROWS($W$7:W769))),\"\",SMALL($W$7:$W$1504,ROWS($W$7:W769)))","v":""}]
[null,"Telšių apskritis","Veikiančios MVĮ tenkančios 1000 gyventojų metų pradžioje | vnt.",15.476990578120443,16.376790699503257,15.676407973679117,16.205458680818804,16.675602480031895,18.207663524050421,18.847359741813111,20.861006467347515,21.425536197526448,22.160476067897214,22.828009094458352,22.140415067178502,23.395676242112216,24.644109837100839,{"$f":"ROWS($R$7:R770)","v":764},"",{"$f":"IF(ISERROR(SMALL($S$7:$S$1504,ROWS($S$7:S770))),\"\",SMALL($S$7:$S$1504,ROWS($S$7:S770)))","v":""},"",{"$f":"IF(ISERROR(SMALL($U$7:$U$1504,ROWS(U$7:$U770))),\"\",SMALL($U$7:$U$1504,ROWS(U$7:$U770)))","v":""},"",{"$f":"IF(ISERROR(SMALL($W$7:$W$1504,ROWS($W$7:W770))),\"\",SMALL($W$7:$W$1504,ROWS($W$7:W770)))","v":""}]
[null,"Mažeikių r. sav.","Veikiančios MVĮ tenkančios 1000 gyventojų metų pradžioje | vnt.",17.892874270311388,18.243740480224538,17.97866230398385,18.494706990999244,19.280457599030633,21.049403870781553,21.6712613879101,23.491944548520046,24.344927980386149,24.952909878245336,25.260931717155895,24.501151189562549,25.478570874990311,26.721975689754967,{"$f":"ROWS($R$7:R771)","v":765},"",{"$f":"IF(ISERROR(SMALL($S$7:$S$1504,ROWS($S$7:S771))),\"\",SMALL($S$7:$S$1504,ROWS($S$7:S771)))","v":""},"",{"$f":"IF(ISERROR(SMALL($U$7:$U$1504,ROWS(U$7:$U771))),\"\",SMALL($U$7:$U$1504,ROWS(U$7:$U771)))","v":""},"",{"$f":"IF(ISERROR(SMALL($W$7:$W$1504,ROWS($W$7:W771))),\"\",SMALL($W$7:$W$1504,ROWS($W$7:W771)))","v":""}]
[null,"Plungės r. sav.","Veikiančios MVĮ tenkančios 1000 gyventojų metų pradžioje | vnt.",14.617151801267326,16.224689745264534,15.488609750904834,15.856749905614583,15.754287906186642,17.141906135581937,17.852114659007714,19.460517603707864,19.758507135016465,20.370147818771784,21.553945493679329,20.971335214614584,22.315118342305496,22.977083145120005,{"$f":"ROWS($R$7:R772)","v":766},"",{"$f":"IF(ISERROR(SMALL($S$7:$S$1504,ROWS($S$7:S772))),\"\",SMALL($S$7:$S$1504,ROWS($S$7:S772)))","v":""},"",{"$f":"IF(ISERROR(SMALL($U$7:$U$1504,ROWS(U$7:$U772))),\"\",SMALL($U$7:$U$1504,ROWS(U$7:$U772)))","v":""},"",{"$f":"IF(ISERROR(SMALL($W$7:$W$1504,ROWS($W$7:W772))),\"\",SMALL($W$7:$W$1504,ROWS($W$7:W772)))","v":""}]
[null,"Rietavo sav.","Veikiančios MVĮ tenkančios 1000 gyventojų metų pradžioje | vnt.",14.029618082618862,15.831134564643801,14.759283120534144,15.35897130610787,15.505754088431253,17.292490118577074,16.987542468856173,19.412449851171218,18.82789710952002,18.885741265344663,19.840176357123173,19.645034548164205,21.119034558420186,23.162829174134842,{"$f":"ROWS($R$7:R773)","v":767},"",{"$f":"IF(ISERROR(SMALL($S$7:$S$1504,ROWS($S$7:S773))),\"\",SMALL($S$7:$S$1504,ROWS($S$7:S773)))","v":""},"",{"$f":"IF(ISERROR(SMALL($U$7:$U$1504,ROWS(U$7:$U773))),\"\",SMALL($U$7:$U$1504,ROWS(U$7:$U773)))","v":""},"",{"$f":"IF(ISERROR(SMALL($W$7:$W$1504,ROWS($W$7:W773))),\"\",SMALL($W$7:$W$1504,ROWS($W$7:W773)))","v":""}]
[null,"Telšių r. sav.","Veikiančios MVĮ tenkančios 1000 gyventojų metų pradžioje | vnt.",13.441578460589868,14.28843993131373,13.139411751993602,13.788098693759071,14.368975566016589,15.664131870133417,16.419331614761141,18.938580799045916,19.541812103633056,20.657841957480947,21.288501157260217,20.517284257647351,22.005261027923918,23.581410796862624,{"$f":"ROWS($R$7:R774)","v":768},"",{"$f":"IF(ISERROR(SMALL($S$7:$S$1504,ROWS($S$7:S774))),\"\",SMALL($S$7:$S$1504,ROWS($S$7:S774)))","v":""},"",{"$f":"IF(ISERROR(SMALL($U$7:$U$1504,ROWS(U$7:$U774))),\"\",SMALL($U$7:$U$1504,ROWS(U$7:$U774)))","v":""},"",{"$f":"IF(ISERROR(SMALL($W$7:$W$1504,ROWS($W$7:W774))),\"\",SMALL($W$7:$W$1504,ROWS($W$7:W774)))","v":""}]
[null,"Utenos apskritis","Veikiančios MVĮ tenkančios 1000 gyventojų metų pradžioje | vnt.",11.621113594797805,12.649350819586177,11.275092113475749,12.067782656421516,12.527706854465363,13.519297995291431,14.322888194004067,15.515316786658776,15.990558396778747,16.492297034535422,17.004761333173288,16.899068043047162,18.154468179936966,19.886499497855926,{"$f":"ROWS($R$7:R775)","v":769},{"$f":"IF(ISNUMBER(SEARCH($R$3,B775)),R775,\"\")","v":""},{"$f":"IF(ISERROR(SMALL($S$7:$S$1504,ROWS($S$7:S775))),\"\",SMALL($S$7:$S$1504,ROWS($S$7:S775)))","v":""},{"$f":"IF($R$4=B775,R775,\"\")","v":""},{"$f":"IF(ISERROR(SMALL($U$7:$U$1504,ROWS(U$7:$U775))),\"\",SMALL($U$7:$U$1504,ROWS(U$7:$U775)))","v":""},{"$f":"IF(\"Lietuvos Respublika\"=B775,R775,\"\")","v":""},{"$f":"IF(ISERROR(SMALL($W$7:$W$1504,ROWS($W$7:W775))),\"\",SMALL($W$7:$W$1504,ROWS($W$7:W775)))","v":""}]
[null,"Anykščių r. sav.","Veikiančios MVĮ tenkančios 1000 gyventojų metų pradžioje | vnt.",10.630399568034557,11.569731081926204,10.670081092616304,11.899996360857381,12.495351431759017,13.412647292842799,13.783731314307902,15.760630425217009,16.39819454221707,17.244301330395729,17.539289745593472,17.838000085759614,19.917522154953058,21.853339808396981,{"$f":"ROWS($R$7:R776)","v":770},"",{"$f":"IF(ISERROR(SMALL($S$7:$S$1504,ROWS($S$7:S776))),\"\",SMALL($S$7:$S$1504,ROWS($S$7:S776)))","v":""},"",{"$f":"IF(ISERROR(SMALL($U$7:$U$1504,ROWS(U$7:$U776))),\"\",SMALL($U$7:$U$1504,ROWS(U$7:$U776)))","v":""},"",{"$f":"IF(ISERROR(SMALL($W$7:$W$1504,ROWS($W$7:W776))),\"\",SMALL($W$7:$W$1504,ROWS($W$7:W776)))","v":""}]
[null,"Ignalinos r. sav.","Veikiančios MVĮ tenkančios 1000 gyventojų metų pradžioje | vnt.",8.0691946627287585,8.5011912497292617,7.3765945646145319,7.741347905282332,7.8175135639694302,8.9253837915030356,9.9846860643185291,10.948905109489051,11.974489131849538,13.048157115953726,14.134275618374557,14.409416858341226,15.625,18.342776203966004,{"$f":"ROWS($R$7:R777)","v":771},"",{"$f":"IF(ISERROR(SMALL($S$7:$S$1504,ROWS($S$7:S777))),\"\",SMALL($S$7:$S$1504,ROWS($S$7:S777)))","v":""},"",{"$f":"IF(ISERROR(SMALL($U$7:$U$1504,ROWS(U$7:$U777))),\"\",SMALL($U$7:$U$1504,ROWS(U$7:$U777)))","v":""},"",{"$f":"IF(ISERROR(SMALL($W$7:$W$1504,ROWS($W$7:W777))),\"\",SMALL($W$7:$W$1504,ROWS($W$7:W777)))","v":""}]
[null,"Molėtų r. sav.","Veikiančios MVĮ tenkančios 1000 gyventojų metų pradžioje | vnt.",11.959694886524154,13.204182930943087,12.309955860716038,12.679712460063898,13.583903584924931,14.714293141995528,16.422100969433703,17.058727657956211,18.257168458781361,18.926359256710256,19.879904389902642,19.451863895018001,21.85986056953799,24.683241692565147,{"$f":"ROWS($R$7:R778)","v":772},"",{"$f":"IF(ISERROR(SMALL($S$7:$S$1504,ROWS($S$7:S778))),\"\",SMALL($S$7:$S$1504,ROWS($S$7:S778)))","v":""},"",{"$f":"IF(ISERROR(SMALL($U$7:$U$1504,ROWS(U$7:$U778))),\"\",SMALL($U$7:$U$1504,ROWS(U$7:$U778)))","v":""},"",{"$f":"IF(ISERROR(SMALL($W$7:$W$1504,ROWS($W$7:W778))),\"\",SMALL($W$7:$W$1504,ROWS($W$7:W778)))","v":""}]
[null,"Utenos r. sav.","Veikiančios MVĮ tenkančios 1000 gyventojų metų pradžioje | vnt.",14.270992024374944,14.863121024979259,13.190378782535092,14.011640439749945,14.533749512290285,15.746279725119889,16.772962386380755,17.998764033371099,18.278208577306536,18.779217310004007,18.800936012264987,18.928790423631661,19.454730853861431,21.035814139262413,{"$f":"ROWS($R$7:R779)","v":773},"",{"$f":"IF(ISERROR(SMALL($S$7:$S$1504,ROWS($S$7:S779))),\"\",SMALL($S$7:$S$1504,ROWS($S$7:S779)))","v":""},"",{"$f":"IF(ISERROR(SMALL($U$7:$U$1504,ROWS(U$7:$U779))),\"\",SMALL($U$7:$U$1504,ROWS(U$7:$U779)))","v":""},"",{"$f":"IF(ISERROR(SMALL($W$7:$W$1504,ROWS($W$7:W779))),\"\",SMALL($W$7:$W$1504,ROWS($W$7:W779)))","v":""}]
[null,"Visagino sav.","Veikiančios MVĮ tenkančios 1000 gyventojų metų pradžioje | vnt.",13.00433477825942,14.752510128589044,12.773139911500389,14.173376653953007,13.913802297958984,14.766161291915649,14.81743703853545,15.434351861507977,15.573156373755753,15.531660692951016,15.506849315068493,13.905159680130394,14.378478664192951,14.67769595480682,{"$f":"ROWS($R$7:R780)","v":774},"",{"$f":"IF(ISERROR(SMALL($S$7:$S$1504,ROWS($S$7:S780))),\"\",SMALL($S$7:$S$1504,ROWS($S$7:S780)))","v":""},"",{"$f":"IF(ISERROR(SMALL($U$7:$U$1504,ROWS(U$7:$U780))),\"\",SMALL($U$7:$U$1504,ROWS(U$7:$U780)))","v":""},"",{"$f":"IF(ISERROR(SMALL($W$7:$W$1504,ROWS($W$7:W780))),\"\",SMALL($W$7:$W$1504,ROWS($W$7:W780)))","v":""}]
[null,"Zarasų r. sav.","Veikiančios MVĮ tenkančios 1000 gyventojų metų pradžioje | vnt.",8.3626992058065532,10.069294066695539,8.6048964636651313,8.8170462894930193,9.6442596442596447,10.096859407103024,10.579466217840826,11.998268291174469,11.679857033443962,11.45737855178735,13.006167873424511,13.828238719068414,15.348208248816768,16.943339278364661,{"$f":"ROWS($R$7:R781)","v":775},"",{"$f":"IF(ISERROR(SMALL($S$7:$S$1504,ROWS($S$7:S781))),\"\",SMALL($S$7:$S$1504,ROWS($S$7:S781)))","v":""},"",{"$f":"IF(ISERROR(SMALL($U$7:$U$1504,ROWS(U$7:$U781))),\"\",SMALL($U$7:$U$1504,ROWS(U$7:$U781)))","v":""},"",{"$f":"IF(ISERROR(SMALL($W$7:$W$1504,ROWS($W$7:W781))),\"\",SMALL($W$7:$W$1504,ROWS($W$7:W781)))","v":""}]
[null,"Vilniaus apskritis","Veikiančios MVĮ tenkančios 1000 gyventojų metų pradžioje | vnt.",28.859745229576085,30.894068501506442,29.954771905225737,32.332557781889804,34.170444085517289,39.778433555452906,42.213613449551765,43.616713426803926,43.362839550167813,43.654955103893954,44.446069024338236,45.566276145570342,48.461397395928849,50.242792002311631,{"$f":"ROWS($R$7:R782)","v":776},"",{"$f":"IF(ISERROR(SMALL($S$7:$S$1504,ROWS($S$7:S782))),\"\",SMALL($S$7:$S$1504,ROWS($S$7:S782)))","v":""},776,{"$f":"IF(ISERROR(SMALL($U$7:$U$1504,ROWS(U$7:$U782))),\"\",SMALL($U$7:$U$1504,ROWS(U$7:$U782)))","v":""},"",{"$f":"IF(ISERROR(SMALL($W$7:$W$1504,ROWS($W$7:W782))),\"\",SMALL($W$7:$W$1504,ROWS($W$7:W782)))","v":""}]
[null,"Elektrėnų sav.","Veikiančios MVĮ tenkančios 1000 gyventojų metų pradžioje | vnt.",9.5341446399503909,10.055464666214435,9.7165991902834019,10.370552549598296,10.563670875629281,11.918556530375767,13.27267415167578,14.303744215397559,15.30096105209914,15.873685988094735,16.838946315438481,17.496577686516087,18.791718039199015,20.692832907468688,{"$f":"ROWS($R$7:R783)","v":777},"",{"$f":"IF(ISERROR(SMALL($S$7:$S$1504,ROWS($S$7:S783))),\"\",SMALL($S$7:$S$1504,ROWS($S$7:S783)))","v":""},"",{"$f":"IF(ISERROR(SMALL($U$7:$U$1504,ROWS(U$7:$U783))),\"\",SMALL($U$7:$U$1504,ROWS(U$7:$U783)))","v":""},"",{"$f":"IF(ISERROR(SMALL($W$7:$W$1504,ROWS($W$7:W783))),\"\",SMALL($W$7:$W$1504,ROWS($W$7:W783)))","v":""}]
[null,"Šalčininkų r. sav.","Veikiančios MVĮ tenkančios 1000 gyventojų metų pradžioje | vnt.",8.7959951353338806,9.0565602376626,8.690563277249451,9.2850786116879256,9.7371276980586039,11.160373031646538,12.072434607645874,13.149202554342697,13.689429074044458,13.695981437916922,14.252948885976409,14.108877944895514,15.051011818579751,16.46104560016359,{"$f":"ROWS($R$7:R784)","v":778},"",{"$f":"IF(ISERROR(SMALL($S$7:$S$1504,ROWS($S$7:S784))),\"\",SMALL($S$7:$S$1504,ROWS($S$7:S784)))","v":""},"",{"$f":"IF(ISERROR(SMALL($U$7:$U$1504,ROWS(U$7:$U784))),\"\",SMALL($U$7:$U$1504,ROWS(U$7:$U784)))","v":""},"",{"$f":"IF(ISERROR(SMALL($W$7:$W$1504,ROWS($W$7:W784))),\"\",SMALL($W$7:$W$1504,ROWS($W$7:W784)))","v":""}]
[null,"Širvintų r. sav.","Veikiančios MVĮ tenkančios 1000 gyventojų metų pradžioje | vnt.",9.5232852581746119,10.532872756101705,10.043541364296081,10.704991719895908,11.566961865172601,12.612502295965223,13.748911285305462,15.003467187795499,16.120745022479127,16.737219146857701,18.373573892279119,18.970911269386939,21.626704278326283,24.703023758099352,{"$f":"ROWS($R$7:R785)","v":779},"",{"$f":"IF(ISERROR(SMALL($S$7:$S$1504,ROWS($S$7:S785))),\"\",SMALL($S$7:$S$1504,ROWS($S$7:S785)))","v":""},"",{"$f":"IF(ISERROR(SMALL($U$7:$U$1504,ROWS(U$7:$U785))),\"\",SMALL($U$7:$U$1504,ROWS(U$7:$U785)))","v":""},"",{"$f":"IF(ISERROR(SMALL($W$7:$W$1504,ROWS($W$7:W785))),\"\",SMALL($W$7:$W$1504,ROWS($W$7:W785)))","v":""}]
[null,"Švenčionių r. sav.","Veikiančios MVĮ tenkančios 1000 gyventojų metų pradžioje | vnt.",7.633321714883234,8.5476198991452392,7.363126047969673,8.0810337764867981,8.568490803153205,9.1372137330378322,9.6902303415409055,11.031956035009159,11.76667643733512,11.927154582763338,12.646084074655503,13.062788469912045,15.036924993326808,16.707837412980016,{"$f":"ROWS($R$7:R786)","v":780},"",{"$f":"IF(ISERROR(SMALL($S$7:$S$1504,ROWS($S$7:S786))),\"\",SMALL($S$7:$S$1504,ROWS($S$7:S786)))","v":""},"",{"$f":"IF(ISERROR(SMALL($U$7:$U$1504,ROWS(U$7:$U786))),\"\",SMALL($U$7:$U$1504,ROWS(U$7:$U786)))","v":""},"",{"$f":"IF(ISERROR(SMALL($W$7:$W$1504,ROWS($W$7:W786))),\"\",SMALL($W$7:$W$1504,ROWS($W$7:W786)))","v":""}]
[null,"Trakų r. sav.","Veikiančios MVĮ tenkančios 1000 gyventojų metų pradžioje | vnt.",12.369308118608238,13.525672655501699,12.50365176745545,13.687719401752265,14.662057456192633,15.551634416963244,16.626287098728042,17.981101495367113,17.635110180967622,17.660789974814179,18.251090763841948,19.068722301978653,20.883608687581216,22.10126506564584,{"$f":"ROWS($R$7:R787)","v":781},"",{"$f":"IF(ISERROR(SMALL($S$7:$S$1504,ROWS($S$7:S787))),\"\",SMALL($S$7:$S$1504,ROWS($S$7:S787)))","v":""},"",{"$f":"IF(ISERROR(SMALL($U$7:$U$1504,ROWS(U$7:$U787))),\"\",SMALL($U$7:$U$1504,ROWS(U$7:$U787)))","v":""},"",{"$f":"IF(ISERROR(SMALL($W$7:$W$1504,ROWS($W$7:W787))),\"\",SMALL($W$7:$W$1504,ROWS($W$7:W787)))","v":""}]
[null,"Ukmergės r. sav.","Veikiančios MVĮ tenkančios 1000 gyventojų metų pradžioje | vnt.",12.035583464154893,13.285324062577601,12.059558411095813,13.010037804719071,13.662511984659636,15.276686800834259,15.652654867256636,16.872252942010491,17.48312776355597,18.008724357462864,18.254608467031161,18.695916418256012,19.983542964617374,21.68164992067689,{"$f":"ROWS($R$7:R788)","v":782},"",{"$f":"IF(ISERROR(SMALL($S$7:$S$1504,ROWS($S$7:S788))),\"\",SMALL($S$7:$S$1504,ROWS($S$7:S788)))","v":""},"",{"$f":"IF(ISERROR(SMALL($U$7:$U$1504,ROWS(U$7:$U788))),\"\",SMALL($U$7:$U$1504,ROWS(U$7:$U788)))","v":""},"",{"$f":"IF(ISERROR(SMALL($W$7:$W$1504,ROWS($W$7:W788))),\"\",SMALL($W$7:$W$1504,ROWS($W$7:W788)))","v":""}]
[null,"Vilniaus m. sav.","Veikiančios MVĮ tenkančios 1000 gyventojų metų pradžioje | vnt.",38.205714012198285,40.691850997991146,39.467145715469762,42.183590492076732,44.390752760294014,51.750192581999386,54.59131948341561,55.991417253521128,55.185174361259875,55.26949220384293,55.854669679554469,56.816834085068912,60.000497325101421,61.234010330746138,{"$f":"ROWS($R$7:R789)","v":783},783,{"$f":"IF(ISERROR(SMALL($S$7:$S$1504,ROWS($S$7:S789))),\"\",SMALL($S$7:$S$1504,ROWS($S$7:S789)))","v":""},"",{"$f":"IF(ISERROR(SMALL($U$7:$U$1504,ROWS(U$7:$U789))),\"\",SMALL($U$7:$U$1504,ROWS(U$7:$U789)))","v":""},"",{"$f":"IF(ISERROR(SMALL($W$7:$W$1504,ROWS($W$7:W789))),\"\",SMALL($W$7:$W$1504,ROWS($W$7:W789)))","v":""}]
[null,"Vilniaus r. sav.","Veikiančios MVĮ tenkančios 1000 gyventojų metų pradžioje | vnt.",11.934666819541583,13.25107802713166,13.392577104025092,15.615299626453412,16.689290862981554,19.472913616398245,21.431047705091974,22.284761309151552,22.914833031322807,23.817745998212398,24.710956688432276,27.540370735759907,30.142549565820755,32.900738648068035,{"$f":"ROWS($R$7:R790)","v":784},"",{"$f":"IF(ISERROR(SMALL($S$7:$S$1504,ROWS($S$7:S790))),\"\",SMALL($S$7:$S$1504,ROWS($S$7:S790)))","v":""},"",{"$f":"IF(ISERROR(SMALL($U$7:$U$1504,ROWS(U$7:$U790))),\"\",SMALL($U$7:$U$1504,ROWS(U$7:$U790)))","v":""},"",{"$f":"IF(ISERROR(SMALL($W$7:$W$1504,ROWS($W$7:W790))),\"\",SMALL($W$7:$W$1504,ROWS($W$7:W790)))","v":""}]
[null,"Lietuvos Respublika","Išgyvenusių 1 metus ir 1 dieną ir nepakeitusių statuso iš veikianti į kitą įmonių dalis tarp visų prieš metus įregistruotų įmonių | %",72.743321172178426,71.454584404455872,67.190904784462333,51.773428628682119,52.524810274372449,52.384326507475379,59.59941377625794,63.414429530201346,52.556593319613739,50.508091832894245,null,null,null,null,{"$f":"ROWS($R$7:R791)","v":785},"",{"$f":"IF(ISERROR(SMALL($S$7:$S$1504,ROWS($S$7:S791))),\"\",SMALL($S$7:$S$1504,ROWS($S$7:S791)))","v":""},"",{"$f":"IF(ISERROR(SMALL($U$7:$U$1504,ROWS(U$7:$U791))),\"\",SMALL($U$7:$U$1504,ROWS(U$7:$U791)))","v":""},785,{"$f":"IF(ISERROR(SMALL($W$7:$W$1504,ROWS($W$7:W791))),\"\",SMALL($W$7:$W$1504,ROWS($W$7:W791)))","v":""}]
[null,"Alytaus apskritis","Išgyvenusių 1 metus ir 1 dieną ir nepakeitusių statuso iš veikianti į kitą įmonių dalis tarp visų prieš metus įregistruotų įmonių | %",97.701149425287355,94.915254237288138,91.712707182320443,83.300589390962671,88.151658767772517,86.767895878524953,94.92063492063491,97.023809523809518,91.940298507462686,85.041551246537395,null,null,null,null,{"$f":"ROWS($R$7:R792)","v":786},"",{"$f":"IF(ISERROR(SMALL($S$7:$S$1504,ROWS($S$7:S792))),\"\",SMALL($S$7:$S$1504,ROWS($S$7:S792)))","v":""},"",{"$f":"IF(ISERROR(SMALL($U$7:$U$1504,ROWS(U$7:$U792))),\"\",SMALL($U$7:$U$1504,ROWS(U$7:$U792)))","v":""},"",{"$f":"IF(ISERROR(SMALL($W$7:$W$1504,ROWS($W$7:W792))),\"\",SMALL($W$7:$W$1504,ROWS($W$7:W792)))","v":""}]
[null,"Alytaus m. sav.","Išgyvenusių 1 metus ir 1 dieną ir nepakeitusių statuso iš veikianti į kitą įmonių dalis tarp visų prieš metus įregistruotų įmonių | %",97.65625,95.652173913043484,89.032258064516128,76.014760147601478,84.615384615384613,82.113821138211378,91.390728476821195,95.238095238095227,92.361111111111114,84.177215189873422,null,null,null,null,{"$f":"ROWS($R$7:R793)","v":787},"",{"$f":"IF(ISERROR(SMALL($S$7:$S$1504,ROWS($S$7:S793))),\"\",SMALL($S$7:$S$1504,ROWS($S$7:S793)))","v":""},"",{"$f":"IF(ISERROR(SMALL($U$7:$U$1504,ROWS(U$7:$U793))),\"\",SMALL($U$7:$U$1504,ROWS(U$7:$U793)))","v":""},"",{"$f":"IF(ISERROR(SMALL($W$7:$W$1504,ROWS($W$7:W793))),\"\",SMALL($W$7:$W$1504,ROWS($W$7:W793)))","v":""}]
[null,"Alytaus r. sav.","Išgyvenusių 1 metus ir 1 dieną ir nepakeitusių statuso iš veikianti į kitą įmonių dalis tarp visų prieš metus įregistruotų įmonių | %",97.222222222222214,100,95.348837209302332,96.296296296296291,96.92307692307692,90.909090909090907,96.551724137931032,96,85.294117647058826,80.519480519480524,null,null,null,null,{"$f":"ROWS($R$7:R794)","v":788},"",{"$f":"IF(ISERROR(SMALL($S$7:$S$1504,ROWS($S$7:S794))),\"\",SMALL($S$7:$S$1504,ROWS($S$7:S794)))","v":""},"",{"$f":"IF(ISERROR(SMALL($U$7:$U$1504,ROWS(U$7:$U794))),\"\",SMALL($U$7:$U$1504,ROWS(U$7:$U794)))","v":""},"",{"$f":"IF(ISERROR(SMALL($W$7:$W$1504,ROWS($W$7:W794))),\"\",SMALL($W$7:$W$1504,ROWS($W$7:W794)))","v":""}]
[null,"Druskininkų sav.","Išgyvenusių 1 metus ir 1 dieną ir nepakeitusių statuso iš veikianti į kitą įmonių dalis tarp visų prieš metus įregistruotų įmonių | %",100,85.714285714285708,92.941176470588232,87.931034482758619,83.516483516483518,89.423076923076934,100,100,95.918367346938766,95.652173913043484,null,null,null,null,{"$f":"ROWS($R$7:R795)","v":789},"",{"$f":"IF(ISERROR(SMALL($S$7:$S$1504,ROWS($S$7:S795))),\"\",SMALL($S$7:$S$1504,ROWS($S$7:S795)))","v":""},"",{"$f":"IF(ISERROR(SMALL($U$7:$U$1504,ROWS(U$7:$U795))),\"\",SMALL($U$7:$U$1504,ROWS(U$7:$U795)))","v":""},"",{"$f":"IF(ISERROR(SMALL($W$7:$W$1504,ROWS($W$7:W795))),\"\",SMALL($W$7:$W$1504,ROWS($W$7:W795)))","v":""}]
[null,"Lazdijų r. sav.","Išgyvenusių 1 metus ir 1 dieną ir nepakeitusių statuso iš veikianti į kitą įmonių dalis tarp visų prieš metus įregistruotų įmonių | %",100,100,93.75,100,96.875,100,100,100,92,76.744186046511629,null,null,null,null,{"$f":"ROWS($R$7:R796)","v":790},"",{"$f":"IF(ISERROR(SMALL($S$7:$S$1504,ROWS($S$7:S796))),\"\",SMALL($S$7:$S$1504,ROWS($S$7:S796)))","v":""},"",{"$f":"IF(ISERROR(SMALL($U$7:$U$1504,ROWS(U$7:$U796))),\"\",SMALL($U$7:$U$1504,ROWS(U$7:$U796)))","v":""},"",{"$f":"IF(ISERROR(SMALL($W$7:$W$1504,ROWS($W$7:W796))),\"\",SMALL($W$7:$W$1504,ROWS($W$7:W796)))","v":""}]
[null,"Varėnos r. sav.","Išgyvenusių 1 metus ir 1 dieną ir nepakeitusių statuso iš veikianti į kitą įmonių dalis tarp visų prieš metus įregistruotų įmonių | %",93.75,97.058823529411768,93.61702127659575,90.697674418604649,100,100,96.875,100,95.918367346938766,94.594594594594597,null,null,null,null,{"$f":"ROWS($R$7:R797)","v":791},"",{"$f":"IF(ISERROR(SMALL($S$7:$S$1504,ROWS($S$7:S797))),\"\",SMALL($S$7:$S$1504,ROWS($S$7:S797)))","v":""},"",{"$f":"IF(ISERROR(SMALL($U$7:$U$1504,ROWS(U$7:$U797))),\"\",SMALL($U$7:$U$1504,ROWS(U$7:$U797)))","v":""},"",{"$f":"IF(ISERROR(SMALL($W$7:$W$1504,ROWS($W$7:W797))),\"\",SMALL($W$7:$W$1504,ROWS($W$7:W797)))","v":""}]
[null,"Kauno apskritis","Išgyvenusių 1 metus ir 1 dieną ir nepakeitusių statuso iš veikianti į kitą įmonių dalis tarp visų prieš metus įregistruotų įmonių | %",82.312925170068027,82.588996763754039,84.213685474189674,70.485956308515384,68.784277879341857,73.191300488237914,78.595478595478596,80.959164292497618,68.143922773146116,66.792294807370183,null,null,null,null,{"$f":"ROWS($R$7:R798)","v":792},"",{"$f":"IF(ISERROR(SMALL($S$7:$S$1504,ROWS($S$7:S798))),\"\",SMALL($S$7:$S$1504,ROWS($S$7:S798)))","v":""},"",{"$f":"IF(ISERROR(SMALL($U$7:$U$1504,ROWS(U$7:$U798))),\"\",SMALL($U$7:$U$1504,ROWS(U$7:$U798)))","v":""},"",{"$f":"IF(ISERROR(SMALL($W$7:$W$1504,ROWS($W$7:W798))),\"\",SMALL($W$7:$W$1504,ROWS($W$7:W798)))","v":""}]
[null,"Birštono sav.","Išgyvenusių 1 metus ir 1 dieną ir nepakeitusių statuso iš veikianti į kitą įmonių dalis tarp visų prieš metus įregistruotų įmonių | %",100,100,100,100,100,100,100,100,95.652173913043484,100,null,null,null,null,{"$f":"ROWS($R$7:R799)","v":793},"",{"$f":"IF(ISERROR(SMALL($S$7:$S$1504,ROWS($S$7:S799))),\"\",SMALL($S$7:$S$1504,ROWS($S$7:S799)))","v":""},"",{"$f":"IF(ISERROR(SMALL($U$7:$U$1504,ROWS(U$7:$U799))),\"\",SMALL($U$7:$U$1504,ROWS(U$7:$U799)))","v":""},"",{"$f":"IF(ISERROR(SMALL($W$7:$W$1504,ROWS($W$7:W799))),\"\",SMALL($W$7:$W$1504,ROWS($W$7:W799)))","v":""}]
[null,"Jonavos r. sav.","Išgyvenusių 1 metus ir 1 dieną ir nepakeitusių statuso iš veikianti į kitą įmonių dalis tarp visų prieš metus įregistruotų įmonių | %",98.214285714285708,98.529411764705884,100,95.774647887323937,84.210526315789465,95.348837209302332,98.333333333333329,96.202531645569621,96.05263157894737,94.73684210526315,null,null,null,null,{"$f":"ROWS($R$7:R800)","v":794},"",{"$f":"IF(ISERROR(SMALL($S$7:$S$1504,ROWS($S$7:S800))),\"\",SMALL($S$7:$S$1504,ROWS($S$7:S800)))","v":""},"",{"$f":"IF(ISERROR(SMALL($U$7:$U$1504,ROWS(U$7:$U800))),\"\",SMALL($U$7:$U$1504,ROWS(U$7:$U800)))","v":""},"",{"$f":"IF(ISERROR(SMALL($W$7:$W$1504,ROWS($W$7:W800))),\"\",SMALL($W$7:$W$1504,ROWS($W$7:W800)))","v":""}]
[null,"Kaišiadorių r. sav.","Išgyvenusių 1 metus ir 1 dieną ir nepakeitusių statuso iš veikianti į kitą įmonių dalis tarp visų prieš metus įregistruotų įmonių | %",93.75,97.674418604651152,100,91.935483870967744,94.339622641509436,100,100,100,94.827586206896555,95.918367346938766,null,null,null,null,{"$f":"ROWS($R$7:R801)","v":795},"",{"$f":"IF(ISERROR(SMALL($S$7:$S$1504,ROWS($S$7:S801))),\"\",SMALL($S$7:$S$1504,ROWS($S$7:S801)))","v":""},"",{"$f":"IF(ISERROR(SMALL($U$7:$U$1504,ROWS(U$7:$U801))),\"\",SMALL($U$7:$U$1504,ROWS(U$7:$U801)))","v":""},"",{"$f":"IF(ISERROR(SMALL($W$7:$W$1504,ROWS($W$7:W801))),\"\",SMALL($W$7:$W$1504,ROWS($W$7:W801)))","v":""}]
[null,"Kauno m. sav.","Išgyvenusių 1 metus ir 1 dieną ir nepakeitusių statuso iš veikianti į kitą įmonių dalis tarp visų prieš metus įregistruotų įmonių | %",77.246653919694069,76.27772420443587,78.411214953271028,62.907608695652172,60.286458333333336,64.906832298136635,71.650879566982411,75.033738191632921,59.026888604353388,58.532110091743114,null,null,null,null,{"$f":"ROWS($R$7:R802)","v":796},"",{"$f":"IF(ISERROR(SMALL($S$7:$S$1504,ROWS($S$7:S802))),\"\",SMALL($S$7:$S$1504,ROWS($S$7:S802)))","v":""},"",{"$f":"IF(ISERROR(SMALL($U$7:$U$1504,ROWS(U$7:$U802))),\"\",SMALL($U$7:$U$1504,ROWS(U$7:$U802)))","v":""},"",{"$f":"IF(ISERROR(SMALL($W$7:$W$1504,ROWS($W$7:W802))),\"\",SMALL($W$7:$W$1504,ROWS($W$7:W802)))","v":""}]
[null,"Kauno r. sav.","Išgyvenusių 1 metus ir 1 dieną ir nepakeitusių statuso iš veikianti į kitą įmonių dalis tarp visų prieš metus įregistruotų įmonių | %",95.161290322580655,91.703056768558952,91.614906832298132,79.205607476635507,86.40776699029125,90.402476780185765,92.628205128205138,91.776315789473685,82.642487046632127,77.488151658767762,null,null,null,null,{"$f":"ROWS($R$7:R803)","v":797},"",{"$f":"IF(ISERROR(SMALL($S$7:$S$1504,ROWS($S$7:S803))),\"\",SMALL($S$7:$S$1504,ROWS($S$7:S803)))","v":""},"",{"$f":"IF(ISERROR(SMALL($U$7:$U$1504,ROWS(U$7:$U803))),\"\",SMALL($U$7:$U$1504,ROWS(U$7:$U803)))","v":""},"",{"$f":"IF(ISERROR(SMALL($W$7:$W$1504,ROWS($W$7:W803))),\"\",SMALL($W$7:$W$1504,ROWS($W$7:W803)))","v":""}]
[null,"Kėdainių r. sav.","Išgyvenusių 1 metus ir 1 dieną ir nepakeitusių statuso iš veikianti į kitą įmonių dalis tarp visų prieš metus įregistruotų įmonių | %",96.551724137931032,97.101449275362313,96.551724137931032,92.391304347826093,87.640449438202253,96.428571428571431,97.61904761904762,98.461538461538467,92.857142857142861,93.333333333333329,null,null,null,null,{"$f":"ROWS($R$7:R804)","v":798},"",{"$f":"IF(ISERROR(SMALL($S$7:$S$1504,ROWS($S$7:S804))),\"\",SMALL($S$7:$S$1504,ROWS($S$7:S804)))","v":""},"",{"$f":"IF(ISERROR(SMALL($U$7:$U$1504,ROWS(U$7:$U804))),\"\",SMALL($U$7:$U$1504,ROWS(U$7:$U804)))","v":""},"",{"$f":"IF(ISERROR(SMALL($W$7:$W$1504,ROWS($W$7:W804))),\"\",SMALL($W$7:$W$1504,ROWS($W$7:W804)))","v":""}]
[null,"Prienų r. sav.","Išgyvenusių 1 metus ir 1 dieną ir nepakeitusių statuso iš veikianti į kitą įmonių dalis tarp visų prieš metus įregistruotų įmonių | %",93.75,100,97.058823529411768,92.857142857142861,100,97.297297297297305,100,97.826086956521735,91.666666666666657,89.85507246376811,null,null,null,null,{"$f":"ROWS($R$7:R805)","v":799},"",{"$f":"IF(ISERROR(SMALL($S$7:$S$1504,ROWS($S$7:S805))),\"\",SMALL($S$7:$S$1504,ROWS($S$7:S805)))","v":""},"",{"$f":"IF(ISERROR(SMALL($U$7:$U$1504,ROWS(U$7:$U805))),\"\",SMALL($U$7:$U$1504,ROWS(U$7:$U805)))","v":""},"",{"$f":"IF(ISERROR(SMALL($W$7:$W$1504,ROWS($W$7:W805))),\"\",SMALL($W$7:$W$1504,ROWS($W$7:W805)))","v":""}]
[null,"Raseinių r. sav.","Išgyvenusių 1 metus ir 1 dieną ir nepakeitusių statuso iš veikianti į kitą įmonių dalis tarp visų prieš metus įregistruotų įmonių | %",89.285714285714292,100,98.148148148148152,87.142857142857139,96.226415094339629,100,100,98.484848484848484,94.642857142857139,95.652173913043484,null,null,null,null,{"$f":"ROWS($R$7:R806)","v":800},"",{"$f":"IF(ISERROR(SMALL($S$7:$S$1504,ROWS($S$7:S806))),\"\",SMALL($S$7:$S$1504,ROWS($S$7:S806)))","v":""},"",{"$f":"IF(ISERROR(SMALL($U$7:$U$1504,ROWS(U$7:$U806))),\"\",SMALL($U$7:$U$1504,ROWS(U$7:$U806)))","v":""},"",{"$f":"IF(ISERROR(SMALL($W$7:$W$1504,ROWS($W$7:W806))),\"\",SMALL($W$7:$W$1504,ROWS($W$7:W806)))","v":""}]
[null,"Klaipėdos apskritis","Išgyvenusių 1 metus ir 1 dieną ir nepakeitusių statuso iš veikianti į kitą įmonių dalis tarp visų prieš metus įregistruotų įmonių | %",89.590254706533784,91.598360655737707,90.621915103652512,77.860326894502236,80.968006562756358,86.252354048964222,92.857142857142861,93.480546792849623,83.506126295947226,79.819004524886878,null,null,null,null,{"$f":"ROWS($R$7:R807)","v":801},"",{"$f":"IF(ISERROR(SMALL($S$7:$S$1504,ROWS($S$7:S807))),\"\",SMALL($S$7:$S$1504,ROWS($S$7:S807)))","v":""},"",{"$f":"IF(ISERROR(SMALL($U$7:$U$1504,ROWS(U$7:$U807))),\"\",SMALL($U$7:$U$1504,ROWS(U$7:$U807)))","v":""},"",{"$f":"IF(ISERROR(SMALL($W$7:$W$1504,ROWS($W$7:W807))),\"\",SMALL($W$7:$W$1504,ROWS($W$7:W807)))","v":""}]
[null,"Klaipėdos m. sav.","Išgyvenusių 1 metus ir 1 dieną ir nepakeitusių statuso iš veikianti į kitą įmonių dalis tarp visų prieš metus įregistruotų įmonių | %",87.5,88.177339901477836,87.133550488599354,70.023148148148152,73.018080667593878,81.987577639751549,89.204545454545453,90.476190476190482,76.114081996434933,69.031141868512108,null,null,null,null,{"$f":"ROWS($R$7:R808)","v":802},"",{"$f":"IF(ISERROR(SMALL($S$7:$S$1504,ROWS($S$7:S808))),\"\",SMALL($S$7:$S$1504,ROWS($S$7:S808)))","v":""},"",{"$f":"IF(ISERROR(SMALL($U$7:$U$1504,ROWS(U$7:$U808))),\"\",SMALL($U$7:$U$1504,ROWS(U$7:$U808)))","v":""},"",{"$f":"IF(ISERROR(SMALL($W$7:$W$1504,ROWS($W$7:W808))),\"\",SMALL($W$7:$W$1504,ROWS($W$7:W808)))","v":""}]
[null,"Klaipėdos r. sav.","Išgyvenusių 1 metus ir 1 dieną ir nepakeitusių statuso iš veikianti į kitą įmonių dalis tarp visų prieš metus įregistruotų įmonių | %",94.4055944055944,96.503496503496507,93.956043956043956,93.212669683257914,91.666666666666657,91.477272727272734,94.680851063829792,95.081967213114751,87.735849056603783,85.652173913043484,null,null,null,null,{"$f":"ROWS($R$7:R809)","v":803},"",{"$f":"IF(ISERROR(SMALL($S$7:$S$1504,ROWS($S$7:S809))),\"\",SMALL($S$7:$S$1504,ROWS($S$7:S809)))","v":""},"",{"$f":"IF(ISERROR(SMALL($U$7:$U$1504,ROWS(U$7:$U809))),\"\",SMALL($U$7:$U$1504,ROWS(U$7:$U809)))","v":""},"",{"$f":"IF(ISERROR(SMALL($W$7:$W$1504,ROWS($W$7:W809))),\"\",SMALL($W$7:$W$1504,ROWS($W$7:W809)))","v":""}]
[null,"Kretingos r. sav.","Išgyvenusių 1 metus ir 1 dieną ir nepakeitusių statuso iš veikianti į kitą įmonių dalis tarp visų prieš metus įregistruotų įmonių | %",91.428571428571431,100,97.101449275362313,94.666666666666671,96.739130434782609,89.010989010989007,100,98.701298701298697,95.294117647058812,96.666666666666671,null,null,null,null,{"$f":"ROWS($R$7:R810)","v":804},"",{"$f":"IF(ISERROR(SMALL($S$7:$S$1504,ROWS($S$7:S810))),\"\",SMALL($S$7:$S$1504,ROWS($S$7:S810)))","v":""},"",{"$f":"IF(ISERROR(SMALL($U$7:$U$1504,ROWS(U$7:$U810))),\"\",SMALL($U$7:$U$1504,ROWS(U$7:$U810)))","v":""},"",{"$f":"IF(ISERROR(SMALL($W$7:$W$1504,ROWS($W$7:W810))),\"\",SMALL($W$7:$W$1504,ROWS($W$7:W810)))","v":""}]
[null,"Neringos sav.","Išgyvenusių 1 metus ir 1 dieną ir nepakeitusių statuso iš veikianti į kitą įmonių dalis tarp visų prieš metus įregistruotų įmonių | %",100,100,100,95.238095238095227,100,100,100,100,100,94.117647058823522,null,null,null,null,{"$f":"ROWS($R$7:R811)","v":805},"",{"$f":"IF(ISERROR(SMALL($S$7:$S$1504,ROWS($S$7:S811))),\"\",SMALL($S$7:$S$1504,ROWS($S$7:S811)))","v":""},"",{"$f":"IF(ISERROR(SMALL($U$7:$U$1504,ROWS(U$7:$U811))),\"\",SMALL($U$7:$U$1504,ROWS(U$7:$U811)))","v":""},"",{"$f":"IF(ISERROR(SMALL($W$7:$W$1504,ROWS($W$7:W811))),\"\",SMALL($W$7:$W$1504,ROWS($W$7:W811)))","v":""}]
[null,"Palangos m. sav.","Išgyvenusių 1 metus ir 1 dieną ir nepakeitusių statuso iš veikianti į kitą įmonių dalis tarp visų prieš metus įregistruotų įmonių | %",87.755102040816325,98.181818181818187,98.076923076923066,93.333333333333329,92.857142857142861,96.428571428571431,98.461538461538467,98.701298701298697,93.827160493827151,94.666666666666671,null,null,null,null,{"$f":"ROWS($R$7:R812)","v":806},"",{"$f":"IF(ISERROR(SMALL($S$7:$S$1504,ROWS($S$7:S812))),\"\",SMALL($S$7:$S$1504,ROWS($S$7:S812)))","v":""},"",{"$f":"IF(ISERROR(SMALL($U$7:$U$1504,ROWS(U$7:$U812))),\"\",SMALL($U$7:$U$1504,ROWS(U$7:$U812)))","v":""},"",{"$f":"IF(ISERROR(SMALL($W$7:$W$1504,ROWS($W$7:W812))),\"\",SMALL($W$7:$W$1504,ROWS($W$7:W812)))","v":""}]
[null,"Skuodo r. sav.","Išgyvenusių 1 metus ir 1 dieną ir nepakeitusių statuso iš veikianti į kitą įmonių dalis tarp visų prieš metus įregistruotų įmonių | %",100,100,100,100,100,92.857142857142861,100,100,95.238095238095227,100,null,null,null,null,{"$f":"ROWS($R$7:R813)","v":807},"",{"$f":"IF(ISERROR(SMALL($S$7:$S$1504,ROWS($S$7:S813))),\"\",SMALL($S$7:$S$1504,ROWS($S$7:S813)))","v":""},"",{"$f":"IF(ISERROR(SMALL($U$7:$U$1504,ROWS(U$7:$U813))),\"\",SMALL($U$7:$U$1504,ROWS(U$7:$U813)))","v":""},"",{"$f":"IF(ISERROR(SMALL($W$7:$W$1504,ROWS($W$7:W813))),\"\",SMALL($W$7:$W$1504,ROWS($W$7:W813)))","v":""}]
[null,"Šilutės r. sav.","Išgyvenusių 1 metus ir 1 dieną ir nepakeitusių statuso iš veikianti į kitą įmonių dalis tarp visų prieš metus įregistruotų įmonių | %",93.75,94.666666666666671,97.260273972602747,79.452054794520549,87.5,96.825396825396822,100,95.890410958904098,94.318181818181827,96.739130434782609,null,null,null,null,{"$f":"ROWS($R$7:R814)","v":808},"",{"$f":"IF(ISERROR(SMALL($S$7:$S$1504,ROWS($S$7:S814))),\"\",SMALL($S$7:$S$1504,ROWS($S$7:S814)))","v":""},"",{"$f":"IF(ISERROR(SMALL($U$7:$U$1504,ROWS(U$7:$U814))),\"\",SMALL($U$7:$U$1504,ROWS(U$7:$U814)))","v":""},"",{"$f":"IF(ISERROR(SMALL($W$7:$W$1504,ROWS($W$7:W814))),\"\",SMALL($W$7:$W$1504,ROWS($W$7:W814)))","v":""}]
[null,"Marijampolės apskritis","Išgyvenusių 1 metus ir 1 dieną ir nepakeitusių statuso iš veikianti į kitą įmonių dalis tarp visų prieš metus įregistruotų įmonių | %",94.930875576036868,96.330275229357795,96.969696969696969,82.74760383386581,96.641791044776113,94.605809128630696,95.180722891566262,96.047430830039531,90.443686006825942,93.581081081081081,null,null,null,null,{"$f":"ROWS($R$7:R815)","v":809},"",{"$f":"IF(ISERROR(SMALL($S$7:$S$1504,ROWS($S$7:S815))),\"\",SMALL($S$7:$S$1504,ROWS($S$7:S815)))","v":""},"",{"$f":"IF(ISERROR(SMALL($U$7:$U$1504,ROWS(U$7:$U815))),\"\",SMALL($U$7:$U$1504,ROWS(U$7:$U815)))","v":""},"",{"$f":"IF(ISERROR(SMALL($W$7:$W$1504,ROWS($W$7:W815))),\"\",SMALL($W$7:$W$1504,ROWS($W$7:W815)))","v":""}]
[null,"Kalvarijos sav.","Išgyvenusių 1 metus ir 1 dieną ir nepakeitusių statuso iš veikianti į kitą įmonių dalis tarp visų prieš metus įregistruotų įmonių | %",95.454545454545453,100,100,78.571428571428569,94.117647058823522,100,100,100,96.774193548387103,100,null,null,null,null,{"$f":"ROWS($R$7:R816)","v":810},"",{"$f":"IF(ISERROR(SMALL($S$7:$S$1504,ROWS($S$7:S816))),\"\",SMALL($S$7:$S$1504,ROWS($S$7:S816)))","v":""},"",{"$f":"IF(ISERROR(SMALL($U$7:$U$1504,ROWS(U$7:$U816))),\"\",SMALL($U$7:$U$1504,ROWS(U$7:$U816)))","v":""},"",{"$f":"IF(ISERROR(SMALL($W$7:$W$1504,ROWS($W$7:W816))),\"\",SMALL($W$7:$W$1504,ROWS($W$7:W816)))","v":""}]
[null,"Kazlų Rūdos sav.","Išgyvenusių 1 metus ir 1 dieną ir nepakeitusių statuso iš veikianti į kitą įmonių dalis tarp visų prieš metus įregistruotų įmonių | %",100,100,95.454545454545453,94.73684210526315,100,96.428571428571431,100,100,83.78378378378379,97.058823529411768,null,null,null,null,{"$f":"ROWS($R$7:R817)","v":811},"",{"$f":"IF(ISERROR(SMALL($S$7:$S$1504,ROWS($S$7:S817))),\"\",SMALL($S$7:$S$1504,ROWS($S$7:S817)))","v":""},"",{"$f":"IF(ISERROR(SMALL($U$7:$U$1504,ROWS(U$7:$U817))),\"\",SMALL($U$7:$U$1504,ROWS(U$7:$U817)))","v":""},"",{"$f":"IF(ISERROR(SMALL($W$7:$W$1504,ROWS($W$7:W817))),\"\",SMALL($W$7:$W$1504,ROWS($W$7:W817)))","v":""}]
[null,"Marijampolės sav.","Išgyvenusių 1 metus ir 1 dieną ir nepakeitusių statuso iš veikianti į kitą įmonių dalis tarp visų prieš metus įregistruotų įmonių | %",94.495412844036693,96.460176991150433,97.169811320754718,79.60526315789474,95.798319327731093,93.650793650793645,93.233082706766908,94.117647058823522,89.312977099236647,90.209790209790214,null,null,null,null,{"$f":"ROWS($R$7:R818)","v":812},"",{"$f":"IF(ISERROR(SMALL($S$7:$S$1504,ROWS($S$7:S818))),\"\",SMALL($S$7:$S$1504,ROWS($S$7:S818)))","v":""},"",{"$f":"IF(ISERROR(SMALL($U$7:$U$1504,ROWS(U$7:$U818))),\"\",SMALL($U$7:$U$1504,ROWS(U$7:$U818)))","v":""},"",{"$f":"IF(ISERROR(SMALL($W$7:$W$1504,ROWS($W$7:W818))),\"\",SMALL($W$7:$W$1504,ROWS($W$7:W818)))","v":""}]
[null,"Šakių r. sav.","Išgyvenusių 1 metus ir 1 dieną ir nepakeitusių statuso iš veikianti į kitą įmonių dalis tarp visų prieš metus įregistruotų įmonių | %",92.307692307692307,90.697674418604649,93.548387096774192,77.358490566037744,100,91.304347826086953,97.727272727272734,94,93.61702127659575,95.454545454545453,null,null,null,null,{"$f":"ROWS($R$7:R819)","v":813},"",{"$f":"IF(ISERROR(SMALL($S$7:$S$1504,ROWS($S$7:S819))),\"\",SMALL($S$7:$S$1504,ROWS($S$7:S819)))","v":""},"",{"$f":"IF(ISERROR(SMALL($U$7:$U$1504,ROWS(U$7:$U819))),\"\",SMALL($U$7:$U$1504,ROWS(U$7:$U819)))","v":""},"",{"$f":"IF(ISERROR(SMALL($W$7:$W$1504,ROWS($W$7:W819))),\"\",SMALL($W$7:$W$1504,ROWS($W$7:W819)))","v":""}]
[null,"Vilkaviškio r. sav.","Išgyvenusių 1 metus ir 1 dieną ir nepakeitusių statuso iš veikianti į kitą įmonių dalis tarp visų prieš metus įregistruotų įmonių | %",95.454545454545453,100,100,89.285714285714292,93.877551020408163,100,94.444444444444443,100,91.489361702127653,94.285714285714278,null,null,null,null,{"$f":"ROWS($R$7:R820)","v":814},"",{"$f":"IF(ISERROR(SMALL($S$7:$S$1504,ROWS($S$7:S820))),\"\",SMALL($S$7:$S$1504,ROWS($S$7:S820)))","v":""},"",{"$f":"IF(ISERROR(SMALL($U$7:$U$1504,ROWS(U$7:$U820))),\"\",SMALL($U$7:$U$1504,ROWS(U$7:$U820)))","v":""},"",{"$f":"IF(ISERROR(SMALL($W$7:$W$1504,ROWS($W$7:W820))),\"\",SMALL($W$7:$W$1504,ROWS($W$7:W820)))","v":""}]
[null,"Panevėžio apskritis","Išgyvenusių 1 metus ir 1 dieną ir nepakeitusių statuso iš veikianti į kitą įmonių dalis tarp visų prieš metus įregistruotų įmonių | %",93.41463414634147,94.600938967136145,94.964028776978409,84.083044982698965,91.042047531992694,87.921847246891645,92.550790067720087,95.045045045045043,89.414414414414409,88.109161793372309,null,null,null,null,{"$f":"ROWS($R$7:R821)","v":815},"",{"$f":"IF(ISERROR(SMALL($S$7:$S$1504,ROWS($S$7:S821))),\"\",SMALL($S$7:$S$1504,ROWS($S$7:S821)))","v":""},"",{"$f":"IF(ISERROR(SMALL($U$7:$U$1504,ROWS(U$7:$U821))),\"\",SMALL($U$7:$U$1504,ROWS(U$7:$U821)))","v":""},"",{"$f":"IF(ISERROR(SMALL($W$7:$W$1504,ROWS($W$7:W821))),\"\",SMALL($W$7:$W$1504,ROWS($W$7:W821)))","v":""}]
[null,"Biržų r. sav.","Išgyvenusių 1 metus ir 1 dieną ir nepakeitusių statuso iš veikianti į kitą įmonių dalis tarp visų prieš metus įregistruotų įmonių | %",96.969696969696969,93.548387096774192,95.652173913043484,83.333333333333343,82.926829268292678,83.673469387755105,91.111111111111114,95.238095238095227,100,97.826086956521735,null,null,null,null,{"$f":"ROWS($R$7:R822)","v":816},"",{"$f":"IF(ISERROR(SMALL($S$7:$S$1504,ROWS($S$7:S822))),\"\",SMALL($S$7:$S$1504,ROWS($S$7:S822)))","v":""},"",{"$f":"IF(ISERROR(SMALL($U$7:$U$1504,ROWS(U$7:$U822))),\"\",SMALL($U$7:$U$1504,ROWS(U$7:$U822)))","v":""},"",{"$f":"IF(ISERROR(SMALL($W$7:$W$1504,ROWS($W$7:W822))),\"\",SMALL($W$7:$W$1504,ROWS($W$7:W822)))","v":""}]
[null,"Kupiškio r. sav.","Išgyvenusių 1 metus ir 1 dieną ir nepakeitusių statuso iš veikianti į kitą įmonių dalis tarp visų prieš metus įregistruotų įmonių | %",95.454545454545453,96.774193548387103,100,88.235294117647058,95.833333333333343,100,96.296296296296291,96,100,86.04651162790698,null,null,null,null,{"$f":"ROWS($R$7:R823)","v":817},"",{"$f":"IF(ISERROR(SMALL($S$7:$S$1504,ROWS($S$7:S823))),\"\",SMALL($S$7:$S$1504,ROWS($S$7:S823)))","v":""},"",{"$f":"IF(ISERROR(SMALL($U$7:$U$1504,ROWS(U$7:$U823))),\"\",SMALL($U$7:$U$1504,ROWS(U$7:$U823)))","v":""},"",{"$f":"IF(ISERROR(SMALL($W$7:$W$1504,ROWS($W$7:W823))),\"\",SMALL($W$7:$W$1504,ROWS($W$7:W823)))","v":""}]
[null,"Panevėžio m. sav.","Išgyvenusių 1 metus ir 1 dieną ir nepakeitusių statuso iš veikianti į kitą įmonių dalis tarp visų prieš metus įregistruotų įmonių | %",89.908256880733944,93.719806763285035,94.5,79.402985074626869,89.491525423728817,87.857142857142861,88.209606986899558,93.61702127659575,82.775119617224874,85.784313725490193,null,null,null,null,{"$f":"ROWS($R$7:R824)","v":818},"",{"$f":"IF(ISERROR(SMALL($S$7:$S$1504,ROWS($S$7:S824))),\"\",SMALL($S$7:$S$1504,ROWS($S$7:S824)))","v":""},"",{"$f":"IF(ISERROR(SMALL($U$7:$U$1504,ROWS(U$7:$U824))),\"\",SMALL($U$7:$U$1504,ROWS(U$7:$U824)))","v":""},"",{"$f":"IF(ISERROR(SMALL($W$7:$W$1504,ROWS($W$7:W824))),\"\",SMALL($W$7:$W$1504,ROWS($W$7:W824)))","v":""}]
[null,"Panevėžio r. sav.","Išgyvenusių 1 metus ir 1 dieną ir nepakeitusių statuso iš veikianti į kitą įmonių dalis tarp visų prieš metus įregistruotų įmonių | %",95.588235294117652,92.857142857142861,97.61904761904762,98.701298701298697,97.297297297297305,98.507462686567166,100,96.202531645569621,96.202531645569621,89.333333333333329,null,null,null,null,{"$f":"ROWS($R$7:R825)","v":819},"",{"$f":"IF(ISERROR(SMALL($S$7:$S$1504,ROWS($S$7:S825))),\"\",SMALL($S$7:$S$1504,ROWS($S$7:S825)))","v":""},"",{"$f":"IF(ISERROR(SMALL($U$7:$U$1504,ROWS(U$7:$U825))),\"\",SMALL($U$7:$U$1504,ROWS(U$7:$U825)))","v":""},"",{"$f":"IF(ISERROR(SMALL($W$7:$W$1504,ROWS($W$7:W825))),\"\",SMALL($W$7:$W$1504,ROWS($W$7:W825)))","v":""}]
[null,"Pasvalio r. sav.","Išgyvenusių 1 metus ir 1 dieną ir nepakeitusių statuso iš veikianti į kitą įmonių dalis tarp visų prieš metus įregistruotų įmonių | %",100,97.058823529411768,93.548387096774192,78.048780487804876,90.697674418604649,85.416666666666657,97.222222222222214,95,91.666666666666657,97.297297297297305,null,null,null,null,{"$f":"ROWS($R$7:R826)","v":820},"",{"$f":"IF(ISERROR(SMALL($S$7:$S$1504,ROWS($S$7:S826))),\"\",SMALL($S$7:$S$1504,ROWS($S$7:S826)))","v":""},"",{"$f":"IF(ISERROR(SMALL($U$7:$U$1504,ROWS(U$7:$U826))),\"\",SMALL($U$7:$U$1504,ROWS(U$7:$U826)))","v":""},"",{"$f":"IF(ISERROR(SMALL($W$7:$W$1504,ROWS($W$7:W826))),\"\",SMALL($W$7:$W$1504,ROWS($W$7:W826)))","v":""}]
[null,"Rokiškio r. sav.","Išgyvenusių 1 metus ir 1 dieną ir nepakeitusių statuso iš veikianti į kitą įmonių dalis tarp visų prieš metus įregistruotų įmonių | %",100,100,90.476190476190482,95.918367346938766,94.285714285714278,82.524271844660191,100,97.142857142857139,92.537313432835816,85.18518518518519,null,null,null,null,{"$f":"ROWS($R$7:R827)","v":821},"",{"$f":"IF(ISERROR(SMALL($S$7:$S$1504,ROWS($S$7:S827))),\"\",SMALL($S$7:$S$1504,ROWS($S$7:S827)))","v":""},"",{"$f":"IF(ISERROR(SMALL($U$7:$U$1504,ROWS(U$7:$U827))),\"\",SMALL($U$7:$U$1504,ROWS(U$7:$U827)))","v":""},"",{"$f":"IF(ISERROR(SMALL($W$7:$W$1504,ROWS($W$7:W827))),\"\",SMALL($W$7:$W$1504,ROWS($W$7:W827)))","v":""}]
[null,"Šiaulių apskritis","Išgyvenusių 1 metus ir 1 dieną ir nepakeitusių statuso iš veikianti į kitą įmonių dalis tarp visų prieš metus įregistruotų įmonių | %",92.748091603053439,91.187050359712231,93.240901213171583,83.379120879120876,89.352517985611513,84.829329962073331,94.007490636704119,94.358974358974351,88.701517706576723,87.21311475409837,null,null,null,null,{"$f":"ROWS($R$7:R828)","v":822},"",{"$f":"IF(ISERROR(SMALL($S$7:$S$1504,ROWS($S$7:S828))),\"\",SMALL($S$7:$S$1504,ROWS($S$7:S828)))","v":""},"",{"$f":"IF(ISERROR(SMALL($U$7:$U$1504,ROWS(U$7:$U828))),\"\",SMALL($U$7:$U$1504,ROWS(U$7:$U828)))","v":""},"",{"$f":"IF(ISERROR(SMALL($W$7:$W$1504,ROWS($W$7:W828))),\"\",SMALL($W$7:$W$1504,ROWS($W$7:W828)))","v":""}]
[null,"Akmenės r. sav.","Išgyvenusių 1 metus ir 1 dieną ir nepakeitusių statuso iš veikianti į kitą įmonių dalis tarp visų prieš metus įregistruotų įmonių | %",92,92.857142857142861,92.307692307692307,96.296296296296291,88.75,69.339622641509436,100,98.039215686274503,93.333333333333329,87.931034482758619,null,null,null,null,{"$f":"ROWS($R$7:R829)","v":823},"",{"$f":"IF(ISERROR(SMALL($S$7:$S$1504,ROWS($S$7:S829))),\"\",SMALL($S$7:$S$1504,ROWS($S$7:S829)))","v":""},"",{"$f":"IF(ISERROR(SMALL($U$7:$U$1504,ROWS(U$7:$U829))),\"\",SMALL($U$7:$U$1504,ROWS(U$7:$U829)))","v":""},"",{"$f":"IF(ISERROR(SMALL($W$7:$W$1504,ROWS($W$7:W829))),\"\",SMALL($W$7:$W$1504,ROWS($W$7:W829)))","v":""}]
[null,"Joniškio r. sav.","Išgyvenusių 1 metus ir 1 dieną ir nepakeitusių statuso iš veikianti į kitą įmonių dalis tarp visų prieš metus įregistruotų įmonių | %",95.652173913043484,85.714285714285708,94.285714285714278,90.625,97.674418604651152,97.61904761904762,96,96,97.222222222222214,95.121951219512198,null,null,null,null,{"$f":"ROWS($R$7:R830)","v":824},"",{"$f":"IF(ISERROR(SMALL($S$7:$S$1504,ROWS($S$7:S830))),\"\",SMALL($S$7:$S$1504,ROWS($S$7:S830)))","v":""},"",{"$f":"IF(ISERROR(SMALL($U$7:$U$1504,ROWS(U$7:$U830))),\"\",SMALL($U$7:$U$1504,ROWS(U$7:$U830)))","v":""},"",{"$f":"IF(ISERROR(SMALL($W$7:$W$1504,ROWS($W$7:W830))),\"\",SMALL($W$7:$W$1504,ROWS($W$7:W830)))","v":""}]
[null,"Kelmės r. sav.","Išgyvenusių 1 metus ir 1 dieną ir nepakeitusių statuso iš veikianti į kitą įmonių dalis tarp visų prieš metus įregistruotų įmonių | %",91.891891891891902,96.875,97.368421052631575,97.368421052631575,97.222222222222214,97.142857142857139,95.652173913043484,100,95.522388059701484,86.486486486486484,null,null,null,null,{"$f":"ROWS($R$7:R831)","v":825},"",{"$f":"IF(ISERROR(SMALL($S$7:$S$1504,ROWS($S$7:S831))),\"\",SMALL($S$7:$S$1504,ROWS($S$7:S831)))","v":""},"",{"$f":"IF(ISERROR(SMALL($U$7:$U$1504,ROWS(U$7:$U831))),\"\",SMALL($U$7:$U$1504,ROWS(U$7:$U831)))","v":""},"",{"$f":"IF(ISERROR(SMALL($W$7:$W$1504,ROWS($W$7:W831))),\"\",SMALL($W$7:$W$1504,ROWS($W$7:W831)))","v":""}]
[null,"Pakruojo r. sav.","Išgyvenusių 1 metus ir 1 dieną ir nepakeitusių statuso iš veikianti į kitą įmonių dalis tarp visų prieš metus įregistruotų įmonių | %",96.551724137931032,100,95.238095238095227,95.238095238095227,100,100,96.296296296296291,100,92.857142857142861,96.15384615384616,null,null,null,null,{"$f":"ROWS($R$7:R832)","v":826},"",{"$f":"IF(ISERROR(SMALL($S$7:$S$1504,ROWS($S$7:S832))),\"\",SMALL($S$7:$S$1504,ROWS($S$7:S832)))","v":""},"",{"$f":"IF(ISERROR(SMALL($U$7:$U$1504,ROWS(U$7:$U832))),\"\",SMALL($U$7:$U$1504,ROWS(U$7:$U832)))","v":""},"",{"$f":"IF(ISERROR(SMALL($W$7:$W$1504,ROWS($W$7:W832))),\"\",SMALL($W$7:$W$1504,ROWS($W$7:W832)))","v":""}]
[null,"Radviliškio r. sav.","Išgyvenusių 1 metus ir 1 dieną ir nepakeitusių statuso iš veikianti į kitą įmonių dalis tarp visų prieš metus įregistruotų įmonių | %",95.348837209302332,89.583333333333343,96.875,75.609756097560975,91.011235955056179,78.94736842105263,97.142857142857139,96.825396825396822,91.379310344827587,90,null,null,null,null,{"$f":"ROWS($R$7:R833)","v":827},"",{"$f":"IF(ISERROR(SMALL($S$7:$S$1504,ROWS($S$7:S833))),\"\",SMALL($S$7:$S$1504,ROWS($S$7:S833)))","v":""},"",{"$f":"IF(ISERROR(SMALL($U$7:$U$1504,ROWS(U$7:$U833))),\"\",SMALL($U$7:$U$1504,ROWS(U$7:$U833)))","v":""},"",{"$f":"IF(ISERROR(SMALL($W$7:$W$1504,ROWS($W$7:W833))),\"\",SMALL($W$7:$W$1504,ROWS($W$7:W833)))","v":""}]
[null,"Šiaulių m. sav.","Išgyvenusių 1 metus ir 1 dieną ir nepakeitusių statuso iš veikianti į kitą įmonių dalis tarp visų prieš metus įregistruotų įmonių | %",92.307692307692307,89.403973509933778,90.476190476190482,79.319371727748688,85.671641791044777,90.384615384615387,92.1875,90.459363957597176,86.617100371747213,82.03125,null,null,null,null,{"$f":"ROWS($R$7:R834)","v":828},"",{"$f":"IF(ISERROR(SMALL($S$7:$S$1504,ROWS($S$7:S834))),\"\",SMALL($S$7:$S$1504,ROWS($S$7:S834)))","v":""},"",{"$f":"IF(ISERROR(SMALL($U$7:$U$1504,ROWS(U$7:$U834))),\"\",SMALL($U$7:$U$1504,ROWS(U$7:$U834)))","v":""},"",{"$f":"IF(ISERROR(SMALL($W$7:$W$1504,ROWS($W$7:W834))),\"\",SMALL($W$7:$W$1504,ROWS($W$7:W834)))","v":""}]
[null,"Šiaulių r. sav.","Išgyvenusių 1 metus ir 1 dieną ir nepakeitusių statuso iš veikianti į kitą įmonių dalis tarp visų prieš metus įregistruotų įmonių | %",91.358024691358025,95.180722891566262,96.969696969696969,87.394957983193279,91.860465116279073,91.764705882352942,92.405063291139243,97.701149425287355,84.033613445378151,93.684210526315795,null,null,null,null,{"$f":"ROWS($R$7:R835)","v":829},"",{"$f":"IF(ISERROR(SMALL($S$7:$S$1504,ROWS($S$7:S835))),\"\",SMALL($S$7:$S$1504,ROWS($S$7:S835)))","v":""},"",{"$f":"IF(ISERROR(SMALL($U$7:$U$1504,ROWS(U$7:$U835))),\"\",SMALL($U$7:$U$1504,ROWS(U$7:$U835)))","v":""},"",{"$f":"IF(ISERROR(SMALL($W$7:$W$1504,ROWS($W$7:W835))),\"\",SMALL($W$7:$W$1504,ROWS($W$7:W835)))","v":""}]
[null,"Tauragės apskritis","Išgyvenusių 1 metus ir 1 dieną ir nepakeitusių statuso iš veikianti į kitą įmonių dalis tarp visų prieš metus įregistruotų įmonių | %",95.333333333333343,95.26627218934911,98.780487804878049,67.391304347826093,91.503267973856211,96.531791907514446,98.561151079136692,97.849462365591393,92.546583850931668,92.134831460674164,null,null,null,null,{"$f":"ROWS($R$7:R836)","v":830},"",{"$f":"IF(ISERROR(SMALL($S$7:$S$1504,ROWS($S$7:S836))),\"\",SMALL($S$7:$S$1504,ROWS($S$7:S836)))","v":""},"",{"$f":"IF(ISERROR(SMALL($U$7:$U$1504,ROWS(U$7:$U836))),\"\",SMALL($U$7:$U$1504,ROWS(U$7:$U836)))","v":""},"",{"$f":"IF(ISERROR(SMALL($W$7:$W$1504,ROWS($W$7:W836))),\"\",SMALL($W$7:$W$1504,ROWS($W$7:W836)))","v":""}]
[null,"Jurbarko r. sav.","Išgyvenusių 1 metus ir 1 dieną ir nepakeitusių statuso iš veikianti į kitą įmonių dalis tarp visų prieš metus įregistruotų įmonių | %",100,92.10526315789474,95.238095238095227,97.368421052631575,97.61904761904762,97.61904761904762,100,96.15384615384616,90.697674418604649,92.592592592592595,null,null,null,null,{"$f":"ROWS($R$7:R837)","v":831},"",{"$f":"IF(ISERROR(SMALL($S$7:$S$1504,ROWS($S$7:S837))),\"\",SMALL($S$7:$S$1504,ROWS($S$7:S837)))","v":""},"",{"$f":"IF(ISERROR(SMALL($U$7:$U$1504,ROWS(U$7:$U837))),\"\",SMALL($U$7:$U$1504,ROWS(U$7:$U837)))","v":""},"",{"$f":"IF(ISERROR(SMALL($W$7:$W$1504,ROWS($W$7:W837))),\"\",SMALL($W$7:$W$1504,ROWS($W$7:W837)))","v":""}]
[null,"Pagėgių sav.","Išgyvenusių 1 metus ir 1 dieną ir nepakeitusių statuso iš veikianti į kitą įmonių dalis tarp visų prieš metus įregistruotų įmonių | %",83.333333333333343,100,100,51.515151515151516,68.75,100,100,100,100,100,null,null,null,null,{"$f":"ROWS($R$7:R838)","v":832},"",{"$f":"IF(ISERROR(SMALL($S$7:$S$1504,ROWS($S$7:S838))),\"\",SMALL($S$7:$S$1504,ROWS($S$7:S838)))","v":""},"",{"$f":"IF(ISERROR(SMALL($U$7:$U$1504,ROWS(U$7:$U838))),\"\",SMALL($U$7:$U$1504,ROWS(U$7:$U838)))","v":""},"",{"$f":"IF(ISERROR(SMALL($W$7:$W$1504,ROWS($W$7:W838))),\"\",SMALL($W$7:$W$1504,ROWS($W$7:W838)))","v":""}]
[null,"Šilalės r. sav.","Išgyvenusių 1 metus ir 1 dieną ir nepakeitusių statuso iš veikianti į kitą įmonių dalis tarp visų prieš metus įregistruotų įmonių | %",95,97.435897435897431,100,96,96.551724137931032,100,96.15384615384616,96.969696969696969,90.476190476190482,93.548387096774192,null,null,null,null,{"$f":"ROWS($R$7:R839)","v":833},{"$f":"IF(ISNUMBER(SEARCH($R$3,B839)),R839,\"\")","v":""},{"$f":"IF(ISERROR(SMALL($S$7:$S$1504,ROWS($S$7:S839))),\"\",SMALL($S$7:$S$1504,ROWS($S$7:S839)))","v":""},{"$f":"IF($R$4=B839,R839,\"\")","v":""},{"$f":"IF(ISERROR(SMALL($U$7:$U$1504,ROWS(U$7:$U839))),\"\",SMALL($U$7:$U$1504,ROWS(U$7:$U839)))","v":""},{"$f":"IF(\"Lietuvos Respublika\"=B839,R839,\"\")","v":""},{"$f":"IF(ISERROR(SMALL($W$7:$W$1504,ROWS($W$7:W839))),\"\",SMALL($W$7:$W$1504,ROWS($W$7:W839)))","v":""}]
[null,"Tauragės r. sav.","Išgyvenusių 1 metus ir 1 dieną ir nepakeitusių statuso iš veikianti į kitą įmonių dalis tarp visų prieš metus įregistruotų įmonių | %",94.117647058823522,94.871794871794862,100,60,90.909090909090907,94.117647058823522,98.507462686567166,98.888888888888886,93.75,90.804597701149419,null,null,null,null,{"$f":"ROWS($R$7:R840)","v":834},"",{"$f":"IF(ISERROR(SMALL($S$7:$S$1504,ROWS($S$7:S840))),\"\",SMALL($S$7:$S$1504,ROWS($S$7:S840)))","v":""},"",{"$f":"IF(ISERROR(SMALL($U$7:$U$1504,ROWS(U$7:$U840))),\"\",SMALL($U$7:$U$1504,ROWS(U$7:$U840)))","v":""},"",{"$f":"IF(ISERROR(SMALL($W$7:$W$1504,ROWS($W$7:W840))),\"\",SMALL($W$7:$W$1504,ROWS($W$7:W840)))","v":""}]
[null,"Telšių apskritis","Išgyvenusių 1 metus ir 1 dieną ir nepakeitusių statuso iš veikianti į kitą įmonių dalis tarp visų prieš metus įregistruotų įmonių | %",94.713656387665196,97.165991902834008,90.909090909090907,86.350148367952514,97.385620915032675,94.402985074626869,97.744360902255636,91.459074733096088,95.970695970695971,92.459016393442624,null,null,null,null,{"$f":"ROWS($R$7:R841)","v":835},"",{"$f":"IF(ISERROR(SMALL($S$7:$S$1504,ROWS($S$7:S841))),\"\",SMALL($S$7:$S$1504,ROWS($S$7:S841)))","v":""},"",{"$f":"IF(ISERROR(SMALL($U$7:$U$1504,ROWS(U$7:$U841))),\"\",SMALL($U$7:$U$1504,ROWS(U$7:$U841)))","v":""},"",{"$f":"IF(ISERROR(SMALL($W$7:$W$1504,ROWS($W$7:W841))),\"\",SMALL($W$7:$W$1504,ROWS($W$7:W841)))","v":""}]
[null,"Mažeikių r. sav.","Išgyvenusių 1 metus ir 1 dieną ir nepakeitusių statuso iš veikianti į kitą įmonių dalis tarp visų prieš metus įregistruotų įmonių | %",93.61702127659575,96.610169491525426,95.726495726495727,85.207100591715985,96.551724137931032,94.117647058823522,98.181818181818187,93.277310924369743,93.495934959349597,91.891891891891902,null,null,null,null,{"$f":"ROWS($R$7:R842)","v":836},"",{"$f":"IF(ISERROR(SMALL($S$7:$S$1504,ROWS($S$7:S842))),\"\",SMALL($S$7:$S$1504,ROWS($S$7:S842)))","v":""},"",{"$f":"IF(ISERROR(SMALL($U$7:$U$1504,ROWS(U$7:$U842))),\"\",SMALL($U$7:$U$1504,ROWS(U$7:$U842)))","v":""},"",{"$f":"IF(ISERROR(SMALL($W$7:$W$1504,ROWS($W$7:W842))),\"\",SMALL($W$7:$W$1504,ROWS($W$7:W842)))","v":""}]
[null,"Plungės r. sav.","Išgyvenusių 1 metus ir 1 dieną ir nepakeitusių statuso iš veikianti į kitą įmonių dalis tarp visų prieš metus įregistruotų įmonių | %",98.214285714285708,100,75.324675324675326,75.641025641025635,100,93.103448275862064,96.610169491525426,93.548387096774192,98.214285714285708,90.909090909090907,null,null,null,null,{"$f":"ROWS($R$7:R843)","v":837},"",{"$f":"IF(ISERROR(SMALL($S$7:$S$1504,ROWS($S$7:S843))),\"\",SMALL($S$7:$S$1504,ROWS($S$7:S843)))","v":""},"",{"$f":"IF(ISERROR(SMALL($U$7:$U$1504,ROWS(U$7:$U843))),\"\",SMALL($U$7:$U$1504,ROWS(U$7:$U843)))","v":""},"",{"$f":"IF(ISERROR(SMALL($W$7:$W$1504,ROWS($W$7:W843))),\"\",SMALL($W$7:$W$1504,ROWS($W$7:W843)))","v":""}]
[null,"Rietavo sav.","Išgyvenusių 1 metus ir 1 dieną ir nepakeitusių statuso iš veikianti į kitą įmonių dalis tarp visų prieš metus įregistruotų įmonių | %",100,100,89.473684210526315,100,100,100,100,100,100,100,null,null,null,null,{"$f":"ROWS($R$7:R844)","v":838},"",{"$f":"IF(ISERROR(SMALL($S$7:$S$1504,ROWS($S$7:S844))),\"\",SMALL($S$7:$S$1504,ROWS($S$7:S844)))","v":""},"",{"$f":"IF(ISERROR(SMALL($U$7:$U$1504,ROWS(U$7:$U844))),\"\",SMALL($U$7:$U$1504,ROWS(U$7:$U844)))","v":""},"",{"$f":"IF(ISERROR(SMALL($W$7:$W$1504,ROWS($W$7:W844))),\"\",SMALL($W$7:$W$1504,ROWS($W$7:W844)))","v":""}]
[null,"Telšių r. sav.","Išgyvenusių 1 metus ir 1 dieną ir nepakeitusių statuso iš veikianti į kitą įmonių dalis tarp visų prieš metus įregistruotų įmonių | %",91.803278688524586,95.454545454545453,100,97.402597402597408,95.833333333333343,94.871794871794862,97.468354430379748,86.206896551724128,97.560975609756099,93.137254901960787,null,null,null,null,{"$f":"ROWS($R$7:R845)","v":839},"",{"$f":"IF(ISERROR(SMALL($S$7:$S$1504,ROWS($S$7:S845))),\"\",SMALL($S$7:$S$1504,ROWS($S$7:S845)))","v":""},"",{"$f":"IF(ISERROR(SMALL($U$7:$U$1504,ROWS(U$7:$U845))),\"\",SMALL($U$7:$U$1504,ROWS(U$7:$U845)))","v":""},"",{"$f":"IF(ISERROR(SMALL($W$7:$W$1504,ROWS($W$7:W845))),\"\",SMALL($W$7:$W$1504,ROWS($W$7:W845)))","v":""}]
[null,"Utenos apskritis","Išgyvenusių 1 metus ir 1 dieną ir nepakeitusių statuso iš veikianti į kitą įmonių dalis tarp visų prieš metus įregistruotų įmonių | %",95.81589958158996,96.265560165975103,95.703125,90.131578947368425,96.197718631178702,96.296296296296291,97.047970479704787,96.280991735537185,94.9579831932773,87.066246056782333,null,null,null,null,{"$f":"ROWS($R$7:R846)","v":840},"",{"$f":"IF(ISERROR(SMALL($S$7:$S$1504,ROWS($S$7:S846))),\"\",SMALL($S$7:$S$1504,ROWS($S$7:S846)))","v":""},"",{"$f":"IF(ISERROR(SMALL($U$7:$U$1504,ROWS(U$7:$U846))),\"\",SMALL($U$7:$U$1504,ROWS(U$7:$U846)))","v":""},"",{"$f":"IF(ISERROR(SMALL($W$7:$W$1504,ROWS($W$7:W846))),\"\",SMALL($W$7:$W$1504,ROWS($W$7:W846)))","v":""}]
[null,"Anykščių r. sav.","Išgyvenusių 1 metus ir 1 dieną ir nepakeitusių statuso iš veikianti į kitą įmonių dalis tarp visų prieš metus įregistruotų įmonių | %",97.777777777777771,97.61904761904762,95.555555555555557,90.909090909090907,94,91.666666666666657,97.560975609756099,92.72727272727272,97.368421052631575,90,null,null,null,null,{"$f":"ROWS($R$7:R847)","v":841},"",{"$f":"IF(ISERROR(SMALL($S$7:$S$1504,ROWS($S$7:S847))),\"\",SMALL($S$7:$S$1504,ROWS($S$7:S847)))","v":""},"",{"$f":"IF(ISERROR(SMALL($U$7:$U$1504,ROWS(U$7:$U847))),\"\",SMALL($U$7:$U$1504,ROWS(U$7:$U847)))","v":""},"",{"$f":"IF(ISERROR(SMALL($W$7:$W$1504,ROWS($W$7:W847))),\"\",SMALL($W$7:$W$1504,ROWS($W$7:W847)))","v":""}]
[null,"Ignalinos r. sav.","Išgyvenusių 1 metus ir 1 dieną ir nepakeitusių statuso iš veikianti į kitą įmonių dalis tarp visų prieš metus įregistruotų įmonių | %",96,100,92.307692307692307,100,100,100,95.121951219512198,93.548387096774192,91.666666666666657,74.358974358974365,null,null,null,null,{"$f":"ROWS($R$7:R848)","v":842},"",{"$f":"IF(ISERROR(SMALL($S$7:$S$1504,ROWS($S$7:S848))),\"\",SMALL($S$7:$S$1504,ROWS($S$7:S848)))","v":""},"",{"$f":"IF(ISERROR(SMALL($U$7:$U$1504,ROWS(U$7:$U848))),\"\",SMALL($U$7:$U$1504,ROWS(U$7:$U848)))","v":""},"",{"$f":"IF(ISERROR(SMALL($W$7:$W$1504,ROWS($W$7:W848))),\"\",SMALL($W$7:$W$1504,ROWS($W$7:W848)))","v":""}]
[null,"Molėtų r. sav.","Išgyvenusių 1 metus ir 1 dieną ir nepakeitusių statuso iš veikianti į kitą įmonių dalis tarp visų prieš metus įregistruotų įmonių | %",96.296296296296291,88.888888888888886,100,80.303030303030297,96.969696969696969,95.348837209302332,100,100,91.379310344827587,90.909090909090907,null,null,null,null,{"$f":"ROWS($R$7:R849)","v":843},"",{"$f":"IF(ISERROR(SMALL($S$7:$S$1504,ROWS($S$7:S849))),\"\",SMALL($S$7:$S$1504,ROWS($S$7:S849)))","v":""},"",{"$f":"IF(ISERROR(SMALL($U$7:$U$1504,ROWS(U$7:$U849))),\"\",SMALL($U$7:$U$1504,ROWS(U$7:$U849)))","v":""},"",{"$f":"IF(ISERROR(SMALL($W$7:$W$1504,ROWS($W$7:W849))),\"\",SMALL($W$7:$W$1504,ROWS($W$7:W849)))","v":""}]
[null,"Utenos r. sav.","Išgyvenusių 1 metus ir 1 dieną ir nepakeitusių statuso iš veikianti į kitą įmonių dalis tarp visų prieš metus įregistruotų įmonių | %",93.902439024390233,95.238095238095227,95.454545454545453,89.411764705882362,97.468354430379748,98.360655737704917,94.117647058823522,98.333333333333329,96.721311475409834,92.64705882352942,null,null,null,null,{"$f":"ROWS($R$7:R850)","v":844},"",{"$f":"IF(ISERROR(SMALL($S$7:$S$1504,ROWS($S$7:S850))),\"\",SMALL($S$7:$S$1504,ROWS($S$7:S850)))","v":""},"",{"$f":"IF(ISERROR(SMALL($U$7:$U$1504,ROWS(U$7:$U850))),\"\",SMALL($U$7:$U$1504,ROWS(U$7:$U850)))","v":""},"",{"$f":"IF(ISERROR(SMALL($W$7:$W$1504,ROWS($W$7:W850))),\"\",SMALL($W$7:$W$1504,ROWS($W$7:W850)))","v":""}]
[null,"Visagino sav.","Išgyvenusių 1 metus ir 1 dieną ir nepakeitusių statuso iš veikianti į kitą įmonių dalis tarp visų prieš metus įregistruotų įmonių | %",97.777777777777771,100,91.666666666666657,100,92.307692307692307,97.674418604651152,100,100,90.909090909090907,94.117647058823522,null,null,null,null,{"$f":"ROWS($R$7:R851)","v":845},"",{"$f":"IF(ISERROR(SMALL($S$7:$S$1504,ROWS($S$7:S851))),\"\",SMALL($S$7:$S$1504,ROWS($S$7:S851)))","v":""},"",{"$f":"IF(ISERROR(SMALL($U$7:$U$1504,ROWS(U$7:$U851))),\"\",SMALL($U$7:$U$1504,ROWS(U$7:$U851)))","v":""},"",{"$f":"IF(ISERROR(SMALL($W$7:$W$1504,ROWS($W$7:W851))),\"\",SMALL($W$7:$W$1504,ROWS($W$7:W851)))","v":""}]
[null,"Zarasų r. sav.","Išgyvenusių 1 metus ir 1 dieną ir nepakeitusių statuso iš veikianti į kitą įmonių dalis tarp visų prieš metus įregistruotų įmonių | %",93.333333333333329,100,100,90,100,94.73684210526315,97.560975609756099,95.121951219512198,100,80.281690140845072,null,null,null,null,{"$f":"ROWS($R$7:R852)","v":846},"",{"$f":"IF(ISERROR(SMALL($S$7:$S$1504,ROWS($S$7:S852))),\"\",SMALL($S$7:$S$1504,ROWS($S$7:S852)))","v":""},"",{"$f":"IF(ISERROR(SMALL($U$7:$U$1504,ROWS(U$7:$U852))),\"\",SMALL($U$7:$U$1504,ROWS(U$7:$U852)))","v":""},"",{"$f":"IF(ISERROR(SMALL($W$7:$W$1504,ROWS($W$7:W852))),\"\",SMALL($W$7:$W$1504,ROWS($W$7:W852)))","v":""}]
[null,"Vilniaus apskritis","Išgyvenusių 1 metus ir 1 dieną ir nepakeitusių statuso iš veikianti į kitą įmonių dalis tarp visų prieš metus įregistruotų įmonių | %",54.8095703125,52.927300021445426,47.115384615384613,31.126304426052538,29.634960094203848,29.75881261595547,38.299687233437588,42.074663402692778,29.725456374874227,26.941209095951191,null,null,null,null,{"$f":"ROWS($R$7:R853)","v":847},"",{"$f":"IF(ISERROR(SMALL($S$7:$S$1504,ROWS($S$7:S853))),\"\",SMALL($S$7:$S$1504,ROWS($S$7:S853)))","v":""},847,{"$f":"IF(ISERROR(SMALL($U$7:$U$1504,ROWS(U$7:$U853))),\"\",SMALL($U$7:$U$1504,ROWS(U$7:$U853)))","v":""},"",{"$f":"IF(ISERROR(SMALL($W$7:$W$1504,ROWS($W$7:W853))),\"\",SMALL($W$7:$W$1504,ROWS($W$7:W853)))","v":""}]
[null,"Elektrėnų sav.","Išgyvenusių 1 metus ir 1 dieną ir nepakeitusių statuso iš veikianti į kitą įmonių dalis tarp visų prieš metus įregistruotų įmonių | %",96.666666666666671,100,100,96,100,96.296296296296291,100,94.285714285714278,93.478260869565219,95.081967213114751,null,null,null,null,{"$f":"ROWS($R$7:R854)","v":848},"",{"$f":"IF(ISERROR(SMALL($S$7:$S$1504,ROWS($S$7:S854))),\"\",SMALL($S$7:$S$1504,ROWS($S$7:S854)))","v":""},"",{"$f":"IF(ISERROR(SMALL($U$7:$U$1504,ROWS(U$7:$U854))),\"\",SMALL($U$7:$U$1504,ROWS(U$7:$U854)))","v":""},"",{"$f":"IF(ISERROR(SMALL($W$7:$W$1504,ROWS($W$7:W854))),\"\",SMALL($W$7:$W$1504,ROWS($W$7:W854)))","v":""}]
[null,"Šalčininkų r. sav.","Išgyvenusių 1 metus ir 1 dieną ir nepakeitusių statuso iš veikianti į kitą įmonių dalis tarp visų prieš metus įregistruotų įmonių | %",96.774193548387103,96.774193548387103,98.076923076923066,94.444444444444443,62.857142857142854,54.54545454545454,97.727272727272734,100,100,85.365853658536579,null,null,null,null,{"$f":"ROWS($R$7:R855)","v":849},"",{"$f":"IF(ISERROR(SMALL($S$7:$S$1504,ROWS($S$7:S855))),\"\",SMALL($S$7:$S$1504,ROWS($S$7:S855)))","v":""},"",{"$f":"IF(ISERROR(SMALL($U$7:$U$1504,ROWS(U$7:$U855))),\"\",SMALL($U$7:$U$1504,ROWS(U$7:$U855)))","v":""},"",{"$f":"IF(ISERROR(SMALL($W$7:$W$1504,ROWS($W$7:W855))),\"\",SMALL($W$7:$W$1504,ROWS($W$7:W855)))","v":""}]
[null,"Širvintų r. sav.","Išgyvenusių 1 metus ir 1 dieną ir nepakeitusių statuso iš veikianti į kitą įmonių dalis tarp visų prieš metus įregistruotų įmonių | %",91.891891891891902,100,93.75,100,97.297297297297305,96,100,100,94.444444444444443,93.877551020408163,null,null,null,null,{"$f":"ROWS($R$7:R856)","v":850},"",{"$f":"IF(ISERROR(SMALL($S$7:$S$1504,ROWS($S$7:S856))),\"\",SMALL($S$7:$S$1504,ROWS($S$7:S856)))","v":""},"",{"$f":"IF(ISERROR(SMALL($U$7:$U$1504,ROWS(U$7:$U856))),\"\",SMALL($U$7:$U$1504,ROWS(U$7:$U856)))","v":""},"",{"$f":"IF(ISERROR(SMALL($W$7:$W$1504,ROWS($W$7:W856))),\"\",SMALL($W$7:$W$1504,ROWS($W$7:W856)))","v":""}]
[null,"Švenčionių r. sav.","Išgyvenusių 1 metus ir 1 dieną ir nepakeitusių statuso iš veikianti į kitą įmonių dalis tarp visų prieš metus įregistruotų įmonių | %",100,100,89.473684210526315,59.615384615384613,95,96.551724137931032,100,100,91.428571428571431,82.051282051282044,null,null,null,null,{"$f":"ROWS($R$7:R857)","v":851},"",{"$f":"IF(ISERROR(SMALL($S$7:$S$1504,ROWS($S$7:S857))),\"\",SMALL($S$7:$S$1504,ROWS($S$7:S857)))","v":""},"",{"$f":"IF(ISERROR(SMALL($U$7:$U$1504,ROWS(U$7:$U857))),\"\",SMALL($U$7:$U$1504,ROWS(U$7:$U857)))","v":""},"",{"$f":"IF(ISERROR(SMALL($W$7:$W$1504,ROWS($W$7:W857))),\"\",SMALL($W$7:$W$1504,ROWS($W$7:W857)))","v":""}]
[null,"Trakų r. sav.","Išgyvenusių 1 metus ir 1 dieną ir nepakeitusių statuso iš veikianti į kitą įmonių dalis tarp visų prieš metus įregistruotų įmonių | %",97.101449275362313,95.454545454545453,98.275862068965509,62.411347517730498,94.117647058823522,93.548387096774192,96.721311475409834,94.915254237288138,91.764705882352942,90.322580645161281,null,null,null,null,{"$f":"ROWS($R$7:R858)","v":852},"",{"$f":"IF(ISERROR(SMALL($S$7:$S$1504,ROWS($S$7:S858))),\"\",SMALL($S$7:$S$1504,ROWS($S$7:S858)))","v":""},"",{"$f":"IF(ISERROR(SMALL($U$7:$U$1504,ROWS(U$7:$U858))),\"\",SMALL($U$7:$U$1504,ROWS(U$7:$U858)))","v":""},"",{"$f":"IF(ISERROR(SMALL($W$7:$W$1504,ROWS($W$7:W858))),\"\",SMALL($W$7:$W$1504,ROWS($W$7:W858)))","v":""}]
[null,"Ukmergės r. sav.","Išgyvenusių 1 metus ir 1 dieną ir nepakeitusių statuso iš veikianti į kitą įmonių dalis tarp visų prieš metus įregistruotų įmonių | %",92.64705882352942,96.610169491525426,98.4375,89.473684210526315,96.296296296296291,95.744680851063833,98,94.285714285714278,96.296296296296291,93.220338983050837,null,null,null,null,{"$f":"ROWS($R$7:R859)","v":853},"",{"$f":"IF(ISERROR(SMALL($S$7:$S$1504,ROWS($S$7:S859))),\"\",SMALL($S$7:$S$1504,ROWS($S$7:S859)))","v":""},"",{"$f":"IF(ISERROR(SMALL($U$7:$U$1504,ROWS(U$7:$U859))),\"\",SMALL($U$7:$U$1504,ROWS(U$7:$U859)))","v":""},"",{"$f":"IF(ISERROR(SMALL($W$7:$W$1504,ROWS($W$7:W859))),\"\",SMALL($W$7:$W$1504,ROWS($W$7:W859)))","v":""}]
[null,"Vilniaus m. sav.","Išgyvenusių 1 metus ir 1 dieną ir nepakeitusių statuso iš veikianti į kitą įmonių dalis tarp visų prieš metus įregistruotų įmonių | %",49.793217535153019,47.542967804405713,41.387559808612437,26.652592690328543,24.542334096109837,24.891481280520889,33.73290302750884,36.958354409037263,23.920265780730897,21.068020929516774,null,null,null,null,{"$f":"ROWS($R$7:R860)","v":854},854,{"$f":"IF(ISERROR(SMALL($S$7:$S$1504,ROWS($S$7:S860))),\"\",SMALL($S$7:$S$1504,ROWS($S$7:S860)))","v":""},"",{"$f":"IF(ISERROR(SMALL($U$7:$U$1504,ROWS(U$7:$U860))),\"\",SMALL($U$7:$U$1504,ROWS(U$7:$U860)))","v":""},"",{"$f":"IF(ISERROR(SMALL($W$7:$W$1504,ROWS($W$7:W860))),\"\",SMALL($W$7:$W$1504,ROWS($W$7:W860)))","v":""}]
[null,"Vilniaus r. sav.","Išgyvenusių 1 metus ir 1 dieną ir nepakeitusių statuso iš veikianti į kitą įmonių dalis tarp visų prieš metus įregistruotų įmonių | %",91.428571428571431,91.881918819188186,93.290734824281145,74.270557029177724,80.466472303206999,79.466666666666669,90.874524714828894,88.050314465408803,80.254777070063696,70.967741935483872,null,null,null,null,{"$f":"ROWS($R$7:R861)","v":855},"",{"$f":"IF(ISERROR(SMALL($S$7:$S$1504,ROWS($S$7:S861))),\"\",SMALL($S$7:$S$1504,ROWS($S$7:S861)))","v":""},"",{"$f":"IF(ISERROR(SMALL($U$7:$U$1504,ROWS(U$7:$U861))),\"\",SMALL($U$7:$U$1504,ROWS(U$7:$U861)))","v":""},"",{"$f":"IF(ISERROR(SMALL($W$7:$W$1504,ROWS($W$7:W861))),\"\",SMALL($W$7:$W$1504,ROWS($W$7:W861)))","v":""}]
[null,"Lietuvos Respublika","Registruoti bedarbiai | tūkst.",312.10000000000002,247.2,216.9,201.3,173,158.19999999999999,144.864,139.61500000000001,148.24199999999999,144.898,216.18700000000001,225.22499999999999,157.34399999999999,null,{"$f":"ROWS($R$7:R862)","v":856},"",{"$f":"IF(ISERROR(SMALL($S$7:$S$1504,ROWS($S$7:S862))),\"\",SMALL($S$7:$S$1504,ROWS($S$7:S862)))","v":""},"",{"$f":"IF(ISERROR(SMALL($U$7:$U$1504,ROWS(U$7:$U862))),\"\",SMALL($U$7:$U$1504,ROWS(U$7:$U862)))","v":""},856,{"$f":"IF(ISERROR(SMALL($W$7:$W$1504,ROWS($W$7:W862))),\"\",SMALL($W$7:$W$1504,ROWS($W$7:W862)))","v":""}]
[null,"Alytaus apskritis","Registruoti bedarbiai | tūkst.",18.600000000000001,15.4,14,13.9,12.5,11.1,10.071999999999999,8.9969999999999999,8.7379999999999995,8.09,11.792,11.932,8.0129999999999999,null,{"$f":"ROWS($R$7:R863)","v":857},"",{"$f":"IF(ISERROR(SMALL($S$7:$S$1504,ROWS($S$7:S863))),\"\",SMALL($S$7:$S$1504,ROWS($S$7:S863)))","v":""},"",{"$f":"IF(ISERROR(SMALL($U$7:$U$1504,ROWS(U$7:$U863))),\"\",SMALL($U$7:$U$1504,ROWS(U$7:$U863)))","v":""},"",{"$f":"IF(ISERROR(SMALL($W$7:$W$1504,ROWS($W$7:W863))),\"\",SMALL($W$7:$W$1504,ROWS($W$7:W863)))","v":""}]
[null,"Alytaus m. sav.","Registruoti bedarbiai | tūkst.",7.5,5.9,5.4,5.2,4.5999999999999996,4,3.5630000000000002,3.1030000000000002,3.0350000000000001,2.9910000000000001,4.3209999999999997,4.0170000000000003,2.8610000000000002,null,{"$f":"ROWS($R$7:R864)","v":858},"",{"$f":"IF(ISERROR(SMALL($S$7:$S$1504,ROWS($S$7:S864))),\"\",SMALL($S$7:$S$1504,ROWS($S$7:S864)))","v":""},"",{"$f":"IF(ISERROR(SMALL($U$7:$U$1504,ROWS(U$7:$U864))),\"\",SMALL($U$7:$U$1504,ROWS(U$7:$U864)))","v":""},"",{"$f":"IF(ISERROR(SMALL($W$7:$W$1504,ROWS($W$7:W864))),\"\",SMALL($W$7:$W$1504,ROWS($W$7:W864)))","v":""}]
[null,"Alytaus r. sav.","Registruoti bedarbiai | tūkst.",3.4,3,3,3,2.7,2.4,2.0840000000000001,1.821,1.6579999999999999,1.4830000000000001,2.14,2.0779999999999998,1.417,null,{"$f":"ROWS($R$7:R865)","v":859},"",{"$f":"IF(ISERROR(SMALL($S$7:$S$1504,ROWS($S$7:S865))),\"\",SMALL($S$7:$S$1504,ROWS($S$7:S865)))","v":""},"",{"$f":"IF(ISERROR(SMALL($U$7:$U$1504,ROWS(U$7:$U865))),\"\",SMALL($U$7:$U$1504,ROWS(U$7:$U865)))","v":""},"",{"$f":"IF(ISERROR(SMALL($W$7:$W$1504,ROWS($W$7:W865))),\"\",SMALL($W$7:$W$1504,ROWS($W$7:W865)))","v":""}]
[null,"Druskininkų sav.","Registruoti bedarbiai | tūkst.",2.8,2.2000000000000002,1.7,1.7,1.5,1.3,1.2410000000000001,1.024,1.099,1.028,1.5960000000000001,1.841,1.266,null,{"$f":"ROWS($R$7:R866)","v":860},"",{"$f":"IF(ISERROR(SMALL($S$7:$S$1504,ROWS($S$7:S866))),\"\",SMALL($S$7:$S$1504,ROWS($S$7:S866)))","v":""},"",{"$f":"IF(ISERROR(SMALL($U$7:$U$1504,ROWS(U$7:$U866))),\"\",SMALL($U$7:$U$1504,ROWS(U$7:$U866)))","v":""},"",{"$f":"IF(ISERROR(SMALL($W$7:$W$1504,ROWS($W$7:W866))),\"\",SMALL($W$7:$W$1504,ROWS($W$7:W866)))","v":""}]
[null,"Lazdijų r. sav.","Registruoti bedarbiai | tūkst.",2.4,2.2000000000000002,2.2000000000000002,2.2999999999999998,2.1,1.9,1.8160000000000001,1.764,1.7030000000000001,1.4630000000000001,2.11,2.3719999999999999,1.4419999999999999,null,{"$f":"ROWS($R$7:R867)","v":861},"",{"$f":"IF(ISERROR(SMALL($S$7:$S$1504,ROWS($S$7:S867))),\"\",SMALL($S$7:$S$1504,ROWS($S$7:S867)))","v":""},"",{"$f":"IF(ISERROR(SMALL($U$7:$U$1504,ROWS(U$7:$U867))),\"\",SMALL($U$7:$U$1504,ROWS(U$7:$U867)))","v":""},"",{"$f":"IF(ISERROR(SMALL($W$7:$W$1504,ROWS($W$7:W867))),\"\",SMALL($W$7:$W$1504,ROWS($W$7:W867)))","v":""}]
[null,"Varėnos r. sav.","Registruoti bedarbiai | tūkst.",2.5,2.1,1.7,1.7,1.6,1.5,1.3680000000000001,1.2849999999999999,1.2430000000000001,1.125,1.625,1.6240000000000001,1.0269999999999999,null,{"$f":"ROWS($R$7:R868)","v":862},"",{"$f":"IF(ISERROR(SMALL($S$7:$S$1504,ROWS($S$7:S868))),\"\",SMALL($S$7:$S$1504,ROWS($S$7:S868)))","v":""},"",{"$f":"IF(ISERROR(SMALL($U$7:$U$1504,ROWS(U$7:$U868))),\"\",SMALL($U$7:$U$1504,ROWS(U$7:$U868)))","v":""},"",{"$f":"IF(ISERROR(SMALL($W$7:$W$1504,ROWS($W$7:W868))),\"\",SMALL($W$7:$W$1504,ROWS($W$7:W868)))","v":""}]
[null,"Kauno apskritis","Registruoti bedarbiai | tūkst.",55.9,45.5,39.700000000000003,36.299999999999997,30.6,27.2,25.216000000000001,26.114000000000001,29.698,30.187000000000001,44.85,47.058999999999997,33.438000000000002,null,{"$f":"ROWS($R$7:R869)","v":863},"",{"$f":"IF(ISERROR(SMALL($S$7:$S$1504,ROWS($S$7:S869))),\"\",SMALL($S$7:$S$1504,ROWS($S$7:S869)))","v":""},"",{"$f":"IF(ISERROR(SMALL($U$7:$U$1504,ROWS(U$7:$U869))),\"\",SMALL($U$7:$U$1504,ROWS(U$7:$U869)))","v":""},"",{"$f":"IF(ISERROR(SMALL($W$7:$W$1504,ROWS($W$7:W869))),\"\",SMALL($W$7:$W$1504,ROWS($W$7:W869)))","v":""}]
[null,"Birštono sav.","Registruoti bedarbiai | tūkst.",0.3,0.3,0.2,0.2,0.2,0.2,0.14599999999999999,0.11700000000000001,0.14699999999999999,0.155,0.21199999999999999,0.23400000000000001,0.14299999999999999,null,{"$f":"ROWS($R$7:R870)","v":864},"",{"$f":"IF(ISERROR(SMALL($S$7:$S$1504,ROWS($S$7:S870))),\"\",SMALL($S$7:$S$1504,ROWS($S$7:S870)))","v":""},"",{"$f":"IF(ISERROR(SMALL($U$7:$U$1504,ROWS(U$7:$U870))),\"\",SMALL($U$7:$U$1504,ROWS(U$7:$U870)))","v":""},"",{"$f":"IF(ISERROR(SMALL($W$7:$W$1504,ROWS($W$7:W870))),\"\",SMALL($W$7:$W$1504,ROWS($W$7:W870)))","v":""}]
[null,"Jonavos r. sav.","Registruoti bedarbiai | tūkst.",5,4.2,3.8,3.8,3.3,2.8,2.4910000000000001,2.4580000000000002,2.7480000000000002,2.8849999999999998,3.915,3.9209999999999998,2.9289999999999998,null,{"$f":"ROWS($R$7:R871)","v":865},"",{"$f":"IF(ISERROR(SMALL($S$7:$S$1504,ROWS($S$7:S871))),\"\",SMALL($S$7:$S$1504,ROWS($S$7:S871)))","v":""},"",{"$f":"IF(ISERROR(SMALL($U$7:$U$1504,ROWS(U$7:$U871))),\"\",SMALL($U$7:$U$1504,ROWS(U$7:$U871)))","v":""},"",{"$f":"IF(ISERROR(SMALL($W$7:$W$1504,ROWS($W$7:W871))),\"\",SMALL($W$7:$W$1504,ROWS($W$7:W871)))","v":""}]
[null,"Kaišiadorių r. sav.","Registruoti bedarbiai | tūkst.",3.3,2.9,2.2999999999999998,2.2000000000000002,1.7,1.5,1.415,1.4690000000000001,1.5680000000000001,1.55,2.1840000000000002,2.1579999999999999,1.613,null,{"$f":"ROWS($R$7:R872)","v":866},"",{"$f":"IF(ISERROR(SMALL($S$7:$S$1504,ROWS($S$7:S872))),\"\",SMALL($S$7:$S$1504,ROWS($S$7:S872)))","v":""},"",{"$f":"IF(ISERROR(SMALL($U$7:$U$1504,ROWS(U$7:$U872))),\"\",SMALL($U$7:$U$1504,ROWS(U$7:$U872)))","v":""},"",{"$f":"IF(ISERROR(SMALL($W$7:$W$1504,ROWS($W$7:W872))),\"\",SMALL($W$7:$W$1504,ROWS($W$7:W872)))","v":""}]
[null,"Kauno m. sav.","Registruoti bedarbiai | tūkst.",28.8,22.9,20.100000000000001,18.100000000000001,15.2,13.5,12.366,12.965999999999999,15.186999999999999,15.417,23.442,24.501000000000001,17.483000000000001,null,{"$f":"ROWS($R$7:R873)","v":867},"",{"$f":"IF(ISERROR(SMALL($S$7:$S$1504,ROWS($S$7:S873))),\"\",SMALL($S$7:$S$1504,ROWS($S$7:S873)))","v":""},"",{"$f":"IF(ISERROR(SMALL($U$7:$U$1504,ROWS(U$7:$U873))),\"\",SMALL($U$7:$U$1504,ROWS(U$7:$U873)))","v":""},"",{"$f":"IF(ISERROR(SMALL($W$7:$W$1504,ROWS($W$7:W873))),\"\",SMALL($W$7:$W$1504,ROWS($W$7:W873)))","v":""}]
[null,"Kauno r. sav.","Registruoti bedarbiai | tūkst.",7.5,6.4,5.6,5.0999999999999996,4.3,3.7,3.5859999999999999,3.8260000000000001,4.3860000000000001,4.6660000000000004,6.9349999999999996,7.75,5.6429999999999998,null,{"$f":"ROWS($R$7:R874)","v":868},"",{"$f":"IF(ISERROR(SMALL($S$7:$S$1504,ROWS($S$7:S874))),\"\",SMALL($S$7:$S$1504,ROWS($S$7:S874)))","v":""},"",{"$f":"IF(ISERROR(SMALL($U$7:$U$1504,ROWS(U$7:$U874))),\"\",SMALL($U$7:$U$1504,ROWS(U$7:$U874)))","v":""},"",{"$f":"IF(ISERROR(SMALL($W$7:$W$1504,ROWS($W$7:W874))),\"\",SMALL($W$7:$W$1504,ROWS($W$7:W874)))","v":""}]
[null,"Kėdainių r. sav.","Registruoti bedarbiai | tūkst.",4.7,3.7,3.1,2.9,2.5,2.2999999999999998,2.2109999999999999,2.3109999999999999,2.5510000000000002,2.5299999999999998,3.7090000000000001,3.992,2.609,null,{"$f":"ROWS($R$7:R875)","v":869},"",{"$f":"IF(ISERROR(SMALL($S$7:$S$1504,ROWS($S$7:S875))),\"\",SMALL($S$7:$S$1504,ROWS($S$7:S875)))","v":""},"",{"$f":"IF(ISERROR(SMALL($U$7:$U$1504,ROWS(U$7:$U875))),\"\",SMALL($U$7:$U$1504,ROWS(U$7:$U875)))","v":""},"",{"$f":"IF(ISERROR(SMALL($W$7:$W$1504,ROWS($W$7:W875))),\"\",SMALL($W$7:$W$1504,ROWS($W$7:W875)))","v":""}]
[null,"Prienų r. sav.","Registruoti bedarbiai | tūkst.",2.7,2.2000000000000002,1.9,1.6,1.4,1.2,1.139,1.157,1.244,1.1950000000000001,1.7549999999999999,1.7729999999999999,1.1140000000000001,null,{"$f":"ROWS($R$7:R876)","v":870},"",{"$f":"IF(ISERROR(SMALL($S$7:$S$1504,ROWS($S$7:S876))),\"\",SMALL($S$7:$S$1504,ROWS($S$7:S876)))","v":""},"",{"$f":"IF(ISERROR(SMALL($U$7:$U$1504,ROWS(U$7:$U876))),\"\",SMALL($U$7:$U$1504,ROWS(U$7:$U876)))","v":""},"",{"$f":"IF(ISERROR(SMALL($W$7:$W$1504,ROWS($W$7:W876))),\"\",SMALL($W$7:$W$1504,ROWS($W$7:W876)))","v":""}]
[null,"Raseinių r. sav.","Registruoti bedarbiai | tūkst.",3.6,2.9,2.7,2.4,2,2,1.8620000000000001,1.81,1.867,1.7889999999999999,2.698,2.73,1.9039999999999999,null,{"$f":"ROWS($R$7:R877)","v":871},"",{"$f":"IF(ISERROR(SMALL($S$7:$S$1504,ROWS($S$7:S877))),\"\",SMALL($S$7:$S$1504,ROWS($S$7:S877)))","v":""},"",{"$f":"IF(ISERROR(SMALL($U$7:$U$1504,ROWS(U$7:$U877))),\"\",SMALL($U$7:$U$1504,ROWS(U$7:$U877)))","v":""},"",{"$f":"IF(ISERROR(SMALL($W$7:$W$1504,ROWS($W$7:W877))),\"\",SMALL($W$7:$W$1504,ROWS($W$7:W877)))","v":""}]
[null,"Klaipėdos apskritis","Registruoti bedarbiai | tūkst.",34.1,26,21.4,19.399999999999999,16.600000000000001,16.100000000000001,14.079000000000001,13.101000000000001,13.664999999999999,12.721,20.722999999999999,22.611999999999998,14.795999999999999,null,{"$f":"ROWS($R$7:R878)","v":872},"",{"$f":"IF(ISERROR(SMALL($S$7:$S$1504,ROWS($S$7:S878))),\"\",SMALL($S$7:$S$1504,ROWS($S$7:S878)))","v":""},"",{"$f":"IF(ISERROR(SMALL($U$7:$U$1504,ROWS(U$7:$U878))),\"\",SMALL($U$7:$U$1504,ROWS(U$7:$U878)))","v":""},"",{"$f":"IF(ISERROR(SMALL($W$7:$W$1504,ROWS($W$7:W878))),\"\",SMALL($W$7:$W$1504,ROWS($W$7:W878)))","v":""}]
[null,"Klaipėdos m. sav.","Registruoti bedarbiai | tūkst.",16.7,11.9,9.3000000000000007,8.3000000000000007,7.2,7,6.0330000000000004,5.9710000000000001,6.58,6.351,10.38,11.664999999999999,7.9779999999999998,null,{"$f":"ROWS($R$7:R879)","v":873},"",{"$f":"IF(ISERROR(SMALL($S$7:$S$1504,ROWS($S$7:S879))),\"\",SMALL($S$7:$S$1504,ROWS($S$7:S879)))","v":""},"",{"$f":"IF(ISERROR(SMALL($U$7:$U$1504,ROWS(U$7:$U879))),\"\",SMALL($U$7:$U$1504,ROWS(U$7:$U879)))","v":""},"",{"$f":"IF(ISERROR(SMALL($W$7:$W$1504,ROWS($W$7:W879))),\"\",SMALL($W$7:$W$1504,ROWS($W$7:W879)))","v":""}]
[null,"Klaipėdos r. sav.","Registruoti bedarbiai | tūkst.",4.5999999999999996,3.5,2.9,2.6,2.4,2.2999999999999998,2.028,1.895,2.1619999999999999,1.7569999999999999,2.7570000000000001,3.0939999999999999,1.865,null,{"$f":"ROWS($R$7:R880)","v":874},"",{"$f":"IF(ISERROR(SMALL($S$7:$S$1504,ROWS($S$7:S880))),\"\",SMALL($S$7:$S$1504,ROWS($S$7:S880)))","v":""},"",{"$f":"IF(ISERROR(SMALL($U$7:$U$1504,ROWS(U$7:$U880))),\"\",SMALL($U$7:$U$1504,ROWS(U$7:$U880)))","v":""},"",{"$f":"IF(ISERROR(SMALL($W$7:$W$1504,ROWS($W$7:W880))),\"\",SMALL($W$7:$W$1504,ROWS($W$7:W880)))","v":""}]
[null,"Kretingos r. sav.","Registruoti bedarbiai | tūkst.",4,3,2.2999999999999998,1.9,1.3,1.3,1.1859999999999999,0.98599999999999999,1.08,1.171,2.048,2.2989999999999999,1.327,null,{"$f":"ROWS($R$7:R881)","v":875},"",{"$f":"IF(ISERROR(SMALL($S$7:$S$1504,ROWS($S$7:S881))),\"\",SMALL($S$7:$S$1504,ROWS($S$7:S881)))","v":""},"",{"$f":"IF(ISERROR(SMALL($U$7:$U$1504,ROWS(U$7:$U881))),\"\",SMALL($U$7:$U$1504,ROWS(U$7:$U881)))","v":""},"",{"$f":"IF(ISERROR(SMALL($W$7:$W$1504,ROWS($W$7:W881))),\"\",SMALL($W$7:$W$1504,ROWS($W$7:W881)))","v":""}]
[null,"Neringos sav.","Registruoti bedarbiai | tūkst.",0.1,0.1,0.1,0.1,0.1,0.1,0.107,9.5000000000000001E-2,9.8000000000000004E-2,9.4E-2,0.122,0.161,0.124,null,{"$f":"ROWS($R$7:R882)","v":876},"",{"$f":"IF(ISERROR(SMALL($S$7:$S$1504,ROWS($S$7:S882))),\"\",SMALL($S$7:$S$1504,ROWS($S$7:S882)))","v":""},"",{"$f":"IF(ISERROR(SMALL($U$7:$U$1504,ROWS(U$7:$U882))),\"\",SMALL($U$7:$U$1504,ROWS(U$7:$U882)))","v":""},"",{"$f":"IF(ISERROR(SMALL($W$7:$W$1504,ROWS($W$7:W882))),\"\",SMALL($W$7:$W$1504,ROWS($W$7:W882)))","v":""}]
[null,"Palangos m. sav.","Registruoti bedarbiai | tūkst.",1.7,1.2,1,0.9,0.8,0.8,0.73599999999999999,0.69699999999999995,0.752,0.72,1.117,1.1819999999999999,0.97599999999999998,null,{"$f":"ROWS($R$7:R883)","v":877},"",{"$f":"IF(ISERROR(SMALL($S$7:$S$1504,ROWS($S$7:S883))),\"\",SMALL($S$7:$S$1504,ROWS($S$7:S883)))","v":""},"",{"$f":"IF(ISERROR(SMALL($U$7:$U$1504,ROWS(U$7:$U883))),\"\",SMALL($U$7:$U$1504,ROWS(U$7:$U883)))","v":""},"",{"$f":"IF(ISERROR(SMALL($W$7:$W$1504,ROWS($W$7:W883))),\"\",SMALL($W$7:$W$1504,ROWS($W$7:W883)))","v":""}]
[null,"Skuodo r. sav.","Registruoti bedarbiai | tūkst.",2.1,1.9,1.7,1.8,1.4,1.3,0.875,0.63500000000000001,0.625,0.55600000000000005,0.99099999999999999,0.99299999999999999,0.58299999999999996,null,{"$f":"ROWS($R$7:R884)","v":878},"",{"$f":"IF(ISERROR(SMALL($S$7:$S$1504,ROWS($S$7:S884))),\"\",SMALL($S$7:$S$1504,ROWS($S$7:S884)))","v":""},"",{"$f":"IF(ISERROR(SMALL($U$7:$U$1504,ROWS(U$7:$U884))),\"\",SMALL($U$7:$U$1504,ROWS(U$7:$U884)))","v":""},"",{"$f":"IF(ISERROR(SMALL($W$7:$W$1504,ROWS($W$7:W884))),\"\",SMALL($W$7:$W$1504,ROWS($W$7:W884)))","v":""}]
[null,"Šilutės r. sav.","Registruoti bedarbiai | tūkst.",4.9000000000000004,4.4000000000000004,4.0999999999999996,3.8,3.4,3.3,3.1139999999999999,2.8220000000000001,2.3679999999999999,2.0720000000000001,3.3079999999999998,3.218,1.9430000000000001,null,{"$f":"ROWS($R$7:R885)","v":879},"",{"$f":"IF(ISERROR(SMALL($S$7:$S$1504,ROWS($S$7:S885))),\"\",SMALL($S$7:$S$1504,ROWS($S$7:S885)))","v":""},"",{"$f":"IF(ISERROR(SMALL($U$7:$U$1504,ROWS(U$7:$U885))),\"\",SMALL($U$7:$U$1504,ROWS(U$7:$U885)))","v":""},"",{"$f":"IF(ISERROR(SMALL($W$7:$W$1504,ROWS($W$7:W885))),\"\",SMALL($W$7:$W$1504,ROWS($W$7:W885)))","v":""}]
[null,"Marijampolės apskritis","Registruoti bedarbiai | tūkst.",14.9,12.6,11.9,11.7,10.4,9.6999999999999993,8.8279999999999994,7.87,7.7859999999999996,7.6219999999999999,11.583,11.991,8.4459999999999997,null,{"$f":"ROWS($R$7:R886)","v":880},"",{"$f":"IF(ISERROR(SMALL($S$7:$S$1504,ROWS($S$7:S886))),\"\",SMALL($S$7:$S$1504,ROWS($S$7:S886)))","v":""},"",{"$f":"IF(ISERROR(SMALL($U$7:$U$1504,ROWS(U$7:$U886))),\"\",SMALL($U$7:$U$1504,ROWS(U$7:$U886)))","v":""},"",{"$f":"IF(ISERROR(SMALL($W$7:$W$1504,ROWS($W$7:W886))),\"\",SMALL($W$7:$W$1504,ROWS($W$7:W886)))","v":""}]
[null,"Kalvarijos sav.","Registruoti bedarbiai | tūkst.",1.4,1.2,1.2,1.2,1.1000000000000001,1,1.008,0.92800000000000005,0.91200000000000003,0.85399999999999998,1.1299999999999999,1.1240000000000001,0.86,null,{"$f":"ROWS($R$7:R887)","v":881},"",{"$f":"IF(ISERROR(SMALL($S$7:$S$1504,ROWS($S$7:S887))),\"\",SMALL($S$7:$S$1504,ROWS($S$7:S887)))","v":""},"",{"$f":"IF(ISERROR(SMALL($U$7:$U$1504,ROWS(U$7:$U887))),\"\",SMALL($U$7:$U$1504,ROWS(U$7:$U887)))","v":""},"",{"$f":"IF(ISERROR(SMALL($W$7:$W$1504,ROWS($W$7:W887))),\"\",SMALL($W$7:$W$1504,ROWS($W$7:W887)))","v":""}]
[null,"Kazlų Rūdos sav.","Registruoti bedarbiai | tūkst.",1.1000000000000001,1,1.1000000000000001,1.2,1,0.9,0.84599999999999997,0.82199999999999995,0.79400000000000004,0.78700000000000003,1.0960000000000001,1.147,0.84599999999999997,null,{"$f":"ROWS($R$7:R888)","v":882},"",{"$f":"IF(ISERROR(SMALL($S$7:$S$1504,ROWS($S$7:S888))),\"\",SMALL($S$7:$S$1504,ROWS($S$7:S888)))","v":""},"",{"$f":"IF(ISERROR(SMALL($U$7:$U$1504,ROWS(U$7:$U888))),\"\",SMALL($U$7:$U$1504,ROWS(U$7:$U888)))","v":""},"",{"$f":"IF(ISERROR(SMALL($W$7:$W$1504,ROWS($W$7:W888))),\"\",SMALL($W$7:$W$1504,ROWS($W$7:W888)))","v":""}]
[null,"Marijampolės sav.","Registruoti bedarbiai | tūkst.",5.7,4.4000000000000004,3.8,3.7,3.2,3.1,2.891,2.6339999999999999,2.597,2.6269999999999998,4.1520000000000001,4.1550000000000002,2.8660000000000001,null,{"$f":"ROWS($R$7:R889)","v":883},"",{"$f":"IF(ISERROR(SMALL($S$7:$S$1504,ROWS($S$7:S889))),\"\",SMALL($S$7:$S$1504,ROWS($S$7:S889)))","v":""},"",{"$f":"IF(ISERROR(SMALL($U$7:$U$1504,ROWS(U$7:$U889))),\"\",SMALL($U$7:$U$1504,ROWS(U$7:$U889)))","v":""},"",{"$f":"IF(ISERROR(SMALL($W$7:$W$1504,ROWS($W$7:W889))),\"\",SMALL($W$7:$W$1504,ROWS($W$7:W889)))","v":""}]
[null,"Šakių r. sav.","Registruoti bedarbiai | tūkst.",2.8,2.5,2.5,2.4,2.1,2,1.742,1.385,1.3380000000000001,1.298,1.8859999999999999,1.9319999999999999,1.3680000000000001,null,{"$f":"ROWS($R$7:R890)","v":884},"",{"$f":"IF(ISERROR(SMALL($S$7:$S$1504,ROWS($S$7:S890))),\"\",SMALL($S$7:$S$1504,ROWS($S$7:S890)))","v":""},"",{"$f":"IF(ISERROR(SMALL($U$7:$U$1504,ROWS(U$7:$U890))),\"\",SMALL($U$7:$U$1504,ROWS(U$7:$U890)))","v":""},"",{"$f":"IF(ISERROR(SMALL($W$7:$W$1504,ROWS($W$7:W890))),\"\",SMALL($W$7:$W$1504,ROWS($W$7:W890)))","v":""}]
[null,"Vilkaviškio r. sav.","Registruoti bedarbiai | tūkst.",3.9,3.5,3.3,3.2,3,2.7,2.3410000000000002,2.101,2.145,2.056,3.319,3.633,2.5059999999999998,null,{"$f":"ROWS($R$7:R891)","v":885},"",{"$f":"IF(ISERROR(SMALL($S$7:$S$1504,ROWS($S$7:S891))),\"\",SMALL($S$7:$S$1504,ROWS($S$7:S891)))","v":""},"",{"$f":"IF(ISERROR(SMALL($U$7:$U$1504,ROWS(U$7:$U891))),\"\",SMALL($U$7:$U$1504,ROWS(U$7:$U891)))","v":""},"",{"$f":"IF(ISERROR(SMALL($W$7:$W$1504,ROWS($W$7:W891))),\"\",SMALL($W$7:$W$1504,ROWS($W$7:W891)))","v":""}]
[null,"Panevėžio apskritis","Registruoti bedarbiai | tūkst.",28.4,22.4,19.8,17.899999999999999,16.3,14.7,12.965,12.343999999999999,12.521000000000001,11.808999999999999,17.856999999999999,17.864000000000001,12.032,null,{"$f":"ROWS($R$7:R892)","v":886},"",{"$f":"IF(ISERROR(SMALL($S$7:$S$1504,ROWS($S$7:S892))),\"\",SMALL($S$7:$S$1504,ROWS($S$7:S892)))","v":""},"",{"$f":"IF(ISERROR(SMALL($U$7:$U$1504,ROWS(U$7:$U892))),\"\",SMALL($U$7:$U$1504,ROWS(U$7:$U892)))","v":""},"",{"$f":"IF(ISERROR(SMALL($W$7:$W$1504,ROWS($W$7:W892))),\"\",SMALL($W$7:$W$1504,ROWS($W$7:W892)))","v":""}]
[null,"Biržų r. sav.","Registruoti bedarbiai | tūkst.",2.5,2,1.8,1.7,1.6,1.6,1.3340000000000001,1.403,1.5129999999999999,1.45,2.0550000000000002,2.0640000000000001,1.3979999999999999,null,{"$f":"ROWS($R$7:R893)","v":887},"",{"$f":"IF(ISERROR(SMALL($S$7:$S$1504,ROWS($S$7:S893))),\"\",SMALL($S$7:$S$1504,ROWS($S$7:S893)))","v":""},"",{"$f":"IF(ISERROR(SMALL($U$7:$U$1504,ROWS(U$7:$U893))),\"\",SMALL($U$7:$U$1504,ROWS(U$7:$U893)))","v":""},"",{"$f":"IF(ISERROR(SMALL($W$7:$W$1504,ROWS($W$7:W893))),\"\",SMALL($W$7:$W$1504,ROWS($W$7:W893)))","v":""}]
[null,"Kupiškio r. sav.","Registruoti bedarbiai | tūkst.",2.2999999999999998,1.8,1.8,1.8,1.6,1.4,1.35,1.347,1.3280000000000001,1.012,1.294,1.3069999999999999,0.92200000000000004,null,{"$f":"ROWS($R$7:R894)","v":888},"",{"$f":"IF(ISERROR(SMALL($S$7:$S$1504,ROWS($S$7:S894))),\"\",SMALL($S$7:$S$1504,ROWS($S$7:S894)))","v":""},"",{"$f":"IF(ISERROR(SMALL($U$7:$U$1504,ROWS(U$7:$U894))),\"\",SMALL($U$7:$U$1504,ROWS(U$7:$U894)))","v":""},"",{"$f":"IF(ISERROR(SMALL($W$7:$W$1504,ROWS($W$7:W894))),\"\",SMALL($W$7:$W$1504,ROWS($W$7:W894)))","v":""}]
[null,"Panevėžio m. sav.","Registruoti bedarbiai | tūkst.",12.1,9.1999999999999993,7.7,6.6,6,5,4.2839999999999998,3.9009999999999998,3.8929999999999998,3.8460000000000001,6.5609999999999999,6.6059999999999999,4.4160000000000004,null,{"$f":"ROWS($R$7:R895)","v":889},"",{"$f":"IF(ISERROR(SMALL($S$7:$S$1504,ROWS($S$7:S895))),\"\",SMALL($S$7:$S$1504,ROWS($S$7:S895)))","v":""},"",{"$f":"IF(ISERROR(SMALL($U$7:$U$1504,ROWS(U$7:$U895))),\"\",SMALL($U$7:$U$1504,ROWS(U$7:$U895)))","v":""},"",{"$f":"IF(ISERROR(SMALL($W$7:$W$1504,ROWS($W$7:W895))),\"\",SMALL($W$7:$W$1504,ROWS($W$7:W895)))","v":""}]
[null,"Panevėžio r. sav.","Registruoti bedarbiai | tūkst.",4.7,3.8,3.3,2.8,2.5,2.2000000000000002,1.972,1.869,1.905,1.8759999999999999,2.8490000000000002,3.016,1.863,null,{"$f":"ROWS($R$7:R896)","v":890},"",{"$f":"IF(ISERROR(SMALL($S$7:$S$1504,ROWS($S$7:S896))),\"\",SMALL($S$7:$S$1504,ROWS($S$7:S896)))","v":""},"",{"$f":"IF(ISERROR(SMALL($U$7:$U$1504,ROWS(U$7:$U896))),\"\",SMALL($U$7:$U$1504,ROWS(U$7:$U896)))","v":""},"",{"$f":"IF(ISERROR(SMALL($W$7:$W$1504,ROWS($W$7:W896))),\"\",SMALL($W$7:$W$1504,ROWS($W$7:W896)))","v":""}]
[null,"Pasvalio r. sav.","Registruoti bedarbiai | tūkst.",3.2,2.8,2.6,2.4,2.2000000000000002,2.1,1.8779999999999999,1.6890000000000001,1.6539999999999999,1.542,2.129,1.9830000000000001,1.36,null,{"$f":"ROWS($R$7:R897)","v":891},"",{"$f":"IF(ISERROR(SMALL($S$7:$S$1504,ROWS($S$7:S897))),\"\",SMALL($S$7:$S$1504,ROWS($S$7:S897)))","v":""},"",{"$f":"IF(ISERROR(SMALL($U$7:$U$1504,ROWS(U$7:$U897))),\"\",SMALL($U$7:$U$1504,ROWS(U$7:$U897)))","v":""},"",{"$f":"IF(ISERROR(SMALL($W$7:$W$1504,ROWS($W$7:W897))),\"\",SMALL($W$7:$W$1504,ROWS($W$7:W897)))","v":""}]
[null,"Rokiškio r. sav.","Registruoti bedarbiai | tūkst.",3.6,2.8,2.6,2.6,2.4,2.4,2.1469999999999998,2.1349999999999998,2.2280000000000002,2.0830000000000002,2.9689999999999999,2.8879999999999999,2.073,null,{"$f":"ROWS($R$7:R898)","v":892},"",{"$f":"IF(ISERROR(SMALL($S$7:$S$1504,ROWS($S$7:S898))),\"\",SMALL($S$7:$S$1504,ROWS($S$7:S898)))","v":""},"",{"$f":"IF(ISERROR(SMALL($U$7:$U$1504,ROWS(U$7:$U898))),\"\",SMALL($U$7:$U$1504,ROWS(U$7:$U898)))","v":""},"",{"$f":"IF(ISERROR(SMALL($W$7:$W$1504,ROWS($W$7:W898))),\"\",SMALL($W$7:$W$1504,ROWS($W$7:W898)))","v":""}]
[null,"Šiaulių apskritis","Registruoti bedarbiai | tūkst.",30.5,23.9,21.3,20.399999999999999,17,15.6,14.673,14.02,14.503,14.241,20.067,20.204000000000001,14.212,null,{"$f":"ROWS($R$7:R899)","v":893},"",{"$f":"IF(ISERROR(SMALL($S$7:$S$1504,ROWS($S$7:S899))),\"\",SMALL($S$7:$S$1504,ROWS($S$7:S899)))","v":""},"",{"$f":"IF(ISERROR(SMALL($U$7:$U$1504,ROWS(U$7:$U899))),\"\",SMALL($U$7:$U$1504,ROWS(U$7:$U899)))","v":""},"",{"$f":"IF(ISERROR(SMALL($W$7:$W$1504,ROWS($W$7:W899))),\"\",SMALL($W$7:$W$1504,ROWS($W$7:W899)))","v":""}]
[null,"Akmenės r. sav.","Registruoti bedarbiai | tūkst.",3,2.4,2.2000000000000002,2.1,1.9,1.7,1.6850000000000001,1.4730000000000001,1.444,1.3640000000000001,1.7509999999999999,1.7210000000000001,1.526,null,{"$f":"ROWS($R$7:R900)","v":894},"",{"$f":"IF(ISERROR(SMALL($S$7:$S$1504,ROWS($S$7:S900))),\"\",SMALL($S$7:$S$1504,ROWS($S$7:S900)))","v":""},"",{"$f":"IF(ISERROR(SMALL($U$7:$U$1504,ROWS(U$7:$U900))),\"\",SMALL($U$7:$U$1504,ROWS(U$7:$U900)))","v":""},"",{"$f":"IF(ISERROR(SMALL($W$7:$W$1504,ROWS($W$7:W900))),\"\",SMALL($W$7:$W$1504,ROWS($W$7:W900)))","v":""}]
[null,"Joniškio r. sav.","Registruoti bedarbiai | tūkst.",2.8,2.4,2.1,2.2000000000000002,1.8,1.7,1.585,1.581,1.6439999999999999,1.504,1.873,1.8169999999999999,1.0980000000000001,null,{"$f":"ROWS($R$7:R901)","v":895},"",{"$f":"IF(ISERROR(SMALL($S$7:$S$1504,ROWS($S$7:S901))),\"\",SMALL($S$7:$S$1504,ROWS($S$7:S901)))","v":""},"",{"$f":"IF(ISERROR(SMALL($U$7:$U$1504,ROWS(U$7:$U901))),\"\",SMALL($U$7:$U$1504,ROWS(U$7:$U901)))","v":""},"",{"$f":"IF(ISERROR(SMALL($W$7:$W$1504,ROWS($W$7:W901))),\"\",SMALL($W$7:$W$1504,ROWS($W$7:W901)))","v":""}]
[null,"Kelmės r. sav.","Registruoti bedarbiai | tūkst.",4.0999999999999996,3.4,3.3,3.2,2.7,2.5,2.3260000000000001,2.2269999999999999,2.2759999999999998,1.998,2.6280000000000001,2.448,1.65,null,{"$f":"ROWS($R$7:R902)","v":896},"",{"$f":"IF(ISERROR(SMALL($S$7:$S$1504,ROWS($S$7:S902))),\"\",SMALL($S$7:$S$1504,ROWS($S$7:S902)))","v":""},"",{"$f":"IF(ISERROR(SMALL($U$7:$U$1504,ROWS(U$7:$U902))),\"\",SMALL($U$7:$U$1504,ROWS(U$7:$U902)))","v":""},"",{"$f":"IF(ISERROR(SMALL($W$7:$W$1504,ROWS($W$7:W902))),\"\",SMALL($W$7:$W$1504,ROWS($W$7:W902)))","v":""}]
[null,"Pakruojo r. sav.","Registruoti bedarbiai | tūkst.",2,1.6,1.5,1.6,1.3,1.2,1.1419999999999999,1.0860000000000001,1.0269999999999999,0.92100000000000004,1.1950000000000001,1.2290000000000001,0.94199999999999995,null,{"$f":"ROWS($R$7:R903)","v":897},{"$f":"IF(ISNUMBER(SEARCH($R$3,B903)),R903,\"\")","v":""},{"$f":"IF(ISERROR(SMALL($S$7:$S$1504,ROWS($S$7:S903))),\"\",SMALL($S$7:$S$1504,ROWS($S$7:S903)))","v":""},{"$f":"IF($R$4=B903,R903,\"\")","v":""},{"$f":"IF(ISERROR(SMALL($U$7:$U$1504,ROWS(U$7:$U903))),\"\",SMALL($U$7:$U$1504,ROWS(U$7:$U903)))","v":""},{"$f":"IF(\"Lietuvos Respublika\"=B903,R903,\"\")","v":""},{"$f":"IF(ISERROR(SMALL($W$7:$W$1504,ROWS($W$7:W903))),\"\",SMALL($W$7:$W$1504,ROWS($W$7:W903)))","v":""}]
[null,"Radviliškio r. sav.","Registruoti bedarbiai | tūkst.",3.9,3.3,3.1,3,2.7,2.6,2.4830000000000001,2.3069999999999999,2.25,2.2759999999999998,3.137,3.0950000000000002,2.0699999999999998,null,{"$f":"ROWS($R$7:R904)","v":898},"",{"$f":"IF(ISERROR(SMALL($S$7:$S$1504,ROWS($S$7:S904))),\"\",SMALL($S$7:$S$1504,ROWS($S$7:S904)))","v":""},"",{"$f":"IF(ISERROR(SMALL($U$7:$U$1504,ROWS(U$7:$U904))),\"\",SMALL($U$7:$U$1504,ROWS(U$7:$U904)))","v":""},"",{"$f":"IF(ISERROR(SMALL($W$7:$W$1504,ROWS($W$7:W904))),\"\",SMALL($W$7:$W$1504,ROWS($W$7:W904)))","v":""}]
[null,"Šiaulių m. sav.","Registruoti bedarbiai | tūkst.",10.4,7.4,6.1,5.4,4.2,3.8,3.403,3.3530000000000002,3.6429999999999998,3.7610000000000001,6.1159999999999997,6.4210000000000003,4.5350000000000001,null,{"$f":"ROWS($R$7:R905)","v":899},"",{"$f":"IF(ISERROR(SMALL($S$7:$S$1504,ROWS($S$7:S905))),\"\",SMALL($S$7:$S$1504,ROWS($S$7:S905)))","v":""},"",{"$f":"IF(ISERROR(SMALL($U$7:$U$1504,ROWS(U$7:$U905))),\"\",SMALL($U$7:$U$1504,ROWS(U$7:$U905)))","v":""},"",{"$f":"IF(ISERROR(SMALL($W$7:$W$1504,ROWS($W$7:W905))),\"\",SMALL($W$7:$W$1504,ROWS($W$7:W905)))","v":""}]
[null,"Šiaulių r. sav.","Registruoti bedarbiai | tūkst.",4.3,3.4,3,2.9,2.4,2.1,2.0489999999999999,1.9930000000000001,2.2189999999999999,2.4169999999999998,3.367,3.4729999999999999,2.391,null,{"$f":"ROWS($R$7:R906)","v":900},"",{"$f":"IF(ISERROR(SMALL($S$7:$S$1504,ROWS($S$7:S906))),\"\",SMALL($S$7:$S$1504,ROWS($S$7:S906)))","v":""},"",{"$f":"IF(ISERROR(SMALL($U$7:$U$1504,ROWS(U$7:$U906))),\"\",SMALL($U$7:$U$1504,ROWS(U$7:$U906)))","v":""},"",{"$f":"IF(ISERROR(SMALL($W$7:$W$1504,ROWS($W$7:W906))),\"\",SMALL($W$7:$W$1504,ROWS($W$7:W906)))","v":""}]
[null,"Tauragės apskritis","Registruoti bedarbiai | tūkst.",12,9.5,9.1,8.8000000000000007,8,7.3,6.6360000000000001,6.03,5.9039999999999999,5.16,7.7069999999999999,7.8339999999999996,4.9909999999999997,null,{"$f":"ROWS($R$7:R907)","v":901},"",{"$f":"IF(ISERROR(SMALL($S$7:$S$1504,ROWS($S$7:S907))),\"\",SMALL($S$7:$S$1504,ROWS($S$7:S907)))","v":""},"",{"$f":"IF(ISERROR(SMALL($U$7:$U$1504,ROWS(U$7:$U907))),\"\",SMALL($U$7:$U$1504,ROWS(U$7:$U907)))","v":""},"",{"$f":"IF(ISERROR(SMALL($W$7:$W$1504,ROWS($W$7:W907))),\"\",SMALL($W$7:$W$1504,ROWS($W$7:W907)))","v":""}]
[null,"Jurbarko r. sav.","Registruoti bedarbiai | tūkst.",3.5,2.8,2.9,2.8,2.7,2.5,2.2189999999999999,2.1469999999999998,2.1840000000000002,1.83,2.42,2.4649999999999999,1.704,null,{"$f":"ROWS($R$7:R908)","v":902},"",{"$f":"IF(ISERROR(SMALL($S$7:$S$1504,ROWS($S$7:S908))),\"\",SMALL($S$7:$S$1504,ROWS($S$7:S908)))","v":""},"",{"$f":"IF(ISERROR(SMALL($U$7:$U$1504,ROWS(U$7:$U908))),\"\",SMALL($U$7:$U$1504,ROWS(U$7:$U908)))","v":""},"",{"$f":"IF(ISERROR(SMALL($W$7:$W$1504,ROWS($W$7:W908))),\"\",SMALL($W$7:$W$1504,ROWS($W$7:W908)))","v":""}]
[null,"Pagėgių sav.","Registruoti bedarbiai | tūkst.",1,0.8,0.7,0.7,0.6,0.6,0.53,0.47299999999999998,0.44500000000000001,0.38200000000000001,0.58299999999999996,0.55100000000000005,0.34899999999999998,null,{"$f":"ROWS($R$7:R909)","v":903},"",{"$f":"IF(ISERROR(SMALL($S$7:$S$1504,ROWS($S$7:S909))),\"\",SMALL($S$7:$S$1504,ROWS($S$7:S909)))","v":""},"",{"$f":"IF(ISERROR(SMALL($U$7:$U$1504,ROWS(U$7:$U909))),\"\",SMALL($U$7:$U$1504,ROWS(U$7:$U909)))","v":""},"",{"$f":"IF(ISERROR(SMALL($W$7:$W$1504,ROWS($W$7:W909))),\"\",SMALL($W$7:$W$1504,ROWS($W$7:W909)))","v":""}]
[null,"Šilalės r. sav.","Registruoti bedarbiai | tūkst.",2.8,1.8,1.5,1.4,1.3,1.2,1.149,0.999,0.96599999999999997,0.97799999999999998,1.7130000000000001,1.8380000000000001,1.0209999999999999,null,{"$f":"ROWS($R$7:R910)","v":904},"",{"$f":"IF(ISERROR(SMALL($S$7:$S$1504,ROWS($S$7:S910))),\"\",SMALL($S$7:$S$1504,ROWS($S$7:S910)))","v":""},"",{"$f":"IF(ISERROR(SMALL($U$7:$U$1504,ROWS(U$7:$U910))),\"\",SMALL($U$7:$U$1504,ROWS(U$7:$U910)))","v":""},"",{"$f":"IF(ISERROR(SMALL($W$7:$W$1504,ROWS($W$7:W910))),\"\",SMALL($W$7:$W$1504,ROWS($W$7:W910)))","v":""}]
[null,"Tauragės r. sav.","Registruoti bedarbiai | tūkst.",4.7,4.0999999999999996,4,3.9,3.4,3,2.738,2.411,2.3090000000000002,1.97,2.9910000000000001,2.98,1.917,null,{"$f":"ROWS($R$7:R911)","v":905},"",{"$f":"IF(ISERROR(SMALL($S$7:$S$1504,ROWS($S$7:S911))),\"\",SMALL($S$7:$S$1504,ROWS($S$7:S911)))","v":""},"",{"$f":"IF(ISERROR(SMALL($U$7:$U$1504,ROWS(U$7:$U911))),\"\",SMALL($U$7:$U$1504,ROWS(U$7:$U911)))","v":""},"",{"$f":"IF(ISERROR(SMALL($W$7:$W$1504,ROWS($W$7:W911))),\"\",SMALL($W$7:$W$1504,ROWS($W$7:W911)))","v":""}]
[null,"Telšių apskritis","Registruoti bedarbiai | tūkst.",19,14.8,13.2,12.1,10,8.6,7.6840000000000002,7.1189999999999998,7.4329999999999998,7.07,10.695,10.736000000000001,7.2210000000000001,null,{"$f":"ROWS($R$7:R912)","v":906},"",{"$f":"IF(ISERROR(SMALL($S$7:$S$1504,ROWS($S$7:S912))),\"\",SMALL($S$7:$S$1504,ROWS($S$7:S912)))","v":""},"",{"$f":"IF(ISERROR(SMALL($U$7:$U$1504,ROWS(U$7:$U912))),\"\",SMALL($U$7:$U$1504,ROWS(U$7:$U912)))","v":""},"",{"$f":"IF(ISERROR(SMALL($W$7:$W$1504,ROWS($W$7:W912))),\"\",SMALL($W$7:$W$1504,ROWS($W$7:W912)))","v":""}]
[null,"Mažeikių r. sav.","Registruoti bedarbiai | tūkst.",8.4,7,6.3,5.8,5,4.3,3.839,3.5750000000000002,3.6829999999999998,3.3639999999999999,4.4400000000000004,4.3849999999999998,3.1190000000000002,null,{"$f":"ROWS($R$7:R913)","v":907},"",{"$f":"IF(ISERROR(SMALL($S$7:$S$1504,ROWS($S$7:S913))),\"\",SMALL($S$7:$S$1504,ROWS($S$7:S913)))","v":""},"",{"$f":"IF(ISERROR(SMALL($U$7:$U$1504,ROWS(U$7:$U913))),\"\",SMALL($U$7:$U$1504,ROWS(U$7:$U913)))","v":""},"",{"$f":"IF(ISERROR(SMALL($W$7:$W$1504,ROWS($W$7:W913))),\"\",SMALL($W$7:$W$1504,ROWS($W$7:W913)))","v":""}]
[null,"Plungės r. sav.","Registruoti bedarbiai | tūkst.",4.0999999999999996,3,2.6,2.4,1.9,1.8,1.573,1.4039999999999999,1.482,1.474,2.5099999999999998,2.62,1.6859999999999999,null,{"$f":"ROWS($R$7:R914)","v":908},"",{"$f":"IF(ISERROR(SMALL($S$7:$S$1504,ROWS($S$7:S914))),\"\",SMALL($S$7:$S$1504,ROWS($S$7:S914)))","v":""},"",{"$f":"IF(ISERROR(SMALL($U$7:$U$1504,ROWS(U$7:$U914))),\"\",SMALL($U$7:$U$1504,ROWS(U$7:$U914)))","v":""},"",{"$f":"IF(ISERROR(SMALL($W$7:$W$1504,ROWS($W$7:W914))),\"\",SMALL($W$7:$W$1504,ROWS($W$7:W914)))","v":""}]
[null,"Rietavo sav.","Registruoti bedarbiai | tūkst.",0.9,0.7,0.6,0.5,0.4,0.4,0.34,0.314,0.34599999999999997,0.32100000000000001,0.52900000000000003,0.54100000000000004,0.39400000000000002,null,{"$f":"ROWS($R$7:R915)","v":909},"",{"$f":"IF(ISERROR(SMALL($S$7:$S$1504,ROWS($S$7:S915))),\"\",SMALL($S$7:$S$1504,ROWS($S$7:S915)))","v":""},"",{"$f":"IF(ISERROR(SMALL($U$7:$U$1504,ROWS(U$7:$U915))),\"\",SMALL($U$7:$U$1504,ROWS(U$7:$U915)))","v":""},"",{"$f":"IF(ISERROR(SMALL($W$7:$W$1504,ROWS($W$7:W915))),\"\",SMALL($W$7:$W$1504,ROWS($W$7:W915)))","v":""}]
[null,"Telšių r. sav.","Registruoti bedarbiai | tūkst.",5.6,4.0999999999999996,3.7,3.4,2.7,2.1,1.9319999999999999,1.8260000000000001,1.9219999999999999,1.911,3.2160000000000002,3.19,2.0219999999999998,null,{"$f":"ROWS($R$7:R916)","v":910},"",{"$f":"IF(ISERROR(SMALL($S$7:$S$1504,ROWS($S$7:S916))),\"\",SMALL($S$7:$S$1504,ROWS($S$7:S916)))","v":""},"",{"$f":"IF(ISERROR(SMALL($U$7:$U$1504,ROWS(U$7:$U916))),\"\",SMALL($U$7:$U$1504,ROWS(U$7:$U916)))","v":""},"",{"$f":"IF(ISERROR(SMALL($W$7:$W$1504,ROWS($W$7:W916))),\"\",SMALL($W$7:$W$1504,ROWS($W$7:W916)))","v":""}]
[null,"Utenos apskritis","Registruoti bedarbiai | tūkst.",16.8,14.9,13.6,12.9,11.1,10.5,9.9169999999999998,9.484,9.3819999999999997,8.9269999999999996,11.318,11.44,8.2089999999999996,null,{"$f":"ROWS($R$7:R917)","v":911},"",{"$f":"IF(ISERROR(SMALL($S$7:$S$1504,ROWS($S$7:S917))),\"\",SMALL($S$7:$S$1504,ROWS($S$7:S917)))","v":""},"",{"$f":"IF(ISERROR(SMALL($U$7:$U$1504,ROWS(U$7:$U917))),\"\",SMALL($U$7:$U$1504,ROWS(U$7:$U917)))","v":""},"",{"$f":"IF(ISERROR(SMALL($W$7:$W$1504,ROWS($W$7:W917))),\"\",SMALL($W$7:$W$1504,ROWS($W$7:W917)))","v":""}]
[null,"Anykščių r. sav.","Registruoti bedarbiai | tūkst.",3.1,3.1,2.8,2.5,2,1.8,1.6379999999999999,1.617,1.581,1.639,2.1669999999999998,2.2389999999999999,1.605,null,{"$f":"ROWS($R$7:R918)","v":912},"",{"$f":"IF(ISERROR(SMALL($S$7:$S$1504,ROWS($S$7:S918))),\"\",SMALL($S$7:$S$1504,ROWS($S$7:S918)))","v":""},"",{"$f":"IF(ISERROR(SMALL($U$7:$U$1504,ROWS(U$7:$U918))),\"\",SMALL($U$7:$U$1504,ROWS(U$7:$U918)))","v":""},"",{"$f":"IF(ISERROR(SMALL($W$7:$W$1504,ROWS($W$7:W918))),\"\",SMALL($W$7:$W$1504,ROWS($W$7:W918)))","v":""}]
[null,"Ignalinos r. sav.","Registruoti bedarbiai | tūkst.",2.2000000000000002,2.1,1.9,1.9,1.7,1.6,1.4510000000000001,1.365,1.323,1.216,1.518,1.59,1.222,null,{"$f":"ROWS($R$7:R919)","v":913},"",{"$f":"IF(ISERROR(SMALL($S$7:$S$1504,ROWS($S$7:S919))),\"\",SMALL($S$7:$S$1504,ROWS($S$7:S919)))","v":""},"",{"$f":"IF(ISERROR(SMALL($U$7:$U$1504,ROWS(U$7:$U919))),\"\",SMALL($U$7:$U$1504,ROWS(U$7:$U919)))","v":""},"",{"$f":"IF(ISERROR(SMALL($W$7:$W$1504,ROWS($W$7:W919))),\"\",SMALL($W$7:$W$1504,ROWS($W$7:W919)))","v":""}]
[null,"Molėtų r. sav.","Registruoti bedarbiai | tūkst.",2.1,1.8,1.7,1.6,1.4,1.3,1.304,1.3129999999999999,1.268,1.272,1.5549999999999999,1.552,1.056,null,{"$f":"ROWS($R$7:R920)","v":914},"",{"$f":"IF(ISERROR(SMALL($S$7:$S$1504,ROWS($S$7:S920))),\"\",SMALL($S$7:$S$1504,ROWS($S$7:S920)))","v":""},"",{"$f":"IF(ISERROR(SMALL($U$7:$U$1504,ROWS(U$7:$U920))),\"\",SMALL($U$7:$U$1504,ROWS(U$7:$U920)))","v":""},"",{"$f":"IF(ISERROR(SMALL($W$7:$W$1504,ROWS($W$7:W920))),\"\",SMALL($W$7:$W$1504,ROWS($W$7:W920)))","v":""}]
[null,"Utenos r. sav.","Registruoti bedarbiai | tūkst.",4.5,3.5,3.2,3.1,2.6,2.5,2.488,2.2370000000000001,2.3220000000000001,2.1819999999999999,2.8580000000000001,2.8690000000000002,1.9330000000000001,null,{"$f":"ROWS($R$7:R921)","v":915},"",{"$f":"IF(ISERROR(SMALL($S$7:$S$1504,ROWS($S$7:S921))),\"\",SMALL($S$7:$S$1504,ROWS($S$7:S921)))","v":""},"",{"$f":"IF(ISERROR(SMALL($U$7:$U$1504,ROWS(U$7:$U921))),\"\",SMALL($U$7:$U$1504,ROWS(U$7:$U921)))","v":""},"",{"$f":"IF(ISERROR(SMALL($W$7:$W$1504,ROWS($W$7:W921))),\"\",SMALL($W$7:$W$1504,ROWS($W$7:W921)))","v":""}]
[null,"Visagino sav.","Registruoti bedarbiai | tūkst.",2.7,2.2999999999999998,2.1,2,1.8,1.8,1.649,1.597,1.4990000000000001,1.32,1.631,1.6040000000000001,1.218,null,{"$f":"ROWS($R$7:R922)","v":916},"",{"$f":"IF(ISERROR(SMALL($S$7:$S$1504,ROWS($S$7:S922))),\"\",SMALL($S$7:$S$1504,ROWS($S$7:S922)))","v":""},"",{"$f":"IF(ISERROR(SMALL($U$7:$U$1504,ROWS(U$7:$U922))),\"\",SMALL($U$7:$U$1504,ROWS(U$7:$U922)))","v":""},"",{"$f":"IF(ISERROR(SMALL($W$7:$W$1504,ROWS($W$7:W922))),\"\",SMALL($W$7:$W$1504,ROWS($W$7:W922)))","v":""}]
[null,"Zarasų r. sav.","Registruoti bedarbiai | tūkst.",2.2000000000000002,2.1,1.9,1.8,1.6,1.5,1.387,1.355,1.389,1.298,1.589,1.5860000000000001,1.175,null,{"$f":"ROWS($R$7:R923)","v":917},"",{"$f":"IF(ISERROR(SMALL($S$7:$S$1504,ROWS($S$7:S923))),\"\",SMALL($S$7:$S$1504,ROWS($S$7:S923)))","v":""},"",{"$f":"IF(ISERROR(SMALL($U$7:$U$1504,ROWS(U$7:$U923))),\"\",SMALL($U$7:$U$1504,ROWS(U$7:$U923)))","v":""},"",{"$f":"IF(ISERROR(SMALL($W$7:$W$1504,ROWS($W$7:W923))),\"\",SMALL($W$7:$W$1504,ROWS($W$7:W923)))","v":""}]
[null,"Vilniaus apskritis","Registruoti bedarbiai | tūkst.",81.900000000000006,62.2,52.9,47.9,40.5,37.4,34.793999999999997,34.536000000000001,38.612000000000002,39.070999999999998,59.594999999999999,63.552999999999997,45.985999999999997,null,{"$f":"ROWS($R$7:R924)","v":918},"",{"$f":"IF(ISERROR(SMALL($S$7:$S$1504,ROWS($S$7:S924))),\"\",SMALL($S$7:$S$1504,ROWS($S$7:S924)))","v":""},918,{"$f":"IF(ISERROR(SMALL($U$7:$U$1504,ROWS(U$7:$U924))),\"\",SMALL($U$7:$U$1504,ROWS(U$7:$U924)))","v":""},"",{"$f":"IF(ISERROR(SMALL($W$7:$W$1504,ROWS($W$7:W924))),\"\",SMALL($W$7:$W$1504,ROWS($W$7:W924)))","v":""}]
[null,"Elektrėnų sav.","Registruoti bedarbiai | tūkst.",2.1,1.6,1.4,1.4,0.9,0.8,0.72299999999999998,0.73299999999999998,0.86599999999999999,0.97399999999999998,1.68,1.869,1.1819999999999999,null,{"$f":"ROWS($R$7:R925)","v":919},"",{"$f":"IF(ISERROR(SMALL($S$7:$S$1504,ROWS($S$7:S925))),\"\",SMALL($S$7:$S$1504,ROWS($S$7:S925)))","v":""},"",{"$f":"IF(ISERROR(SMALL($U$7:$U$1504,ROWS(U$7:$U925))),\"\",SMALL($U$7:$U$1504,ROWS(U$7:$U925)))","v":""},"",{"$f":"IF(ISERROR(SMALL($W$7:$W$1504,ROWS($W$7:W925))),\"\",SMALL($W$7:$W$1504,ROWS($W$7:W925)))","v":""}]
[null,"Šalčininkų r. sav.","Registruoti bedarbiai | tūkst.",4.5999999999999996,3.5,3.1,2.8,2.4,2.2999999999999998,2.1890000000000001,1.766,1.7889999999999999,1.728,2.6240000000000001,2.6890000000000001,1.891,null,{"$f":"ROWS($R$7:R926)","v":920},"",{"$f":"IF(ISERROR(SMALL($S$7:$S$1504,ROWS($S$7:S926))),\"\",SMALL($S$7:$S$1504,ROWS($S$7:S926)))","v":""},"",{"$f":"IF(ISERROR(SMALL($U$7:$U$1504,ROWS(U$7:$U926))),\"\",SMALL($U$7:$U$1504,ROWS(U$7:$U926)))","v":""},"",{"$f":"IF(ISERROR(SMALL($W$7:$W$1504,ROWS($W$7:W926))),\"\",SMALL($W$7:$W$1504,ROWS($W$7:W926)))","v":""}]
[null,"Širvintų r. sav.","Registruoti bedarbiai | tūkst.",1.9,1.2,1.2,1.1000000000000001,0.9,0.8,0.80300000000000005,0.80300000000000005,0.85399999999999998,0.86599999999999999,1.341,1.2709999999999999,0.90200000000000002,null,{"$f":"ROWS($R$7:R927)","v":921},"",{"$f":"IF(ISERROR(SMALL($S$7:$S$1504,ROWS($S$7:S927))),\"\",SMALL($S$7:$S$1504,ROWS($S$7:S927)))","v":""},"",{"$f":"IF(ISERROR(SMALL($U$7:$U$1504,ROWS(U$7:$U927))),\"\",SMALL($U$7:$U$1504,ROWS(U$7:$U927)))","v":""},"",{"$f":"IF(ISERROR(SMALL($W$7:$W$1504,ROWS($W$7:W927))),\"\",SMALL($W$7:$W$1504,ROWS($W$7:W927)))","v":""}]
[null,"Švenčionių r. sav.","Registruoti bedarbiai | tūkst.",2.9,2.2999999999999998,1.9,1.8,1.6,1.4,1.4359999999999999,1.3779999999999999,1.4430000000000001,1.2430000000000001,1.5149999999999999,1.534,1.2749999999999999,null,{"$f":"ROWS($R$7:R928)","v":922},"",{"$f":"IF(ISERROR(SMALL($S$7:$S$1504,ROWS($S$7:S928))),\"\",SMALL($S$7:$S$1504,ROWS($S$7:S928)))","v":""},"",{"$f":"IF(ISERROR(SMALL($U$7:$U$1504,ROWS(U$7:$U928))),\"\",SMALL($U$7:$U$1504,ROWS(U$7:$U928)))","v":""},"",{"$f":"IF(ISERROR(SMALL($W$7:$W$1504,ROWS($W$7:W928))),\"\",SMALL($W$7:$W$1504,ROWS($W$7:W928)))","v":""}]
[null,"Trakų r. sav.","Registruoti bedarbiai | tūkst.",2.8,2.2000000000000002,1.9,1.6,1.3,1.1000000000000001,1.2070000000000001,1.2689999999999999,1.298,1.327,2.2749999999999999,2.6509999999999998,2.0499999999999998,null,{"$f":"ROWS($R$7:R929)","v":923},"",{"$f":"IF(ISERROR(SMALL($S$7:$S$1504,ROWS($S$7:S929))),\"\",SMALL($S$7:$S$1504,ROWS($S$7:S929)))","v":""},"",{"$f":"IF(ISERROR(SMALL($U$7:$U$1504,ROWS(U$7:$U929))),\"\",SMALL($U$7:$U$1504,ROWS(U$7:$U929)))","v":""},"",{"$f":"IF(ISERROR(SMALL($W$7:$W$1504,ROWS($W$7:W929))),\"\",SMALL($W$7:$W$1504,ROWS($W$7:W929)))","v":""}]
[null,"Ukmergės r. sav.","Registruoti bedarbiai | tūkst.",4.4000000000000004,3.4,3.2,3.3,2.9,2.7,2.4550000000000001,2.194,2.1120000000000001,2.1240000000000001,3.2949999999999999,2.9710000000000001,2.0550000000000002,null,{"$f":"ROWS($R$7:R930)","v":924},"",{"$f":"IF(ISERROR(SMALL($S$7:$S$1504,ROWS($S$7:S930))),\"\",SMALL($S$7:$S$1504,ROWS($S$7:S930)))","v":""},"",{"$f":"IF(ISERROR(SMALL($U$7:$U$1504,ROWS(U$7:$U930))),\"\",SMALL($U$7:$U$1504,ROWS(U$7:$U930)))","v":""},"",{"$f":"IF(ISERROR(SMALL($W$7:$W$1504,ROWS($W$7:W930))),\"\",SMALL($W$7:$W$1504,ROWS($W$7:W930)))","v":""}]
[null,"Vilniaus m. sav.","Registruoti bedarbiai | tūkst.",50.6,37.6,31.3,28.1,23.8,22.2,20.513999999999999,21.331,24.835999999999999,25.359000000000002,39.097000000000001,42.401000000000003,30.584,null,{"$f":"ROWS($R$7:R931)","v":925},925,{"$f":"IF(ISERROR(SMALL($S$7:$S$1504,ROWS($S$7:S931))),\"\",SMALL($S$7:$S$1504,ROWS($S$7:S931)))","v":""},"",{"$f":"IF(ISERROR(SMALL($U$7:$U$1504,ROWS(U$7:$U931))),\"\",SMALL($U$7:$U$1504,ROWS(U$7:$U931)))","v":""},"",{"$f":"IF(ISERROR(SMALL($W$7:$W$1504,ROWS($W$7:W931))),\"\",SMALL($W$7:$W$1504,ROWS($W$7:W931)))","v":""}]
[null,"Vilniaus r. sav.","Registruoti bedarbiai | tūkst.",12.6,10.4,8.9,7.8,6.7,6.1,5.4669999999999996,5.0620000000000003,5.4139999999999997,5.45,7.7679999999999998,8.1669999999999998,6.0469999999999997,null,{"$f":"ROWS($R$7:R932)","v":926},"",{"$f":"IF(ISERROR(SMALL($S$7:$S$1504,ROWS($S$7:S932))),\"\",SMALL($S$7:$S$1504,ROWS($S$7:S932)))","v":""},"",{"$f":"IF(ISERROR(SMALL($U$7:$U$1504,ROWS(U$7:$U932))),\"\",SMALL($U$7:$U$1504,ROWS(U$7:$U932)))","v":""},"",{"$f":"IF(ISERROR(SMALL($W$7:$W$1504,ROWS($W$7:W932))),\"\",SMALL($W$7:$W$1504,ROWS($W$7:W932)))","v":""}]
[null,"Lietuvos Respublika","Registruotų bedarbių ir darbingo amžiaus gyventojų santykis | %",15.9,13.1,11.7,10.9,9.5,8.6999999999999993,8.1,7.9,8.5,8.4,12.6,13,9,null,{"$f":"ROWS($R$7:R933)","v":927},"",{"$f":"IF(ISERROR(SMALL($S$7:$S$1504,ROWS($S$7:S933))),\"\",SMALL($S$7:$S$1504,ROWS($S$7:S933)))","v":""},"",{"$f":"IF(ISERROR(SMALL($U$7:$U$1504,ROWS(U$7:$U933))),\"\",SMALL($U$7:$U$1504,ROWS(U$7:$U933)))","v":""},927,{"$f":"IF(ISERROR(SMALL($W$7:$W$1504,ROWS($W$7:W933))),\"\",SMALL($W$7:$W$1504,ROWS($W$7:W933)))","v":""}]
[null,"Alytaus apskritis","Registruotų bedarbių ir darbingo amžiaus gyventojų santykis | %",18.5,16,14.9,15,13.7,12.3,11.3,10.4,10.4,9.8000000000000007,14.6,14.9,9.6999999999999993,null,{"$f":"ROWS($R$7:R934)","v":928},"",{"$f":"IF(ISERROR(SMALL($S$7:$S$1504,ROWS($S$7:S934))),\"\",SMALL($S$7:$S$1504,ROWS($S$7:S934)))","v":""},"",{"$f":"IF(ISERROR(SMALL($U$7:$U$1504,ROWS(U$7:$U934))),\"\",SMALL($U$7:$U$1504,ROWS(U$7:$U934)))","v":""},"",{"$f":"IF(ISERROR(SMALL($W$7:$W$1504,ROWS($W$7:W934))),\"\",SMALL($W$7:$W$1504,ROWS($W$7:W934)))","v":""}]
[null,"Alytaus m. sav.","Registruotų bedarbių ir darbingo amžiaus gyventojų santykis | %",17.899999999999999,15.3,14.4,14.2,12.9,11.4,10.3,9.3000000000000007,9.4,9.5,14.1,13.2,9.1,null,{"$f":"ROWS($R$7:R935)","v":929},"",{"$f":"IF(ISERROR(SMALL($S$7:$S$1504,ROWS($S$7:S935))),\"\",SMALL($S$7:$S$1504,ROWS($S$7:S935)))","v":""},"",{"$f":"IF(ISERROR(SMALL($U$7:$U$1504,ROWS(U$7:$U935))),\"\",SMALL($U$7:$U$1504,ROWS(U$7:$U935)))","v":""},"",{"$f":"IF(ISERROR(SMALL($W$7:$W$1504,ROWS($W$7:W935))),\"\",SMALL($W$7:$W$1504,ROWS($W$7:W935)))","v":""}]
[null,"Alytaus r. sav.","Registruotų bedarbių ir darbingo amžiaus gyventojų santykis | %",20.6,18.5,18.7,18.7,17.2,15.1,13.1,11.5,10.6,9.6,13.8,13.4,8.9,null,{"$f":"ROWS($R$7:R936)","v":930},"",{"$f":"IF(ISERROR(SMALL($S$7:$S$1504,ROWS($S$7:S936))),\"\",SMALL($S$7:$S$1504,ROWS($S$7:S936)))","v":""},"",{"$f":"IF(ISERROR(SMALL($U$7:$U$1504,ROWS(U$7:$U936))),\"\",SMALL($U$7:$U$1504,ROWS(U$7:$U936)))","v":""},"",{"$f":"IF(ISERROR(SMALL($W$7:$W$1504,ROWS($W$7:W936))),\"\",SMALL($W$7:$W$1504,ROWS($W$7:W936)))","v":""}]
[null,"Druskininkų sav.","Registruotų bedarbių ir darbingo amžiaus gyventojų santykis | %",19.8,16.100000000000001,13.2,12.8,11.6,10.4,9.9,8.4,9.3000000000000007,8.9,14,16.3,10.7,null,{"$f":"ROWS($R$7:R937)","v":931},"",{"$f":"IF(ISERROR(SMALL($S$7:$S$1504,ROWS($S$7:S937))),\"\",SMALL($S$7:$S$1504,ROWS($S$7:S937)))","v":""},"",{"$f":"IF(ISERROR(SMALL($U$7:$U$1504,ROWS(U$7:$U937))),\"\",SMALL($U$7:$U$1504,ROWS(U$7:$U937)))","v":""},"",{"$f":"IF(ISERROR(SMALL($W$7:$W$1504,ROWS($W$7:W937))),\"\",SMALL($W$7:$W$1504,ROWS($W$7:W937)))","v":""}]
[null,"Lazdijų r. sav.","Registruotų bedarbių ir darbingo amžiaus gyventojų santykis | %",18.399999999999999,17.5,17,17.8,16.7,15.4,15,14.9,14.9,13.1,19.3,22.1,13.1,null,{"$f":"ROWS($R$7:R938)","v":932},"",{"$f":"IF(ISERROR(SMALL($S$7:$S$1504,ROWS($S$7:S938))),\"\",SMALL($S$7:$S$1504,ROWS($S$7:S938)))","v":""},"",{"$f":"IF(ISERROR(SMALL($U$7:$U$1504,ROWS(U$7:$U938))),\"\",SMALL($U$7:$U$1504,ROWS(U$7:$U938)))","v":""},"",{"$f":"IF(ISERROR(SMALL($W$7:$W$1504,ROWS($W$7:W938))),\"\",SMALL($W$7:$W$1504,ROWS($W$7:W938)))","v":""}]
[null,"Varėnos r. sav.","Registruotų bedarbių ir darbingo amžiaus gyventojų santykis | %",17,14,12,12.2,11.1,10.5,10,9.6,9.5,8.9,13.1,13.3,8.1999999999999993,null,{"$f":"ROWS($R$7:R939)","v":933},"",{"$f":"IF(ISERROR(SMALL($S$7:$S$1504,ROWS($S$7:S939))),\"\",SMALL($S$7:$S$1504,ROWS($S$7:S939)))","v":""},"",{"$f":"IF(ISERROR(SMALL($U$7:$U$1504,ROWS(U$7:$U939))),\"\",SMALL($U$7:$U$1504,ROWS(U$7:$U939)))","v":""},"",{"$f":"IF(ISERROR(SMALL($W$7:$W$1504,ROWS($W$7:W939))),\"\",SMALL($W$7:$W$1504,ROWS($W$7:W939)))","v":""}]
[null,"Kauno apskritis","Registruotų bedarbių ir darbingo amžiaus gyventojų santykis | %",14.3,12.2,10.8,10,8.5,7.6,7.1,7.4,8.6,8.8000000000000007,13,13.5,9.5,null,{"$f":"ROWS($R$7:R940)","v":934},"",{"$f":"IF(ISERROR(SMALL($S$7:$S$1504,ROWS($S$7:S940))),\"\",SMALL($S$7:$S$1504,ROWS($S$7:S940)))","v":""},"",{"$f":"IF(ISERROR(SMALL($U$7:$U$1504,ROWS(U$7:$U940))),\"\",SMALL($U$7:$U$1504,ROWS(U$7:$U940)))","v":""},"",{"$f":"IF(ISERROR(SMALL($W$7:$W$1504,ROWS($W$7:W940))),\"\",SMALL($W$7:$W$1504,ROWS($W$7:W940)))","v":""}]
[null,"Birštono sav.","Registruotų bedarbių ir darbingo amžiaus gyventojų santykis | %",12,10,9.1999999999999993,9.1999999999999993,7.8,7.4,5.6,4.5999999999999996,6,6.4,8.9,9.9,6,null,{"$f":"ROWS($R$7:R941)","v":935},"",{"$f":"IF(ISERROR(SMALL($S$7:$S$1504,ROWS($S$7:S941))),\"\",SMALL($S$7:$S$1504,ROWS($S$7:S941)))","v":""},"",{"$f":"IF(ISERROR(SMALL($U$7:$U$1504,ROWS(U$7:$U941))),\"\",SMALL($U$7:$U$1504,ROWS(U$7:$U941)))","v":""},"",{"$f":"IF(ISERROR(SMALL($W$7:$W$1504,ROWS($W$7:W941))),\"\",SMALL($W$7:$W$1504,ROWS($W$7:W941)))","v":""}]
[null,"Jonavos r. sav.","Registruotų bedarbių ir darbingo amžiaus gyventojų santykis | %",16.600000000000001,14.5,13.7,13.9,12.1,10.3,9.4,9.4,10.7,11.4,15.6,15.7,11.5,null,{"$f":"ROWS($R$7:R942)","v":936},"",{"$f":"IF(ISERROR(SMALL($S$7:$S$1504,ROWS($S$7:S942))),\"\",SMALL($S$7:$S$1504,ROWS($S$7:S942)))","v":""},"",{"$f":"IF(ISERROR(SMALL($U$7:$U$1504,ROWS(U$7:$U942))),\"\",SMALL($U$7:$U$1504,ROWS(U$7:$U942)))","v":""},"",{"$f":"IF(ISERROR(SMALL($W$7:$W$1504,ROWS($W$7:W942))),\"\",SMALL($W$7:$W$1504,ROWS($W$7:W942)))","v":""}]
[null,"Kaišiadorių r. sav.","Registruotų bedarbių ir darbingo amžiaus gyventojų santykis | %",15.6,13.9,11.2,10.7,8.3000000000000007,7.5,7,7.4,8.1,8.1,11.6,11.6,8.5,null,{"$f":"ROWS($R$7:R943)","v":937},"",{"$f":"IF(ISERROR(SMALL($S$7:$S$1504,ROWS($S$7:S943))),\"\",SMALL($S$7:$S$1504,ROWS($S$7:S943)))","v":""},"",{"$f":"IF(ISERROR(SMALL($U$7:$U$1504,ROWS(U$7:$U943))),\"\",SMALL($U$7:$U$1504,ROWS(U$7:$U943)))","v":""},"",{"$f":"IF(ISERROR(SMALL($W$7:$W$1504,ROWS($W$7:W943))),\"\",SMALL($W$7:$W$1504,ROWS($W$7:W943)))","v":""}]
[null,"Kauno m. sav.","Registruotų bedarbių ir darbingo amžiaus gyventojų santykis | %",13.9,11.7,10.6,9.6,8.1999999999999993,7.3,6.7,7.2,8.6,8.8000000000000007,13.3,13.7,9.6999999999999993,null,{"$f":"ROWS($R$7:R944)","v":938},"",{"$f":"IF(ISERROR(SMALL($S$7:$S$1504,ROWS($S$7:S944))),\"\",SMALL($S$7:$S$1504,ROWS($S$7:S944)))","v":""},"",{"$f":"IF(ISERROR(SMALL($U$7:$U$1504,ROWS(U$7:$U944))),\"\",SMALL($U$7:$U$1504,ROWS(U$7:$U944)))","v":""},"",{"$f":"IF(ISERROR(SMALL($W$7:$W$1504,ROWS($W$7:W944))),\"\",SMALL($W$7:$W$1504,ROWS($W$7:W944)))","v":""}]
[null,"Kauno r. sav.","Registruotų bedarbių ir darbingo amžiaus gyventojų santykis | %",13.6,11.9,10.3,9.5,7.7,6.6,6.3,6.6,7.4,7.7,11.1,12.2,9,null,{"$f":"ROWS($R$7:R945)","v":939},"",{"$f":"IF(ISERROR(SMALL($S$7:$S$1504,ROWS($S$7:S945))),\"\",SMALL($S$7:$S$1504,ROWS($S$7:S945)))","v":""},"",{"$f":"IF(ISERROR(SMALL($U$7:$U$1504,ROWS(U$7:$U945))),\"\",SMALL($U$7:$U$1504,ROWS(U$7:$U945)))","v":""},"",{"$f":"IF(ISERROR(SMALL($W$7:$W$1504,ROWS($W$7:W945))),\"\",SMALL($W$7:$W$1504,ROWS($W$7:W945)))","v":""}]
[null,"Kėdainių r. sav.","Registruotų bedarbių ir darbingo amžiaus gyventojų santykis | %",13.8,11.4,10,9.4,8.3000000000000007,7.7,7.5,8,9.1,9.1999999999999993,13.7,14.9,9.4,null,{"$f":"ROWS($R$7:R946)","v":940},"",{"$f":"IF(ISERROR(SMALL($S$7:$S$1504,ROWS($S$7:S946))),\"\",SMALL($S$7:$S$1504,ROWS($S$7:S946)))","v":""},"",{"$f":"IF(ISERROR(SMALL($U$7:$U$1504,ROWS(U$7:$U946))),\"\",SMALL($U$7:$U$1504,ROWS(U$7:$U946)))","v":""},"",{"$f":"IF(ISERROR(SMALL($W$7:$W$1504,ROWS($W$7:W946))),\"\",SMALL($W$7:$W$1504,ROWS($W$7:W946)))","v":""}]
[null,"Prienų r. sav.","Registruotų bedarbių ir darbingo amžiaus gyventojų santykis | %",14.9,12.5,10.8,9.1999999999999993,8.1,7.1,6.8,7.1,7.8,7.6,11.4,11.6,7.3,null,{"$f":"ROWS($R$7:R947)","v":941},"",{"$f":"IF(ISERROR(SMALL($S$7:$S$1504,ROWS($S$7:S947))),\"\",SMALL($S$7:$S$1504,ROWS($S$7:S947)))","v":""},"",{"$f":"IF(ISERROR(SMALL($U$7:$U$1504,ROWS(U$7:$U947))),\"\",SMALL($U$7:$U$1504,ROWS(U$7:$U947)))","v":""},"",{"$f":"IF(ISERROR(SMALL($W$7:$W$1504,ROWS($W$7:W947))),\"\",SMALL($W$7:$W$1504,ROWS($W$7:W947)))","v":""}]
[null,"Raseinių r. sav.","Registruotų bedarbių ir darbingo amžiaus gyventojų santykis | %",15.9,12.9,12.3,11,9.6,9.1999999999999993,9,8.9,9.5,9.3000000000000007,14.3,14.7,10.1,null,{"$f":"ROWS($R$7:R948)","v":942},"",{"$f":"IF(ISERROR(SMALL($S$7:$S$1504,ROWS($S$7:S948))),\"\",SMALL($S$7:$S$1504,ROWS($S$7:S948)))","v":""},"",{"$f":"IF(ISERROR(SMALL($U$7:$U$1504,ROWS(U$7:$U948))),\"\",SMALL($U$7:$U$1504,ROWS(U$7:$U948)))","v":""},"",{"$f":"IF(ISERROR(SMALL($W$7:$W$1504,ROWS($W$7:W948))),\"\",SMALL($W$7:$W$1504,ROWS($W$7:W948)))","v":""}]
[null,"Klaipėdos apskritis","Registruotų bedarbių ir darbingo amžiaus gyventojų santykis | %",15.3,12.3,10.4,9.4,8.1,7.9,7,6.6,7,6.5,10.6,11.5,7.4,null,{"$f":"ROWS($R$7:R949)","v":943},"",{"$f":"IF(ISERROR(SMALL($S$7:$S$1504,ROWS($S$7:S949))),\"\",SMALL($S$7:$S$1504,ROWS($S$7:S949)))","v":""},"",{"$f":"IF(ISERROR(SMALL($U$7:$U$1504,ROWS(U$7:$U949))),\"\",SMALL($U$7:$U$1504,ROWS(U$7:$U949)))","v":""},"",{"$f":"IF(ISERROR(SMALL($W$7:$W$1504,ROWS($W$7:W949))),\"\",SMALL($W$7:$W$1504,ROWS($W$7:W949)))","v":""}]
[null,"Klaipėdos m. sav.","Registruotų bedarbių ir darbingo amžiaus gyventojų santykis | %",15.2,11.6,9.3000000000000007,8.4,7.4,7.2,6.4,6.4,7.3,7.1,11.6,12.9,8.8000000000000007,null,{"$f":"ROWS($R$7:R950)","v":944},"",{"$f":"IF(ISERROR(SMALL($S$7:$S$1504,ROWS($S$7:S950))),\"\",SMALL($S$7:$S$1504,ROWS($S$7:S950)))","v":""},"",{"$f":"IF(ISERROR(SMALL($U$7:$U$1504,ROWS(U$7:$U950))),\"\",SMALL($U$7:$U$1504,ROWS(U$7:$U950)))","v":""},"",{"$f":"IF(ISERROR(SMALL($W$7:$W$1504,ROWS($W$7:W950))),\"\",SMALL($W$7:$W$1504,ROWS($W$7:W950)))","v":""}]
[null,"Klaipėdos r. sav.","Registruotų bedarbių ir darbingo amžiaus gyventojų santykis | %",14.1,10.8,9,8.1,7.2,6.8,6,5.4,6,4.7,7.1,7.7,4.7,null,{"$f":"ROWS($R$7:R951)","v":945},"",{"$f":"IF(ISERROR(SMALL($S$7:$S$1504,ROWS($S$7:S951))),\"\",SMALL($S$7:$S$1504,ROWS($S$7:S951)))","v":""},"",{"$f":"IF(ISERROR(SMALL($U$7:$U$1504,ROWS(U$7:$U951))),\"\",SMALL($U$7:$U$1504,ROWS(U$7:$U951)))","v":""},"",{"$f":"IF(ISERROR(SMALL($W$7:$W$1504,ROWS($W$7:W951))),\"\",SMALL($W$7:$W$1504,ROWS($W$7:W951)))","v":""}]
[null,"Kretingos r. sav.","Registruotų bedarbių ir darbingo amžiaus gyventojų santykis | %",15.5,11.9,9.5,7.8,5.3,5.2,4.9000000000000004,4.0999999999999996,4.5999999999999996,5.0999999999999996,9,10.1,5.7,null,{"$f":"ROWS($R$7:R952)","v":946},"",{"$f":"IF(ISERROR(SMALL($S$7:$S$1504,ROWS($S$7:S952))),\"\",SMALL($S$7:$S$1504,ROWS($S$7:S952)))","v":""},"",{"$f":"IF(ISERROR(SMALL($U$7:$U$1504,ROWS(U$7:$U952))),\"\",SMALL($U$7:$U$1504,ROWS(U$7:$U952)))","v":""},"",{"$f":"IF(ISERROR(SMALL($W$7:$W$1504,ROWS($W$7:W952))),\"\",SMALL($W$7:$W$1504,ROWS($W$7:W952)))","v":""}]
[null,"Neringos sav.","Registruotų bedarbių ir darbingo amžiaus gyventojų santykis | %",7.9,6.7,5.2,5.8,5.2,6,5.3,4.5999999999999996,4.5999999999999996,4.0999999999999996,5,6.5,4.5999999999999996,null,{"$f":"ROWS($R$7:R953)","v":947},"",{"$f":"IF(ISERROR(SMALL($S$7:$S$1504,ROWS($S$7:S953))),\"\",SMALL($S$7:$S$1504,ROWS($S$7:S953)))","v":""},"",{"$f":"IF(ISERROR(SMALL($U$7:$U$1504,ROWS(U$7:$U953))),\"\",SMALL($U$7:$U$1504,ROWS(U$7:$U953)))","v":""},"",{"$f":"IF(ISERROR(SMALL($W$7:$W$1504,ROWS($W$7:W953))),\"\",SMALL($W$7:$W$1504,ROWS($W$7:W953)))","v":""}]
[null,"Palangos m. sav.","Registruotų bedarbių ir darbingo amžiaus gyventojų santykis | %",16.8,12.5,10.5,9.8000000000000007,8.6,9,8,7.6,8.3000000000000007,7.9,12.1,12.6,9.9,null,{"$f":"ROWS($R$7:R954)","v":948},"",{"$f":"IF(ISERROR(SMALL($S$7:$S$1504,ROWS($S$7:S954))),\"\",SMALL($S$7:$S$1504,ROWS($S$7:S954)))","v":""},"",{"$f":"IF(ISERROR(SMALL($U$7:$U$1504,ROWS(U$7:$U954))),\"\",SMALL($U$7:$U$1504,ROWS(U$7:$U954)))","v":""},"",{"$f":"IF(ISERROR(SMALL($W$7:$W$1504,ROWS($W$7:W954))),\"\",SMALL($W$7:$W$1504,ROWS($W$7:W954)))","v":""}]
[null,"Skuodo r. sav.","Registruotų bedarbių ir darbingo amžiaus gyventojų santykis | %",16.600000000000001,15.5,14.4,15,12.5,12.1,8,6,6.2,5.7,10.6,10.9,6.2,null,{"$f":"ROWS($R$7:R955)","v":949},"",{"$f":"IF(ISERROR(SMALL($S$7:$S$1504,ROWS($S$7:S955))),\"\",SMALL($S$7:$S$1504,ROWS($S$7:S955)))","v":""},"",{"$f":"IF(ISERROR(SMALL($U$7:$U$1504,ROWS(U$7:$U955))),\"\",SMALL($U$7:$U$1504,ROWS(U$7:$U955)))","v":""},"",{"$f":"IF(ISERROR(SMALL($W$7:$W$1504,ROWS($W$7:W955))),\"\",SMALL($W$7:$W$1504,ROWS($W$7:W955)))","v":""}]
[null,"Šilutės r. sav.","Registruotų bedarbių ir darbingo amžiaus gyventojų santykis | %",16.3,15.6,15.2,14,13,12.5,12.2,11.4,9.9,8.9,14.5,14.3,8.3000000000000007,null,{"$f":"ROWS($R$7:R956)","v":950},"",{"$f":"IF(ISERROR(SMALL($S$7:$S$1504,ROWS($S$7:S956))),\"\",SMALL($S$7:$S$1504,ROWS($S$7:S956)))","v":""},"",{"$f":"IF(ISERROR(SMALL($U$7:$U$1504,ROWS(U$7:$U956))),\"\",SMALL($U$7:$U$1504,ROWS(U$7:$U956)))","v":""},"",{"$f":"IF(ISERROR(SMALL($W$7:$W$1504,ROWS($W$7:W956))),\"\",SMALL($W$7:$W$1504,ROWS($W$7:W956)))","v":""}]
[null,"Marijampolės apskritis","Registruotų bedarbių ir darbingo amžiaus gyventojų santykis | %",14.7,12.9,12.3,12.3,11,10.3,9.6,8.6999999999999993,8.9,8.9,13.8,14.4,10,null,{"$f":"ROWS($R$7:R957)","v":951},"",{"$f":"IF(ISERROR(SMALL($S$7:$S$1504,ROWS($S$7:S957))),\"\",SMALL($S$7:$S$1504,ROWS($S$7:S957)))","v":""},"",{"$f":"IF(ISERROR(SMALL($U$7:$U$1504,ROWS(U$7:$U957))),\"\",SMALL($U$7:$U$1504,ROWS(U$7:$U957)))","v":""},"",{"$f":"IF(ISERROR(SMALL($W$7:$W$1504,ROWS($W$7:W957))),\"\",SMALL($W$7:$W$1504,ROWS($W$7:W957)))","v":""}]
[null,"Kalvarijos sav.","Registruotų bedarbių ir darbingo amžiaus gyventojų santykis | %",18.600000000000001,16.5,16.5,17.600000000000001,15.4,14.6,14.6,13.7,13.8,13.3,18,18.100000000000001,13.7,null,{"$f":"ROWS($R$7:R958)","v":952},"",{"$f":"IF(ISERROR(SMALL($S$7:$S$1504,ROWS($S$7:S958))),\"\",SMALL($S$7:$S$1504,ROWS($S$7:S958)))","v":""},"",{"$f":"IF(ISERROR(SMALL($U$7:$U$1504,ROWS(U$7:$U958))),\"\",SMALL($U$7:$U$1504,ROWS(U$7:$U958)))","v":""},"",{"$f":"IF(ISERROR(SMALL($W$7:$W$1504,ROWS($W$7:W958))),\"\",SMALL($W$7:$W$1504,ROWS($W$7:W958)))","v":""}]
[null,"Kazlų Rūdos sav.","Registruotų bedarbių ir darbingo amžiaus gyventojų santykis | %",12.8,12.9,14,15.4,12.7,11.4,11.4,11.2,11.2,11.4,16.100000000000001,16.899999999999999,12.4,null,{"$f":"ROWS($R$7:R959)","v":953},"",{"$f":"IF(ISERROR(SMALL($S$7:$S$1504,ROWS($S$7:S959))),\"\",SMALL($S$7:$S$1504,ROWS($S$7:S959)))","v":""},"",{"$f":"IF(ISERROR(SMALL($U$7:$U$1504,ROWS(U$7:$U959))),\"\",SMALL($U$7:$U$1504,ROWS(U$7:$U959)))","v":""},"",{"$f":"IF(ISERROR(SMALL($W$7:$W$1504,ROWS($W$7:W959))),\"\",SMALL($W$7:$W$1504,ROWS($W$7:W959)))","v":""}]
[null,"Marijampolės sav.","Registruotų bedarbių ir darbingo amžiaus gyventojų santykis | %",14.3,11.4,10.1,9.8000000000000007,8.6,8.3000000000000007,8,7.5,7.5,7.8,12.4,12.4,8.4,null,{"$f":"ROWS($R$7:R960)","v":954},"",{"$f":"IF(ISERROR(SMALL($S$7:$S$1504,ROWS($S$7:S960))),\"\",SMALL($S$7:$S$1504,ROWS($S$7:S960)))","v":""},"",{"$f":"IF(ISERROR(SMALL($U$7:$U$1504,ROWS(U$7:$U960))),\"\",SMALL($U$7:$U$1504,ROWS(U$7:$U960)))","v":""},"",{"$f":"IF(ISERROR(SMALL($W$7:$W$1504,ROWS($W$7:W960))),\"\",SMALL($W$7:$W$1504,ROWS($W$7:W960)))","v":""}]
[null,"Šakių r. sav.","Registruotų bedarbių ir darbingo amžiaus gyventojų santykis | %",14.3,12.9,13,12.7,11.5,10.7,9.6,7.8,7.8,7.8,11.5,12,8.4,null,{"$f":"ROWS($R$7:R961)","v":955},"",{"$f":"IF(ISERROR(SMALL($S$7:$S$1504,ROWS($S$7:S961))),\"\",SMALL($S$7:$S$1504,ROWS($S$7:S961)))","v":""},"",{"$f":"IF(ISERROR(SMALL($U$7:$U$1504,ROWS(U$7:$U961))),\"\",SMALL($U$7:$U$1504,ROWS(U$7:$U961)))","v":""},"",{"$f":"IF(ISERROR(SMALL($W$7:$W$1504,ROWS($W$7:W961))),\"\",SMALL($W$7:$W$1504,ROWS($W$7:W961)))","v":""}]
[null,"Vilkaviškio r. sav.","Registruotų bedarbių ir darbingo amžiaus gyventojų santykis | %",15.1,14,13.5,13.3,12.4,11.5,10,9.1999999999999993,9.8000000000000007,9.6,16,17.600000000000001,11.8,null,{"$f":"ROWS($R$7:R962)","v":956},"",{"$f":"IF(ISERROR(SMALL($S$7:$S$1504,ROWS($S$7:S962))),\"\",SMALL($S$7:$S$1504,ROWS($S$7:S962)))","v":""},"",{"$f":"IF(ISERROR(SMALL($U$7:$U$1504,ROWS(U$7:$U962))),\"\",SMALL($U$7:$U$1504,ROWS(U$7:$U962)))","v":""},"",{"$f":"IF(ISERROR(SMALL($W$7:$W$1504,ROWS($W$7:W962))),\"\",SMALL($W$7:$W$1504,ROWS($W$7:W962)))","v":""}]
[null,"Panevėžio apskritis","Registruotų bedarbių ir darbingo amžiaus gyventojų santykis | %",18.100000000000001,14.9,13.4,12.2,11.3,10.199999999999999,9.1999999999999993,9,9.4,9.1,14.1,14.2,9.3000000000000007,null,{"$f":"ROWS($R$7:R963)","v":957},"",{"$f":"IF(ISERROR(SMALL($S$7:$S$1504,ROWS($S$7:S963))),\"\",SMALL($S$7:$S$1504,ROWS($S$7:S963)))","v":""},"",{"$f":"IF(ISERROR(SMALL($U$7:$U$1504,ROWS(U$7:$U963))),\"\",SMALL($U$7:$U$1504,ROWS(U$7:$U963)))","v":""},"",{"$f":"IF(ISERROR(SMALL($W$7:$W$1504,ROWS($W$7:W963))),\"\",SMALL($W$7:$W$1504,ROWS($W$7:W963)))","v":""}]
[null,"Biržų r. sav.","Registruotų bedarbių ir darbingo amžiaus gyventojų santykis | %",15,12.2,11.2,11.2,10.6,10.1,8.9,9.6,10.8,10.6,15.4,15.7,10.3,null,{"$f":"ROWS($R$7:R964)","v":958},"",{"$f":"IF(ISERROR(SMALL($S$7:$S$1504,ROWS($S$7:S964))),\"\",SMALL($S$7:$S$1504,ROWS($S$7:S964)))","v":""},"",{"$f":"IF(ISERROR(SMALL($U$7:$U$1504,ROWS(U$7:$U964))),\"\",SMALL($U$7:$U$1504,ROWS(U$7:$U964)))","v":""},"",{"$f":"IF(ISERROR(SMALL($W$7:$W$1504,ROWS($W$7:W964))),\"\",SMALL($W$7:$W$1504,ROWS($W$7:W964)))","v":""}]
[null,"Kupiškio r. sav.","Registruotų bedarbių ir darbingo amžiaus gyventojų santykis | %",18.899999999999999,15.5,15.7,15.3,14.1,12.7,12.4,12.7,12.9,10.1,13.3,13.7,9.4,null,{"$f":"ROWS($R$7:R965)","v":959},"",{"$f":"IF(ISERROR(SMALL($S$7:$S$1504,ROWS($S$7:S965))),\"\",SMALL($S$7:$S$1504,ROWS($S$7:S965)))","v":""},"",{"$f":"IF(ISERROR(SMALL($U$7:$U$1504,ROWS(U$7:$U965))),\"\",SMALL($U$7:$U$1504,ROWS(U$7:$U965)))","v":""},"",{"$f":"IF(ISERROR(SMALL($W$7:$W$1504,ROWS($W$7:W965))),\"\",SMALL($W$7:$W$1504,ROWS($W$7:W965)))","v":""}]
[null,"Panevėžio m. sav.","Registruotų bedarbių ir darbingo amžiaus gyventojų santykis | %",18.5,14.9,12.8,11.1,10.1,8.6,7.4,7,7.2,7.3,12.7,13,8.5,null,{"$f":"ROWS($R$7:R966)","v":960},"",{"$f":"IF(ISERROR(SMALL($S$7:$S$1504,ROWS($S$7:S966))),\"\",SMALL($S$7:$S$1504,ROWS($S$7:S966)))","v":""},"",{"$f":"IF(ISERROR(SMALL($U$7:$U$1504,ROWS(U$7:$U966))),\"\",SMALL($U$7:$U$1504,ROWS(U$7:$U966)))","v":""},"",{"$f":"IF(ISERROR(SMALL($W$7:$W$1504,ROWS($W$7:W966))),\"\",SMALL($W$7:$W$1504,ROWS($W$7:W966)))","v":""}]
[null,"Panevėžio r. sav.","Registruotų bedarbių ir darbingo amžiaus gyventojų santykis | %",19.3,15.9,14.3,12,10.8,9.6999999999999993,8.6,8.1999999999999993,8.5,8.5,13,13.8,8.4,null,{"$f":"ROWS($R$7:R967)","v":961},{"$f":"IF(ISNUMBER(SEARCH($R$3,B967)),R967,\"\")","v":""},{"$f":"IF(ISERROR(SMALL($S$7:$S$1504,ROWS($S$7:S967))),\"\",SMALL($S$7:$S$1504,ROWS($S$7:S967)))","v":""},{"$f":"IF($R$4=B967,R967,\"\")","v":""},{"$f":"IF(ISERROR(SMALL($U$7:$U$1504,ROWS(U$7:$U967))),\"\",SMALL($U$7:$U$1504,ROWS(U$7:$U967)))","v":""},{"$f":"IF(\"Lietuvos Respublika\"=B967,R967,\"\")","v":""},{"$f":"IF(ISERROR(SMALL($W$7:$W$1504,ROWS($W$7:W967))),\"\",SMALL($W$7:$W$1504,ROWS($W$7:W967)))","v":""}]
[null,"Pasvalio r. sav.","Registruotų bedarbių ir darbingo amžiaus gyventojų santykis | %",18.3,16.8,15.8,14.7,13.5,13.1,12.1,11.2,11.4,10.9,15.5,14.7,9.8000000000000007,null,{"$f":"ROWS($R$7:R968)","v":962},"",{"$f":"IF(ISERROR(SMALL($S$7:$S$1504,ROWS($S$7:S968))),\"\",SMALL($S$7:$S$1504,ROWS($S$7:S968)))","v":""},"",{"$f":"IF(ISERROR(SMALL($U$7:$U$1504,ROWS(U$7:$U968))),\"\",SMALL($U$7:$U$1504,ROWS(U$7:$U968)))","v":""},"",{"$f":"IF(ISERROR(SMALL($W$7:$W$1504,ROWS($W$7:W968))),\"\",SMALL($W$7:$W$1504,ROWS($W$7:W968)))","v":""}]
[null,"Rokiškio r. sav.","Registruotų bedarbių ir darbingo amžiaus gyventojų santykis | %",17.2,13.6,12.8,12.9,12.4,12.2,11.3,11.6,12.5,12,17.7,17.5,12.1,null,{"$f":"ROWS($R$7:R969)","v":963},"",{"$f":"IF(ISERROR(SMALL($S$7:$S$1504,ROWS($S$7:S969))),\"\",SMALL($S$7:$S$1504,ROWS($S$7:S969)))","v":""},"",{"$f":"IF(ISERROR(SMALL($U$7:$U$1504,ROWS(U$7:$U969))),\"\",SMALL($U$7:$U$1504,ROWS(U$7:$U969)))","v":""},"",{"$f":"IF(ISERROR(SMALL($W$7:$W$1504,ROWS($W$7:W969))),\"\",SMALL($W$7:$W$1504,ROWS($W$7:W969)))","v":""}]
[null,"Šiaulių apskritis","Registruotų bedarbių ir darbingo amžiaus gyventojų santykis | %",15.6,12.9,11.9,11.4,9.6999999999999993,9,8.6,8.4,8.9,8.9,12.5,12.7,8.8000000000000007,null,{"$f":"ROWS($R$7:R970)","v":964},"",{"$f":"IF(ISERROR(SMALL($S$7:$S$1504,ROWS($S$7:S970))),\"\",SMALL($S$7:$S$1504,ROWS($S$7:S970)))","v":""},"",{"$f":"IF(ISERROR(SMALL($U$7:$U$1504,ROWS(U$7:$U970))),\"\",SMALL($U$7:$U$1504,ROWS(U$7:$U970)))","v":""},"",{"$f":"IF(ISERROR(SMALL($W$7:$W$1504,ROWS($W$7:W970))),\"\",SMALL($W$7:$W$1504,ROWS($W$7:W970)))","v":""}]
[null,"Akmenės r. sav.","Registruotų bedarbių ir darbingo amžiaus gyventojų santykis | %",20.5,17.5,16.2,16.399999999999999,14.5,13.7,13.6,12.3,12.5,12.2,16.100000000000001,16,13.6,null,{"$f":"ROWS($R$7:R971)","v":965},"",{"$f":"IF(ISERROR(SMALL($S$7:$S$1504,ROWS($S$7:S971))),\"\",SMALL($S$7:$S$1504,ROWS($S$7:S971)))","v":""},"",{"$f":"IF(ISERROR(SMALL($U$7:$U$1504,ROWS(U$7:$U971))),\"\",SMALL($U$7:$U$1504,ROWS(U$7:$U971)))","v":""},"",{"$f":"IF(ISERROR(SMALL($W$7:$W$1504,ROWS($W$7:W971))),\"\",SMALL($W$7:$W$1504,ROWS($W$7:W971)))","v":""}]
[null,"Joniškio r. sav.","Registruotų bedarbių ir darbingo amžiaus gyventojų santykis | %",17.100000000000001,14.8,13.8,14.3,12.3,11.4,11.2,11.5,12.5,11.8,15,14.8,8.6,null,{"$f":"ROWS($R$7:R972)","v":966},"",{"$f":"IF(ISERROR(SMALL($S$7:$S$1504,ROWS($S$7:S972))),\"\",SMALL($S$7:$S$1504,ROWS($S$7:S972)))","v":""},"",{"$f":"IF(ISERROR(SMALL($U$7:$U$1504,ROWS(U$7:$U972))),\"\",SMALL($U$7:$U$1504,ROWS(U$7:$U972)))","v":""},"",{"$f":"IF(ISERROR(SMALL($W$7:$W$1504,ROWS($W$7:W972))),\"\",SMALL($W$7:$W$1504,ROWS($W$7:W972)))","v":""}]
[null,"Kelmės r. sav.","Registruotų bedarbių ir darbingo amžiaus gyventojų santykis | %",20.6,17.899999999999999,17.600000000000001,17.399999999999999,15,14.1,13.5,13.4,14.2,12.8,17.399999999999999,16.5,10.8,null,{"$f":"ROWS($R$7:R973)","v":967},"",{"$f":"IF(ISERROR(SMALL($S$7:$S$1504,ROWS($S$7:S973))),\"\",SMALL($S$7:$S$1504,ROWS($S$7:S973)))","v":""},"",{"$f":"IF(ISERROR(SMALL($U$7:$U$1504,ROWS(U$7:$U973))),\"\",SMALL($U$7:$U$1504,ROWS(U$7:$U973)))","v":""},"",{"$f":"IF(ISERROR(SMALL($W$7:$W$1504,ROWS($W$7:W973))),\"\",SMALL($W$7:$W$1504,ROWS($W$7:W973)))","v":""}]
[null,"Pakruojo r. sav.","Registruotų bedarbių ir darbingo amžiaus gyventojų santykis | %",13.4,11.3,11.2,11.5,9.9,9.5,8.9,8.8000000000000007,8.6,8,10.6,11.1,8.3000000000000007,null,{"$f":"ROWS($R$7:R974)","v":968},"",{"$f":"IF(ISERROR(SMALL($S$7:$S$1504,ROWS($S$7:S974))),\"\",SMALL($S$7:$S$1504,ROWS($S$7:S974)))","v":""},"",{"$f":"IF(ISERROR(SMALL($U$7:$U$1504,ROWS(U$7:$U974))),\"\",SMALL($U$7:$U$1504,ROWS(U$7:$U974)))","v":""},"",{"$f":"IF(ISERROR(SMALL($W$7:$W$1504,ROWS($W$7:W974))),\"\",SMALL($W$7:$W$1504,ROWS($W$7:W974)))","v":""}]
[null,"Radviliškio r. sav.","Registruotų bedarbių ir darbingo amžiaus gyventojų santykis | %",14.4,13.1,12.7,12.2,11.3,10.9,10.7,10.199999999999999,10.3,10.6,14.9,14.8,9.6999999999999993,null,{"$f":"ROWS($R$7:R975)","v":969},"",{"$f":"IF(ISERROR(SMALL($S$7:$S$1504,ROWS($S$7:S975))),\"\",SMALL($S$7:$S$1504,ROWS($S$7:S975)))","v":""},"",{"$f":"IF(ISERROR(SMALL($U$7:$U$1504,ROWS(U$7:$U975))),\"\",SMALL($U$7:$U$1504,ROWS(U$7:$U975)))","v":""},"",{"$f":"IF(ISERROR(SMALL($W$7:$W$1504,ROWS($W$7:W975))),\"\",SMALL($W$7:$W$1504,ROWS($W$7:W975)))","v":""}]
[null,"Šiaulių m. sav.","Registruotų bedarbių ir darbingo amžiaus gyventojų santykis | %",13.9,10.7,9.1,8.1,6.3,5.7,5.3,5.3,5.8,6,9.6,10,7.2,null,{"$f":"ROWS($R$7:R976)","v":970},"",{"$f":"IF(ISERROR(SMALL($S$7:$S$1504,ROWS($S$7:S976))),\"\",SMALL($S$7:$S$1504,ROWS($S$7:S976)))","v":""},"",{"$f":"IF(ISERROR(SMALL($U$7:$U$1504,ROWS(U$7:$U976))),\"\",SMALL($U$7:$U$1504,ROWS(U$7:$U976)))","v":""},"",{"$f":"IF(ISERROR(SMALL($W$7:$W$1504,ROWS($W$7:W976))),\"\",SMALL($W$7:$W$1504,ROWS($W$7:W976)))","v":""}]
[null,"Šiaulių r. sav.","Registruotų bedarbių ir darbingo amžiaus gyventojų santykis | %",15.3,12.5,11.2,11,9.3000000000000007,8.4,7.9,7.7,8.6999999999999993,9.4,13.1,13.5,9.3000000000000007,null,{"$f":"ROWS($R$7:R977)","v":971},"",{"$f":"IF(ISERROR(SMALL($S$7:$S$1504,ROWS($S$7:S977))),\"\",SMALL($S$7:$S$1504,ROWS($S$7:S977)))","v":""},"",{"$f":"IF(ISERROR(SMALL($U$7:$U$1504,ROWS(U$7:$U977))),\"\",SMALL($U$7:$U$1504,ROWS(U$7:$U977)))","v":""},"",{"$f":"IF(ISERROR(SMALL($W$7:$W$1504,ROWS($W$7:W977))),\"\",SMALL($W$7:$W$1504,ROWS($W$7:W977)))","v":""}]
[null,"Tauragės apskritis","Registruotų bedarbių ir darbingo amžiaus gyventojų santykis | %",17.3,14.2,14,13.5,12.5,11.5,10.6,9.9,10,9,13.8,14.2,8.9,null,{"$f":"ROWS($R$7:R978)","v":972},"",{"$f":"IF(ISERROR(SMALL($S$7:$S$1504,ROWS($S$7:S978))),\"\",SMALL($S$7:$S$1504,ROWS($S$7:S978)))","v":""},"",{"$f":"IF(ISERROR(SMALL($U$7:$U$1504,ROWS(U$7:$U978))),\"\",SMALL($U$7:$U$1504,ROWS(U$7:$U978)))","v":""},"",{"$f":"IF(ISERROR(SMALL($W$7:$W$1504,ROWS($W$7:W978))),\"\",SMALL($W$7:$W$1504,ROWS($W$7:W978)))","v":""}]
[null,"Jurbarko r. sav.","Registruotų bedarbių ir darbingo amžiaus gyventojų santykis | %",18.600000000000001,15.8,16.7,16.399999999999999,15.6,14.6,13.4,13.3,14,12,16.3,17,11.4,null,{"$f":"ROWS($R$7:R979)","v":973},"",{"$f":"IF(ISERROR(SMALL($S$7:$S$1504,ROWS($S$7:S979))),\"\",SMALL($S$7:$S$1504,ROWS($S$7:S979)))","v":""},"",{"$f":"IF(ISERROR(SMALL($U$7:$U$1504,ROWS(U$7:$U979))),\"\",SMALL($U$7:$U$1504,ROWS(U$7:$U979)))","v":""},"",{"$f":"IF(ISERROR(SMALL($W$7:$W$1504,ROWS($W$7:W979))),\"\",SMALL($W$7:$W$1504,ROWS($W$7:W979)))","v":""}]
[null,"Pagėgių sav.","Registruotų bedarbių ir darbingo amžiaus gyventojų santykis | %",16.600000000000001,13.1,12.8,11.9,10.4,10.5,10,9.3000000000000007,9.1,8.1,12.9,12.5,7.7,null,{"$f":"ROWS($R$7:R980)","v":974},"",{"$f":"IF(ISERROR(SMALL($S$7:$S$1504,ROWS($S$7:S980))),\"\",SMALL($S$7:$S$1504,ROWS($S$7:S980)))","v":""},"",{"$f":"IF(ISERROR(SMALL($U$7:$U$1504,ROWS(U$7:$U980))),\"\",SMALL($U$7:$U$1504,ROWS(U$7:$U980)))","v":""},"",{"$f":"IF(ISERROR(SMALL($W$7:$W$1504,ROWS($W$7:W980))),\"\",SMALL($W$7:$W$1504,ROWS($W$7:W980)))","v":""}]
[null,"Šilalės r. sav.","Registruotų bedarbių ir darbingo amžiaus gyventojų santykis | %",17,11.3,9.4,8.8000000000000007,8.1999999999999993,7.9,7.5,6.7,6.7,7,12.6,13.8,7.5,null,{"$f":"ROWS($R$7:R981)","v":975},"",{"$f":"IF(ISERROR(SMALL($S$7:$S$1504,ROWS($S$7:S981))),\"\",SMALL($S$7:$S$1504,ROWS($S$7:S981)))","v":""},"",{"$f":"IF(ISERROR(SMALL($U$7:$U$1504,ROWS(U$7:$U981))),\"\",SMALL($U$7:$U$1504,ROWS(U$7:$U981)))","v":""},"",{"$f":"IF(ISERROR(SMALL($W$7:$W$1504,ROWS($W$7:W981))),\"\",SMALL($W$7:$W$1504,ROWS($W$7:W981)))","v":""}]
[null,"Tauragės r. sav.","Registruotų bedarbių ir darbingo amžiaus gyventojų santykis | %",16.8,15.2,15.3,14.8,13.4,11.9,10.8,9.8000000000000007,9.6,8.4,13,13.1,8.4,null,{"$f":"ROWS($R$7:R982)","v":976},"",{"$f":"IF(ISERROR(SMALL($S$7:$S$1504,ROWS($S$7:S982))),\"\",SMALL($S$7:$S$1504,ROWS($S$7:S982)))","v":""},"",{"$f":"IF(ISERROR(SMALL($U$7:$U$1504,ROWS(U$7:$U982))),\"\",SMALL($U$7:$U$1504,ROWS(U$7:$U982)))","v":""},"",{"$f":"IF(ISERROR(SMALL($W$7:$W$1504,ROWS($W$7:W982))),\"\",SMALL($W$7:$W$1504,ROWS($W$7:W982)))","v":""}]
[null,"Telšių apskritis","Registruotų bedarbių ir darbingo amžiaus gyventojų santykis | %",19.399999999999999,15.8,14.4,13.3,11.1,9.6999999999999993,8.6999999999999993,8.3000000000000007,8.9,8.6999999999999993,13.4,13.6,8.9,null,{"$f":"ROWS($R$7:R983)","v":977},"",{"$f":"IF(ISERROR(SMALL($S$7:$S$1504,ROWS($S$7:S983))),\"\",SMALL($S$7:$S$1504,ROWS($S$7:S983)))","v":""},"",{"$f":"IF(ISERROR(SMALL($U$7:$U$1504,ROWS(U$7:$U983))),\"\",SMALL($U$7:$U$1504,ROWS(U$7:$U983)))","v":""},"",{"$f":"IF(ISERROR(SMALL($W$7:$W$1504,ROWS($W$7:W983))),\"\",SMALL($W$7:$W$1504,ROWS($W$7:W983)))","v":""}]
[null,"Mažeikių r. sav.","Registruotų bedarbių ir darbingo amžiaus gyventojų santykis | %",21.5,19.100000000000001,17.3,16.2,14,12.3,11,10.5,11.2,10.4,14,13.9,9.6999999999999993,null,{"$f":"ROWS($R$7:R984)","v":978},"",{"$f":"IF(ISERROR(SMALL($S$7:$S$1504,ROWS($S$7:S984))),\"\",SMALL($S$7:$S$1504,ROWS($S$7:S984)))","v":""},"",{"$f":"IF(ISERROR(SMALL($U$7:$U$1504,ROWS(U$7:$U984))),\"\",SMALL($U$7:$U$1504,ROWS(U$7:$U984)))","v":""},"",{"$f":"IF(ISERROR(SMALL($W$7:$W$1504,ROWS($W$7:W984))),\"\",SMALL($W$7:$W$1504,ROWS($W$7:W984)))","v":""}]
[null,"Plungės r. sav.","Registruotų bedarbių ir darbingo amžiaus gyventojų santykis | %",17,12.8,11.4,10.5,8.6999999999999993,8,7.1,6.5,7.1,7.2,12.5,13.2,8.3000000000000007,null,{"$f":"ROWS($R$7:R985)","v":979},"",{"$f":"IF(ISERROR(SMALL($S$7:$S$1504,ROWS($S$7:S985))),\"\",SMALL($S$7:$S$1504,ROWS($S$7:S985)))","v":""},"",{"$f":"IF(ISERROR(SMALL($U$7:$U$1504,ROWS(U$7:$U985))),\"\",SMALL($U$7:$U$1504,ROWS(U$7:$U985)))","v":""},"",{"$f":"IF(ISERROR(SMALL($W$7:$W$1504,ROWS($W$7:W985))),\"\",SMALL($W$7:$W$1504,ROWS($W$7:W985)))","v":""}]
[null,"Rietavo sav.","Registruotų bedarbių ir darbingo amžiaus gyventojų santykis | %",17.3,12.6,11.5,10.1,8.1,7.5,6.8,6.5,7.4,7,11.8,12.2,8.8000000000000007,null,{"$f":"ROWS($R$7:R986)","v":980},"",{"$f":"IF(ISERROR(SMALL($S$7:$S$1504,ROWS($S$7:S986))),\"\",SMALL($S$7:$S$1504,ROWS($S$7:S986)))","v":""},"",{"$f":"IF(ISERROR(SMALL($U$7:$U$1504,ROWS(U$7:$U986))),\"\",SMALL($U$7:$U$1504,ROWS(U$7:$U986)))","v":""},"",{"$f":"IF(ISERROR(SMALL($W$7:$W$1504,ROWS($W$7:W986))),\"\",SMALL($W$7:$W$1504,ROWS($W$7:W986)))","v":""}]
[null,"Telšių r. sav.","Registruotų bedarbių ir darbingo amžiaus gyventojų santykis | %",19,14.5,13.3,12.2,9.8000000000000007,8,7.4,7.2,7.8,7.9,13.7,13.7,8.5,null,{"$f":"ROWS($R$7:R987)","v":981},"",{"$f":"IF(ISERROR(SMALL($S$7:$S$1504,ROWS($S$7:S987))),\"\",SMALL($S$7:$S$1504,ROWS($S$7:S987)))","v":""},"",{"$f":"IF(ISERROR(SMALL($U$7:$U$1504,ROWS(U$7:$U987))),\"\",SMALL($U$7:$U$1504,ROWS(U$7:$U987)))","v":""},"",{"$f":"IF(ISERROR(SMALL($W$7:$W$1504,ROWS($W$7:W987))),\"\",SMALL($W$7:$W$1504,ROWS($W$7:W987)))","v":""}]
[null,"Utenos apskritis","Registruotų bedarbių ir darbingo amžiaus gyventojų santykis | %",17.600000000000001,16.100000000000001,15.1,14.6,12.8,12.3,11.8,11.6,11.9,11.7,15.2,15.5,10.8,null,{"$f":"ROWS($R$7:R988)","v":982},"",{"$f":"IF(ISERROR(SMALL($S$7:$S$1504,ROWS($S$7:S988))),\"\",SMALL($S$7:$S$1504,ROWS($S$7:S988)))","v":""},"",{"$f":"IF(ISERROR(SMALL($U$7:$U$1504,ROWS(U$7:$U988))),\"\",SMALL($U$7:$U$1504,ROWS(U$7:$U988)))","v":""},"",{"$f":"IF(ISERROR(SMALL($W$7:$W$1504,ROWS($W$7:W988))),\"\",SMALL($W$7:$W$1504,ROWS($W$7:W988)))","v":""}]
[null,"Anykščių r. sav.","Registruotų bedarbių ir darbingo amžiaus gyventojų santykis | %",18.8,18.8,17.100000000000001,15.5,12.8,11.9,10.8,10.9,11.1,11.8,16,16.8,11.7,null,{"$f":"ROWS($R$7:R989)","v":983},"",{"$f":"IF(ISERROR(SMALL($S$7:$S$1504,ROWS($S$7:S989))),\"\",SMALL($S$7:$S$1504,ROWS($S$7:S989)))","v":""},"",{"$f":"IF(ISERROR(SMALL($U$7:$U$1504,ROWS(U$7:$U989))),\"\",SMALL($U$7:$U$1504,ROWS(U$7:$U989)))","v":""},"",{"$f":"IF(ISERROR(SMALL($W$7:$W$1504,ROWS($W$7:W989))),\"\",SMALL($W$7:$W$1504,ROWS($W$7:W989)))","v":""}]
[null,"Ignalinos r. sav.","Registruotų bedarbių ir darbingo amžiaus gyventojų santykis | %",21.2,20,18,18.5,17.2,16.600000000000001,15.4,14.9,14.8,14.1,18.2,19.5,14.3,null,{"$f":"ROWS($R$7:R990)","v":984},"",{"$f":"IF(ISERROR(SMALL($S$7:$S$1504,ROWS($S$7:S990))),\"\",SMALL($S$7:$S$1504,ROWS($S$7:S990)))","v":""},"",{"$f":"IF(ISERROR(SMALL($U$7:$U$1504,ROWS(U$7:$U990))),\"\",SMALL($U$7:$U$1504,ROWS(U$7:$U990)))","v":""},"",{"$f":"IF(ISERROR(SMALL($W$7:$W$1504,ROWS($W$7:W990))),\"\",SMALL($W$7:$W$1504,ROWS($W$7:W990)))","v":""}]
[null,"Molėtų r. sav.","Registruotų bedarbių ir darbingo amžiaus gyventojų santykis | %",17.399999999999999,14.9,14.6,13.4,11.8,11.7,11.4,11.7,11.6,12,14.9,15.1,10.1,null,{"$f":"ROWS($R$7:R991)","v":985},"",{"$f":"IF(ISERROR(SMALL($S$7:$S$1504,ROWS($S$7:S991))),\"\",SMALL($S$7:$S$1504,ROWS($S$7:S991)))","v":""},"",{"$f":"IF(ISERROR(SMALL($U$7:$U$1504,ROWS(U$7:$U991))),\"\",SMALL($U$7:$U$1504,ROWS(U$7:$U991)))","v":""},"",{"$f":"IF(ISERROR(SMALL($W$7:$W$1504,ROWS($W$7:W991))),\"\",SMALL($W$7:$W$1504,ROWS($W$7:W991)))","v":""}]
[null,"Utenos r. sav.","Registruotų bedarbių ir darbingo amžiaus gyventojų santykis | %",16.2,13.1,12.3,12.1,10,9.9,10,9.1999999999999993,9.9,9.5,12.5,12.6,8.4,null,{"$f":"ROWS($R$7:R992)","v":986},"",{"$f":"IF(ISERROR(SMALL($S$7:$S$1504,ROWS($S$7:S992))),\"\",SMALL($S$7:$S$1504,ROWS($S$7:S992)))","v":""},"",{"$f":"IF(ISERROR(SMALL($U$7:$U$1504,ROWS(U$7:$U992))),\"\",SMALL($U$7:$U$1504,ROWS(U$7:$U992)))","v":""},"",{"$f":"IF(ISERROR(SMALL($W$7:$W$1504,ROWS($W$7:W992))),\"\",SMALL($W$7:$W$1504,ROWS($W$7:W992)))","v":""}]
[null,"Visagino sav.","Registruotų bedarbių ir darbingo amžiaus gyventojų santykis | %",15.2,14.2,13.9,14,13.1,13,12.7,12.9,12.8,11.8,15.1,15.2,10.9,null,{"$f":"ROWS($R$7:R993)","v":987},"",{"$f":"IF(ISERROR(SMALL($S$7:$S$1504,ROWS($S$7:S993))),\"\",SMALL($S$7:$S$1504,ROWS($S$7:S993)))","v":""},"",{"$f":"IF(ISERROR(SMALL($U$7:$U$1504,ROWS(U$7:$U993))),\"\",SMALL($U$7:$U$1504,ROWS(U$7:$U993)))","v":""},"",{"$f":"IF(ISERROR(SMALL($W$7:$W$1504,ROWS($W$7:W993))),\"\",SMALL($W$7:$W$1504,ROWS($W$7:W993)))","v":""}]
[null,"Zarasų r. sav.","Registruotų bedarbių ir darbingo amžiaus gyventojų santykis | %",20.100000000000001,19.600000000000001,18.600000000000001,17.600000000000001,15.7,14.7,14,14,14.9,14.4,18.100000000000001,18.399999999999999,13.2,null,{"$f":"ROWS($R$7:R994)","v":988},"",{"$f":"IF(ISERROR(SMALL($S$7:$S$1504,ROWS($S$7:S994))),\"\",SMALL($S$7:$S$1504,ROWS($S$7:S994)))","v":""},"",{"$f":"IF(ISERROR(SMALL($U$7:$U$1504,ROWS(U$7:$U994))),\"\",SMALL($U$7:$U$1504,ROWS(U$7:$U994)))","v":""},"",{"$f":"IF(ISERROR(SMALL($W$7:$W$1504,ROWS($W$7:W994))),\"\",SMALL($W$7:$W$1504,ROWS($W$7:W994)))","v":""}]
[null,"Vilniaus apskritis","Registruotų bedarbių ir darbingo amžiaus gyventojų santykis | %",15.4,11.9,10.3,9.3000000000000007,7.9,7.3,6.8,6.7,7.6,7.6,11.5,12,8.9,null,{"$f":"ROWS($R$7:R995)","v":989},"",{"$f":"IF(ISERROR(SMALL($S$7:$S$1504,ROWS($S$7:S995))),\"\",SMALL($S$7:$S$1504,ROWS($S$7:S995)))","v":""},989,{"$f":"IF(ISERROR(SMALL($U$7:$U$1504,ROWS(U$7:$U995))),\"\",SMALL($U$7:$U$1504,ROWS(U$7:$U995)))","v":""},"",{"$f":"IF(ISERROR(SMALL($W$7:$W$1504,ROWS($W$7:W995))),\"\",SMALL($W$7:$W$1504,ROWS($W$7:W995)))","v":""}]
[null,"Elektrėnų sav.","Registruotų bedarbių ir darbingo amžiaus gyventojų santykis | %",12.7,9.8000000000000007,9.4,9.1,5.8,5,4.8,4.9000000000000004,5.8,6.5,11.1,12.2,7.8,null,{"$f":"ROWS($R$7:R996)","v":990},"",{"$f":"IF(ISERROR(SMALL($S$7:$S$1504,ROWS($S$7:S996))),\"\",SMALL($S$7:$S$1504,ROWS($S$7:S996)))","v":""},"",{"$f":"IF(ISERROR(SMALL($U$7:$U$1504,ROWS(U$7:$U996))),\"\",SMALL($U$7:$U$1504,ROWS(U$7:$U996)))","v":""},"",{"$f":"IF(ISERROR(SMALL($W$7:$W$1504,ROWS($W$7:W996))),\"\",SMALL($W$7:$W$1504,ROWS($W$7:W996)))","v":""}]
[null,"Šalčininkų r. sav.","Registruotų bedarbių ir darbingo amžiaus gyventojų santykis | %",21,16,14.4,13.4,11.5,11.1,10.7,8.8000000000000007,9,8.8000000000000007,13.5,13.9,9.6999999999999993,null,{"$f":"ROWS($R$7:R997)","v":991},"",{"$f":"IF(ISERROR(SMALL($S$7:$S$1504,ROWS($S$7:S997))),\"\",SMALL($S$7:$S$1504,ROWS($S$7:S997)))","v":""},"",{"$f":"IF(ISERROR(SMALL($U$7:$U$1504,ROWS(U$7:$U997))),\"\",SMALL($U$7:$U$1504,ROWS(U$7:$U997)))","v":""},"",{"$f":"IF(ISERROR(SMALL($W$7:$W$1504,ROWS($W$7:W997))),\"\",SMALL($W$7:$W$1504,ROWS($W$7:W997)))","v":""}]
[null,"Širvintų r. sav.","Registruotų bedarbių ir darbingo amžiaus gyventojų santykis | %",17.399999999999999,11.3,11.1,10.6,8.4,8.1999999999999993,8,8.1,8.8000000000000007,9.1,14.4,13.8,9.6,null,{"$f":"ROWS($R$7:R998)","v":992},"",{"$f":"IF(ISERROR(SMALL($S$7:$S$1504,ROWS($S$7:S998))),\"\",SMALL($S$7:$S$1504,ROWS($S$7:S998)))","v":""},"",{"$f":"IF(ISERROR(SMALL($U$7:$U$1504,ROWS(U$7:$U998))),\"\",SMALL($U$7:$U$1504,ROWS(U$7:$U998)))","v":""},"",{"$f":"IF(ISERROR(SMALL($W$7:$W$1504,ROWS($W$7:W998))),\"\",SMALL($W$7:$W$1504,ROWS($W$7:W998)))","v":""}]
[null,"Švenčionių r. sav.","Registruotų bedarbių ir darbingo amžiaus gyventojų santykis | %",17.3,13.5,11.4,11.4,9.8000000000000007,9.1,9.3000000000000007,9.1,9.8000000000000007,8.6999999999999993,10.8,11.1,9.1,null,{"$f":"ROWS($R$7:R999)","v":993},"",{"$f":"IF(ISERROR(SMALL($S$7:$S$1504,ROWS($S$7:S999))),\"\",SMALL($S$7:$S$1504,ROWS($S$7:S999)))","v":""},"",{"$f":"IF(ISERROR(SMALL($U$7:$U$1504,ROWS(U$7:$U999))),\"\",SMALL($U$7:$U$1504,ROWS(U$7:$U999)))","v":""},"",{"$f":"IF(ISERROR(SMALL($W$7:$W$1504,ROWS($W$7:W999))),\"\",SMALL($W$7:$W$1504,ROWS($W$7:W999)))","v":""}]
[null,"Trakų r. sav.","Registruotų bedarbių ir darbingo amžiaus gyventojų santykis | %",13.1,10.3,8.8000000000000007,7.4,6,4.9000000000000004,5.8,6.1,6.3,6.5,11,12.6,9.6999999999999993,null,{"$f":"ROWS($R$7:R1000)","v":994},"",{"$f":"IF(ISERROR(SMALL($S$7:$S$1504,ROWS($S$7:S1000))),\"\",SMALL($S$7:$S$1504,ROWS($S$7:S1000)))","v":""},"",{"$f":"IF(ISERROR(SMALL($U$7:$U$1504,ROWS(U$7:$U1000))),\"\",SMALL($U$7:$U$1504,ROWS(U$7:$U1000)))","v":""},"",{"$f":"IF(ISERROR(SMALL($W$7:$W$1504,ROWS($W$7:W1000))),\"\",SMALL($W$7:$W$1504,ROWS($W$7:W1000)))","v":""}]
[null,"Ukmergės r. sav.","Registruotų bedarbių ir darbingo amžiaus gyventojų santykis | %",17.7,14.5,14.2,14.5,13.3,12.4,11.4,10.4,10.3,10.5,16.600000000000001,15.1,10.1,null,{"$f":"ROWS($R$7:R1001)","v":995},"",{"$f":"IF(ISERROR(SMALL($S$7:$S$1504,ROWS($S$7:S1001))),\"\",SMALL($S$7:$S$1504,ROWS($S$7:S1001)))","v":""},"",{"$f":"IF(ISERROR(SMALL($U$7:$U$1504,ROWS(U$7:$U1001))),\"\",SMALL($U$7:$U$1504,ROWS(U$7:$U1001)))","v":""},"",{"$f":"IF(ISERROR(SMALL($W$7:$W$1504,ROWS($W$7:W1001))),\"\",SMALL($W$7:$W$1504,ROWS($W$7:W1001)))","v":""}]
[null,"Vilniaus m. sav.","Registruotų bedarbių ir darbingo amžiaus gyventojų santykis | %",14.1,10.8,9.1,8.1,6.9,6.4,5.9,6.1,7.1,7.2,11,11.7,8.6,null,{"$f":"ROWS($R$7:R1002)","v":996},996,{"$f":"IF(ISERROR(SMALL($S$7:$S$1504,ROWS($S$7:S1002))),\"\",SMALL($S$7:$S$1504,ROWS($S$7:S1002)))","v":""},"",{"$f":"IF(ISERROR(SMALL($U$7:$U$1504,ROWS(U$7:$U1002))),\"\",SMALL($U$7:$U$1504,ROWS(U$7:$U1002)))","v":""},"",{"$f":"IF(ISERROR(SMALL($W$7:$W$1504,ROWS($W$7:W1002))),\"\",SMALL($W$7:$W$1504,ROWS($W$7:W1002)))","v":""}]
[null,"Vilniaus r. sav.","Registruotų bedarbių ir darbingo amžiaus gyventojų santykis | %",20.2,16.899999999999999,14.6,12.8,11,9.9,8.9,8.1999999999999993,8.6999999999999993,8.6,12,12.3,9.3000000000000007,null,{"$f":"ROWS($R$7:R1003)","v":997},"",{"$f":"IF(ISERROR(SMALL($S$7:$S$1504,ROWS($S$7:S1003))),\"\",SMALL($S$7:$S$1504,ROWS($S$7:S1003)))","v":""},"",{"$f":"IF(ISERROR(SMALL($U$7:$U$1504,ROWS(U$7:$U1003))),\"\",SMALL($U$7:$U$1504,ROWS(U$7:$U1003)))","v":""},"",{"$f":"IF(ISERROR(SMALL($W$7:$W$1504,ROWS($W$7:W1003))),\"\",SMALL($W$7:$W$1504,ROWS($W$7:W1003)))","v":""}]
[null,"Lietuvos Respublika","Darbo užmokestis | mėnesinis | bruto | EUR  (nuo 2019 m. keitėsi rodiklio skaičiavimas)",575.79999999999995,592.5,615.1,646.29999999999995,677.4,714.1,774,840.4,924.1,1296.4000000000001,1428.6,1579.4,1789,null,{"$f":"ROWS($R$7:R1004)","v":998},"",{"$f":"IF(ISERROR(SMALL($S$7:$S$1504,ROWS($S$7:S1004))),\"\",SMALL($S$7:$S$1504,ROWS($S$7:S1004)))","v":""},"",{"$f":"IF(ISERROR(SMALL($U$7:$U$1504,ROWS(U$7:$U1004))),\"\",SMALL($U$7:$U$1504,ROWS(U$7:$U1004)))","v":""},998,{"$f":"IF(ISERROR(SMALL($W$7:$W$1504,ROWS($W$7:W1004))),\"\",SMALL($W$7:$W$1504,ROWS($W$7:W1004)))","v":""}]
[null,"Alytaus apskritis","Darbo užmokestis | mėnesinis | bruto | EUR  (nuo 2019 m. keitėsi rodiklio skaičiavimas)",490.1,504.4,521,556.5,580.1,606.70000000000005,656.3,707.7,771.9,1079.5,1166.4000000000001,1280.2,1435.3,null,{"$f":"ROWS($R$7:R1005)","v":999},"",{"$f":"IF(ISERROR(SMALL($S$7:$S$1504,ROWS($S$7:S1005))),\"\",SMALL($S$7:$S$1504,ROWS($S$7:S1005)))","v":""},"",{"$f":"IF(ISERROR(SMALL($U$7:$U$1504,ROWS(U$7:$U1005))),\"\",SMALL($U$7:$U$1504,ROWS(U$7:$U1005)))","v":""},"",{"$f":"IF(ISERROR(SMALL($W$7:$W$1504,ROWS($W$7:W1005))),\"\",SMALL($W$7:$W$1504,ROWS($W$7:W1005)))","v":""}]
[null,"Alytaus m. sav.","Darbo užmokestis | mėnesinis | bruto | EUR  (nuo 2019 m. keitėsi rodiklio skaičiavimas)",522.5,532,546.20000000000005,588.20000000000005,613.5,644.1,693.1,758.4,818.4,1131.2,1253.4000000000001,1368.4,1516.7,null,{"$f":"ROWS($R$7:R1006)","v":1000},"",{"$f":"IF(ISERROR(SMALL($S$7:$S$1504,ROWS($S$7:S1006))),\"\",SMALL($S$7:$S$1504,ROWS($S$7:S1006)))","v":""},"",{"$f":"IF(ISERROR(SMALL($U$7:$U$1504,ROWS(U$7:$U1006))),\"\",SMALL($U$7:$U$1504,ROWS(U$7:$U1006)))","v":""},"",{"$f":"IF(ISERROR(SMALL($W$7:$W$1504,ROWS($W$7:W1006))),\"\",SMALL($W$7:$W$1504,ROWS($W$7:W1006)))","v":""}]
[null,"Alytaus r. sav.","Darbo užmokestis | mėnesinis | bruto | EUR  (nuo 2019 m. keitėsi rodiklio skaičiavimas)",481.9,506,524.79999999999995,550,563.79999999999995,584.20000000000005,632.70000000000005,672.7,758.9,1103.8,1198.8,1293.2,1417.6,null,{"$f":"ROWS($R$7:R1007)","v":1001},"",{"$f":"IF(ISERROR(SMALL($S$7:$S$1504,ROWS($S$7:S1007))),\"\",SMALL($S$7:$S$1504,ROWS($S$7:S1007)))","v":""},"",{"$f":"IF(ISERROR(SMALL($U$7:$U$1504,ROWS(U$7:$U1007))),\"\",SMALL($U$7:$U$1504,ROWS(U$7:$U1007)))","v":""},"",{"$f":"IF(ISERROR(SMALL($W$7:$W$1504,ROWS($W$7:W1007))),\"\",SMALL($W$7:$W$1504,ROWS($W$7:W1007)))","v":""}]
[null,"Druskininkų sav.","Darbo užmokestis | mėnesinis | bruto | EUR  (nuo 2019 m. keitėsi rodiklio skaičiavimas)",445.1,474.7,496.4,528.6,560,573.1,625.9,669.2,747.2,1044.3,1054.8,1178.7,1384.9,null,{"$f":"ROWS($R$7:R1008)","v":1002},"",{"$f":"IF(ISERROR(SMALL($S$7:$S$1504,ROWS($S$7:S1008))),\"\",SMALL($S$7:$S$1504,ROWS($S$7:S1008)))","v":""},"",{"$f":"IF(ISERROR(SMALL($U$7:$U$1504,ROWS(U$7:$U1008))),\"\",SMALL($U$7:$U$1504,ROWS(U$7:$U1008)))","v":""},"",{"$f":"IF(ISERROR(SMALL($W$7:$W$1504,ROWS($W$7:W1008))),\"\",SMALL($W$7:$W$1504,ROWS($W$7:W1008)))","v":""}]
[null,"Lazdijų r. sav.","Darbo užmokestis | mėnesinis | bruto | EUR  (nuo 2019 m. keitėsi rodiklio skaičiavimas)",480.8,478.5,491.5,516.1,526.1,552.9,568.20000000000005,611.29999999999995,673.4,963.5,1050.3,1134.8,1284.0999999999999,null,{"$f":"ROWS($R$7:R1009)","v":1003},"",{"$f":"IF(ISERROR(SMALL($S$7:$S$1504,ROWS($S$7:S1009))),\"\",SMALL($S$7:$S$1504,ROWS($S$7:S1009)))","v":""},"",{"$f":"IF(ISERROR(SMALL($U$7:$U$1504,ROWS(U$7:$U1009))),\"\",SMALL($U$7:$U$1504,ROWS(U$7:$U1009)))","v":""},"",{"$f":"IF(ISERROR(SMALL($W$7:$W$1504,ROWS($W$7:W1009))),\"\",SMALL($W$7:$W$1504,ROWS($W$7:W1009)))","v":""}]
[null,"Varėnos r. sav.","Darbo užmokestis | mėnesinis | bruto | EUR  (nuo 2019 m. keitėsi rodiklio skaičiavimas)",442.5,457.9,474.4,501.6,521.9,554.4,623.6,650.6,677.6,958.4,1021.6,1137.7,1275.9000000000001,null,{"$f":"ROWS($R$7:R1010)","v":1004},"",{"$f":"IF(ISERROR(SMALL($S$7:$S$1504,ROWS($S$7:S1010))),\"\",SMALL($S$7:$S$1504,ROWS($S$7:S1010)))","v":""},"",{"$f":"IF(ISERROR(SMALL($U$7:$U$1504,ROWS(U$7:$U1010))),\"\",SMALL($U$7:$U$1504,ROWS(U$7:$U1010)))","v":""},"",{"$f":"IF(ISERROR(SMALL($W$7:$W$1504,ROWS($W$7:W1010))),\"\",SMALL($W$7:$W$1504,ROWS($W$7:W1010)))","v":""}]
[null,"Kauno apskritis","Darbo užmokestis | mėnesinis | bruto | EUR  (nuo 2019 m. keitėsi rodiklio skaičiavimas)",547.79999999999995,568.9,589.29999999999995,623.79999999999995,655.1,694,760.2,828,909.2,1284.7,1419.2,1592,1798.4,null,{"$f":"ROWS($R$7:R1011)","v":1005},"",{"$f":"IF(ISERROR(SMALL($S$7:$S$1504,ROWS($S$7:S1011))),\"\",SMALL($S$7:$S$1504,ROWS($S$7:S1011)))","v":""},"",{"$f":"IF(ISERROR(SMALL($U$7:$U$1504,ROWS(U$7:$U1011))),\"\",SMALL($U$7:$U$1504,ROWS(U$7:$U1011)))","v":""},"",{"$f":"IF(ISERROR(SMALL($W$7:$W$1504,ROWS($W$7:W1011))),\"\",SMALL($W$7:$W$1504,ROWS($W$7:W1011)))","v":""}]
[null,"Birštono sav.","Darbo užmokestis | mėnesinis | bruto | EUR  (nuo 2019 m. keitėsi rodiklio skaičiavimas)",491.5,496.1,496.7,525.9,545.6,568.9,624.6,715.2,770.1,1065,1176.4000000000001,1247.8,1394.9,null,{"$f":"ROWS($R$7:R1012)","v":1006},"",{"$f":"IF(ISERROR(SMALL($S$7:$S$1504,ROWS($S$7:S1012))),\"\",SMALL($S$7:$S$1504,ROWS($S$7:S1012)))","v":""},"",{"$f":"IF(ISERROR(SMALL($U$7:$U$1504,ROWS(U$7:$U1012))),\"\",SMALL($U$7:$U$1504,ROWS(U$7:$U1012)))","v":""},"",{"$f":"IF(ISERROR(SMALL($W$7:$W$1504,ROWS($W$7:W1012))),\"\",SMALL($W$7:$W$1504,ROWS($W$7:W1012)))","v":""}]
[null,"Jonavos r. sav.","Darbo užmokestis | mėnesinis | bruto | EUR  (nuo 2019 m. keitėsi rodiklio skaičiavimas)",518.4,605.6,626.20000000000005,646.4,684.2,724.4,777.2,823.4,873.3,1251.8,1347.8,1476.7,1677.5,null,{"$f":"ROWS($R$7:R1013)","v":1007},"",{"$f":"IF(ISERROR(SMALL($S$7:$S$1504,ROWS($S$7:S1013))),\"\",SMALL($S$7:$S$1504,ROWS($S$7:S1013)))","v":""},"",{"$f":"IF(ISERROR(SMALL($U$7:$U$1504,ROWS(U$7:$U1013))),\"\",SMALL($U$7:$U$1504,ROWS(U$7:$U1013)))","v":""},"",{"$f":"IF(ISERROR(SMALL($W$7:$W$1504,ROWS($W$7:W1013))),\"\",SMALL($W$7:$W$1504,ROWS($W$7:W1013)))","v":""}]
[null,"Kaišiadorių r. sav.","Darbo užmokestis | mėnesinis | bruto | EUR  (nuo 2019 m. keitėsi rodiklio skaičiavimas)",484.8,492.4,502.2,539.6,565,618.79999999999995,676.3,735.9,799.4,1130.4000000000001,1253.8,1367.9,1501.2,null,{"$f":"ROWS($R$7:R1014)","v":1008},"",{"$f":"IF(ISERROR(SMALL($S$7:$S$1504,ROWS($S$7:S1014))),\"\",SMALL($S$7:$S$1504,ROWS($S$7:S1014)))","v":""},"",{"$f":"IF(ISERROR(SMALL($U$7:$U$1504,ROWS(U$7:$U1014))),\"\",SMALL($U$7:$U$1504,ROWS(U$7:$U1014)))","v":""},"",{"$f":"IF(ISERROR(SMALL($W$7:$W$1504,ROWS($W$7:W1014))),\"\",SMALL($W$7:$W$1504,ROWS($W$7:W1014)))","v":""}]
[null,"Kauno m. sav.","Darbo užmokestis | mėnesinis | bruto | EUR  (nuo 2019 m. keitėsi rodiklio skaičiavimas)",568.5,588.20000000000005,607.29999999999995,645.29999999999995,679.8,713.9,780.1,854.5,941.5,1328.3,1466.6,1656.5,1870.1,null,{"$f":"ROWS($R$7:R1015)","v":1009},"",{"$f":"IF(ISERROR(SMALL($S$7:$S$1504,ROWS($S$7:S1015))),\"\",SMALL($S$7:$S$1504,ROWS($S$7:S1015)))","v":""},"",{"$f":"IF(ISERROR(SMALL($U$7:$U$1504,ROWS(U$7:$U1015))),\"\",SMALL($U$7:$U$1504,ROWS(U$7:$U1015)))","v":""},"",{"$f":"IF(ISERROR(SMALL($W$7:$W$1504,ROWS($W$7:W1015))),\"\",SMALL($W$7:$W$1504,ROWS($W$7:W1015)))","v":""}]
[null,"Kauno r. sav.","Darbo užmokestis | mėnesinis | bruto | EUR  (nuo 2019 m. keitėsi rodiklio skaičiavimas)",501.6,506.5,541.6,573.20000000000005,583.4,638.5,725.5,785.8,861.2,1236.2,1376.3,1542.7,1783.8,null,{"$f":"ROWS($R$7:R1016)","v":1010},"",{"$f":"IF(ISERROR(SMALL($S$7:$S$1504,ROWS($S$7:S1016))),\"\",SMALL($S$7:$S$1504,ROWS($S$7:S1016)))","v":""},"",{"$f":"IF(ISERROR(SMALL($U$7:$U$1504,ROWS(U$7:$U1016))),\"\",SMALL($U$7:$U$1504,ROWS(U$7:$U1016)))","v":""},"",{"$f":"IF(ISERROR(SMALL($W$7:$W$1504,ROWS($W$7:W1016))),\"\",SMALL($W$7:$W$1504,ROWS($W$7:W1016)))","v":""}]
[null,"Kėdainių r. sav.","Darbo užmokestis | mėnesinis | bruto | EUR  (nuo 2019 m. keitėsi rodiklio skaičiavimas)",550.29999999999995,570,594.9,620.4,655.20000000000005,726.7,776.6,819.8,894.8,1235.7,1391.6,1522.4,1632.5,null,{"$f":"ROWS($R$7:R1017)","v":1011},"",{"$f":"IF(ISERROR(SMALL($S$7:$S$1504,ROWS($S$7:S1017))),\"\",SMALL($S$7:$S$1504,ROWS($S$7:S1017)))","v":""},"",{"$f":"IF(ISERROR(SMALL($U$7:$U$1504,ROWS(U$7:$U1017))),\"\",SMALL($U$7:$U$1504,ROWS(U$7:$U1017)))","v":""},"",{"$f":"IF(ISERROR(SMALL($W$7:$W$1504,ROWS($W$7:W1017))),\"\",SMALL($W$7:$W$1504,ROWS($W$7:W1017)))","v":""}]
[null,"Prienų r. sav.","Darbo užmokestis | mėnesinis | bruto | EUR  (nuo 2019 m. keitėsi rodiklio skaičiavimas)",447.5,455,466,486.3,503.9,546.5,599.1,651.6,698.7,995.9,1114.9000000000001,1223.3,1385.2,null,{"$f":"ROWS($R$7:R1018)","v":1012},"",{"$f":"IF(ISERROR(SMALL($S$7:$S$1504,ROWS($S$7:S1018))),\"\",SMALL($S$7:$S$1504,ROWS($S$7:S1018)))","v":""},"",{"$f":"IF(ISERROR(SMALL($U$7:$U$1504,ROWS(U$7:$U1018))),\"\",SMALL($U$7:$U$1504,ROWS(U$7:$U1018)))","v":""},"",{"$f":"IF(ISERROR(SMALL($W$7:$W$1504,ROWS($W$7:W1018))),\"\",SMALL($W$7:$W$1504,ROWS($W$7:W1018)))","v":""}]
[null,"Raseinių r. sav.","Darbo užmokestis | mėnesinis | bruto | EUR  (nuo 2019 m. keitėsi rodiklio skaičiavimas)",444.6,453.3,474.1,498.1,528.70000000000005,552.4,617.4,669,725.3,1037.8,1138.3,1249.9000000000001,1434.4,null,{"$f":"ROWS($R$7:R1019)","v":1013},"",{"$f":"IF(ISERROR(SMALL($S$7:$S$1504,ROWS($S$7:S1019))),\"\",SMALL($S$7:$S$1504,ROWS($S$7:S1019)))","v":""},"",{"$f":"IF(ISERROR(SMALL($U$7:$U$1504,ROWS(U$7:$U1019))),\"\",SMALL($U$7:$U$1504,ROWS(U$7:$U1019)))","v":""},"",{"$f":"IF(ISERROR(SMALL($W$7:$W$1504,ROWS($W$7:W1019))),\"\",SMALL($W$7:$W$1504,ROWS($W$7:W1019)))","v":""}]
[null,"Klaipėdos apskritis","Darbo užmokestis | mėnesinis | bruto | EUR  (nuo 2019 m. keitėsi rodiklio skaičiavimas)",576,586,603.79999999999995,628.70000000000005,657.3,694.5,753,806.6,887.2,1225.5,1350.5,1473.3,1647,null,{"$f":"ROWS($R$7:R1020)","v":1014},"",{"$f":"IF(ISERROR(SMALL($S$7:$S$1504,ROWS($S$7:S1020))),\"\",SMALL($S$7:$S$1504,ROWS($S$7:S1020)))","v":""},"",{"$f":"IF(ISERROR(SMALL($U$7:$U$1504,ROWS(U$7:$U1020))),\"\",SMALL($U$7:$U$1504,ROWS(U$7:$U1020)))","v":""},"",{"$f":"IF(ISERROR(SMALL($W$7:$W$1504,ROWS($W$7:W1020))),\"\",SMALL($W$7:$W$1504,ROWS($W$7:W1020)))","v":""}]
[null,"Klaipėdos m. sav.","Darbo užmokestis | mėnesinis | bruto | EUR  (nuo 2019 m. keitėsi rodiklio skaičiavimas)",625,639.20000000000005,659.2,685.2,722.6,759.2,818.2,878.3,970.4,1322.4,1459.5,1592.7,1772.7,null,{"$f":"ROWS($R$7:R1021)","v":1015},"",{"$f":"IF(ISERROR(SMALL($S$7:$S$1504,ROWS($S$7:S1021))),\"\",SMALL($S$7:$S$1504,ROWS($S$7:S1021)))","v":""},"",{"$f":"IF(ISERROR(SMALL($U$7:$U$1504,ROWS(U$7:$U1021))),\"\",SMALL($U$7:$U$1504,ROWS(U$7:$U1021)))","v":""},"",{"$f":"IF(ISERROR(SMALL($W$7:$W$1504,ROWS($W$7:W1021))),\"\",SMALL($W$7:$W$1504,ROWS($W$7:W1021)))","v":""}]
[null,"Klaipėdos r. sav.","Darbo užmokestis | mėnesinis | bruto | EUR  (nuo 2019 m. keitėsi rodiklio skaičiavimas)",563,571.4,587.1,597.79999999999995,601.9,644.1,707.4,743.9,801,1146.8,1272.8,1366.5,1551.3,null,{"$f":"ROWS($R$7:R1022)","v":1016},"",{"$f":"IF(ISERROR(SMALL($S$7:$S$1504,ROWS($S$7:S1022))),\"\",SMALL($S$7:$S$1504,ROWS($S$7:S1022)))","v":""},"",{"$f":"IF(ISERROR(SMALL($U$7:$U$1504,ROWS(U$7:$U1022))),\"\",SMALL($U$7:$U$1504,ROWS(U$7:$U1022)))","v":""},"",{"$f":"IF(ISERROR(SMALL($W$7:$W$1504,ROWS($W$7:W1022))),\"\",SMALL($W$7:$W$1504,ROWS($W$7:W1022)))","v":""}]
[null,"Kretingos r. sav.","Darbo užmokestis | mėnesinis | bruto | EUR  (nuo 2019 m. keitėsi rodiklio skaičiavimas)",444.3,442.2,460.5,486.9,505.2,543.29999999999995,614.5,652,714,996.6,1099.2,1197.5999999999999,1335.4,null,{"$f":"ROWS($R$7:R1023)","v":1017},"",{"$f":"IF(ISERROR(SMALL($S$7:$S$1504,ROWS($S$7:S1023))),\"\",SMALL($S$7:$S$1504,ROWS($S$7:S1023)))","v":""},"",{"$f":"IF(ISERROR(SMALL($U$7:$U$1504,ROWS(U$7:$U1023))),\"\",SMALL($U$7:$U$1504,ROWS(U$7:$U1023)))","v":""},"",{"$f":"IF(ISERROR(SMALL($W$7:$W$1504,ROWS($W$7:W1023))),\"\",SMALL($W$7:$W$1504,ROWS($W$7:W1023)))","v":""}]
[null,"Neringos sav.","Darbo užmokestis | mėnesinis | bruto | EUR  (nuo 2019 m. keitėsi rodiklio skaičiavimas)",465.1,457,462.5,499.6,523.29999999999995,566.70000000000005,637.9,722.8,806.2,1115.2,1178.0999999999999,1373.9,1436.4,null,{"$f":"ROWS($R$7:R1024)","v":1018},"",{"$f":"IF(ISERROR(SMALL($S$7:$S$1504,ROWS($S$7:S1024))),\"\",SMALL($S$7:$S$1504,ROWS($S$7:S1024)))","v":""},"",{"$f":"IF(ISERROR(SMALL($U$7:$U$1504,ROWS(U$7:$U1024))),\"\",SMALL($U$7:$U$1504,ROWS(U$7:$U1024)))","v":""},"",{"$f":"IF(ISERROR(SMALL($W$7:$W$1504,ROWS($W$7:W1024))),\"\",SMALL($W$7:$W$1504,ROWS($W$7:W1024)))","v":""}]
[null,"Palangos m. sav.","Darbo užmokestis | mėnesinis | bruto | EUR  (nuo 2019 m. keitėsi rodiklio skaičiavimas)",448.6,447.2,451.8,479.9,496.5,539.9,582.6,641.6,702.2,985.1,1067.9000000000001,1214.2,1358.2,null,{"$f":"ROWS($R$7:R1025)","v":1019},"",{"$f":"IF(ISERROR(SMALL($S$7:$S$1504,ROWS($S$7:S1025))),\"\",SMALL($S$7:$S$1504,ROWS($S$7:S1025)))","v":""},"",{"$f":"IF(ISERROR(SMALL($U$7:$U$1504,ROWS(U$7:$U1025))),\"\",SMALL($U$7:$U$1504,ROWS(U$7:$U1025)))","v":""},"",{"$f":"IF(ISERROR(SMALL($W$7:$W$1504,ROWS($W$7:W1025))),\"\",SMALL($W$7:$W$1504,ROWS($W$7:W1025)))","v":""}]
[null,"Skuodo r. sav.","Darbo užmokestis | mėnesinis | bruto | EUR  (nuo 2019 m. keitėsi rodiklio skaičiavimas)",482.2,477.3,468.3,487.1,511.5,549.5,579.79999999999995,609.79999999999995,667,952.7,1068.5999999999999,1156.4000000000001,1342.3,null,{"$f":"ROWS($R$7:R1026)","v":1020},"",{"$f":"IF(ISERROR(SMALL($S$7:$S$1504,ROWS($S$7:S1026))),\"\",SMALL($S$7:$S$1504,ROWS($S$7:S1026)))","v":""},"",{"$f":"IF(ISERROR(SMALL($U$7:$U$1504,ROWS(U$7:$U1026))),\"\",SMALL($U$7:$U$1504,ROWS(U$7:$U1026)))","v":""},"",{"$f":"IF(ISERROR(SMALL($W$7:$W$1504,ROWS($W$7:W1026))),\"\",SMALL($W$7:$W$1504,ROWS($W$7:W1026)))","v":""}]
[null,"Šilutės r. sav.","Darbo užmokestis | mėnesinis | bruto | EUR  (nuo 2019 m. keitėsi rodiklio skaičiavimas)",476.1,481.1,499.3,526.5,535.5,567.20000000000005,611.29999999999995,668.3,746.7,1054,1152.8,1266.8,1416.1,null,{"$f":"ROWS($R$7:R1027)","v":1021},"",{"$f":"IF(ISERROR(SMALL($S$7:$S$1504,ROWS($S$7:S1027))),\"\",SMALL($S$7:$S$1504,ROWS($S$7:S1027)))","v":""},"",{"$f":"IF(ISERROR(SMALL($U$7:$U$1504,ROWS(U$7:$U1027))),\"\",SMALL($U$7:$U$1504,ROWS(U$7:$U1027)))","v":""},"",{"$f":"IF(ISERROR(SMALL($W$7:$W$1504,ROWS($W$7:W1027))),\"\",SMALL($W$7:$W$1504,ROWS($W$7:W1027)))","v":""}]
[null,"Marijampolės apskritis","Darbo užmokestis | mėnesinis | bruto | EUR  (nuo 2019 m. keitėsi rodiklio skaičiavimas)",470,480.5,499.8,532.4,560.79999999999995,586.1,637.4,686.7,754.1,1057.2,1173.3,1272.0999999999999,1426.9,null,{"$f":"ROWS($R$7:R1028)","v":1022},"",{"$f":"IF(ISERROR(SMALL($S$7:$S$1504,ROWS($S$7:S1028))),\"\",SMALL($S$7:$S$1504,ROWS($S$7:S1028)))","v":""},"",{"$f":"IF(ISERROR(SMALL($U$7:$U$1504,ROWS(U$7:$U1028))),\"\",SMALL($U$7:$U$1504,ROWS(U$7:$U1028)))","v":""},"",{"$f":"IF(ISERROR(SMALL($W$7:$W$1504,ROWS($W$7:W1028))),\"\",SMALL($W$7:$W$1504,ROWS($W$7:W1028)))","v":""}]
[null,"Kalvarijos sav.","Darbo užmokestis | mėnesinis | bruto | EUR  (nuo 2019 m. keitėsi rodiklio skaičiavimas)",422,415.9,442.2,475.6,492.6,516.5,566.70000000000005,610.4,641.70000000000005,922.1,1064.5999999999999,1192.3,1360.8,null,{"$f":"ROWS($R$7:R1029)","v":1023},"",{"$f":"IF(ISERROR(SMALL($S$7:$S$1504,ROWS($S$7:S1029))),\"\",SMALL($S$7:$S$1504,ROWS($S$7:S1029)))","v":""},"",{"$f":"IF(ISERROR(SMALL($U$7:$U$1504,ROWS(U$7:$U1029))),\"\",SMALL($U$7:$U$1504,ROWS(U$7:$U1029)))","v":""},"",{"$f":"IF(ISERROR(SMALL($W$7:$W$1504,ROWS($W$7:W1029))),\"\",SMALL($W$7:$W$1504,ROWS($W$7:W1029)))","v":""}]
[null,"Kazlų Rūdos sav.","Darbo užmokestis | mėnesinis | bruto | EUR  (nuo 2019 m. keitėsi rodiklio skaičiavimas)",539,563.6,594,638,646.4,666.6,733.2,805.7,885.3,1159.7,1228.7,1337,1486.1,null,{"$f":"ROWS($R$7:R1030)","v":1024},"",{"$f":"IF(ISERROR(SMALL($S$7:$S$1504,ROWS($S$7:S1030))),\"\",SMALL($S$7:$S$1504,ROWS($S$7:S1030)))","v":""},"",{"$f":"IF(ISERROR(SMALL($U$7:$U$1504,ROWS(U$7:$U1030))),\"\",SMALL($U$7:$U$1504,ROWS(U$7:$U1030)))","v":""},"",{"$f":"IF(ISERROR(SMALL($W$7:$W$1504,ROWS($W$7:W1030))),\"\",SMALL($W$7:$W$1504,ROWS($W$7:W1030)))","v":""}]
[null,"Marijampolės sav.","Darbo užmokestis | mėnesinis | bruto | EUR  (nuo 2019 m. keitėsi rodiklio skaičiavimas)",480.8,491.5,511.2,543.29999999999995,578.79999999999995,604.5,654.79999999999995,701.6,773.4,1094.3,1216.3,1314.5,1467.4,null,{"$f":"ROWS($R$7:R1031)","v":1025},{"$f":"IF(ISNUMBER(SEARCH($R$3,B1031)),R1031,\"\")","v":""},{"$f":"IF(ISERROR(SMALL($S$7:$S$1504,ROWS($S$7:S1031))),\"\",SMALL($S$7:$S$1504,ROWS($S$7:S1031)))","v":""},{"$f":"IF($R$4=B1031,R1031,\"\")","v":""},{"$f":"IF(ISERROR(SMALL($U$7:$U$1504,ROWS(U$7:$U1031))),\"\",SMALL($U$7:$U$1504,ROWS(U$7:$U1031)))","v":""},{"$f":"IF(\"Lietuvos Respublika\"=B1031,R1031,\"\")","v":""},{"$f":"IF(ISERROR(SMALL($W$7:$W$1504,ROWS($W$7:W1031))),\"\",SMALL($W$7:$W$1504,ROWS($W$7:W1031)))","v":""}]
[null,"Marijampolės r. sav.","Darbo užmokestis | mėnesinis | bruto | EUR  (nuo 2019 m. keitėsi rodiklio skaičiavimas)",null,null,null,null,null,null,0,0,0,0,0,0,0,null,{"$f":"ROWS($R$7:R1032)","v":1026},"",{"$f":"IF(ISERROR(SMALL($S$7:$S$1504,ROWS($S$7:S1032))),\"\",SMALL($S$7:$S$1504,ROWS($S$7:S1032)))","v":""},"",{"$f":"IF(ISERROR(SMALL($U$7:$U$1504,ROWS(U$7:$U1032))),\"\",SMALL($U$7:$U$1504,ROWS(U$7:$U1032)))","v":""},"",{"$f":"IF(ISERROR(SMALL($W$7:$W$1504,ROWS($W$7:W1032))),\"\",SMALL($W$7:$W$1504,ROWS($W$7:W1032)))","v":""}]
[null,"Šakių r. sav.","Darbo užmokestis | mėnesinis | bruto | EUR  (nuo 2019 m. keitėsi rodiklio skaičiavimas)",452.7,459,480.8,507.4,529.9,558,610.70000000000005,663.7,721.5,1041.3,1131.7,1218.0999999999999,1398.7,null,{"$f":"ROWS($R$7:R1033)","v":1027},"",{"$f":"IF(ISERROR(SMALL($S$7:$S$1504,ROWS($S$7:S1033))),\"\",SMALL($S$7:$S$1504,ROWS($S$7:S1033)))","v":""},"",{"$f":"IF(ISERROR(SMALL($U$7:$U$1504,ROWS(U$7:$U1033))),\"\",SMALL($U$7:$U$1504,ROWS(U$7:$U1033)))","v":""},"",{"$f":"IF(ISERROR(SMALL($W$7:$W$1504,ROWS($W$7:W1033))),\"\",SMALL($W$7:$W$1504,ROWS($W$7:W1033)))","v":""}]
[null,"Vilkaviškio r. sav.","Darbo užmokestis | mėnesinis | bruto | EUR  (nuo 2019 m. keitėsi rodiklio skaičiavimas)",433.6,446.3,454.7,489.7,512.20000000000005,536.20000000000005,582,625.79999999999995,697.6,942.8,1073.5,1172.7,1305.0999999999999,null,{"$f":"ROWS($R$7:R1034)","v":1028},"",{"$f":"IF(ISERROR(SMALL($S$7:$S$1504,ROWS($S$7:S1034))),\"\",SMALL($S$7:$S$1504,ROWS($S$7:S1034)))","v":""},"",{"$f":"IF(ISERROR(SMALL($U$7:$U$1504,ROWS(U$7:$U1034))),\"\",SMALL($U$7:$U$1504,ROWS(U$7:$U1034)))","v":""},"",{"$f":"IF(ISERROR(SMALL($W$7:$W$1504,ROWS($W$7:W1034))),\"\",SMALL($W$7:$W$1504,ROWS($W$7:W1034)))","v":""}]
[null,"Panevėžio apskritis","Darbo užmokestis | mėnesinis | bruto | EUR  (nuo 2019 m. keitėsi rodiklio skaičiavimas)",491.6,511.6,528.6,555.9,586.70000000000005,621.6,676.1,735.2,801,1117.2,1224.8,1335.6,1502.9,null,{"$f":"ROWS($R$7:R1035)","v":1029},"",{"$f":"IF(ISERROR(SMALL($S$7:$S$1504,ROWS($S$7:S1035))),\"\",SMALL($S$7:$S$1504,ROWS($S$7:S1035)))","v":""},"",{"$f":"IF(ISERROR(SMALL($U$7:$U$1504,ROWS(U$7:$U1035))),\"\",SMALL($U$7:$U$1504,ROWS(U$7:$U1035)))","v":""},"",{"$f":"IF(ISERROR(SMALL($W$7:$W$1504,ROWS($W$7:W1035))),\"\",SMALL($W$7:$W$1504,ROWS($W$7:W1035)))","v":""}]
[null,"Biržų r. sav.","Darbo užmokestis | mėnesinis | bruto | EUR  (nuo 2019 m. keitėsi rodiklio skaičiavimas)",459.9,472.1,480.2,500.2,537,564.9,616.79999999999995,654.4,690.7,995,1121.0999999999999,1202.7,1348.3,null,{"$f":"ROWS($R$7:R1036)","v":1030},"",{"$f":"IF(ISERROR(SMALL($S$7:$S$1504,ROWS($S$7:S1036))),\"\",SMALL($S$7:$S$1504,ROWS($S$7:S1036)))","v":""},"",{"$f":"IF(ISERROR(SMALL($U$7:$U$1504,ROWS(U$7:$U1036))),\"\",SMALL($U$7:$U$1504,ROWS(U$7:$U1036)))","v":""},"",{"$f":"IF(ISERROR(SMALL($W$7:$W$1504,ROWS($W$7:W1036))),\"\",SMALL($W$7:$W$1504,ROWS($W$7:W1036)))","v":""}]
[null,"Kupiškio r. sav.","Darbo užmokestis | mėnesinis | bruto | EUR  (nuo 2019 m. keitėsi rodiklio skaičiavimas)",463.1,466.6,480.8,508.6,530.5,540.70000000000005,580.29999999999995,645.20000000000005,707.7,995.8,1130.9000000000001,1267.3,1351.8,null,{"$f":"ROWS($R$7:R1037)","v":1031},"",{"$f":"IF(ISERROR(SMALL($S$7:$S$1504,ROWS($S$7:S1037))),\"\",SMALL($S$7:$S$1504,ROWS($S$7:S1037)))","v":""},"",{"$f":"IF(ISERROR(SMALL($U$7:$U$1504,ROWS(U$7:$U1037))),\"\",SMALL($U$7:$U$1504,ROWS(U$7:$U1037)))","v":""},"",{"$f":"IF(ISERROR(SMALL($W$7:$W$1504,ROWS($W$7:W1037))),\"\",SMALL($W$7:$W$1504,ROWS($W$7:W1037)))","v":""}]
[null,"Panevėžio m. sav.","Darbo užmokestis | mėnesinis | bruto | EUR  (nuo 2019 m. keitėsi rodiklio skaičiavimas)",519.9,546.79999999999995,566.20000000000005,597.20000000000005,632.5,672.3,722.8,792.5,861.3,1194.9000000000001,1295.7,1407.1,1598.8,null,{"$f":"ROWS($R$7:R1038)","v":1032},"",{"$f":"IF(ISERROR(SMALL($S$7:$S$1504,ROWS($S$7:S1038))),\"\",SMALL($S$7:$S$1504,ROWS($S$7:S1038)))","v":""},"",{"$f":"IF(ISERROR(SMALL($U$7:$U$1504,ROWS(U$7:$U1038))),\"\",SMALL($U$7:$U$1504,ROWS(U$7:$U1038)))","v":""},"",{"$f":"IF(ISERROR(SMALL($W$7:$W$1504,ROWS($W$7:W1038))),\"\",SMALL($W$7:$W$1504,ROWS($W$7:W1038)))","v":""}]
[null,"Panevėžio r. sav.","Darbo užmokestis | mėnesinis | bruto | EUR  (nuo 2019 m. keitėsi rodiklio skaičiavimas)",424,430.7,466.9,488.9,515.6,538.20000000000005,623.6,655.7,728.5,1026.2,1140.5999999999999,1271,1387.3,null,{"$f":"ROWS($R$7:R1039)","v":1033},"",{"$f":"IF(ISERROR(SMALL($S$7:$S$1504,ROWS($S$7:S1039))),\"\",SMALL($S$7:$S$1504,ROWS($S$7:S1039)))","v":""},"",{"$f":"IF(ISERROR(SMALL($U$7:$U$1504,ROWS(U$7:$U1039))),\"\",SMALL($U$7:$U$1504,ROWS(U$7:$U1039)))","v":""},"",{"$f":"IF(ISERROR(SMALL($W$7:$W$1504,ROWS($W$7:W1039))),\"\",SMALL($W$7:$W$1504,ROWS($W$7:W1039)))","v":""}]
[null,"Pasvalio r. sav.","Darbo užmokestis | mėnesinis | bruto | EUR  (nuo 2019 m. keitėsi rodiklio skaičiavimas)",464.3,479.6,481.6,502.2,519.9,565.5,612.79999999999995,670.3,743.6,1021.1,1134.3,1221.7,1366.8,null,{"$f":"ROWS($R$7:R1040)","v":1034},"",{"$f":"IF(ISERROR(SMALL($S$7:$S$1504,ROWS($S$7:S1040))),\"\",SMALL($S$7:$S$1504,ROWS($S$7:S1040)))","v":""},"",{"$f":"IF(ISERROR(SMALL($U$7:$U$1504,ROWS(U$7:$U1040))),\"\",SMALL($U$7:$U$1504,ROWS(U$7:$U1040)))","v":""},"",{"$f":"IF(ISERROR(SMALL($W$7:$W$1504,ROWS($W$7:W1040))),\"\",SMALL($W$7:$W$1504,ROWS($W$7:W1040)))","v":""}]
[null,"Rokiškio r. sav.","Darbo užmokestis | mėnesinis | bruto | EUR  (nuo 2019 m. keitėsi rodiklio skaičiavimas)",478.2,493.2,502.8,532.9,558,588.1,639.6,686.8,742,1047.5999999999999,1155.3,1258.8,1418.7,null,{"$f":"ROWS($R$7:R1041)","v":1035},"",{"$f":"IF(ISERROR(SMALL($S$7:$S$1504,ROWS($S$7:S1041))),\"\",SMALL($S$7:$S$1504,ROWS($S$7:S1041)))","v":""},"",{"$f":"IF(ISERROR(SMALL($U$7:$U$1504,ROWS(U$7:$U1041))),\"\",SMALL($U$7:$U$1504,ROWS(U$7:$U1041)))","v":""},"",{"$f":"IF(ISERROR(SMALL($W$7:$W$1504,ROWS($W$7:W1041))),\"\",SMALL($W$7:$W$1504,ROWS($W$7:W1041)))","v":""}]
[null,"Šiaulių apskritis","Darbo užmokestis | mėnesinis | bruto | EUR  (nuo 2019 m. keitėsi rodiklio skaičiavimas)",483.3,493.8,506.3,537.20000000000005,559.20000000000005,596.70000000000005,654.1,708.6,772.8,1069.7,1210.5,1317.6,1485.9,null,{"$f":"ROWS($R$7:R1042)","v":1036},"",{"$f":"IF(ISERROR(SMALL($S$7:$S$1504,ROWS($S$7:S1042))),\"\",SMALL($S$7:$S$1504,ROWS($S$7:S1042)))","v":""},"",{"$f":"IF(ISERROR(SMALL($U$7:$U$1504,ROWS(U$7:$U1042))),\"\",SMALL($U$7:$U$1504,ROWS(U$7:$U1042)))","v":""},"",{"$f":"IF(ISERROR(SMALL($W$7:$W$1504,ROWS($W$7:W1042))),\"\",SMALL($W$7:$W$1504,ROWS($W$7:W1042)))","v":""}]
[null,"Akmenės r. sav.","Darbo užmokestis | mėnesinis | bruto | EUR  (nuo 2019 m. keitėsi rodiklio skaičiavimas)",509.7,543.6,585.29999999999995,606.20000000000005,612.79999999999995,648.6,691.7,737.1,799.4,1114.7,1259,1377.1,1532.7,null,{"$f":"ROWS($R$7:R1043)","v":1037},"",{"$f":"IF(ISERROR(SMALL($S$7:$S$1504,ROWS($S$7:S1043))),\"\",SMALL($S$7:$S$1504,ROWS($S$7:S1043)))","v":""},"",{"$f":"IF(ISERROR(SMALL($U$7:$U$1504,ROWS(U$7:$U1043))),\"\",SMALL($U$7:$U$1504,ROWS(U$7:$U1043)))","v":""},"",{"$f":"IF(ISERROR(SMALL($W$7:$W$1504,ROWS($W$7:W1043))),\"\",SMALL($W$7:$W$1504,ROWS($W$7:W1043)))","v":""}]
[null,"Joniškio r. sav.","Darbo užmokestis | mėnesinis | bruto | EUR  (nuo 2019 m. keitėsi rodiklio skaičiavimas)",458.2,474.1,499.6,515.5,537.29999999999995,572,610.29999999999995,672,740,1025.5999999999999,1141.7,1240.9000000000001,1414.4,null,{"$f":"ROWS($R$7:R1044)","v":1038},"",{"$f":"IF(ISERROR(SMALL($S$7:$S$1504,ROWS($S$7:S1044))),\"\",SMALL($S$7:$S$1504,ROWS($S$7:S1044)))","v":""},"",{"$f":"IF(ISERROR(SMALL($U$7:$U$1504,ROWS(U$7:$U1044))),\"\",SMALL($U$7:$U$1504,ROWS(U$7:$U1044)))","v":""},"",{"$f":"IF(ISERROR(SMALL($W$7:$W$1504,ROWS($W$7:W1044))),\"\",SMALL($W$7:$W$1504,ROWS($W$7:W1044)))","v":""}]
[null,"Kelmės r. sav.","Darbo užmokestis | mėnesinis | bruto | EUR  (nuo 2019 m. keitėsi rodiklio skaičiavimas)",448.9,459,471.8,490.3,508.4,540.6,587,625.5,700.8,996.9,1146.0999999999999,1193,1330.6,null,{"$f":"ROWS($R$7:R1045)","v":1039},"",{"$f":"IF(ISERROR(SMALL($S$7:$S$1504,ROWS($S$7:S1045))),\"\",SMALL($S$7:$S$1504,ROWS($S$7:S1045)))","v":""},"",{"$f":"IF(ISERROR(SMALL($U$7:$U$1504,ROWS(U$7:$U1045))),\"\",SMALL($U$7:$U$1504,ROWS(U$7:$U1045)))","v":""},"",{"$f":"IF(ISERROR(SMALL($W$7:$W$1504,ROWS($W$7:W1045))),\"\",SMALL($W$7:$W$1504,ROWS($W$7:W1045)))","v":""}]
[null,"Pakruojo r. sav.","Darbo užmokestis | mėnesinis | bruto | EUR  (nuo 2019 m. keitėsi rodiklio skaičiavimas)",484.8,503.4,514.9,541.6,561.6,580.1,639.29999999999995,692.7,769.3,1081.5,1217.2,1322.2,1494.8,null,{"$f":"ROWS($R$7:R1046)","v":1040},"",{"$f":"IF(ISERROR(SMALL($S$7:$S$1504,ROWS($S$7:S1046))),\"\",SMALL($S$7:$S$1504,ROWS($S$7:S1046)))","v":""},"",{"$f":"IF(ISERROR(SMALL($U$7:$U$1504,ROWS(U$7:$U1046))),\"\",SMALL($U$7:$U$1504,ROWS(U$7:$U1046)))","v":""},"",{"$f":"IF(ISERROR(SMALL($W$7:$W$1504,ROWS($W$7:W1046))),\"\",SMALL($W$7:$W$1504,ROWS($W$7:W1046)))","v":""}]
[null,"Radviliškio r. sav.","Darbo užmokestis | mėnesinis | bruto | EUR  (nuo 2019 m. keitėsi rodiklio skaičiavimas)",411.3,434.7,440.8,470.1,493,522.1,585.79999999999995,636.70000000000005,690.6,950,1063.3,1176.4000000000001,1338.4,null,{"$f":"ROWS($R$7:R1047)","v":1041},"",{"$f":"IF(ISERROR(SMALL($S$7:$S$1504,ROWS($S$7:S1047))),\"\",SMALL($S$7:$S$1504,ROWS($S$7:S1047)))","v":""},"",{"$f":"IF(ISERROR(SMALL($U$7:$U$1504,ROWS(U$7:$U1047))),\"\",SMALL($U$7:$U$1504,ROWS(U$7:$U1047)))","v":""},"",{"$f":"IF(ISERROR(SMALL($W$7:$W$1504,ROWS($W$7:W1047))),\"\",SMALL($W$7:$W$1504,ROWS($W$7:W1047)))","v":""}]
[null,"Šiaulių m. sav.","Darbo užmokestis | mėnesinis | bruto | EUR  (nuo 2019 m. keitėsi rodiklio skaičiavimas)",508.6,513.79999999999995,522.79999999999995,558.70000000000005,582.9,620.6,682,738.6,803.2,1106.5999999999999,1259.4000000000001,1370.3,1546,null,{"$f":"ROWS($R$7:R1048)","v":1042},"",{"$f":"IF(ISERROR(SMALL($S$7:$S$1504,ROWS($S$7:S1048))),\"\",SMALL($S$7:$S$1504,ROWS($S$7:S1048)))","v":""},"",{"$f":"IF(ISERROR(SMALL($U$7:$U$1504,ROWS(U$7:$U1048))),\"\",SMALL($U$7:$U$1504,ROWS(U$7:$U1048)))","v":""},"",{"$f":"IF(ISERROR(SMALL($W$7:$W$1504,ROWS($W$7:W1048))),\"\",SMALL($W$7:$W$1504,ROWS($W$7:W1048)))","v":""}]
[null,"Šiaulių r. sav.","Darbo užmokestis | mėnesinis | bruto | EUR  (nuo 2019 m. keitėsi rodiklio skaičiavimas)",427.8,430.1,445.7,473.5,499.4,554.20000000000005,605.20000000000005,659.8,706.3,979.7,1090.5999999999999,1199.2,1347.9,null,{"$f":"ROWS($R$7:R1049)","v":1043},"",{"$f":"IF(ISERROR(SMALL($S$7:$S$1504,ROWS($S$7:S1049))),\"\",SMALL($S$7:$S$1504,ROWS($S$7:S1049)))","v":""},"",{"$f":"IF(ISERROR(SMALL($U$7:$U$1504,ROWS(U$7:$U1049))),\"\",SMALL($U$7:$U$1504,ROWS(U$7:$U1049)))","v":""},"",{"$f":"IF(ISERROR(SMALL($W$7:$W$1504,ROWS($W$7:W1049))),\"\",SMALL($W$7:$W$1504,ROWS($W$7:W1049)))","v":""}]
[null,"Tauragės apskritis","Darbo užmokestis | mėnesinis | bruto | EUR  (nuo 2019 m. keitėsi rodiklio skaičiavimas)",455.5,464.3,480.6,507,533.79999999999995,567.70000000000005,622.5,670.8,731,1009,1142,1236.9000000000001,1396.1,null,{"$f":"ROWS($R$7:R1050)","v":1044},"",{"$f":"IF(ISERROR(SMALL($S$7:$S$1504,ROWS($S$7:S1050))),\"\",SMALL($S$7:$S$1504,ROWS($S$7:S1050)))","v":""},"",{"$f":"IF(ISERROR(SMALL($U$7:$U$1504,ROWS(U$7:$U1050))),\"\",SMALL($U$7:$U$1504,ROWS(U$7:$U1050)))","v":""},"",{"$f":"IF(ISERROR(SMALL($W$7:$W$1504,ROWS($W$7:W1050))),\"\",SMALL($W$7:$W$1504,ROWS($W$7:W1050)))","v":""}]
[null,"Jurbarko r. sav.","Darbo užmokestis | mėnesinis | bruto | EUR  (nuo 2019 m. keitėsi rodiklio skaičiavimas)",470.9,477.6,480.2,501,515.4,546.5,601.1,621.29999999999995,705.1,997.9,1135.3,1210.7,1357.8,null,{"$f":"ROWS($R$7:R1051)","v":1045},"",{"$f":"IF(ISERROR(SMALL($S$7:$S$1504,ROWS($S$7:S1051))),\"\",SMALL($S$7:$S$1504,ROWS($S$7:S1051)))","v":""},"",{"$f":"IF(ISERROR(SMALL($U$7:$U$1504,ROWS(U$7:$U1051))),\"\",SMALL($U$7:$U$1504,ROWS(U$7:$U1051)))","v":""},"",{"$f":"IF(ISERROR(SMALL($W$7:$W$1504,ROWS($W$7:W1051))),\"\",SMALL($W$7:$W$1504,ROWS($W$7:W1051)))","v":""}]
[null,"Pagėgių sav.","Darbo užmokestis | mėnesinis | bruto | EUR  (nuo 2019 m. keitėsi rodiklio skaičiavimas)",535.5,521.9,506.3,546.20000000000005,589.79999999999995,634.9,683.6,733.3,723,1024.4000000000001,1157.5999999999999,1269.0999999999999,1435.8,null,{"$f":"ROWS($R$7:R1052)","v":1046},"",{"$f":"IF(ISERROR(SMALL($S$7:$S$1504,ROWS($S$7:S1052))),\"\",SMALL($S$7:$S$1504,ROWS($S$7:S1052)))","v":""},"",{"$f":"IF(ISERROR(SMALL($U$7:$U$1504,ROWS(U$7:$U1052))),\"\",SMALL($U$7:$U$1504,ROWS(U$7:$U1052)))","v":""},"",{"$f":"IF(ISERROR(SMALL($W$7:$W$1504,ROWS($W$7:W1052))),\"\",SMALL($W$7:$W$1504,ROWS($W$7:W1052)))","v":""}]
[null,"Šilalės r. sav.","Darbo užmokestis | mėnesinis | bruto | EUR  (nuo 2019 m. keitėsi rodiklio skaičiavimas)",444.3,454.1,479.6,500.5,526.5,552.70000000000005,618.9,648.20000000000005,705.2,975,1097.7,1165.0999999999999,1301.5999999999999,null,{"$f":"ROWS($R$7:R1053)","v":1047},"",{"$f":"IF(ISERROR(SMALL($S$7:$S$1504,ROWS($S$7:S1053))),\"\",SMALL($S$7:$S$1504,ROWS($S$7:S1053)))","v":""},"",{"$f":"IF(ISERROR(SMALL($U$7:$U$1504,ROWS(U$7:$U1053))),\"\",SMALL($U$7:$U$1504,ROWS(U$7:$U1053)))","v":""},"",{"$f":"IF(ISERROR(SMALL($W$7:$W$1504,ROWS($W$7:W1053))),\"\",SMALL($W$7:$W$1504,ROWS($W$7:W1053)))","v":""}]
[null,"Tauragės r. sav.","Darbo užmokestis | mėnesinis | bruto | EUR  (nuo 2019 m. keitėsi rodiklio skaičiavimas)",437.9,450.4,475.3,503.6,533.5,570.6,621.29999999999995,691.3,758.3,1028.5999999999999,1162.3,1278,1452,null,{"$f":"ROWS($R$7:R1054)","v":1048},"",{"$f":"IF(ISERROR(SMALL($S$7:$S$1504,ROWS($S$7:S1054))),\"\",SMALL($S$7:$S$1504,ROWS($S$7:S1054)))","v":""},"",{"$f":"IF(ISERROR(SMALL($U$7:$U$1504,ROWS(U$7:$U1054))),\"\",SMALL($U$7:$U$1504,ROWS(U$7:$U1054)))","v":""},"",{"$f":"IF(ISERROR(SMALL($W$7:$W$1504,ROWS($W$7:W1054))),\"\",SMALL($W$7:$W$1504,ROWS($W$7:W1054)))","v":""}]
[null,"Telšių apskritis","Darbo užmokestis | mėnesinis | bruto | EUR  (nuo 2019 m. keitėsi rodiklio skaičiavimas)",517.5,533.9,548.4,582.5,594.9,635.6,684.4,748.2,818.3,1122.9000000000001,1243.8,1370.8,1547.8,null,{"$f":"ROWS($R$7:R1055)","v":1049},"",{"$f":"IF(ISERROR(SMALL($S$7:$S$1504,ROWS($S$7:S1055))),\"\",SMALL($S$7:$S$1504,ROWS($S$7:S1055)))","v":""},"",{"$f":"IF(ISERROR(SMALL($U$7:$U$1504,ROWS(U$7:$U1055))),\"\",SMALL($U$7:$U$1504,ROWS(U$7:$U1055)))","v":""},"",{"$f":"IF(ISERROR(SMALL($W$7:$W$1504,ROWS($W$7:W1055))),\"\",SMALL($W$7:$W$1504,ROWS($W$7:W1055)))","v":""}]
[null,"Mažeikių r. sav.","Darbo užmokestis | mėnesinis | bruto | EUR  (nuo 2019 m. keitėsi rodiklio skaičiavimas)",573.4,584.70000000000005,609.4,642.1,645.6,689.5,737.8,809.6,863.2,1178.2,1311.3,1414.4,1616.2,null,{"$f":"ROWS($R$7:R1056)","v":1050},"",{"$f":"IF(ISERROR(SMALL($S$7:$S$1504,ROWS($S$7:S1056))),\"\",SMALL($S$7:$S$1504,ROWS($S$7:S1056)))","v":""},"",{"$f":"IF(ISERROR(SMALL($U$7:$U$1504,ROWS(U$7:$U1056))),\"\",SMALL($U$7:$U$1504,ROWS(U$7:$U1056)))","v":""},"",{"$f":"IF(ISERROR(SMALL($W$7:$W$1504,ROWS($W$7:W1056))),\"\",SMALL($W$7:$W$1504,ROWS($W$7:W1056)))","v":""}]
[null,"Plungės r. sav.","Darbo užmokestis | mėnesinis | bruto | EUR  (nuo 2019 m. keitėsi rodiklio skaičiavimas)",463.4,501.3,503.9,525.70000000000005,546.1,570.1,622.20000000000005,688.3,785.2,1105.0999999999999,1207,1369.2,1540.6,null,{"$f":"ROWS($R$7:R1057)","v":1051},"",{"$f":"IF(ISERROR(SMALL($S$7:$S$1504,ROWS($S$7:S1057))),\"\",SMALL($S$7:$S$1504,ROWS($S$7:S1057)))","v":""},"",{"$f":"IF(ISERROR(SMALL($U$7:$U$1504,ROWS(U$7:$U1057))),\"\",SMALL($U$7:$U$1504,ROWS(U$7:$U1057)))","v":""},"",{"$f":"IF(ISERROR(SMALL($W$7:$W$1504,ROWS($W$7:W1057))),\"\",SMALL($W$7:$W$1504,ROWS($W$7:W1057)))","v":""}]
[null,"Rietavo sav.","Darbo užmokestis | mėnesinis | bruto | EUR  (nuo 2019 m. keitėsi rodiklio skaičiavimas)",481.3,504.8,507.7,524.5,559.79999999999995,616.9,628.70000000000005,709.8,769.3,1088.5999999999999,1175.5999999999999,1276.8,1438.7,null,{"$f":"ROWS($R$7:R1058)","v":1052},"",{"$f":"IF(ISERROR(SMALL($S$7:$S$1504,ROWS($S$7:S1058))),\"\",SMALL($S$7:$S$1504,ROWS($S$7:S1058)))","v":""},"",{"$f":"IF(ISERROR(SMALL($U$7:$U$1504,ROWS(U$7:$U1058))),\"\",SMALL($U$7:$U$1504,ROWS(U$7:$U1058)))","v":""},"",{"$f":"IF(ISERROR(SMALL($W$7:$W$1504,ROWS($W$7:W1058))),\"\",SMALL($W$7:$W$1504,ROWS($W$7:W1058)))","v":""}]
[null,"Telšių r. sav.","Darbo užmokestis | mėnesinis | bruto | EUR  (nuo 2019 m. keitėsi rodiklio skaičiavimas)",483.1,492.6,502.8,548.79999999999995,564.9,613.29999999999995,665.8,712.9,785.2,1059.7,1182.9000000000001,1317.2,1463.7,null,{"$f":"ROWS($R$7:R1059)","v":1053},"",{"$f":"IF(ISERROR(SMALL($S$7:$S$1504,ROWS($S$7:S1059))),\"\",SMALL($S$7:$S$1504,ROWS($S$7:S1059)))","v":""},"",{"$f":"IF(ISERROR(SMALL($U$7:$U$1504,ROWS(U$7:$U1059))),\"\",SMALL($U$7:$U$1504,ROWS(U$7:$U1059)))","v":""},"",{"$f":"IF(ISERROR(SMALL($W$7:$W$1504,ROWS($W$7:W1059))),\"\",SMALL($W$7:$W$1504,ROWS($W$7:W1059)))","v":""}]
[null,"Utenos apskritis","Darbo užmokestis | mėnesinis | bruto | EUR  (nuo 2019 m. keitėsi rodiklio skaičiavimas)",505.3,515.79999999999995,530.4,560,581.4,615.29999999999995,666.9,717.6,775.8,1069.4000000000001,1184.8,1285.5999999999999,1435.4,null,{"$f":"ROWS($R$7:R1060)","v":1054},"",{"$f":"IF(ISERROR(SMALL($S$7:$S$1504,ROWS($S$7:S1060))),\"\",SMALL($S$7:$S$1504,ROWS($S$7:S1060)))","v":""},"",{"$f":"IF(ISERROR(SMALL($U$7:$U$1504,ROWS(U$7:$U1060))),\"\",SMALL($U$7:$U$1504,ROWS(U$7:$U1060)))","v":""},"",{"$f":"IF(ISERROR(SMALL($W$7:$W$1504,ROWS($W$7:W1060))),\"\",SMALL($W$7:$W$1504,ROWS($W$7:W1060)))","v":""}]
[null,"Anykščių r. sav.","Darbo užmokestis | mėnesinis | bruto | EUR  (nuo 2019 m. keitėsi rodiklio skaičiavimas)",451.5,466,466.9,491.8,517.29999999999995,560.29999999999995,600.9,654.9,723.5,1002.2,1117.8,1209.9000000000001,1393,null,{"$f":"ROWS($R$7:R1061)","v":1055},"",{"$f":"IF(ISERROR(SMALL($S$7:$S$1504,ROWS($S$7:S1061))),\"\",SMALL($S$7:$S$1504,ROWS($S$7:S1061)))","v":""},"",{"$f":"IF(ISERROR(SMALL($U$7:$U$1504,ROWS(U$7:$U1061))),\"\",SMALL($U$7:$U$1504,ROWS(U$7:$U1061)))","v":""},"",{"$f":"IF(ISERROR(SMALL($W$7:$W$1504,ROWS($W$7:W1061))),\"\",SMALL($W$7:$W$1504,ROWS($W$7:W1061)))","v":""}]
[null,"Ignalinos r. sav.","Darbo užmokestis | mėnesinis | bruto | EUR  (nuo 2019 m. keitėsi rodiklio skaičiavimas)",439.1,458.8,468.9,504.2,525,553.1,623.1,700.8,700.6,975.9,1076.5,1151.5,1340,null,{"$f":"ROWS($R$7:R1062)","v":1056},"",{"$f":"IF(ISERROR(SMALL($S$7:$S$1504,ROWS($S$7:S1062))),\"\",SMALL($S$7:$S$1504,ROWS($S$7:S1062)))","v":""},"",{"$f":"IF(ISERROR(SMALL($U$7:$U$1504,ROWS(U$7:$U1062))),\"\",SMALL($U$7:$U$1504,ROWS(U$7:$U1062)))","v":""},"",{"$f":"IF(ISERROR(SMALL($W$7:$W$1504,ROWS($W$7:W1062))),\"\",SMALL($W$7:$W$1504,ROWS($W$7:W1062)))","v":""}]
[null,"Molėtų r. sav.","Darbo užmokestis | mėnesinis | bruto | EUR  (nuo 2019 m. keitėsi rodiklio skaičiavimas)",453.3,454.4,459,493.2,521.6,540.4,584,629.1,688.1,989.4,1083.8,1226.3,1311.1,null,{"$f":"ROWS($R$7:R1063)","v":1057},"",{"$f":"IF(ISERROR(SMALL($S$7:$S$1504,ROWS($S$7:S1063))),\"\",SMALL($S$7:$S$1504,ROWS($S$7:S1063)))","v":""},"",{"$f":"IF(ISERROR(SMALL($U$7:$U$1504,ROWS(U$7:$U1063))),\"\",SMALL($U$7:$U$1504,ROWS(U$7:$U1063)))","v":""},"",{"$f":"IF(ISERROR(SMALL($W$7:$W$1504,ROWS($W$7:W1063))),\"\",SMALL($W$7:$W$1504,ROWS($W$7:W1063)))","v":""}]
[null,"Utenos r. sav.","Darbo užmokestis | mėnesinis | bruto | EUR  (nuo 2019 m. keitėsi rodiklio skaičiavimas)",506.3,517.79999999999995,532.29999999999995,559,575.29999999999995,606.4,673.7,733.8,797.7,1089.0999999999999,1234.5,1332.5,1478.9,null,{"$f":"ROWS($R$7:R1064)","v":1058},"",{"$f":"IF(ISERROR(SMALL($S$7:$S$1504,ROWS($S$7:S1064))),\"\",SMALL($S$7:$S$1504,ROWS($S$7:S1064)))","v":""},"",{"$f":"IF(ISERROR(SMALL($U$7:$U$1504,ROWS(U$7:$U1064))),\"\",SMALL($U$7:$U$1504,ROWS(U$7:$U1064)))","v":""},"",{"$f":"IF(ISERROR(SMALL($W$7:$W$1504,ROWS($W$7:W1064))),\"\",SMALL($W$7:$W$1504,ROWS($W$7:W1064)))","v":""}]
[null,"Visagino sav.","Darbo užmokestis | mėnesinis | bruto | EUR  (nuo 2019 m. keitėsi rodiklio skaičiavimas)",607.9,624.70000000000005,657.4,691.6,716.3,761.8,792.9,826.8,881.6,1205.8,1300.7,1413.9,1574.3,null,{"$f":"ROWS($R$7:R1065)","v":1059},"",{"$f":"IF(ISERROR(SMALL($S$7:$S$1504,ROWS($S$7:S1065))),\"\",SMALL($S$7:$S$1504,ROWS($S$7:S1065)))","v":""},"",{"$f":"IF(ISERROR(SMALL($U$7:$U$1504,ROWS(U$7:$U1065))),\"\",SMALL($U$7:$U$1504,ROWS(U$7:$U1065)))","v":""},"",{"$f":"IF(ISERROR(SMALL($W$7:$W$1504,ROWS($W$7:W1065))),\"\",SMALL($W$7:$W$1504,ROWS($W$7:W1065)))","v":""}]
[null,"Zarasų r. sav.","Darbo užmokestis | mėnesinis | bruto | EUR  (nuo 2019 m. keitėsi rodiklio skaičiavimas)",422.6,433.3,445.7,463.1,487.3,516.4,577.1,594.9,655.4,924.9,992.9,1083.3,1235.3,null,{"$f":"ROWS($R$7:R1066)","v":1060},"",{"$f":"IF(ISERROR(SMALL($S$7:$S$1504,ROWS($S$7:S1066))),\"\",SMALL($S$7:$S$1504,ROWS($S$7:S1066)))","v":""},"",{"$f":"IF(ISERROR(SMALL($U$7:$U$1504,ROWS(U$7:$U1066))),\"\",SMALL($U$7:$U$1504,ROWS(U$7:$U1066)))","v":""},"",{"$f":"IF(ISERROR(SMALL($W$7:$W$1504,ROWS($W$7:W1066))),\"\",SMALL($W$7:$W$1504,ROWS($W$7:W1066)))","v":""}]
[null,"Vilniaus apskritis","Darbo užmokestis | mėnesinis | bruto | EUR  (nuo 2019 m. keitėsi rodiklio skaičiavimas)",659.9,677.2,703.8,732.9,768.3,803.7,863.7,939.8,1034.5999999999999,1452.6,1590.6,1762.8,2002,null,{"$f":"ROWS($R$7:R1067)","v":1061},"",{"$f":"IF(ISERROR(SMALL($S$7:$S$1504,ROWS($S$7:S1067))),\"\",SMALL($S$7:$S$1504,ROWS($S$7:S1067)))","v":""},1061,{"$f":"IF(ISERROR(SMALL($U$7:$U$1504,ROWS(U$7:$U1067))),\"\",SMALL($U$7:$U$1504,ROWS(U$7:$U1067)))","v":""},"",{"$f":"IF(ISERROR(SMALL($W$7:$W$1504,ROWS($W$7:W1067))),\"\",SMALL($W$7:$W$1504,ROWS($W$7:W1067)))","v":""}]
[null,"Elektrėnų sav.","Darbo užmokestis | mėnesinis | bruto | EUR  (nuo 2019 m. keitėsi rodiklio skaičiavimas)",576.6,605.29999999999995,624.1,669.3,659.5,700.2,753.7,796.7,838.3,1162.5999999999999,1312.5,1435.5,1627.9,null,{"$f":"ROWS($R$7:R1068)","v":1062},"",{"$f":"IF(ISERROR(SMALL($S$7:$S$1504,ROWS($S$7:S1068))),\"\",SMALL($S$7:$S$1504,ROWS($S$7:S1068)))","v":""},"",{"$f":"IF(ISERROR(SMALL($U$7:$U$1504,ROWS(U$7:$U1068))),\"\",SMALL($U$7:$U$1504,ROWS(U$7:$U1068)))","v":""},"",{"$f":"IF(ISERROR(SMALL($W$7:$W$1504,ROWS($W$7:W1068))),\"\",SMALL($W$7:$W$1504,ROWS($W$7:W1068)))","v":""}]
[null,"Šalčininkų r. sav.","Darbo užmokestis | mėnesinis | bruto | EUR  (nuo 2019 m. keitėsi rodiklio skaičiavimas)",418.2,409.8,427.8,458.2,470.4,498.5,560.70000000000005,609.70000000000005,663.6,935.7,1048,1188.8,1319.3,null,{"$f":"ROWS($R$7:R1069)","v":1063},"",{"$f":"IF(ISERROR(SMALL($S$7:$S$1504,ROWS($S$7:S1069))),\"\",SMALL($S$7:$S$1504,ROWS($S$7:S1069)))","v":""},"",{"$f":"IF(ISERROR(SMALL($U$7:$U$1504,ROWS(U$7:$U1069))),\"\",SMALL($U$7:$U$1504,ROWS(U$7:$U1069)))","v":""},"",{"$f":"IF(ISERROR(SMALL($W$7:$W$1504,ROWS($W$7:W1069))),\"\",SMALL($W$7:$W$1504,ROWS($W$7:W1069)))","v":""}]
[null,"Širvintų r. sav.","Darbo užmokestis | mėnesinis | bruto | EUR  (nuo 2019 m. keitėsi rodiklio skaičiavimas)",457.6,469.5,493.8,512,522.79999999999995,537.5,598,685.4,740.9,1075.3,1190.7,1354.7,1492.6,null,{"$f":"ROWS($R$7:R1070)","v":1064},"",{"$f":"IF(ISERROR(SMALL($S$7:$S$1504,ROWS($S$7:S1070))),\"\",SMALL($S$7:$S$1504,ROWS($S$7:S1070)))","v":""},"",{"$f":"IF(ISERROR(SMALL($U$7:$U$1504,ROWS(U$7:$U1070))),\"\",SMALL($U$7:$U$1504,ROWS(U$7:$U1070)))","v":""},"",{"$f":"IF(ISERROR(SMALL($W$7:$W$1504,ROWS($W$7:W1070))),\"\",SMALL($W$7:$W$1504,ROWS($W$7:W1070)))","v":""}]
[null,"Švenčionių r. sav.","Darbo užmokestis | mėnesinis | bruto | EUR  (nuo 2019 m. keitėsi rodiklio skaičiavimas)",470.9,488,498.1,522.5,548.5,579,629,659,729.4,1028.7,1143.3,1212,1366.9,null,{"$f":"ROWS($R$7:R1071)","v":1065},"",{"$f":"IF(ISERROR(SMALL($S$7:$S$1504,ROWS($S$7:S1071))),\"\",SMALL($S$7:$S$1504,ROWS($S$7:S1071)))","v":""},"",{"$f":"IF(ISERROR(SMALL($U$7:$U$1504,ROWS(U$7:$U1071))),\"\",SMALL($U$7:$U$1504,ROWS(U$7:$U1071)))","v":""},"",{"$f":"IF(ISERROR(SMALL($W$7:$W$1504,ROWS($W$7:W1071))),\"\",SMALL($W$7:$W$1504,ROWS($W$7:W1071)))","v":""}]
[null,"Trakų r. sav.","Darbo užmokestis | mėnesinis | bruto | EUR  (nuo 2019 m. keitėsi rodiklio skaičiavimas)",530.29999999999995,520.70000000000005,536.4,570.79999999999995,616.9,645.9,729.5,822.9,910.1,1264.0999999999999,1351.2,1521.5,1617.5,null,{"$f":"ROWS($R$7:R1072)","v":1066},"",{"$f":"IF(ISERROR(SMALL($S$7:$S$1504,ROWS($S$7:S1072))),\"\",SMALL($S$7:$S$1504,ROWS($S$7:S1072)))","v":""},"",{"$f":"IF(ISERROR(SMALL($U$7:$U$1504,ROWS(U$7:$U1072))),\"\",SMALL($U$7:$U$1504,ROWS(U$7:$U1072)))","v":""},"",{"$f":"IF(ISERROR(SMALL($W$7:$W$1504,ROWS($W$7:W1072))),\"\",SMALL($W$7:$W$1504,ROWS($W$7:W1072)))","v":""}]
[null,"Ukmergės r. sav.","Darbo užmokestis | mėnesinis | bruto | EUR  (nuo 2019 m. keitėsi rodiklio skaičiavimas)",481.3,491.5,503.9,534.6,563.20000000000005,581.1,647.6,704.6,781,1109.7,1170.4000000000001,1324.3,1455.1,null,{"$f":"ROWS($R$7:R1073)","v":1067},"",{"$f":"IF(ISERROR(SMALL($S$7:$S$1504,ROWS($S$7:S1073))),\"\",SMALL($S$7:$S$1504,ROWS($S$7:S1073)))","v":""},"",{"$f":"IF(ISERROR(SMALL($U$7:$U$1504,ROWS(U$7:$U1073))),\"\",SMALL($U$7:$U$1504,ROWS(U$7:$U1073)))","v":""},"",{"$f":"IF(ISERROR(SMALL($W$7:$W$1504,ROWS($W$7:W1073))),\"\",SMALL($W$7:$W$1504,ROWS($W$7:W1073)))","v":""}]
[null,"Vilniaus m. sav.","Darbo užmokestis | mėnesinis | bruto | EUR  (nuo 2019 m. keitėsi rodiklio skaičiavimas)",684.7,704.1,731.6,759.7,797.6,832.4,890.4,968.7,1069.5,1501.5,1643.2,1819.9,2068.6,null,{"$f":"ROWS($R$7:R1074)","v":1068},1068,{"$f":"IF(ISERROR(SMALL($S$7:$S$1504,ROWS($S$7:S1074))),\"\",SMALL($S$7:$S$1504,ROWS($S$7:S1074)))","v":""},"",{"$f":"IF(ISERROR(SMALL($U$7:$U$1504,ROWS(U$7:$U1074))),\"\",SMALL($U$7:$U$1504,ROWS(U$7:$U1074)))","v":""},"",{"$f":"IF(ISERROR(SMALL($W$7:$W$1504,ROWS($W$7:W1074))),\"\",SMALL($W$7:$W$1504,ROWS($W$7:W1074)))","v":""}]
[null,"Vilniaus r. sav.","Darbo užmokestis | mėnesinis | bruto | EUR  (nuo 2019 m. keitėsi rodiklio skaičiavimas)",497,503.4,538.1,576.29999999999995,598.1,652.79999999999995,726.5,796.5,844.5,1177.2,1309,1456.2,1673.3,null,{"$f":"ROWS($R$7:R1075)","v":1069},"",{"$f":"IF(ISERROR(SMALL($S$7:$S$1504,ROWS($S$7:S1075))),\"\",SMALL($S$7:$S$1504,ROWS($S$7:S1075)))","v":""},"",{"$f":"IF(ISERROR(SMALL($U$7:$U$1504,ROWS(U$7:$U1075))),\"\",SMALL($U$7:$U$1504,ROWS(U$7:$U1075)))","v":""},"",{"$f":"IF(ISERROR(SMALL($W$7:$W$1504,ROWS($W$7:W1075))),\"\",SMALL($W$7:$W$1504,ROWS($W$7:W1075)))","v":""}]
[null,"Lietuvos Respublika","Darbo užmokestis | mėnesinis | neto | EUR",449.6,461.8,478.3,501.1,527.20000000000005,553.9,602.29999999999995,660.2,720,822.1,913.1,1001.8,1121.0999999999999,null,{"$f":"ROWS($R$7:R1076)","v":1070},"",{"$f":"IF(ISERROR(SMALL($S$7:$S$1504,ROWS($S$7:S1076))),\"\",SMALL($S$7:$S$1504,ROWS($S$7:S1076)))","v":""},"",{"$f":"IF(ISERROR(SMALL($U$7:$U$1504,ROWS(U$7:$U1076))),\"\",SMALL($U$7:$U$1504,ROWS(U$7:$U1076)))","v":""},1070,{"$f":"IF(ISERROR(SMALL($W$7:$W$1504,ROWS($W$7:W1076))),\"\",SMALL($W$7:$W$1504,ROWS($W$7:W1076)))","v":""}]
[null,"Alytaus apskritis","Darbo užmokestis | mėnesinis | neto | EUR",387.1,397.5,409.6,435.5,457.1,476.5,518.9,569.20000000000005,615.79999999999995,697.3,764.4,831.5,928.4,null,{"$f":"ROWS($R$7:R1077)","v":1071},"",{"$f":"IF(ISERROR(SMALL($S$7:$S$1504,ROWS($S$7:S1077))),\"\",SMALL($S$7:$S$1504,ROWS($S$7:S1077)))","v":""},"",{"$f":"IF(ISERROR(SMALL($U$7:$U$1504,ROWS(U$7:$U1077))),\"\",SMALL($U$7:$U$1504,ROWS(U$7:$U1077)))","v":""},"",{"$f":"IF(ISERROR(SMALL($W$7:$W$1504,ROWS($W$7:W1077))),\"\",SMALL($W$7:$W$1504,ROWS($W$7:W1077)))","v":""}]
[null,"Alytaus m. sav.","Darbo užmokestis | mėnesinis | neto | EUR",410.7,417.6,428.1,458.8,481.1,503.4,545,604,647.6,727.1,813.7,881.7,972.1,null,{"$f":"ROWS($R$7:R1078)","v":1072},"",{"$f":"IF(ISERROR(SMALL($S$7:$S$1504,ROWS($S$7:S1078))),\"\",SMALL($S$7:$S$1504,ROWS($S$7:S1078)))","v":""},"",{"$f":"IF(ISERROR(SMALL($U$7:$U$1504,ROWS(U$7:$U1078))),\"\",SMALL($U$7:$U$1504,ROWS(U$7:$U1078)))","v":""},"",{"$f":"IF(ISERROR(SMALL($W$7:$W$1504,ROWS($W$7:W1078))),\"\",SMALL($W$7:$W$1504,ROWS($W$7:W1078)))","v":""}]
[null,"Alytaus r. sav.","Darbo užmokestis | mėnesinis | neto | EUR",381.1,398.5,412.4,431,445.3,460.3,502.1,545.29999999999995,606.79999999999995,711.3,782.8,839,918.9,null,{"$f":"ROWS($R$7:R1079)","v":1073},"",{"$f":"IF(ISERROR(SMALL($S$7:$S$1504,ROWS($S$7:S1079))),\"\",SMALL($S$7:$S$1504,ROWS($S$7:S1079)))","v":""},"",{"$f":"IF(ISERROR(SMALL($U$7:$U$1504,ROWS(U$7:$U1079))),\"\",SMALL($U$7:$U$1504,ROWS(U$7:$U1079)))","v":""},"",{"$f":"IF(ISERROR(SMALL($W$7:$W$1504,ROWS($W$7:W1079))),\"\",SMALL($W$7:$W$1504,ROWS($W$7:W1079)))","v":""}]
[null,"Druskininkų sav.","Darbo užmokestis | mėnesinis | neto | EUR",354.2,375.9,391.6,415,442.6,452.3,497.3,542.9,598.79999999999995,677.1,701.2,773.8,901.3,null,{"$f":"ROWS($R$7:R1080)","v":1074},"",{"$f":"IF(ISERROR(SMALL($S$7:$S$1504,ROWS($S$7:S1080))),\"\",SMALL($S$7:$S$1504,ROWS($S$7:S1080)))","v":""},"",{"$f":"IF(ISERROR(SMALL($U$7:$U$1504,ROWS(U$7:$U1080))),\"\",SMALL($U$7:$U$1504,ROWS(U$7:$U1080)))","v":""},"",{"$f":"IF(ISERROR(SMALL($W$7:$W$1504,ROWS($W$7:W1080))),\"\",SMALL($W$7:$W$1504,ROWS($W$7:W1080)))","v":""}]
[null,"Lazdijų r. sav.","Darbo užmokestis | mėnesinis | neto | EUR",380.3,378.5,388.1,406,418.1,437.7,456.4,503.2,548.29999999999995,630.70000000000005,698.6,748.8,847.2,null,{"$f":"ROWS($R$7:R1081)","v":1075},"",{"$f":"IF(ISERROR(SMALL($S$7:$S$1504,ROWS($S$7:S1081))),\"\",SMALL($S$7:$S$1504,ROWS($S$7:S1081)))","v":""},"",{"$f":"IF(ISERROR(SMALL($U$7:$U$1504,ROWS(U$7:$U1081))),\"\",SMALL($U$7:$U$1504,ROWS(U$7:$U1081)))","v":""},"",{"$f":"IF(ISERROR(SMALL($W$7:$W$1504,ROWS($W$7:W1081))),\"\",SMALL($W$7:$W$1504,ROWS($W$7:W1081)))","v":""}]
[null,"Varėnos r. sav.","Darbo užmokestis | mėnesinis | neto | EUR",352.5,363.5,375.3,395.6,415.1,438.8,495.7,530.1,551.20000000000005,627.70000000000005,682.3,750.5,842.8,null,{"$f":"ROWS($R$7:R1082)","v":1076},"",{"$f":"IF(ISERROR(SMALL($S$7:$S$1504,ROWS($S$7:S1082))),\"\",SMALL($S$7:$S$1504,ROWS($S$7:S1082)))","v":""},"",{"$f":"IF(ISERROR(SMALL($U$7:$U$1504,ROWS(U$7:$U1082))),\"\",SMALL($U$7:$U$1504,ROWS(U$7:$U1082)))","v":""},"",{"$f":"IF(ISERROR(SMALL($W$7:$W$1504,ROWS($W$7:W1082))),\"\",SMALL($W$7:$W$1504,ROWS($W$7:W1082)))","v":""}]
[null,"Kauno apskritis","Darbo užmokestis | mėnesinis | neto | EUR",429.2,444.6,459.5,484.7,511.1,539.4,592.5,651.6,709.8,815.3,907.8,1008.9,1126.4000000000001,null,{"$f":"ROWS($R$7:R1083)","v":1077},"",{"$f":"IF(ISERROR(SMALL($S$7:$S$1504,ROWS($S$7:S1083))),\"\",SMALL($S$7:$S$1504,ROWS($S$7:S1083)))","v":""},"",{"$f":"IF(ISERROR(SMALL($U$7:$U$1504,ROWS(U$7:$U1083))),\"\",SMALL($U$7:$U$1504,ROWS(U$7:$U1083)))","v":""},"",{"$f":"IF(ISERROR(SMALL($W$7:$W$1504,ROWS($W$7:W1083))),\"\",SMALL($W$7:$W$1504,ROWS($W$7:W1083)))","v":""}]
[null,"Birštono sav.","Darbo užmokestis | mėnesinis | neto | EUR",388.1,391.6,391.9,413.3,432.2,449.2,496.4,574.4,614.5,689,770.1,813.1,906.7,null,{"$f":"ROWS($R$7:R1084)","v":1078},"",{"$f":"IF(ISERROR(SMALL($S$7:$S$1504,ROWS($S$7:S1084))),\"\",SMALL($S$7:$S$1504,ROWS($S$7:S1084)))","v":""},"",{"$f":"IF(ISERROR(SMALL($U$7:$U$1504,ROWS(U$7:$U1084))),\"\",SMALL($U$7:$U$1504,ROWS(U$7:$U1084)))","v":""},"",{"$f":"IF(ISERROR(SMALL($W$7:$W$1504,ROWS($W$7:W1084))),\"\",SMALL($W$7:$W$1504,ROWS($W$7:W1084)))","v":""}]
[null,"Jonavos r. sav.","Darbo užmokestis | mėnesinis | neto | EUR",407.8,471.5,486.3,501,532.1,561.4,604.5,648.5,685.2,796.5,867.3,943.3,1058.4000000000001,null,{"$f":"ROWS($R$7:R1085)","v":1079},"",{"$f":"IF(ISERROR(SMALL($S$7:$S$1504,ROWS($S$7:S1085))),\"\",SMALL($S$7:$S$1504,ROWS($S$7:S1085)))","v":""},"",{"$f":"IF(ISERROR(SMALL($U$7:$U$1504,ROWS(U$7:$U1085))),\"\",SMALL($U$7:$U$1504,ROWS(U$7:$U1085)))","v":""},"",{"$f":"IF(ISERROR(SMALL($W$7:$W$1504,ROWS($W$7:W1085))),\"\",SMALL($W$7:$W$1504,ROWS($W$7:W1085)))","v":""}]
[null,"Kaišiadorių r. sav.","Darbo užmokestis | mėnesinis | neto | EUR",383.2,388.7,395.9,423.1,446.2,485.2,533,588.6,634.6,726.6,814,881.5,963.8,null,{"$f":"ROWS($R$7:R1086)","v":1080},"",{"$f":"IF(ISERROR(SMALL($S$7:$S$1504,ROWS($S$7:S1086))),\"\",SMALL($S$7:$S$1504,ROWS($S$7:S1086)))","v":""},"",{"$f":"IF(ISERROR(SMALL($U$7:$U$1504,ROWS(U$7:$U1086))),\"\",SMALL($U$7:$U$1504,ROWS(U$7:$U1086)))","v":""},"",{"$f":"IF(ISERROR(SMALL($W$7:$W$1504,ROWS($W$7:W1086))),\"\",SMALL($W$7:$W$1504,ROWS($W$7:W1086)))","v":""}]
[null,"Kauno m. sav.","Darbo užmokestis | mėnesinis | neto | EUR",444.3,458.8,472.7,500.2,528.9,553.70000000000005,606.6,669.8,731.9,840.4,934.6,1045.7,1167.2,null,{"$f":"ROWS($R$7:R1087)","v":1081},"",{"$f":"IF(ISERROR(SMALL($S$7:$S$1504,ROWS($S$7:S1087))),\"\",SMALL($S$7:$S$1504,ROWS($S$7:S1087)))","v":""},"",{"$f":"IF(ISERROR(SMALL($U$7:$U$1504,ROWS(U$7:$U1087))),\"\",SMALL($U$7:$U$1504,ROWS(U$7:$U1087)))","v":""},"",{"$f":"IF(ISERROR(SMALL($W$7:$W$1504,ROWS($W$7:W1087))),\"\",SMALL($W$7:$W$1504,ROWS($W$7:W1087)))","v":""}]
[null,"Kauno r. sav.","Darbo užmokestis | mėnesinis | neto | EUR",395.3,399.1,424.6,447.8,459.4,499.4,567.9,622.70000000000005,676.9,787.5,883.4,980.9,1118.0999999999999,null,{"$f":"ROWS($R$7:R1088)","v":1082},"",{"$f":"IF(ISERROR(SMALL($S$7:$S$1504,ROWS($S$7:S1088))),\"\",SMALL($S$7:$S$1504,ROWS($S$7:S1088)))","v":""},"",{"$f":"IF(ISERROR(SMALL($U$7:$U$1504,ROWS(U$7:$U1088))),\"\",SMALL($U$7:$U$1504,ROWS(U$7:$U1088)))","v":""},"",{"$f":"IF(ISERROR(SMALL($W$7:$W$1504,ROWS($W$7:W1088))),\"\",SMALL($W$7:$W$1504,ROWS($W$7:W1088)))","v":""}]
[null,"Kėdainių r. sav.","Darbo užmokestis | mėnesinis | neto | EUR",431,445.4,463.7,482.2,511.2,563,604.1,646,700,787.2,892.1,969.4,1034.3,null,{"$f":"ROWS($R$7:R1089)","v":1083},"",{"$f":"IF(ISERROR(SMALL($S$7:$S$1504,ROWS($S$7:S1089))),\"\",SMALL($S$7:$S$1504,ROWS($S$7:S1089)))","v":""},"",{"$f":"IF(ISERROR(SMALL($U$7:$U$1504,ROWS(U$7:$U1089))),\"\",SMALL($U$7:$U$1504,ROWS(U$7:$U1089)))","v":""},"",{"$f":"IF(ISERROR(SMALL($W$7:$W$1504,ROWS($W$7:W1089))),\"\",SMALL($W$7:$W$1504,ROWS($W$7:W1089)))","v":""}]
[null,"Prienų r. sav.","Darbo užmokestis | mėnesinis | neto | EUR",355.9,361.4,369.6,384.3,402.1,433.1,478.3,530.79999999999995,565.6,649.29999999999995,735.2,799.2,901.5,null,{"$f":"ROWS($R$7:R1090)","v":1084},"",{"$f":"IF(ISERROR(SMALL($S$7:$S$1504,ROWS($S$7:S1090))),\"\",SMALL($S$7:$S$1504,ROWS($S$7:S1090)))","v":""},"",{"$f":"IF(ISERROR(SMALL($U$7:$U$1504,ROWS(U$7:$U1090))),\"\",SMALL($U$7:$U$1504,ROWS(U$7:$U1090)))","v":""},"",{"$f":"IF(ISERROR(SMALL($W$7:$W$1504,ROWS($W$7:W1090))),\"\",SMALL($W$7:$W$1504,ROWS($W$7:W1090)))","v":""}]
[null,"Raseinių r. sav.","Darbo užmokestis | mėnesinis | neto | EUR",353.6,360.3,375.3,393,420,437.3,491.2,542.70000000000005,583.79999999999995,673.4,748.5,814.3,927.9,null,{"$f":"ROWS($R$7:R1091)","v":1085},"",{"$f":"IF(ISERROR(SMALL($S$7:$S$1504,ROWS($S$7:S1091))),\"\",SMALL($S$7:$S$1504,ROWS($S$7:S1091)))","v":""},"",{"$f":"IF(ISERROR(SMALL($U$7:$U$1504,ROWS(U$7:$U1091))),\"\",SMALL($U$7:$U$1504,ROWS(U$7:$U1091)))","v":""},"",{"$f":"IF(ISERROR(SMALL($W$7:$W$1504,ROWS($W$7:W1091))),\"\",SMALL($W$7:$W$1504,ROWS($W$7:W1091)))","v":""}]
[null,"Klaipėdos apskritis","Darbo užmokestis | mėnesinis | neto | EUR",449.8,457.1,470.1,488.2,512.70000000000005,539.79999999999995,587.4,637,694.7,781.3,868.8,941.4,1042.0999999999999,null,{"$f":"ROWS($R$7:R1092)","v":1086},"",{"$f":"IF(ISERROR(SMALL($S$7:$S$1504,ROWS($S$7:S1092))),\"\",SMALL($S$7:$S$1504,ROWS($S$7:S1092)))","v":""},"",{"$f":"IF(ISERROR(SMALL($U$7:$U$1504,ROWS(U$7:$U1092))),\"\",SMALL($U$7:$U$1504,ROWS(U$7:$U1092)))","v":""},"",{"$f":"IF(ISERROR(SMALL($W$7:$W$1504,ROWS($W$7:W1092))),\"\",SMALL($W$7:$W$1504,ROWS($W$7:W1092)))","v":""}]
[null,"Klaipėdos m. sav.","Darbo užmokestis | mėnesinis | neto | EUR",485.7,495.8,510.6,529.4,559.79999999999995,586.5,633.6,686.1,751.7,837,930.6,1009.4,1111.8,null,{"$f":"ROWS($R$7:R1093)","v":1087},"",{"$f":"IF(ISERROR(SMALL($S$7:$S$1504,ROWS($S$7:S1093))),\"\",SMALL($S$7:$S$1504,ROWS($S$7:S1093)))","v":""},"",{"$f":"IF(ISERROR(SMALL($U$7:$U$1504,ROWS(U$7:$U1093))),\"\",SMALL($U$7:$U$1504,ROWS(U$7:$U1093)))","v":""},"",{"$f":"IF(ISERROR(SMALL($W$7:$W$1504,ROWS($W$7:W1093))),\"\",SMALL($W$7:$W$1504,ROWS($W$7:W1093)))","v":""}]
[null,"Klaipėdos r. sav.","Darbo užmokestis | mėnesinis | neto | EUR",440.2,446.3,457.9,465.7,472.8,503.5,555.1,594,635.70000000000005,736.1,824.8,880.6,990.7,null,{"$f":"ROWS($R$7:R1094)","v":1088},"",{"$f":"IF(ISERROR(SMALL($S$7:$S$1504,ROWS($S$7:S1094))),\"\",SMALL($S$7:$S$1504,ROWS($S$7:S1094)))","v":""},"",{"$f":"IF(ISERROR(SMALL($U$7:$U$1504,ROWS(U$7:$U1094))),\"\",SMALL($U$7:$U$1504,ROWS(U$7:$U1094)))","v":""},"",{"$f":"IF(ISERROR(SMALL($W$7:$W$1504,ROWS($W$7:W1094))),\"\",SMALL($W$7:$W$1504,ROWS($W$7:W1094)))","v":""}]
[null,"Kretingos r. sav.","Darbo užmokestis | mėnesinis | neto | EUR",353.6,352.2,365.5,384.9,403,430.8,489.2,531.1,576.1,649.70000000000005,726.3,784.5,874.7,null,{"$f":"ROWS($R$7:R1095)","v":1089},{"$f":"IF(ISNUMBER(SEARCH($R$3,B1095)),R1095,\"\")","v":""},{"$f":"IF(ISERROR(SMALL($S$7:$S$1504,ROWS($S$7:S1095))),\"\",SMALL($S$7:$S$1504,ROWS($S$7:S1095)))","v":""},{"$f":"IF($R$4=B1095,R1095,\"\")","v":""},{"$f":"IF(ISERROR(SMALL($U$7:$U$1504,ROWS(U$7:$U1095))),\"\",SMALL($U$7:$U$1504,ROWS(U$7:$U1095)))","v":""},{"$f":"IF(\"Lietuvos Respublika\"=B1095,R1095,\"\")","v":""},{"$f":"IF(ISERROR(SMALL($W$7:$W$1504,ROWS($W$7:W1095))),\"\",SMALL($W$7:$W$1504,ROWS($W$7:W1095)))","v":""}]
[null,"Neringos sav.","Darbo užmokestis | mėnesinis | neto | EUR",368.7,362.9,366.9,394.2,416.1,447.7,505.8,579.5,639.29999999999995,717.9,771.1,884.9,929,null,{"$f":"ROWS($R$7:R1096)","v":1090},"",{"$f":"IF(ISERROR(SMALL($S$7:$S$1504,ROWS($S$7:S1096))),\"\",SMALL($S$7:$S$1504,ROWS($S$7:S1096)))","v":""},"",{"$f":"IF(ISERROR(SMALL($U$7:$U$1504,ROWS(U$7:$U1096))),\"\",SMALL($U$7:$U$1504,ROWS(U$7:$U1096)))","v":""},"",{"$f":"IF(ISERROR(SMALL($W$7:$W$1504,ROWS($W$7:W1096))),\"\",SMALL($W$7:$W$1504,ROWS($W$7:W1096)))","v":""}]
[null,"Palangos m. sav.","Darbo užmokestis | mėnesinis | neto | EUR",356.8,355.7,359.1,379.7,396.8,428.3,466.6,524,568,643.1,708.5,794,887,null,{"$f":"ROWS($R$7:R1097)","v":1091},"",{"$f":"IF(ISERROR(SMALL($S$7:$S$1504,ROWS($S$7:S1097))),\"\",SMALL($S$7:$S$1504,ROWS($S$7:S1097)))","v":""},"",{"$f":"IF(ISERROR(SMALL($U$7:$U$1504,ROWS(U$7:$U1097))),\"\",SMALL($U$7:$U$1504,ROWS(U$7:$U1097)))","v":""},"",{"$f":"IF(ISERROR(SMALL($W$7:$W$1504,ROWS($W$7:W1097))),\"\",SMALL($W$7:$W$1504,ROWS($W$7:W1097)))","v":""}]
[null,"Skuodo r. sav.","Darbo užmokestis | mėnesinis | neto | EUR",381.1,377.7,371,384.9,407.6,435.2,464.6,502.2,543.9,624.4,709,761.1,878.5,null,{"$f":"ROWS($R$7:R1098)","v":1092},"",{"$f":"IF(ISERROR(SMALL($S$7:$S$1504,ROWS($S$7:S1098))),\"\",SMALL($S$7:$S$1504,ROWS($S$7:S1098)))","v":""},"",{"$f":"IF(ISERROR(SMALL($U$7:$U$1504,ROWS(U$7:$U1098))),\"\",SMALL($U$7:$U$1504,ROWS(U$7:$U1098)))","v":""},"",{"$f":"IF(ISERROR(SMALL($W$7:$W$1504,ROWS($W$7:W1098))),\"\",SMALL($W$7:$W$1504,ROWS($W$7:W1098)))","v":""}]
[null,"Šilutės r. sav.","Darbo užmokestis | mėnesinis | neto | EUR",377.1,380.6,393.9,413.9,424.9,448,486.9,542.20000000000005,598.5,682.7,756.7,823.9,918.1,null,{"$f":"ROWS($R$7:R1099)","v":1093},"",{"$f":"IF(ISERROR(SMALL($S$7:$S$1504,ROWS($S$7:S1099))),\"\",SMALL($S$7:$S$1504,ROWS($S$7:S1099)))","v":""},"",{"$f":"IF(ISERROR(SMALL($U$7:$U$1504,ROWS(U$7:$U1099))),\"\",SMALL($U$7:$U$1504,ROWS(U$7:$U1099)))","v":""},"",{"$f":"IF(ISERROR(SMALL($W$7:$W$1504,ROWS($W$7:W1099))),\"\",SMALL($W$7:$W$1504,ROWS($W$7:W1099)))","v":""}]
[null,"Marijampolės apskritis","Darbo užmokestis | mėnesinis | neto | EUR",372.4,380,394.2,417.9,443.2,461.7,505.5,554.9,603.6,684.5,768.3,826.9,923.9,null,{"$f":"ROWS($R$7:R1100)","v":1094},"",{"$f":"IF(ISERROR(SMALL($S$7:$S$1504,ROWS($S$7:S1100))),\"\",SMALL($S$7:$S$1504,ROWS($S$7:S1100)))","v":""},"",{"$f":"IF(ISERROR(SMALL($U$7:$U$1504,ROWS(U$7:$U1100))),\"\",SMALL($U$7:$U$1504,ROWS(U$7:$U1100)))","v":""},"",{"$f":"IF(ISERROR(SMALL($W$7:$W$1504,ROWS($W$7:W1100))),\"\",SMALL($W$7:$W$1504,ROWS($W$7:W1100)))","v":""}]
[null,"Kalvarijos sav.","Darbo užmokestis | mėnesinis | neto | EUR",337.4,332.8,352.2,376.5,393.9,411.5,455.3,502.6,526.6,606.9,706.7,781.6,888.4,null,{"$f":"ROWS($R$7:R1101)","v":1095},"",{"$f":"IF(ISERROR(SMALL($S$7:$S$1504,ROWS($S$7:S1101))),\"\",SMALL($S$7:$S$1504,ROWS($S$7:S1101)))","v":""},"",{"$f":"IF(ISERROR(SMALL($U$7:$U$1504,ROWS(U$7:$U1101))),\"\",SMALL($U$7:$U$1504,ROWS(U$7:$U1101)))","v":""},"",{"$f":"IF(ISERROR(SMALL($W$7:$W$1504,ROWS($W$7:W1101))),\"\",SMALL($W$7:$W$1504,ROWS($W$7:W1101)))","v":""}]
[null,"Kazlų Rūdos sav.","Darbo užmokestis | mėnesinis | neto | EUR",422.6,440.8,462.8,495,504.9,519.70000000000005,573.4,636.29999999999995,693.4,743.5,799.7,863.9,955.7,null,{"$f":"ROWS($R$7:R1102)","v":1096},"",{"$f":"IF(ISERROR(SMALL($S$7:$S$1504,ROWS($S$7:S1102))),\"\",SMALL($S$7:$S$1504,ROWS($S$7:S1102)))","v":""},"",{"$f":"IF(ISERROR(SMALL($U$7:$U$1504,ROWS(U$7:$U1102))),\"\",SMALL($U$7:$U$1504,ROWS(U$7:$U1102)))","v":""},"",{"$f":"IF(ISERROR(SMALL($W$7:$W$1504,ROWS($W$7:W1102))),\"\",SMALL($W$7:$W$1504,ROWS($W$7:W1102)))","v":""}]
[null,"Marijampolės sav.","Darbo užmokestis | mėnesinis | neto | EUR",380.3,388.1,402.3,426,456.1,474.9,517.79999999999995,565,616.79999999999995,705.9,792.7,851.1,945.6,null,{"$f":"ROWS($R$7:R1103)","v":1097},"",{"$f":"IF(ISERROR(SMALL($S$7:$S$1504,ROWS($S$7:S1103))),\"\",SMALL($S$7:$S$1504,ROWS($S$7:S1103)))","v":""},"",{"$f":"IF(ISERROR(SMALL($U$7:$U$1504,ROWS(U$7:$U1103))),\"\",SMALL($U$7:$U$1504,ROWS(U$7:$U1103)))","v":""},"",{"$f":"IF(ISERROR(SMALL($W$7:$W$1504,ROWS($W$7:W1103))),\"\",SMALL($W$7:$W$1504,ROWS($W$7:W1103)))","v":""}]
[null,"Marijampolės r. sav.","Darbo užmokestis | mėnesinis | neto | EUR",null,null,null,null,null,0,0,0,0,0,0,0,0,null,{"$f":"ROWS($R$7:R1104)","v":1098},"",{"$f":"IF(ISERROR(SMALL($S$7:$S$1504,ROWS($S$7:S1104))),\"\",SMALL($S$7:$S$1504,ROWS($S$7:S1104)))","v":""},"",{"$f":"IF(ISERROR(SMALL($U$7:$U$1504,ROWS(U$7:$U1104))),\"\",SMALL($U$7:$U$1504,ROWS(U$7:$U1104)))","v":""},"",{"$f":"IF(ISERROR(SMALL($W$7:$W$1504,ROWS($W$7:W1104))),\"\",SMALL($W$7:$W$1504,ROWS($W$7:W1104)))","v":""}]
[null,"Šakių r. sav.","Darbo užmokestis | mėnesinis | neto | EUR",359.7,364.3,380.3,399.7,420.8,441.4,486.5,539.1,581.20000000000005,675.4,744.8,796.2,908.7,null,{"$f":"ROWS($R$7:R1105)","v":1099},"",{"$f":"IF(ISERROR(SMALL($S$7:$S$1504,ROWS($S$7:S1105))),\"\",SMALL($S$7:$S$1504,ROWS($S$7:S1105)))","v":""},"",{"$f":"IF(ISERROR(SMALL($U$7:$U$1504,ROWS(U$7:$U1105))),\"\",SMALL($U$7:$U$1504,ROWS(U$7:$U1105)))","v":""},"",{"$f":"IF(ISERROR(SMALL($W$7:$W$1504,ROWS($W$7:W1105))),\"\",SMALL($W$7:$W$1504,ROWS($W$7:W1105)))","v":""}]
[null,"Vilkaviškio r. sav.","Darbo užmokestis | mėnesinis | neto | EUR",345.8,355.1,361.2,386.9,408.1,425.7,466.1,513.1,564.9,618.70000000000005,711.7,770.4,858.5,null,{"$f":"ROWS($R$7:R1106)","v":1100},"",{"$f":"IF(ISERROR(SMALL($S$7:$S$1504,ROWS($S$7:S1106))),\"\",SMALL($S$7:$S$1504,ROWS($S$7:S1106)))","v":""},"",{"$f":"IF(ISERROR(SMALL($U$7:$U$1504,ROWS(U$7:$U1106))),\"\",SMALL($U$7:$U$1504,ROWS(U$7:$U1106)))","v":""},"",{"$f":"IF(ISERROR(SMALL($W$7:$W$1504,ROWS($W$7:W1106))),\"\",SMALL($W$7:$W$1504,ROWS($W$7:W1106)))","v":""}]
[null,"Panevėžio apskritis","Darbo užmokestis | mėnesinis | neto | EUR",388.1,402.7,415.2,435.1,461.8,487.2,532.9,588.1,635.70000000000005,719,797.5,863.1,964.7,null,{"$f":"ROWS($R$7:R1107)","v":1101},"",{"$f":"IF(ISERROR(SMALL($S$7:$S$1504,ROWS($S$7:S1107))),\"\",SMALL($S$7:$S$1504,ROWS($S$7:S1107)))","v":""},"",{"$f":"IF(ISERROR(SMALL($U$7:$U$1504,ROWS(U$7:$U1107))),\"\",SMALL($U$7:$U$1504,ROWS(U$7:$U1107)))","v":""},"",{"$f":"IF(ISERROR(SMALL($W$7:$W$1504,ROWS($W$7:W1107))),\"\",SMALL($W$7:$W$1504,ROWS($W$7:W1107)))","v":""}]
[null,"Biržų r. sav.","Darbo užmokestis | mėnesinis | neto | EUR",364.9,373.9,380,394.5,426,446.3,490.8,532.70000000000005,560.1,648.79999999999995,738.7,787.4,881.7,null,{"$f":"ROWS($R$7:R1108)","v":1102},"",{"$f":"IF(ISERROR(SMALL($S$7:$S$1504,ROWS($S$7:S1108))),\"\",SMALL($S$7:$S$1504,ROWS($S$7:S1108)))","v":""},"",{"$f":"IF(ISERROR(SMALL($U$7:$U$1504,ROWS(U$7:$U1108))),\"\",SMALL($U$7:$U$1504,ROWS(U$7:$U1108)))","v":""},"",{"$f":"IF(ISERROR(SMALL($W$7:$W$1504,ROWS($W$7:W1108))),\"\",SMALL($W$7:$W$1504,ROWS($W$7:W1108)))","v":""}]
[null,"Kupiškio r. sav.","Darbo užmokestis | mėnesinis | neto | EUR",367.2,369.8,380.3,400.5,421.3,428.9,464.9,526.4,571.79999999999995,649.20000000000005,744.3,824.2,883.6,null,{"$f":"ROWS($R$7:R1109)","v":1103},"",{"$f":"IF(ISERROR(SMALL($S$7:$S$1504,ROWS($S$7:S1109))),\"\",SMALL($S$7:$S$1504,ROWS($S$7:S1109)))","v":""},"",{"$f":"IF(ISERROR(SMALL($U$7:$U$1504,ROWS(U$7:$U1109))),\"\",SMALL($U$7:$U$1504,ROWS(U$7:$U1109)))","v":""},"",{"$f":"IF(ISERROR(SMALL($W$7:$W$1504,ROWS($W$7:W1109))),\"\",SMALL($W$7:$W$1504,ROWS($W$7:W1109)))","v":""}]
[null,"Panevėžio m. sav.","Darbo užmokestis | mėnesinis | neto | EUR",408.7,428.3,442.5,465.1,494.9,523.79999999999995,566,627.29999999999995,677,763.7,837.7,903.8,1016.2,null,{"$f":"ROWS($R$7:R1110)","v":1104},"",{"$f":"IF(ISERROR(SMALL($S$7:$S$1504,ROWS($S$7:S1110))),\"\",SMALL($S$7:$S$1504,ROWS($S$7:S1110)))","v":""},"",{"$f":"IF(ISERROR(SMALL($U$7:$U$1504,ROWS(U$7:$U1110))),\"\",SMALL($U$7:$U$1504,ROWS(U$7:$U1110)))","v":""},"",{"$f":"IF(ISERROR(SMALL($W$7:$W$1504,ROWS($W$7:W1110))),\"\",SMALL($W$7:$W$1504,ROWS($W$7:W1110)))","v":""}]
[null,"Panevėžio r. sav.","Darbo užmokestis | mėnesinis | neto | EUR",338.9,343.8,370.1,386.1,410.6,427.1,495.7,533.6,586,666.7,749.8,826.3,902.6,null,{"$f":"ROWS($R$7:R1111)","v":1105},"",{"$f":"IF(ISERROR(SMALL($S$7:$S$1504,ROWS($S$7:S1111))),\"\",SMALL($S$7:$S$1504,ROWS($S$7:S1111)))","v":""},"",{"$f":"IF(ISERROR(SMALL($U$7:$U$1504,ROWS(U$7:$U1111))),\"\",SMALL($U$7:$U$1504,ROWS(U$7:$U1111)))","v":""},"",{"$f":"IF(ISERROR(SMALL($W$7:$W$1504,ROWS($W$7:W1111))),\"\",SMALL($W$7:$W$1504,ROWS($W$7:W1111)))","v":""}]
[null,"Pasvalio r. sav.","Darbo užmokestis | mėnesinis | neto | EUR",368.1,379.4,380.9,395.9,413.6,446.8,488,543.6,596.4,663.8,746.2,798.2,891.6,null,{"$f":"ROWS($R$7:R1112)","v":1106},"",{"$f":"IF(ISERROR(SMALL($S$7:$S$1504,ROWS($S$7:S1112))),\"\",SMALL($S$7:$S$1504,ROWS($S$7:S1112)))","v":""},"",{"$f":"IF(ISERROR(SMALL($U$7:$U$1504,ROWS(U$7:$U1112))),\"\",SMALL($U$7:$U$1504,ROWS(U$7:$U1112)))","v":""},"",{"$f":"IF(ISERROR(SMALL($W$7:$W$1504,ROWS($W$7:W1112))),\"\",SMALL($W$7:$W$1504,ROWS($W$7:W1112)))","v":""}]
[null,"Rokiškio r. sav.","Darbo užmokestis | mėnesinis | neto | EUR",378.2,389.2,396.2,418.2,441.1,463,507,554.9,595.29999999999995,679,758.1,819.4,919.5,null,{"$f":"ROWS($R$7:R1113)","v":1107},"",{"$f":"IF(ISERROR(SMALL($S$7:$S$1504,ROWS($S$7:S1113))),\"\",SMALL($S$7:$S$1504,ROWS($S$7:S1113)))","v":""},"",{"$f":"IF(ISERROR(SMALL($U$7:$U$1504,ROWS(U$7:$U1113))),\"\",SMALL($U$7:$U$1504,ROWS(U$7:$U1113)))","v":""},"",{"$f":"IF(ISERROR(SMALL($W$7:$W$1504,ROWS($W$7:W1113))),\"\",SMALL($W$7:$W$1504,ROWS($W$7:W1113)))","v":""}]
[null,"Šiaulių apskritis","Darbo užmokestis | mėnesinis | neto | EUR",382.1,389.7,398.9,421.4,442,469.3,517.29999999999995,569.9,616.4,691.7,789.4,852.8,955.6,null,{"$f":"ROWS($R$7:R1114)","v":1108},"",{"$f":"IF(ISERROR(SMALL($S$7:$S$1504,ROWS($S$7:S1114))),\"\",SMALL($S$7:$S$1504,ROWS($S$7:S1114)))","v":""},"",{"$f":"IF(ISERROR(SMALL($U$7:$U$1504,ROWS(U$7:$U1114))),\"\",SMALL($U$7:$U$1504,ROWS(U$7:$U1114)))","v":""},"",{"$f":"IF(ISERROR(SMALL($W$7:$W$1504,ROWS($W$7:W1114))),\"\",SMALL($W$7:$W$1504,ROWS($W$7:W1114)))","v":""}]
[null,"Akmenės r. sav.","Darbo užmokestis | mėnesinis | neto | EUR",401.4,426,456.4,471.8,480.6,506.7,543.9,589.4,634.6,717.6,816.9,886.7,980.7,null,{"$f":"ROWS($R$7:R1115)","v":1109},"",{"$f":"IF(ISERROR(SMALL($S$7:$S$1504,ROWS($S$7:S1115))),\"\",SMALL($S$7:$S$1504,ROWS($S$7:S1115)))","v":""},"",{"$f":"IF(ISERROR(SMALL($U$7:$U$1504,ROWS(U$7:$U1115))),\"\",SMALL($U$7:$U$1504,ROWS(U$7:$U1115)))","v":""},"",{"$f":"IF(ISERROR(SMALL($W$7:$W$1504,ROWS($W$7:W1115))),\"\",SMALL($W$7:$W$1504,ROWS($W$7:W1115)))","v":""}]
[null,"Joniškio r. sav.","Darbo užmokestis | mėnesinis | neto | EUR",363.8,375.3,393.9,405.5,426.2,451.4,486.2,544.79999999999995,593.9,666.4,750.4,809.2,917.2,null,{"$f":"ROWS($R$7:R1116)","v":1110},"",{"$f":"IF(ISERROR(SMALL($S$7:$S$1504,ROWS($S$7:S1116))),\"\",SMALL($S$7:$S$1504,ROWS($S$7:S1116)))","v":""},"",{"$f":"IF(ISERROR(SMALL($U$7:$U$1504,ROWS(U$7:$U1116))),\"\",SMALL($U$7:$U$1504,ROWS(U$7:$U1116)))","v":""},"",{"$f":"IF(ISERROR(SMALL($W$7:$W$1504,ROWS($W$7:W1116))),\"\",SMALL($W$7:$W$1504,ROWS($W$7:W1116)))","v":""}]
[null,"Kelmės r. sav.","Darbo užmokestis | mėnesinis | neto | EUR",357.1,364.3,373.6,387.2,405.3,428.8,469.7,512.9,567,649.9,752.9,781.9,872.2,null,{"$f":"ROWS($R$7:R1117)","v":1111},"",{"$f":"IF(ISERROR(SMALL($S$7:$S$1504,ROWS($S$7:S1117))),\"\",SMALL($S$7:$S$1504,ROWS($S$7:S1117)))","v":""},"",{"$f":"IF(ISERROR(SMALL($U$7:$U$1504,ROWS(U$7:$U1117))),\"\",SMALL($U$7:$U$1504,ROWS(U$7:$U1117)))","v":""},"",{"$f":"IF(ISERROR(SMALL($W$7:$W$1504,ROWS($W$7:W1117))),\"\",SMALL($W$7:$W$1504,ROWS($W$7:W1117)))","v":""}]
[null,"Pakruojo r. sav.","Darbo užmokestis | mėnesinis | neto | EUR",383.2,396.8,405.2,424.6,443.7,457.3,506.8,559,613.9,698.5,793.2,855.4,960.3,null,{"$f":"ROWS($R$7:R1118)","v":1112},"",{"$f":"IF(ISERROR(SMALL($S$7:$S$1504,ROWS($S$7:S1118))),\"\",SMALL($S$7:$S$1504,ROWS($S$7:S1118)))","v":""},"",{"$f":"IF(ISERROR(SMALL($U$7:$U$1504,ROWS(U$7:$U1118))),\"\",SMALL($U$7:$U$1504,ROWS(U$7:$U1118)))","v":""},"",{"$f":"IF(ISERROR(SMALL($W$7:$W$1504,ROWS($W$7:W1118))),\"\",SMALL($W$7:$W$1504,ROWS($W$7:W1118)))","v":""}]
[null,"Radviliškio r. sav.","Darbo užmokestis | mėnesinis | neto | EUR",329.6,346.7,351,372.5,394.3,415.5,468.8,520.6,560,622.9,706,772.5,876.4,null,{"$f":"ROWS($R$7:R1119)","v":1113},"",{"$f":"IF(ISERROR(SMALL($S$7:$S$1504,ROWS($S$7:S1119))),\"\",SMALL($S$7:$S$1504,ROWS($S$7:S1119)))","v":""},"",{"$f":"IF(ISERROR(SMALL($U$7:$U$1504,ROWS(U$7:$U1119))),\"\",SMALL($U$7:$U$1504,ROWS(U$7:$U1119)))","v":""},"",{"$f":"IF(ISERROR(SMALL($W$7:$W$1504,ROWS($W$7:W1119))),\"\",SMALL($W$7:$W$1504,ROWS($W$7:W1119)))","v":""}]
[null,"Šiaulių m. sav.","Darbo užmokestis | mėnesinis | neto | EUR",400.5,404.3,411,437,459,486.5,537.1,590.4,637.20000000000005,712.9,817.2,882.8,987.9,null,{"$f":"ROWS($R$7:R1120)","v":1114},"",{"$f":"IF(ISERROR(SMALL($S$7:$S$1504,ROWS($S$7:S1120))),\"\",SMALL($S$7:$S$1504,ROWS($S$7:S1120)))","v":""},"",{"$f":"IF(ISERROR(SMALL($U$7:$U$1504,ROWS(U$7:$U1120))),\"\",SMALL($U$7:$U$1504,ROWS(U$7:$U1120)))","v":""},"",{"$f":"IF(ISERROR(SMALL($W$7:$W$1504,ROWS($W$7:W1120))),\"\",SMALL($W$7:$W$1504,ROWS($W$7:W1120)))","v":""}]
[null,"Šiaulių r. sav.","Darbo užmokestis | mėnesinis | neto | EUR",341.5,343.2,354.5,375.1,398.9,438.6,482.6,536.4,570.79999999999995,640,721.5,785.4,881.4,null,{"$f":"ROWS($R$7:R1121)","v":1115},"",{"$f":"IF(ISERROR(SMALL($S$7:$S$1504,ROWS($S$7:S1121))),\"\",SMALL($S$7:$S$1504,ROWS($S$7:S1121)))","v":""},"",{"$f":"IF(ISERROR(SMALL($U$7:$U$1504,ROWS(U$7:$U1121))),\"\",SMALL($U$7:$U$1504,ROWS(U$7:$U1121)))","v":""},"",{"$f":"IF(ISERROR(SMALL($W$7:$W$1504,ROWS($W$7:W1121))),\"\",SMALL($W$7:$W$1504,ROWS($W$7:W1121)))","v":""}]
[null,"Tauragės apskritis","Darbo užmokestis | mėnesinis | neto | EUR",361.8,368.3,380.1,399.4,423.7,448.4,494.9,543.9,587.70000000000005,656.8,750.6,806.9,907.4,null,{"$f":"ROWS($R$7:R1122)","v":1116},"",{"$f":"IF(ISERROR(SMALL($S$7:$S$1504,ROWS($S$7:S1122))),\"\",SMALL($S$7:$S$1504,ROWS($S$7:S1122)))","v":""},"",{"$f":"IF(ISERROR(SMALL($U$7:$U$1504,ROWS(U$7:$U1122))),\"\",SMALL($U$7:$U$1504,ROWS(U$7:$U1122)))","v":""},"",{"$f":"IF(ISERROR(SMALL($W$7:$W$1504,ROWS($W$7:W1122))),\"\",SMALL($W$7:$W$1504,ROWS($W$7:W1122)))","v":""}]
[null,"Jurbarko r. sav.","Darbo užmokestis | mėnesinis | neto | EUR",373,378,379.7,395,410.4,433.1,479.7,510,570,650.5,746.8,792,886.8,null,{"$f":"ROWS($R$7:R1123)","v":1117},"",{"$f":"IF(ISERROR(SMALL($S$7:$S$1504,ROWS($S$7:S1123))),\"\",SMALL($S$7:$S$1504,ROWS($S$7:S1123)))","v":""},"",{"$f":"IF(ISERROR(SMALL($U$7:$U$1504,ROWS(U$7:$U1123))),\"\",SMALL($U$7:$U$1504,ROWS(U$7:$U1123)))","v":""},"",{"$f":"IF(ISERROR(SMALL($W$7:$W$1504,ROWS($W$7:W1123))),\"\",SMALL($W$7:$W$1504,ROWS($W$7:W1123)))","v":""}]
[null,"Pagėgių sav.","Darbo užmokestis | mėnesinis | neto | EUR",420.2,410.4,398.8,428.1,464,496.8,538.20000000000005,586.79999999999995,582.20000000000005,665.7,759.4,825.2,928.7,null,{"$f":"ROWS($R$7:R1124)","v":1118},"",{"$f":"IF(ISERROR(SMALL($S$7:$S$1504,ROWS($S$7:S1124))),\"\",SMALL($S$7:$S$1504,ROWS($S$7:S1124)))","v":""},"",{"$f":"IF(ISERROR(SMALL($U$7:$U$1504,ROWS(U$7:$U1124))),\"\",SMALL($U$7:$U$1504,ROWS(U$7:$U1124)))","v":""},"",{"$f":"IF(ISERROR(SMALL($W$7:$W$1504,ROWS($W$7:W1124))),\"\",SMALL($W$7:$W$1504,ROWS($W$7:W1124)))","v":""}]
[null,"Šilalės r. sav.","Darbo užmokestis | mėnesinis | neto | EUR",353.6,360.9,379.4,394.5,418.4,437.6,492.3,528.4,570,637.29999999999995,725.4,766.1,856.6,null,{"$f":"ROWS($R$7:R1125)","v":1119},"",{"$f":"IF(ISERROR(SMALL($S$7:$S$1504,ROWS($S$7:S1125))),\"\",SMALL($S$7:$S$1504,ROWS($S$7:S1125)))","v":""},"",{"$f":"IF(ISERROR(SMALL($U$7:$U$1504,ROWS(U$7:$U1125))),\"\",SMALL($U$7:$U$1504,ROWS(U$7:$U1125)))","v":""},"",{"$f":"IF(ISERROR(SMALL($W$7:$W$1504,ROWS($W$7:W1125))),\"\",SMALL($W$7:$W$1504,ROWS($W$7:W1125)))","v":""}]
[null,"Tauragės r. sav.","Darbo užmokestis | mėnesinis | neto | EUR",349,358,376.2,396.8,423.4,450.5,494,558,606.4,668.1,762.1,830.3,937.4,null,{"$f":"ROWS($R$7:R1126)","v":1120},"",{"$f":"IF(ISERROR(SMALL($S$7:$S$1504,ROWS($S$7:S1126))),\"\",SMALL($S$7:$S$1504,ROWS($S$7:S1126)))","v":""},"",{"$f":"IF(ISERROR(SMALL($U$7:$U$1504,ROWS(U$7:$U1126))),\"\",SMALL($U$7:$U$1504,ROWS(U$7:$U1126)))","v":""},"",{"$f":"IF(ISERROR(SMALL($W$7:$W$1504,ROWS($W$7:W1126))),\"\",SMALL($W$7:$W$1504,ROWS($W$7:W1126)))","v":""}]
[null,"Telšių apskritis","Darbo užmokestis | mėnesinis | neto | EUR",407.1,419.1,429.6,454.5,467.7,497.3,538.79999999999995,596.9,647.5,722.3,808.3,883.1,988.8,null,{"$f":"ROWS($R$7:R1127)","v":1121},"",{"$f":"IF(ISERROR(SMALL($S$7:$S$1504,ROWS($S$7:S1127))),\"\",SMALL($S$7:$S$1504,ROWS($S$7:S1127)))","v":""},"",{"$f":"IF(ISERROR(SMALL($U$7:$U$1504,ROWS(U$7:$U1127))),\"\",SMALL($U$7:$U$1504,ROWS(U$7:$U1127)))","v":""},"",{"$f":"IF(ISERROR(SMALL($W$7:$W$1504,ROWS($W$7:W1127))),\"\",SMALL($W$7:$W$1504,ROWS($W$7:W1127)))","v":""}]
[null,"Mažeikių r. sav.","Darbo užmokestis | mėnesinis | neto | EUR",448,456.2,474.1,498.1,504.3,536.1,576.6,639,678.3,754.1,846.6,907.9,1025.5,null,{"$f":"ROWS($R$7:R1128)","v":1122},"",{"$f":"IF(ISERROR(SMALL($S$7:$S$1504,ROWS($S$7:S1128))),\"\",SMALL($S$7:$S$1504,ROWS($S$7:S1128)))","v":""},"",{"$f":"IF(ISERROR(SMALL($U$7:$U$1504,ROWS(U$7:$U1128))),\"\",SMALL($U$7:$U$1504,ROWS(U$7:$U1128)))","v":""},"",{"$f":"IF(ISERROR(SMALL($W$7:$W$1504,ROWS($W$7:W1128))),\"\",SMALL($W$7:$W$1504,ROWS($W$7:W1128)))","v":""}]
[null,"Plungės r. sav.","Darbo užmokestis | mėnesinis | neto | EUR",367.5,395.3,397.1,413,432.5,450.1,494.6,555.9,624.79999999999995,712.1,787.4,882.2,985,null,{"$f":"ROWS($R$7:R1129)","v":1123},"",{"$f":"IF(ISERROR(SMALL($S$7:$S$1504,ROWS($S$7:S1129))),\"\",SMALL($S$7:$S$1504,ROWS($S$7:S1129)))","v":""},"",{"$f":"IF(ISERROR(SMALL($U$7:$U$1504,ROWS(U$7:$U1129))),\"\",SMALL($U$7:$U$1504,ROWS(U$7:$U1129)))","v":""},"",{"$f":"IF(ISERROR(SMALL($W$7:$W$1504,ROWS($W$7:W1129))),\"\",SMALL($W$7:$W$1504,ROWS($W$7:W1129)))","v":""}]
[null,"Rietavo sav.","Darbo užmokestis | mėnesinis | neto | EUR",380.9,397.6,400,412.1,442.4,483.8,499.3,570.6,614,702.6,769.6,829.6,930.2,null,{"$f":"ROWS($R$7:R1130)","v":1124},"",{"$f":"IF(ISERROR(SMALL($S$7:$S$1504,ROWS($S$7:S1130))),\"\",SMALL($S$7:$S$1504,ROWS($S$7:S1130)))","v":""},"",{"$f":"IF(ISERROR(SMALL($U$7:$U$1504,ROWS(U$7:$U1130))),\"\",SMALL($U$7:$U$1504,ROWS(U$7:$U1130)))","v":""},"",{"$f":"IF(ISERROR(SMALL($W$7:$W$1504,ROWS($W$7:W1130))),\"\",SMALL($W$7:$W$1504,ROWS($W$7:W1130)))","v":""}]
[null,"Telšių r. sav.","Darbo užmokestis | mėnesinis | neto | EUR",381.7,389,396.2,429.8,446.1,481.2,525.6,572.79999999999995,624.9,686,773.8,852.6,943.6,null,{"$f":"ROWS($R$7:R1131)","v":1125},"",{"$f":"IF(ISERROR(SMALL($S$7:$S$1504,ROWS($S$7:S1131))),\"\",SMALL($S$7:$S$1504,ROWS($S$7:S1131)))","v":""},"",{"$f":"IF(ISERROR(SMALL($U$7:$U$1504,ROWS(U$7:$U1131))),\"\",SMALL($U$7:$U$1504,ROWS(U$7:$U1131)))","v":""},"",{"$f":"IF(ISERROR(SMALL($W$7:$W$1504,ROWS($W$7:W1131))),\"\",SMALL($W$7:$W$1504,ROWS($W$7:W1131)))","v":""}]
[null,"Utenos apskritis","Darbo užmokestis | mėnesinis | neto | EUR",398.1,405.8,416.4,438.1,458,482.6,526.29999999999995,576,618.4,691.5,774.9,834.6,928.4,null,{"$f":"ROWS($R$7:R1132)","v":1126},"",{"$f":"IF(ISERROR(SMALL($S$7:$S$1504,ROWS($S$7:S1132))),\"\",SMALL($S$7:$S$1504,ROWS($S$7:S1132)))","v":""},"",{"$f":"IF(ISERROR(SMALL($U$7:$U$1504,ROWS(U$7:$U1132))),\"\",SMALL($U$7:$U$1504,ROWS(U$7:$U1132)))","v":""},"",{"$f":"IF(ISERROR(SMALL($W$7:$W$1504,ROWS($W$7:W1132))),\"\",SMALL($W$7:$W$1504,ROWS($W$7:W1132)))","v":""}]
[null,"Anykščių r. sav.","Darbo užmokestis | mėnesinis | neto | EUR",358.8,369.3,370.1,388.4,411.7,443,479.5,533.1,582.6,652.9,736.9,791.5,905.7,null,{"$f":"ROWS($R$7:R1133)","v":1127},"",{"$f":"IF(ISERROR(SMALL($S$7:$S$1504,ROWS($S$7:S1133))),\"\",SMALL($S$7:$S$1504,ROWS($S$7:S1133)))","v":""},"",{"$f":"IF(ISERROR(SMALL($U$7:$U$1504,ROWS(U$7:$U1133))),\"\",SMALL($U$7:$U$1504,ROWS(U$7:$U1133)))","v":""},"",{"$f":"IF(ISERROR(SMALL($W$7:$W$1504,ROWS($W$7:W1133))),\"\",SMALL($W$7:$W$1504,ROWS($W$7:W1133)))","v":""}]
[null,"Ignalinos r. sav.","Darbo užmokestis | mėnesinis | neto | EUR",349.9,364.3,371.6,397.4,417.3,437.8,495.3,564.5,566.9,637.79999999999995,713.4,758.3,877.2,null,{"$f":"ROWS($R$7:R1134)","v":1128},"",{"$f":"IF(ISERROR(SMALL($S$7:$S$1504,ROWS($S$7:S1134))),\"\",SMALL($S$7:$S$1504,ROWS($S$7:S1134)))","v":""},"",{"$f":"IF(ISERROR(SMALL($U$7:$U$1504,ROWS(U$7:$U1134))),\"\",SMALL($U$7:$U$1504,ROWS(U$7:$U1134)))","v":""},"",{"$f":"IF(ISERROR(SMALL($W$7:$W$1504,ROWS($W$7:W1134))),\"\",SMALL($W$7:$W$1504,ROWS($W$7:W1134)))","v":""}]
[null,"Molėtų r. sav.","Darbo užmokestis | mėnesinis | neto | EUR",360,360.9,364.3,389.5,414.9,428.6,467.5,515.4,558.4,645.5,717.6,800.9,861.7,null,{"$f":"ROWS($R$7:R1135)","v":1129},"",{"$f":"IF(ISERROR(SMALL($S$7:$S$1504,ROWS($S$7:S1135))),\"\",SMALL($S$7:$S$1504,ROWS($S$7:S1135)))","v":""},"",{"$f":"IF(ISERROR(SMALL($U$7:$U$1504,ROWS(U$7:$U1135))),\"\",SMALL($U$7:$U$1504,ROWS(U$7:$U1135)))","v":""},"",{"$f":"IF(ISERROR(SMALL($W$7:$W$1504,ROWS($W$7:W1135))),\"\",SMALL($W$7:$W$1504,ROWS($W$7:W1135)))","v":""}]
[null,"Utenos r. sav.","Darbo užmokestis | mėnesinis | neto | EUR",398.8,407.2,417.9,437.3,453.6,476.3,531.20000000000005,587.1,633.5,702.9,803,861.3,951.8,null,{"$f":"ROWS($R$7:R1136)","v":1130},"",{"$f":"IF(ISERROR(SMALL($S$7:$S$1504,ROWS($S$7:S1136))),\"\",SMALL($S$7:$S$1504,ROWS($S$7:S1136)))","v":""},"",{"$f":"IF(ISERROR(SMALL($U$7:$U$1504,ROWS(U$7:$U1136))),\"\",SMALL($U$7:$U$1504,ROWS(U$7:$U1136)))","v":""},"",{"$f":"IF(ISERROR(SMALL($W$7:$W$1504,ROWS($W$7:W1136))),\"\",SMALL($W$7:$W$1504,ROWS($W$7:W1136)))","v":""}]
[null,"Visagino sav.","Darbo užmokestis | mėnesinis | neto | EUR",472.9,485.4,509.2,534.29999999999995,555.29999999999995,588.29999999999995,615.70000000000005,650.79999999999995,690.9,770,840.5,907.6,1003,null,{"$f":"ROWS($R$7:R1137)","v":1131},"",{"$f":"IF(ISERROR(SMALL($S$7:$S$1504,ROWS($S$7:S1137))),\"\",SMALL($S$7:$S$1504,ROWS($S$7:S1137)))","v":""},"",{"$f":"IF(ISERROR(SMALL($U$7:$U$1504,ROWS(U$7:$U1137))),\"\",SMALL($U$7:$U$1504,ROWS(U$7:$U1137)))","v":""},"",{"$f":"IF(ISERROR(SMALL($W$7:$W$1504,ROWS($W$7:W1137))),\"\",SMALL($W$7:$W$1504,ROWS($W$7:W1137)))","v":""}]
[null,"Zarasų r. sav.","Darbo užmokestis | mėnesinis | neto | EUR",337.7,345.5,354.5,367.2,390.1,411.3,462.7,492,536,608.4,666,719.5,821,null,{"$f":"ROWS($R$7:R1138)","v":1132},"",{"$f":"IF(ISERROR(SMALL($S$7:$S$1504,ROWS($S$7:S1138))),\"\",SMALL($S$7:$S$1504,ROWS($S$7:S1138)))","v":""},"",{"$f":"IF(ISERROR(SMALL($U$7:$U$1504,ROWS(U$7:$U1138))),\"\",SMALL($U$7:$U$1504,ROWS(U$7:$U1138)))","v":""},"",{"$f":"IF(ISERROR(SMALL($W$7:$W$1504,ROWS($W$7:W1138))),\"\",SMALL($W$7:$W$1504,ROWS($W$7:W1138)))","v":""}]
[null,"Vilniaus apskritis","Darbo užmokestis | mėnesinis | neto | EUR",511,523.70000000000005,543.1,564.29999999999995,592.70000000000005,618.5,665.9,728.2,795.7,911.9,1004.9,1106.0999999999999,1242.2,null,{"$f":"ROWS($R$7:R1139)","v":1133},"",{"$f":"IF(ISERROR(SMALL($S$7:$S$1504,ROWS($S$7:S1139))),\"\",SMALL($S$7:$S$1504,ROWS($S$7:S1139)))","v":""},1133,{"$f":"IF(ISERROR(SMALL($U$7:$U$1504,ROWS(U$7:$U1139))),\"\",SMALL($U$7:$U$1504,ROWS(U$7:$U1139)))","v":""},"",{"$f":"IF(ISERROR(SMALL($W$7:$W$1504,ROWS($W$7:W1139))),\"\",SMALL($W$7:$W$1504,ROWS($W$7:W1139)))","v":""}]
[null,"Elektrėnų sav.","Darbo užmokestis | mėnesinis | neto | EUR",450.1,471.2,484.8,517.79999999999995,514.29999999999995,543.9,587.9,630.20000000000005,661.2,745.2,847.2,919.9,1031.8,null,{"$f":"ROWS($R$7:R1140)","v":1134},"",{"$f":"IF(ISERROR(SMALL($S$7:$S$1504,ROWS($S$7:S1140))),\"\",SMALL($S$7:$S$1504,ROWS($S$7:S1140)))","v":""},"",{"$f":"IF(ISERROR(SMALL($U$7:$U$1504,ROWS(U$7:$U1140))),\"\",SMALL($U$7:$U$1504,ROWS(U$7:$U1140)))","v":""},"",{"$f":"IF(ISERROR(SMALL($W$7:$W$1504,ROWS($W$7:W1140))),\"\",SMALL($W$7:$W$1504,ROWS($W$7:W1140)))","v":""}]
[null,"Šalčininkų r. sav.","Darbo užmokestis | mėnesinis | neto | EUR",334.5,328.4,341.5,363.8,378,398.5,451.1,502.1,541.6,614.70000000000005,697.3,779.6,866.1,null,{"$f":"ROWS($R$7:R1141)","v":1135},"",{"$f":"IF(ISERROR(SMALL($S$7:$S$1504,ROWS($S$7:S1141))),\"\",SMALL($S$7:$S$1504,ROWS($S$7:S1141)))","v":""},"",{"$f":"IF(ISERROR(SMALL($U$7:$U$1504,ROWS(U$7:$U1141))),\"\",SMALL($U$7:$U$1504,ROWS(U$7:$U1141)))","v":""},"",{"$f":"IF(ISERROR(SMALL($W$7:$W$1504,ROWS($W$7:W1141))),\"\",SMALL($W$7:$W$1504,ROWS($W$7:W1141)))","v":""}]
[null,"Širvintų r. sav.","Darbo užmokestis | mėnesinis | neto | EUR",363.2,371.9,389.8,403.2,415.7,426.6,477.5,554,594.5,695,778.2,873.9,959.2,null,{"$f":"ROWS($R$7:R1142)","v":1136},"",{"$f":"IF(ISERROR(SMALL($S$7:$S$1504,ROWS($S$7:S1142))),\"\",SMALL($S$7:$S$1504,ROWS($S$7:S1142)))","v":""},"",{"$f":"IF(ISERROR(SMALL($U$7:$U$1504,ROWS(U$7:$U1142))),\"\",SMALL($U$7:$U$1504,ROWS(U$7:$U1142)))","v":""},"",{"$f":"IF(ISERROR(SMALL($W$7:$W$1504,ROWS($W$7:W1142))),\"\",SMALL($W$7:$W$1504,ROWS($W$7:W1142)))","v":""}]
[null,"Švenčionių r. sav.","Darbo užmokestis | mėnesinis | neto | EUR",373,385.5,393,410.7,434.3,456.5,499.5,535.79999999999995,586.6,668.2,751.3,792.7,891.7,null,{"$f":"ROWS($R$7:R1143)","v":1137},"",{"$f":"IF(ISERROR(SMALL($S$7:$S$1504,ROWS($S$7:S1143))),\"\",SMALL($S$7:$S$1504,ROWS($S$7:S1143)))","v":""},"",{"$f":"IF(ISERROR(SMALL($U$7:$U$1504,ROWS(U$7:$U1143))),\"\",SMALL($U$7:$U$1504,ROWS(U$7:$U1143)))","v":""},"",{"$f":"IF(ISERROR(SMALL($W$7:$W$1504,ROWS($W$7:W1143))),\"\",SMALL($W$7:$W$1504,ROWS($W$7:W1143)))","v":""}]
[null,"Trakų r. sav.","Darbo užmokestis | mėnesinis | neto | EUR",416.5,409.5,420.8,446,483.6,504.7,570.70000000000005,648.1,710.4,803.5,869.2,968.9,1026.2,null,{"$f":"ROWS($R$7:R1144)","v":1138},"",{"$f":"IF(ISERROR(SMALL($S$7:$S$1504,ROWS($S$7:S1144))),\"\",SMALL($S$7:$S$1504,ROWS($S$7:S1144)))","v":""},"",{"$f":"IF(ISERROR(SMALL($U$7:$U$1504,ROWS(U$7:$U1144))),\"\",SMALL($U$7:$U$1504,ROWS(U$7:$U1144)))","v":""},"",{"$f":"IF(ISERROR(SMALL($W$7:$W$1504,ROWS($W$7:W1144))),\"\",SMALL($W$7:$W$1504,ROWS($W$7:W1144)))","v":""}]
[null,"Ukmergės r. sav.","Darbo užmokestis | mėnesinis | neto | EUR",380.6,388.1,397.1,419.7,444.8,458,512.6,567.1,622,714.7,766.7,856.7,939,null,{"$f":"ROWS($R$7:R1145)","v":1139},"",{"$f":"IF(ISERROR(SMALL($S$7:$S$1504,ROWS($S$7:S1145))),\"\",SMALL($S$7:$S$1504,ROWS($S$7:S1145)))","v":""},"",{"$f":"IF(ISERROR(SMALL($U$7:$U$1504,ROWS(U$7:$U1145))),\"\",SMALL($U$7:$U$1504,ROWS(U$7:$U1145)))","v":""},"",{"$f":"IF(ISERROR(SMALL($W$7:$W$1504,ROWS($W$7:W1145))),\"\",SMALL($W$7:$W$1504,ROWS($W$7:W1145)))","v":""}]
[null,"Vilniaus m. sav.","Darbo užmokestis | mėnesinis | neto | EUR",529.1,543.29999999999995,563.29999999999995,583.9,613.9,639.20000000000005,684.8,748,819.6,940,1034.8,1138.5999999999999,1280.0999999999999,null,{"$f":"ROWS($R$7:R1146)","v":1140},1140,{"$f":"IF(ISERROR(SMALL($S$7:$S$1504,ROWS($S$7:S1146))),\"\",SMALL($S$7:$S$1504,ROWS($S$7:S1146)))","v":""},"",{"$f":"IF(ISERROR(SMALL($U$7:$U$1504,ROWS(U$7:$U1146))),\"\",SMALL($U$7:$U$1504,ROWS(U$7:$U1146)))","v":""},"",{"$f":"IF(ISERROR(SMALL($W$7:$W$1504,ROWS($W$7:W1146))),\"\",SMALL($W$7:$W$1504,ROWS($W$7:W1146)))","v":""}]
[null,"Vilniaus r. sav.","Darbo užmokestis | mėnesinis | neto | EUR",391.9,396.5,422,450.1,470,509.7,568.6,630.1,665.5,753.6,845.3,931.7,1056.2,null,{"$f":"ROWS($R$7:R1147)","v":1141},"",{"$f":"IF(ISERROR(SMALL($S$7:$S$1504,ROWS($S$7:S1147))),\"\",SMALL($S$7:$S$1504,ROWS($S$7:S1147)))","v":""},"",{"$f":"IF(ISERROR(SMALL($U$7:$U$1504,ROWS(U$7:$U1147))),\"\",SMALL($U$7:$U$1504,ROWS(U$7:$U1147)))","v":""},"",{"$f":"IF(ISERROR(SMALL($W$7:$W$1504,ROWS($W$7:W1147))),\"\",SMALL($W$7:$W$1504,ROWS($W$7:W1147)))","v":""}]
[null,"Lietuvos Respublika","Materialinės investicijos to meto kainomis | mln. EUR",4153.6790000000001,5068.9769999999999,5305.5529999999999,5933.8670000000002,6081.759,6912.7359999999999,6895.3540000000003,7315.9319999999998,8077.81,9539.7170000000006,9053.2530000000006,10803.374,null,null,{"$f":"ROWS($R$7:R1148)","v":1142},"",{"$f":"IF(ISERROR(SMALL($S$7:$S$1504,ROWS($S$7:S1148))),\"\",SMALL($S$7:$S$1504,ROWS($S$7:S1148)))","v":""},"",{"$f":"IF(ISERROR(SMALL($U$7:$U$1504,ROWS(U$7:$U1148))),\"\",SMALL($U$7:$U$1504,ROWS(U$7:$U1148)))","v":""},1142,{"$f":"IF(ISERROR(SMALL($W$7:$W$1504,ROWS($W$7:W1148))),\"\",SMALL($W$7:$W$1504,ROWS($W$7:W1148)))","v":""}]
[null,"Alytaus apskritis","Materialinės investicijos to meto kainomis | mln. EUR",144.73599999999999,180.27,152.41800000000001,177.36099999999999,204.81800000000001,280.72399999999999,146.864,164.577,165.04,187.05699999999999,203.67400000000001,221.11799999999999,null,null,{"$f":"ROWS($R$7:R1149)","v":1143},"",{"$f":"IF(ISERROR(SMALL($S$7:$S$1504,ROWS($S$7:S1149))),\"\",SMALL($S$7:$S$1504,ROWS($S$7:S1149)))","v":""},"",{"$f":"IF(ISERROR(SMALL($U$7:$U$1504,ROWS(U$7:$U1149))),\"\",SMALL($U$7:$U$1504,ROWS(U$7:$U1149)))","v":""},"",{"$f":"IF(ISERROR(SMALL($W$7:$W$1504,ROWS($W$7:W1149))),\"\",SMALL($W$7:$W$1504,ROWS($W$7:W1149)))","v":""}]
[null,"Alytaus m. sav.","Materialinės investicijos to meto kainomis | mln. EUR",62.354999999999997,64.228999999999999,66.14,62.151000000000003,62,64.268000000000001,67.216999999999999,75.028999999999996,76.015000000000001,78.555999999999997,65.646000000000001,80.498999999999995,null,null,{"$f":"ROWS($R$7:R1150)","v":1144},"",{"$f":"IF(ISERROR(SMALL($S$7:$S$1504,ROWS($S$7:S1150))),\"\",SMALL($S$7:$S$1504,ROWS($S$7:S1150)))","v":""},"",{"$f":"IF(ISERROR(SMALL($U$7:$U$1504,ROWS(U$7:$U1150))),\"\",SMALL($U$7:$U$1504,ROWS(U$7:$U1150)))","v":""},"",{"$f":"IF(ISERROR(SMALL($W$7:$W$1504,ROWS($W$7:W1150))),\"\",SMALL($W$7:$W$1504,ROWS($W$7:W1150)))","v":""}]
[null,"Alytaus r. sav.","Materialinės investicijos to meto kainomis | mln. EUR",16.779,24.437999999999999,19.501999999999999,38.502000000000002,67.087999999999994,147.33699999999999,24.175000000000001,24.681999999999999,26.030999999999999,26.478000000000002,43.02,61.545999999999999,null,null,{"$f":"ROWS($R$7:R1151)","v":1145},"",{"$f":"IF(ISERROR(SMALL($S$7:$S$1504,ROWS($S$7:S1151))),\"\",SMALL($S$7:$S$1504,ROWS($S$7:S1151)))","v":""},"",{"$f":"IF(ISERROR(SMALL($U$7:$U$1504,ROWS(U$7:$U1151))),\"\",SMALL($U$7:$U$1504,ROWS(U$7:$U1151)))","v":""},"",{"$f":"IF(ISERROR(SMALL($W$7:$W$1504,ROWS($W$7:W1151))),\"\",SMALL($W$7:$W$1504,ROWS($W$7:W1151)))","v":""}]
[null,"Druskininkų sav.","Materialinės investicijos to meto kainomis | mln. EUR",42.426000000000002,54.8,30.486999999999998,25.170999999999999,41.655000000000001,38.383000000000003,27.922000000000001,34.061999999999998,32.44,43.62,56.91,46.085000000000001,null,null,{"$f":"ROWS($R$7:R1152)","v":1146},"",{"$f":"IF(ISERROR(SMALL($S$7:$S$1504,ROWS($S$7:S1152))),\"\",SMALL($S$7:$S$1504,ROWS($S$7:S1152)))","v":""},"",{"$f":"IF(ISERROR(SMALL($U$7:$U$1504,ROWS(U$7:$U1152))),\"\",SMALL($U$7:$U$1504,ROWS(U$7:$U1152)))","v":""},"",{"$f":"IF(ISERROR(SMALL($W$7:$W$1504,ROWS($W$7:W1152))),\"\",SMALL($W$7:$W$1504,ROWS($W$7:W1152)))","v":""}]
[null,"Lazdijų r. sav.","Materialinės investicijos to meto kainomis | mln. EUR",8.8379999999999992,12.401999999999999,12.429,23.029,16.559999999999999,11.66,11.744,13.750999999999999,11.663,15.305999999999999,16.181999999999999,11.53,null,null,{"$f":"ROWS($R$7:R1153)","v":1147},"",{"$f":"IF(ISERROR(SMALL($S$7:$S$1504,ROWS($S$7:S1153))),\"\",SMALL($S$7:$S$1504,ROWS($S$7:S1153)))","v":""},"",{"$f":"IF(ISERROR(SMALL($U$7:$U$1504,ROWS(U$7:$U1153))),\"\",SMALL($U$7:$U$1504,ROWS(U$7:$U1153)))","v":""},"",{"$f":"IF(ISERROR(SMALL($W$7:$W$1504,ROWS($W$7:W1153))),\"\",SMALL($W$7:$W$1504,ROWS($W$7:W1153)))","v":""}]
[null,"Varėnos r. sav.","Materialinės investicijos to meto kainomis | mln. EUR",14.337999999999999,24.401,23.86,28.507999999999999,17.515000000000001,19.076000000000001,15.805999999999999,17.053000000000001,18.890999999999998,23.097000000000001,21.916,21.457999999999998,null,null,{"$f":"ROWS($R$7:R1154)","v":1148},"",{"$f":"IF(ISERROR(SMALL($S$7:$S$1504,ROWS($S$7:S1154))),\"\",SMALL($S$7:$S$1504,ROWS($S$7:S1154)))","v":""},"",{"$f":"IF(ISERROR(SMALL($U$7:$U$1504,ROWS(U$7:$U1154))),\"\",SMALL($U$7:$U$1504,ROWS(U$7:$U1154)))","v":""},"",{"$f":"IF(ISERROR(SMALL($W$7:$W$1504,ROWS($W$7:W1154))),\"\",SMALL($W$7:$W$1504,ROWS($W$7:W1154)))","v":""}]
[null,"Kauno apskritis","Materialinės investicijos to meto kainomis | mln. EUR",625,779.78899999999999,869.35699999999997,908.55700000000002,1040.816,1179.5709999999999,1212.559,1381.0640000000001,1520.2449999999999,1778.953,1778.597,2164.0459999999998,null,null,{"$f":"ROWS($R$7:R1155)","v":1149},"",{"$f":"IF(ISERROR(SMALL($S$7:$S$1504,ROWS($S$7:S1155))),\"\",SMALL($S$7:$S$1504,ROWS($S$7:S1155)))","v":""},"",{"$f":"IF(ISERROR(SMALL($U$7:$U$1504,ROWS(U$7:$U1155))),\"\",SMALL($U$7:$U$1504,ROWS(U$7:$U1155)))","v":""},"",{"$f":"IF(ISERROR(SMALL($W$7:$W$1504,ROWS($W$7:W1155))),\"\",SMALL($W$7:$W$1504,ROWS($W$7:W1155)))","v":""}]
[null,"Birštono sav.","Materialinės investicijos to meto kainomis | mln. EUR",3.2679999999999998,7.3090000000000002,10.95,4.8689999999999998,10.49,9.6280000000000001,7.3170000000000002,15.032999999999999,9.1379999999999999,10.256,13.327,12.012,null,null,{"$f":"ROWS($R$7:R1156)","v":1150},"",{"$f":"IF(ISERROR(SMALL($S$7:$S$1504,ROWS($S$7:S1156))),\"\",SMALL($S$7:$S$1504,ROWS($S$7:S1156)))","v":""},"",{"$f":"IF(ISERROR(SMALL($U$7:$U$1504,ROWS(U$7:$U1156))),\"\",SMALL($U$7:$U$1504,ROWS(U$7:$U1156)))","v":""},"",{"$f":"IF(ISERROR(SMALL($W$7:$W$1504,ROWS($W$7:W1156))),\"\",SMALL($W$7:$W$1504,ROWS($W$7:W1156)))","v":""}]
[null,"Jonavos r. sav.","Materialinės investicijos to meto kainomis | mln. EUR",24.545999999999999,53.17,61.643999999999998,71.597999999999999,76.528999999999996,83.710999999999999,86.010999999999996,82.117000000000004,73.760999999999996,63.994,227.96799999999999,222.601,null,null,{"$f":"ROWS($R$7:R1157)","v":1151},"",{"$f":"IF(ISERROR(SMALL($S$7:$S$1504,ROWS($S$7:S1157))),\"\",SMALL($S$7:$S$1504,ROWS($S$7:S1157)))","v":""},"",{"$f":"IF(ISERROR(SMALL($U$7:$U$1504,ROWS(U$7:$U1157))),\"\",SMALL($U$7:$U$1504,ROWS(U$7:$U1157)))","v":""},"",{"$f":"IF(ISERROR(SMALL($W$7:$W$1504,ROWS($W$7:W1157))),\"\",SMALL($W$7:$W$1504,ROWS($W$7:W1157)))","v":""}]
[null,"Kaišiadorių r. sav.","Materialinės investicijos to meto kainomis | mln. EUR",24.076000000000001,44.143999999999998,30.175999999999998,29.617000000000001,34.96,39.97,28.247,55.491999999999997,27.131,27.538,76.774000000000001,47.003,null,null,{"$f":"ROWS($R$7:R1158)","v":1152},"",{"$f":"IF(ISERROR(SMALL($S$7:$S$1504,ROWS($S$7:S1158))),\"\",SMALL($S$7:$S$1504,ROWS($S$7:S1158)))","v":""},"",{"$f":"IF(ISERROR(SMALL($U$7:$U$1504,ROWS(U$7:$U1158))),\"\",SMALL($U$7:$U$1504,ROWS(U$7:$U1158)))","v":""},"",{"$f":"IF(ISERROR(SMALL($W$7:$W$1504,ROWS($W$7:W1158))),\"\",SMALL($W$7:$W$1504,ROWS($W$7:W1158)))","v":""}]
[null,"Kauno m. sav.","Materialinės investicijos to meto kainomis | mln. EUR",355.06,467.39600000000002,496.36799999999999,500.32299999999998,603.52099999999996,690.30799999999999,747.48599999999999,790.19500000000005,960.87699999999995,1095.133,845.149,1162.6189999999999,null,null,{"$f":"ROWS($R$7:R1159)","v":1153},{"$f":"IF(ISNUMBER(SEARCH($R$3,B1159)),R1159,\"\")","v":""},{"$f":"IF(ISERROR(SMALL($S$7:$S$1504,ROWS($S$7:S1159))),\"\",SMALL($S$7:$S$1504,ROWS($S$7:S1159)))","v":""},{"$f":"IF($R$4=B1159,R1159,\"\")","v":""},{"$f":"IF(ISERROR(SMALL($U$7:$U$1504,ROWS(U$7:$U1159))),\"\",SMALL($U$7:$U$1504,ROWS(U$7:$U1159)))","v":""},{"$f":"IF(\"Lietuvos Respublika\"=B1159,R1159,\"\")","v":""},{"$f":"IF(ISERROR(SMALL($W$7:$W$1504,ROWS($W$7:W1159))),\"\",SMALL($W$7:$W$1504,ROWS($W$7:W1159)))","v":""}]
[null,"Kauno r. sav.","Materialinės investicijos to meto kainomis | mln. EUR",109.908,109.78700000000001,159.28800000000001,157.26599999999999,206.453,226.96600000000001,209.18600000000001,295.726,304.30500000000001,422.68700000000001,429.226,544.71699999999998,null,null,{"$f":"ROWS($R$7:R1160)","v":1154},"",{"$f":"IF(ISERROR(SMALL($S$7:$S$1504,ROWS($S$7:S1160))),\"\",SMALL($S$7:$S$1504,ROWS($S$7:S1160)))","v":""},"",{"$f":"IF(ISERROR(SMALL($U$7:$U$1504,ROWS(U$7:$U1160))),\"\",SMALL($U$7:$U$1504,ROWS(U$7:$U1160)))","v":""},"",{"$f":"IF(ISERROR(SMALL($W$7:$W$1504,ROWS($W$7:W1160))),\"\",SMALL($W$7:$W$1504,ROWS($W$7:W1160)))","v":""}]
[null,"Kėdainių r. sav.","Materialinės investicijos to meto kainomis | mln. EUR",72.247,51.073,69.962000000000003,93.558000000000007,59.225999999999999,80.042000000000002,78.512,75.602999999999994,85.253,98.668000000000006,114.46899999999999,104.627,null,null,{"$f":"ROWS($R$7:R1161)","v":1155},"",{"$f":"IF(ISERROR(SMALL($S$7:$S$1504,ROWS($S$7:S1161))),\"\",SMALL($S$7:$S$1504,ROWS($S$7:S1161)))","v":""},"",{"$f":"IF(ISERROR(SMALL($U$7:$U$1504,ROWS(U$7:$U1161))),\"\",SMALL($U$7:$U$1504,ROWS(U$7:$U1161)))","v":""},"",{"$f":"IF(ISERROR(SMALL($W$7:$W$1504,ROWS($W$7:W1161))),\"\",SMALL($W$7:$W$1504,ROWS($W$7:W1161)))","v":""}]
[null,"Prienų r. sav.","Materialinės investicijos to meto kainomis | mln. EUR",12.852,17.361000000000001,11.853999999999999,13.728,14.727,18.082999999999998,16.652999999999999,21.01,24.010999999999999,21.85,26.256,31.911999999999999,null,null,{"$f":"ROWS($R$7:R1162)","v":1156},"",{"$f":"IF(ISERROR(SMALL($S$7:$S$1504,ROWS($S$7:S1162))),\"\",SMALL($S$7:$S$1504,ROWS($S$7:S1162)))","v":""},"",{"$f":"IF(ISERROR(SMALL($U$7:$U$1504,ROWS(U$7:$U1162))),\"\",SMALL($U$7:$U$1504,ROWS(U$7:$U1162)))","v":""},"",{"$f":"IF(ISERROR(SMALL($W$7:$W$1504,ROWS($W$7:W1162))),\"\",SMALL($W$7:$W$1504,ROWS($W$7:W1162)))","v":""}]
[null,"Raseinių r. sav.","Materialinės investicijos to meto kainomis | mln. EUR",23.042999999999999,29.548999999999999,29.114999999999998,37.597999999999999,34.909999999999997,30.863,39.146999999999998,45.887999999999998,35.768999999999998,38.826999999999998,45.427999999999997,38.555,null,null,{"$f":"ROWS($R$7:R1163)","v":1157},"",{"$f":"IF(ISERROR(SMALL($S$7:$S$1504,ROWS($S$7:S1163))),\"\",SMALL($S$7:$S$1504,ROWS($S$7:S1163)))","v":""},"",{"$f":"IF(ISERROR(SMALL($U$7:$U$1504,ROWS(U$7:$U1163))),\"\",SMALL($U$7:$U$1504,ROWS(U$7:$U1163)))","v":""},"",{"$f":"IF(ISERROR(SMALL($W$7:$W$1504,ROWS($W$7:W1163))),\"\",SMALL($W$7:$W$1504,ROWS($W$7:W1163)))","v":""}]
[null,"Klaipėdos apskritis","Materialinės investicijos to meto kainomis | mln. EUR",519.15099999999995,741.3,638.85799999999995,828.61800000000005,903.29300000000001,1042.8399999999999,928.88599999999997,947.59699999999998,935.63699999999994,1578.92,1092.992,1237.4480000000001,null,null,{"$f":"ROWS($R$7:R1164)","v":1158},"",{"$f":"IF(ISERROR(SMALL($S$7:$S$1504,ROWS($S$7:S1164))),\"\",SMALL($S$7:$S$1504,ROWS($S$7:S1164)))","v":""},"",{"$f":"IF(ISERROR(SMALL($U$7:$U$1504,ROWS(U$7:$U1164))),\"\",SMALL($U$7:$U$1504,ROWS(U$7:$U1164)))","v":""},"",{"$f":"IF(ISERROR(SMALL($W$7:$W$1504,ROWS($W$7:W1164))),\"\",SMALL($W$7:$W$1504,ROWS($W$7:W1164)))","v":""}]
[null,"Klaipėdos m. sav.","Materialinės investicijos to meto kainomis | mln. EUR",300.11900000000003,481.82499999999999,384.04899999999998,512.37599999999998,555.96100000000001,576.85500000000002,527.505,561.255,548.31700000000001,1170.6959999999999,670.32799999999997,701.06600000000003,null,null,{"$f":"ROWS($R$7:R1165)","v":1159},"",{"$f":"IF(ISERROR(SMALL($S$7:$S$1504,ROWS($S$7:S1165))),\"\",SMALL($S$7:$S$1504,ROWS($S$7:S1165)))","v":""},"",{"$f":"IF(ISERROR(SMALL($U$7:$U$1504,ROWS(U$7:$U1165))),\"\",SMALL($U$7:$U$1504,ROWS(U$7:$U1165)))","v":""},"",{"$f":"IF(ISERROR(SMALL($W$7:$W$1504,ROWS($W$7:W1165))),\"\",SMALL($W$7:$W$1504,ROWS($W$7:W1165)))","v":""}]
[null,"Klaipėdos r. sav.","Materialinės investicijos to meto kainomis | mln. EUR",71.772000000000006,129.23400000000001,140.97300000000001,168.16499999999999,206.06299999999999,297.08300000000003,260.65600000000001,224.875,217.125,213.25800000000001,204.227,253.10599999999999,null,null,{"$f":"ROWS($R$7:R1166)","v":1160},"",{"$f":"IF(ISERROR(SMALL($S$7:$S$1504,ROWS($S$7:S1166))),\"\",SMALL($S$7:$S$1504,ROWS($S$7:S1166)))","v":""},"",{"$f":"IF(ISERROR(SMALL($U$7:$U$1504,ROWS(U$7:$U1166))),\"\",SMALL($U$7:$U$1504,ROWS(U$7:$U1166)))","v":""},"",{"$f":"IF(ISERROR(SMALL($W$7:$W$1504,ROWS($W$7:W1166))),\"\",SMALL($W$7:$W$1504,ROWS($W$7:W1166)))","v":""}]
[null,"Kretingos r. sav.","Materialinės investicijos to meto kainomis | mln. EUR",85.614999999999995,28.440999999999999,29.004999999999999,32.796999999999997,38.374000000000002,43.070999999999998,44.673999999999999,48.283999999999999,63.177,51.308999999999997,61.195,74.8,null,null,{"$f":"ROWS($R$7:R1167)","v":1161},"",{"$f":"IF(ISERROR(SMALL($S$7:$S$1504,ROWS($S$7:S1167))),\"\",SMALL($S$7:$S$1504,ROWS($S$7:S1167)))","v":""},"",{"$f":"IF(ISERROR(SMALL($U$7:$U$1504,ROWS(U$7:$U1167))),\"\",SMALL($U$7:$U$1504,ROWS(U$7:$U1167)))","v":""},"",{"$f":"IF(ISERROR(SMALL($W$7:$W$1504,ROWS($W$7:W1167))),\"\",SMALL($W$7:$W$1504,ROWS($W$7:W1167)))","v":""}]
[null,"Neringos sav.","Materialinės investicijos to meto kainomis | mln. EUR",4.8070000000000004,6.3410000000000002,7.4829999999999997,9.3140000000000001,13.715,15.018000000000001,15.465999999999999,10.555999999999999,5.8710000000000004,11.676,23.509,22.291,null,null,{"$f":"ROWS($R$7:R1168)","v":1162},"",{"$f":"IF(ISERROR(SMALL($S$7:$S$1504,ROWS($S$7:S1168))),\"\",SMALL($S$7:$S$1504,ROWS($S$7:S1168)))","v":""},"",{"$f":"IF(ISERROR(SMALL($U$7:$U$1504,ROWS(U$7:$U1168))),\"\",SMALL($U$7:$U$1504,ROWS(U$7:$U1168)))","v":""},"",{"$f":"IF(ISERROR(SMALL($W$7:$W$1504,ROWS($W$7:W1168))),\"\",SMALL($W$7:$W$1504,ROWS($W$7:W1168)))","v":""}]
[null,"Palangos m. sav.","Materialinės investicijos to meto kainomis | mln. EUR",16.696000000000002,39.457000000000001,28.643999999999998,44.405999999999999,39.944000000000003,54.969000000000001,36.78,49.488999999999997,39.908999999999999,58.723999999999997,50.716999999999999,67.251999999999995,null,null,{"$f":"ROWS($R$7:R1169)","v":1163},"",{"$f":"IF(ISERROR(SMALL($S$7:$S$1504,ROWS($S$7:S1169))),\"\",SMALL($S$7:$S$1504,ROWS($S$7:S1169)))","v":""},"",{"$f":"IF(ISERROR(SMALL($U$7:$U$1504,ROWS(U$7:$U1169))),\"\",SMALL($U$7:$U$1504,ROWS(U$7:$U1169)))","v":""},"",{"$f":"IF(ISERROR(SMALL($W$7:$W$1504,ROWS($W$7:W1169))),\"\",SMALL($W$7:$W$1504,ROWS($W$7:W1169)))","v":""}]
[null,"Skuodo r. sav.","Materialinės investicijos to meto kainomis | mln. EUR",9.5210000000000008,9.9779999999999998,12.151999999999999,17.606000000000002,6.5259999999999998,8.0259999999999998,7.4050000000000002,8.3740000000000006,10.814,12.259,8.4309999999999992,9.0150000000000006,null,null,{"$f":"ROWS($R$7:R1170)","v":1164},"",{"$f":"IF(ISERROR(SMALL($S$7:$S$1504,ROWS($S$7:S1170))),\"\",SMALL($S$7:$S$1504,ROWS($S$7:S1170)))","v":""},"",{"$f":"IF(ISERROR(SMALL($U$7:$U$1504,ROWS(U$7:$U1170))),\"\",SMALL($U$7:$U$1504,ROWS(U$7:$U1170)))","v":""},"",{"$f":"IF(ISERROR(SMALL($W$7:$W$1504,ROWS($W$7:W1170))),\"\",SMALL($W$7:$W$1504,ROWS($W$7:W1170)))","v":""}]
[null,"Šilutės r. sav.","Materialinės investicijos to meto kainomis | mln. EUR",30.620999999999999,46.024000000000001,36.552,43.954000000000001,42.71,47.817999999999998,36.4,44.764000000000003,50.423999999999999,60.997999999999998,74.584999999999994,109.91800000000001,null,null,{"$f":"ROWS($R$7:R1171)","v":1165},"",{"$f":"IF(ISERROR(SMALL($S$7:$S$1504,ROWS($S$7:S1171))),\"\",SMALL($S$7:$S$1504,ROWS($S$7:S1171)))","v":""},"",{"$f":"IF(ISERROR(SMALL($U$7:$U$1504,ROWS(U$7:$U1171))),\"\",SMALL($U$7:$U$1504,ROWS(U$7:$U1171)))","v":""},"",{"$f":"IF(ISERROR(SMALL($W$7:$W$1504,ROWS($W$7:W1171))),\"\",SMALL($W$7:$W$1504,ROWS($W$7:W1171)))","v":""}]
[null,"Marijampolės apskritis","Materialinės investicijos to meto kainomis | mln. EUR",114.49,179.947,160.18600000000001,175.268,153.09700000000001,186.369,194.001,178.869,216.76599999999999,229.94800000000001,211.863,269.97199999999998,null,null,{"$f":"ROWS($R$7:R1172)","v":1166},"",{"$f":"IF(ISERROR(SMALL($S$7:$S$1504,ROWS($S$7:S1172))),\"\",SMALL($S$7:$S$1504,ROWS($S$7:S1172)))","v":""},"",{"$f":"IF(ISERROR(SMALL($U$7:$U$1504,ROWS(U$7:$U1172))),\"\",SMALL($U$7:$U$1504,ROWS(U$7:$U1172)))","v":""},"",{"$f":"IF(ISERROR(SMALL($W$7:$W$1504,ROWS($W$7:W1172))),\"\",SMALL($W$7:$W$1504,ROWS($W$7:W1172)))","v":""}]
[null,"Kalvarijos sav.","Materialinės investicijos to meto kainomis | mln. EUR",4.6740000000000004,10.39,8.4120000000000008,8.27,10.420999999999999,8.3239999999999998,7.3259999999999996,8.9009999999999998,9.7530000000000001,13.374000000000001,10.478,11.638,null,null,{"$f":"ROWS($R$7:R1173)","v":1167},"",{"$f":"IF(ISERROR(SMALL($S$7:$S$1504,ROWS($S$7:S1173))),\"\",SMALL($S$7:$S$1504,ROWS($S$7:S1173)))","v":""},"",{"$f":"IF(ISERROR(SMALL($U$7:$U$1504,ROWS(U$7:$U1173))),\"\",SMALL($U$7:$U$1504,ROWS(U$7:$U1173)))","v":""},"",{"$f":"IF(ISERROR(SMALL($W$7:$W$1504,ROWS($W$7:W1173))),\"\",SMALL($W$7:$W$1504,ROWS($W$7:W1173)))","v":""}]
[null,"Kazlų Rūdos sav.","Materialinės investicijos to meto kainomis | mln. EUR",22.407,16.954000000000001,16.353000000000002,17.911999999999999,17.847999999999999,12.170999999999999,15.513999999999999,11.948,24.867000000000001,42.518999999999998,24.564,41.325000000000003,null,null,{"$f":"ROWS($R$7:R1174)","v":1168},"",{"$f":"IF(ISERROR(SMALL($S$7:$S$1504,ROWS($S$7:S1174))),\"\",SMALL($S$7:$S$1504,ROWS($S$7:S1174)))","v":""},"",{"$f":"IF(ISERROR(SMALL($U$7:$U$1504,ROWS(U$7:$U1174))),\"\",SMALL($U$7:$U$1504,ROWS(U$7:$U1174)))","v":""},"",{"$f":"IF(ISERROR(SMALL($W$7:$W$1504,ROWS($W$7:W1174))),\"\",SMALL($W$7:$W$1504,ROWS($W$7:W1174)))","v":""}]
[null,"Marijampolės sav.","Materialinės investicijos to meto kainomis | mln. EUR",54.750999999999998,90.685000000000002,81.55,86.263999999999996,77.921000000000006,104.67700000000001,117.694,102.732,128.44200000000001,127.822,105.188,142.14400000000001,null,null,{"$f":"ROWS($R$7:R1175)","v":1169},"",{"$f":"IF(ISERROR(SMALL($S$7:$S$1504,ROWS($S$7:S1175))),\"\",SMALL($S$7:$S$1504,ROWS($S$7:S1175)))","v":""},"",{"$f":"IF(ISERROR(SMALL($U$7:$U$1504,ROWS(U$7:$U1175))),\"\",SMALL($U$7:$U$1504,ROWS(U$7:$U1175)))","v":""},"",{"$f":"IF(ISERROR(SMALL($W$7:$W$1504,ROWS($W$7:W1175))),\"\",SMALL($W$7:$W$1504,ROWS($W$7:W1175)))","v":""}]
[null,"Šakių r. sav.","Materialinės investicijos to meto kainomis | mln. EUR",18.696000000000002,32.923000000000002,29.199000000000002,37.066000000000003,22.963999999999999,37.302,30.27,31.175999999999998,36.378,25.638000000000002,32.924999999999997,39.273000000000003,null,null,{"$f":"ROWS($R$7:R1176)","v":1170},"",{"$f":"IF(ISERROR(SMALL($S$7:$S$1504,ROWS($S$7:S1176))),\"\",SMALL($S$7:$S$1504,ROWS($S$7:S1176)))","v":""},"",{"$f":"IF(ISERROR(SMALL($U$7:$U$1504,ROWS(U$7:$U1176))),\"\",SMALL($U$7:$U$1504,ROWS(U$7:$U1176)))","v":""},"",{"$f":"IF(ISERROR(SMALL($W$7:$W$1504,ROWS($W$7:W1176))),\"\",SMALL($W$7:$W$1504,ROWS($W$7:W1176)))","v":""}]
[null,"Vilkaviškio r. sav.","Materialinės investicijos to meto kainomis | mln. EUR",13.962,28.995000000000001,24.672000000000001,25.756,23.943000000000001,23.895,23.196999999999999,24.111999999999998,17.326000000000001,20.594999999999999,38.707999999999998,35.591999999999999,null,null,{"$f":"ROWS($R$7:R1177)","v":1171},"",{"$f":"IF(ISERROR(SMALL($S$7:$S$1504,ROWS($S$7:S1177))),\"\",SMALL($S$7:$S$1504,ROWS($S$7:S1177)))","v":""},"",{"$f":"IF(ISERROR(SMALL($U$7:$U$1504,ROWS(U$7:$U1177))),\"\",SMALL($U$7:$U$1504,ROWS(U$7:$U1177)))","v":""},"",{"$f":"IF(ISERROR(SMALL($W$7:$W$1504,ROWS($W$7:W1177))),\"\",SMALL($W$7:$W$1504,ROWS($W$7:W1177)))","v":""}]
[null,"Panevėžio apskritis","Materialinės investicijos to meto kainomis | mln. EUR",181.65700000000001,261.161,266.27699999999999,305.71300000000002,264.64,268.351,286.45600000000002,327.56,350.072,329.84199999999998,351.76600000000002,385.935,null,null,{"$f":"ROWS($R$7:R1178)","v":1172},"",{"$f":"IF(ISERROR(SMALL($S$7:$S$1504,ROWS($S$7:S1178))),\"\",SMALL($S$7:$S$1504,ROWS($S$7:S1178)))","v":""},"",{"$f":"IF(ISERROR(SMALL($U$7:$U$1504,ROWS(U$7:$U1178))),\"\",SMALL($U$7:$U$1504,ROWS(U$7:$U1178)))","v":""},"",{"$f":"IF(ISERROR(SMALL($W$7:$W$1504,ROWS($W$7:W1178))),\"\",SMALL($W$7:$W$1504,ROWS($W$7:W1178)))","v":""}]
[null,"Biržų r. sav.","Materialinės investicijos to meto kainomis | mln. EUR",10.9,20.890999999999998,16.760000000000002,21.466999999999999,17.344999999999999,17.617999999999999,15.356,14.002000000000001,13.426,13.602,20.678000000000001,23.364000000000001,null,null,{"$f":"ROWS($R$7:R1179)","v":1173},"",{"$f":"IF(ISERROR(SMALL($S$7:$S$1504,ROWS($S$7:S1179))),\"\",SMALL($S$7:$S$1504,ROWS($S$7:S1179)))","v":""},"",{"$f":"IF(ISERROR(SMALL($U$7:$U$1504,ROWS(U$7:$U1179))),\"\",SMALL($U$7:$U$1504,ROWS(U$7:$U1179)))","v":""},"",{"$f":"IF(ISERROR(SMALL($W$7:$W$1504,ROWS($W$7:W1179))),\"\",SMALL($W$7:$W$1504,ROWS($W$7:W1179)))","v":""}]
[null,"Kupiškio r. sav.","Materialinės investicijos to meto kainomis | mln. EUR",14.935,17.004000000000001,11.586,10.747999999999999,13.131,15.212,11.083,15.567,17.914999999999999,15.444000000000001,14.885,17.975000000000001,null,null,{"$f":"ROWS($R$7:R1180)","v":1174},"",{"$f":"IF(ISERROR(SMALL($S$7:$S$1504,ROWS($S$7:S1180))),\"\",SMALL($S$7:$S$1504,ROWS($S$7:S1180)))","v":""},"",{"$f":"IF(ISERROR(SMALL($U$7:$U$1504,ROWS(U$7:$U1180))),\"\",SMALL($U$7:$U$1504,ROWS(U$7:$U1180)))","v":""},"",{"$f":"IF(ISERROR(SMALL($W$7:$W$1504,ROWS($W$7:W1180))),\"\",SMALL($W$7:$W$1504,ROWS($W$7:W1180)))","v":""}]
[null,"Panevėžio m. sav.","Materialinės investicijos to meto kainomis | mln. EUR",87.856999999999999,119.182,145.863,181.273,135.58600000000001,116.84399999999999,145.88399999999999,196.261,199.518,180.893,180.524,199.298,null,null,{"$f":"ROWS($R$7:R1181)","v":1175},"",{"$f":"IF(ISERROR(SMALL($S$7:$S$1504,ROWS($S$7:S1181))),\"\",SMALL($S$7:$S$1504,ROWS($S$7:S1181)))","v":""},"",{"$f":"IF(ISERROR(SMALL($U$7:$U$1504,ROWS(U$7:$U1181))),\"\",SMALL($U$7:$U$1504,ROWS(U$7:$U1181)))","v":""},"",{"$f":"IF(ISERROR(SMALL($W$7:$W$1504,ROWS($W$7:W1181))),\"\",SMALL($W$7:$W$1504,ROWS($W$7:W1181)))","v":""}]
[null,"Panevėžio r. sav.","Materialinės investicijos to meto kainomis | mln. EUR",32.418999999999997,49.52,49.234999999999999,36.268999999999998,47.658000000000001,63.101999999999997,57.639000000000003,36.655999999999999,46.981000000000002,62.9,60.563000000000002,73.531999999999996,null,null,{"$f":"ROWS($R$7:R1182)","v":1176},"",{"$f":"IF(ISERROR(SMALL($S$7:$S$1504,ROWS($S$7:S1182))),\"\",SMALL($S$7:$S$1504,ROWS($S$7:S1182)))","v":""},"",{"$f":"IF(ISERROR(SMALL($U$7:$U$1504,ROWS(U$7:$U1182))),\"\",SMALL($U$7:$U$1504,ROWS(U$7:$U1182)))","v":""},"",{"$f":"IF(ISERROR(SMALL($W$7:$W$1504,ROWS($W$7:W1182))),\"\",SMALL($W$7:$W$1504,ROWS($W$7:W1182)))","v":""}]
[null,"Pasvalio r. sav.","Materialinės investicijos to meto kainomis | mln. EUR",17.181000000000001,26.635999999999999,18.123000000000001,29.146999999999998,17.687000000000001,26.698,25.85,33.411999999999999,34.615000000000002,24.065999999999999,34.944000000000003,31.797000000000001,null,null,{"$f":"ROWS($R$7:R1183)","v":1177},"",{"$f":"IF(ISERROR(SMALL($S$7:$S$1504,ROWS($S$7:S1183))),\"\",SMALL($S$7:$S$1504,ROWS($S$7:S1183)))","v":""},"",{"$f":"IF(ISERROR(SMALL($U$7:$U$1504,ROWS(U$7:$U1183))),\"\",SMALL($U$7:$U$1504,ROWS(U$7:$U1183)))","v":""},"",{"$f":"IF(ISERROR(SMALL($W$7:$W$1504,ROWS($W$7:W1183))),\"\",SMALL($W$7:$W$1504,ROWS($W$7:W1183)))","v":""}]
[null,"Rokiškio r. sav.","Materialinės investicijos to meto kainomis | mln. EUR",18.364999999999998,27.928000000000001,24.71,26.809000000000001,33.232999999999997,28.876999999999999,30.643999999999998,31.661999999999999,37.616999999999997,32.936999999999998,40.171999999999997,39.969000000000001,null,null,{"$f":"ROWS($R$7:R1184)","v":1178},"",{"$f":"IF(ISERROR(SMALL($S$7:$S$1504,ROWS($S$7:S1184))),\"\",SMALL($S$7:$S$1504,ROWS($S$7:S1184)))","v":""},"",{"$f":"IF(ISERROR(SMALL($U$7:$U$1504,ROWS(U$7:$U1184))),\"\",SMALL($U$7:$U$1504,ROWS(U$7:$U1184)))","v":""},"",{"$f":"IF(ISERROR(SMALL($W$7:$W$1504,ROWS($W$7:W1184))),\"\",SMALL($W$7:$W$1504,ROWS($W$7:W1184)))","v":""}]
[null,"Šiaulių apskritis","Materialinės investicijos to meto kainomis | mln. EUR",254.696,416.15600000000001,354.42200000000003,397.69499999999999,354.1,424.58699999999999,423.36200000000002,450.2,498.08499999999998,561.55200000000002,616.04,617.26599999999996,null,null,{"$f":"ROWS($R$7:R1185)","v":1179},"",{"$f":"IF(ISERROR(SMALL($S$7:$S$1504,ROWS($S$7:S1185))),\"\",SMALL($S$7:$S$1504,ROWS($S$7:S1185)))","v":""},"",{"$f":"IF(ISERROR(SMALL($U$7:$U$1504,ROWS(U$7:$U1185))),\"\",SMALL($U$7:$U$1504,ROWS(U$7:$U1185)))","v":""},"",{"$f":"IF(ISERROR(SMALL($W$7:$W$1504,ROWS($W$7:W1185))),\"\",SMALL($W$7:$W$1504,ROWS($W$7:W1185)))","v":""}]
[null,"Akmenės r. sav.","Materialinės investicijos to meto kainomis | mln. EUR",12.459,39.988,46.933,41.447000000000003,25.722000000000001,19.890999999999998,39.338000000000001,18.315999999999999,19.221,92.986000000000004,30.03,59.834000000000003,null,null,{"$f":"ROWS($R$7:R1186)","v":1180},"",{"$f":"IF(ISERROR(SMALL($S$7:$S$1504,ROWS($S$7:S1186))),\"\",SMALL($S$7:$S$1504,ROWS($S$7:S1186)))","v":""},"",{"$f":"IF(ISERROR(SMALL($U$7:$U$1504,ROWS(U$7:$U1186))),\"\",SMALL($U$7:$U$1504,ROWS(U$7:$U1186)))","v":""},"",{"$f":"IF(ISERROR(SMALL($W$7:$W$1504,ROWS($W$7:W1186))),\"\",SMALL($W$7:$W$1504,ROWS($W$7:W1186)))","v":""}]
[null,"Joniškio r. sav.","Materialinės investicijos to meto kainomis | mln. EUR",19.774000000000001,31.331,25.411999999999999,22.390999999999998,24.782,23.216000000000001,17.692,21.379000000000001,28.161000000000001,31.021000000000001,31.518999999999998,27.914999999999999,null,null,{"$f":"ROWS($R$7:R1187)","v":1181},"",{"$f":"IF(ISERROR(SMALL($S$7:$S$1504,ROWS($S$7:S1187))),\"\",SMALL($S$7:$S$1504,ROWS($S$7:S1187)))","v":""},"",{"$f":"IF(ISERROR(SMALL($U$7:$U$1504,ROWS(U$7:$U1187))),\"\",SMALL($U$7:$U$1504,ROWS(U$7:$U1187)))","v":""},"",{"$f":"IF(ISERROR(SMALL($W$7:$W$1504,ROWS($W$7:W1187))),\"\",SMALL($W$7:$W$1504,ROWS($W$7:W1187)))","v":""}]
[null,"Kelmės r. sav.","Materialinės investicijos to meto kainomis | mln. EUR",11.414999999999999,26.407,24.13,16.827999999999999,17.896999999999998,15.423999999999999,32.85,20.425999999999998,20.276,19.899000000000001,24.102,26.760999999999999,null,null,{"$f":"ROWS($R$7:R1188)","v":1182},"",{"$f":"IF(ISERROR(SMALL($S$7:$S$1504,ROWS($S$7:S1188))),\"\",SMALL($S$7:$S$1504,ROWS($S$7:S1188)))","v":""},"",{"$f":"IF(ISERROR(SMALL($U$7:$U$1504,ROWS(U$7:$U1188))),\"\",SMALL($U$7:$U$1504,ROWS(U$7:$U1188)))","v":""},"",{"$f":"IF(ISERROR(SMALL($W$7:$W$1504,ROWS($W$7:W1188))),\"\",SMALL($W$7:$W$1504,ROWS($W$7:W1188)))","v":""}]
[null,"Pakruojo r. sav.","Materialinės investicijos to meto kainomis | mln. EUR",24.292000000000002,27.352,23.773,28.265000000000001,22.265000000000001,28.734000000000002,21.265999999999998,39.401000000000003,30.071999999999999,28.218,27.966000000000001,40.054000000000002,null,null,{"$f":"ROWS($R$7:R1189)","v":1183},"",{"$f":"IF(ISERROR(SMALL($S$7:$S$1504,ROWS($S$7:S1189))),\"\",SMALL($S$7:$S$1504,ROWS($S$7:S1189)))","v":""},"",{"$f":"IF(ISERROR(SMALL($U$7:$U$1504,ROWS(U$7:$U1189))),\"\",SMALL($U$7:$U$1504,ROWS(U$7:$U1189)))","v":""},"",{"$f":"IF(ISERROR(SMALL($W$7:$W$1504,ROWS($W$7:W1189))),\"\",SMALL($W$7:$W$1504,ROWS($W$7:W1189)))","v":""}]
[null,"Radviliškio r. sav.","Materialinės investicijos to meto kainomis | mln. EUR",25.780999999999999,43.73,41.896000000000001,57.834000000000003,40.817,35.380000000000003,36.22,44.945,45.966999999999999,50.337000000000003,192.85900000000001,67.331000000000003,null,null,{"$f":"ROWS($R$7:R1190)","v":1184},"",{"$f":"IF(ISERROR(SMALL($S$7:$S$1504,ROWS($S$7:S1190))),\"\",SMALL($S$7:$S$1504,ROWS($S$7:S1190)))","v":""},"",{"$f":"IF(ISERROR(SMALL($U$7:$U$1504,ROWS(U$7:$U1190))),\"\",SMALL($U$7:$U$1504,ROWS(U$7:$U1190)))","v":""},"",{"$f":"IF(ISERROR(SMALL($W$7:$W$1504,ROWS($W$7:W1190))),\"\",SMALL($W$7:$W$1504,ROWS($W$7:W1190)))","v":""}]
[null,"Šiaulių m. sav.","Materialinės investicijos to meto kainomis | mln. EUR",123.977,196.40100000000001,142.11500000000001,162.28100000000001,165.42099999999999,226.62,224.46,246.19900000000001,279.23099999999999,267.08100000000002,225.029,311.51,null,null,{"$f":"ROWS($R$7:R1191)","v":1185},"",{"$f":"IF(ISERROR(SMALL($S$7:$S$1504,ROWS($S$7:S1191))),\"\",SMALL($S$7:$S$1504,ROWS($S$7:S1191)))","v":""},"",{"$f":"IF(ISERROR(SMALL($U$7:$U$1504,ROWS(U$7:$U1191))),\"\",SMALL($U$7:$U$1504,ROWS(U$7:$U1191)))","v":""},"",{"$f":"IF(ISERROR(SMALL($W$7:$W$1504,ROWS($W$7:W1191))),\"\",SMALL($W$7:$W$1504,ROWS($W$7:W1191)))","v":""}]
[null,"Šiaulių r. sav.","Materialinės investicijos to meto kainomis | mln. EUR",36.997999999999998,50.947000000000003,50.162999999999997,68.649000000000001,57.195999999999998,75.322000000000003,51.536000000000001,59.533999999999999,75.156999999999996,72.010000000000005,84.534999999999997,83.861000000000004,null,null,{"$f":"ROWS($R$7:R1192)","v":1186},"",{"$f":"IF(ISERROR(SMALL($S$7:$S$1504,ROWS($S$7:S1192))),\"\",SMALL($S$7:$S$1504,ROWS($S$7:S1192)))","v":""},"",{"$f":"IF(ISERROR(SMALL($U$7:$U$1504,ROWS(U$7:$U1192))),\"\",SMALL($U$7:$U$1504,ROWS(U$7:$U1192)))","v":""},"",{"$f":"IF(ISERROR(SMALL($W$7:$W$1504,ROWS($W$7:W1192))),\"\",SMALL($W$7:$W$1504,ROWS($W$7:W1192)))","v":""}]
[null,"Tauragės apskritis","Materialinės investicijos to meto kainomis | mln. EUR",71.89,93.869,100.94499999999999,92.566000000000003,97.826999999999998,98.412000000000006,115.895,113.89700000000001,115.89400000000001,126.84699999999999,128.316,140.80500000000001,null,null,{"$f":"ROWS($R$7:R1193)","v":1187},"",{"$f":"IF(ISERROR(SMALL($S$7:$S$1504,ROWS($S$7:S1193))),\"\",SMALL($S$7:$S$1504,ROWS($S$7:S1193)))","v":""},"",{"$f":"IF(ISERROR(SMALL($U$7:$U$1504,ROWS(U$7:$U1193))),\"\",SMALL($U$7:$U$1504,ROWS(U$7:$U1193)))","v":""},"",{"$f":"IF(ISERROR(SMALL($W$7:$W$1504,ROWS($W$7:W1193))),\"\",SMALL($W$7:$W$1504,ROWS($W$7:W1193)))","v":""}]
[null,"Jurbarko r. sav.","Materialinės investicijos to meto kainomis | mln. EUR",13.093,19.748000000000001,19.143999999999998,17.956,21.382999999999999,24.303000000000001,27.949000000000002,28.995000000000001,30.25,39.771999999999998,27.896000000000001,47.124000000000002,null,null,{"$f":"ROWS($R$7:R1194)","v":1188},"",{"$f":"IF(ISERROR(SMALL($S$7:$S$1504,ROWS($S$7:S1194))),\"\",SMALL($S$7:$S$1504,ROWS($S$7:S1194)))","v":""},"",{"$f":"IF(ISERROR(SMALL($U$7:$U$1504,ROWS(U$7:$U1194))),\"\",SMALL($U$7:$U$1504,ROWS(U$7:$U1194)))","v":""},"",{"$f":"IF(ISERROR(SMALL($W$7:$W$1504,ROWS($W$7:W1194))),\"\",SMALL($W$7:$W$1504,ROWS($W$7:W1194)))","v":""}]
[null,"Pagėgių sav.","Materialinės investicijos to meto kainomis | mln. EUR",7.3849999999999998,12.631,16.785,12.069000000000001,9.2219999999999995,6.4669999999999996,14.175000000000001,15.635999999999999,6.5090000000000003,12.164,11.71,6.2910000000000004,null,null,{"$f":"ROWS($R$7:R1195)","v":1189},"",{"$f":"IF(ISERROR(SMALL($S$7:$S$1504,ROWS($S$7:S1195))),\"\",SMALL($S$7:$S$1504,ROWS($S$7:S1195)))","v":""},"",{"$f":"IF(ISERROR(SMALL($U$7:$U$1504,ROWS(U$7:$U1195))),\"\",SMALL($U$7:$U$1504,ROWS(U$7:$U1195)))","v":""},"",{"$f":"IF(ISERROR(SMALL($W$7:$W$1504,ROWS($W$7:W1195))),\"\",SMALL($W$7:$W$1504,ROWS($W$7:W1195)))","v":""}]
[null,"Šilalės r. sav.","Materialinės investicijos to meto kainomis | mln. EUR",14.641,19.437999999999999,21.603000000000002,15.853999999999999,19.972000000000001,15.223000000000001,14.68,16.600999999999999,21.219000000000001,22.614000000000001,22.72,27.4,null,null,{"$f":"ROWS($R$7:R1196)","v":1190},"",{"$f":"IF(ISERROR(SMALL($S$7:$S$1504,ROWS($S$7:S1196))),\"\",SMALL($S$7:$S$1504,ROWS($S$7:S1196)))","v":""},"",{"$f":"IF(ISERROR(SMALL($U$7:$U$1504,ROWS(U$7:$U1196))),\"\",SMALL($U$7:$U$1504,ROWS(U$7:$U1196)))","v":""},"",{"$f":"IF(ISERROR(SMALL($W$7:$W$1504,ROWS($W$7:W1196))),\"\",SMALL($W$7:$W$1504,ROWS($W$7:W1196)))","v":""}]
[null,"Tauragės r. sav.","Materialinės investicijos to meto kainomis | mln. EUR",36.771000000000001,42.052,43.412999999999997,46.686999999999998,47.25,52.418999999999997,59.091000000000001,52.664999999999999,57.915999999999997,52.296999999999997,65.989999999999995,59.99,null,null,{"$f":"ROWS($R$7:R1197)","v":1191},"",{"$f":"IF(ISERROR(SMALL($S$7:$S$1504,ROWS($S$7:S1197))),\"\",SMALL($S$7:$S$1504,ROWS($S$7:S1197)))","v":""},"",{"$f":"IF(ISERROR(SMALL($U$7:$U$1504,ROWS(U$7:$U1197))),\"\",SMALL($U$7:$U$1504,ROWS(U$7:$U1197)))","v":""},"",{"$f":"IF(ISERROR(SMALL($W$7:$W$1504,ROWS($W$7:W1197))),\"\",SMALL($W$7:$W$1504,ROWS($W$7:W1197)))","v":""}]
[null,"Telšių apskritis","Materialinės investicijos to meto kainomis | mln. EUR",124.251,194.11799999999999,225.119,215.506,179.13,200.934,175.36,219.785,281.80599999999998,256.959,245.501,299.55399999999997,null,null,{"$f":"ROWS($R$7:R1198)","v":1192},"",{"$f":"IF(ISERROR(SMALL($S$7:$S$1504,ROWS($S$7:S1198))),\"\",SMALL($S$7:$S$1504,ROWS($S$7:S1198)))","v":""},"",{"$f":"IF(ISERROR(SMALL($U$7:$U$1504,ROWS(U$7:$U1198))),\"\",SMALL($U$7:$U$1504,ROWS(U$7:$U1198)))","v":""},"",{"$f":"IF(ISERROR(SMALL($W$7:$W$1504,ROWS($W$7:W1198))),\"\",SMALL($W$7:$W$1504,ROWS($W$7:W1198)))","v":""}]
[null,"Mažeikių r. sav.","Materialinės investicijos to meto kainomis | mln. EUR",50.811999999999998,100.976,140.27000000000001,132.22200000000001,81.954999999999998,83.673000000000002,82.46,128.49799999999999,147.53899999999999,123.20399999999999,126.349,142.44399999999999,null,null,{"$f":"ROWS($R$7:R1199)","v":1193},"",{"$f":"IF(ISERROR(SMALL($S$7:$S$1504,ROWS($S$7:S1199))),\"\",SMALL($S$7:$S$1504,ROWS($S$7:S1199)))","v":""},"",{"$f":"IF(ISERROR(SMALL($U$7:$U$1504,ROWS(U$7:$U1199))),\"\",SMALL($U$7:$U$1504,ROWS(U$7:$U1199)))","v":""},"",{"$f":"IF(ISERROR(SMALL($W$7:$W$1504,ROWS($W$7:W1199))),\"\",SMALL($W$7:$W$1504,ROWS($W$7:W1199)))","v":""}]
[null,"Plungės r. sav.","Materialinės investicijos to meto kainomis | mln. EUR",30.899000000000001,43.658000000000001,43.976999999999997,44.2,49.786000000000001,50.67,38.094999999999999,35.941000000000003,50.51,66.203000000000003,58.707000000000001,82.861000000000004,null,null,{"$f":"ROWS($R$7:R1200)","v":1194},"",{"$f":"IF(ISERROR(SMALL($S$7:$S$1504,ROWS($S$7:S1200))),\"\",SMALL($S$7:$S$1504,ROWS($S$7:S1200)))","v":""},"",{"$f":"IF(ISERROR(SMALL($U$7:$U$1504,ROWS(U$7:$U1200))),\"\",SMALL($U$7:$U$1504,ROWS(U$7:$U1200)))","v":""},"",{"$f":"IF(ISERROR(SMALL($W$7:$W$1504,ROWS($W$7:W1200))),\"\",SMALL($W$7:$W$1504,ROWS($W$7:W1200)))","v":""}]
[null,"Rietavo sav.","Materialinės investicijos to meto kainomis | mln. EUR",5.907,6.6669999999999998,10.210000000000001,9.9550000000000001,6.1189999999999998,10.996,7.0490000000000004,12.256,13.678000000000001,7.4649999999999999,6.4249999999999998,15.853,null,null,{"$f":"ROWS($R$7:R1201)","v":1195},"",{"$f":"IF(ISERROR(SMALL($S$7:$S$1504,ROWS($S$7:S1201))),\"\",SMALL($S$7:$S$1504,ROWS($S$7:S1201)))","v":""},"",{"$f":"IF(ISERROR(SMALL($U$7:$U$1504,ROWS(U$7:$U1201))),\"\",SMALL($U$7:$U$1504,ROWS(U$7:$U1201)))","v":""},"",{"$f":"IF(ISERROR(SMALL($W$7:$W$1504,ROWS($W$7:W1201))),\"\",SMALL($W$7:$W$1504,ROWS($W$7:W1201)))","v":""}]
[null,"Telšių r. sav.","Materialinės investicijos to meto kainomis | mln. EUR",36.633000000000003,42.817,30.661999999999999,29.129000000000001,41.27,55.594999999999999,47.756,43.09,70.078999999999994,60.087000000000003,54.02,58.396000000000001,null,null,{"$f":"ROWS($R$7:R1202)","v":1196},"",{"$f":"IF(ISERROR(SMALL($S$7:$S$1504,ROWS($S$7:S1202))),\"\",SMALL($S$7:$S$1504,ROWS($S$7:S1202)))","v":""},"",{"$f":"IF(ISERROR(SMALL($U$7:$U$1504,ROWS(U$7:$U1202))),\"\",SMALL($U$7:$U$1504,ROWS(U$7:$U1202)))","v":""},"",{"$f":"IF(ISERROR(SMALL($W$7:$W$1504,ROWS($W$7:W1202))),\"\",SMALL($W$7:$W$1504,ROWS($W$7:W1202)))","v":""}]
[null,"Utenos apskritis","Materialinės investicijos to meto kainomis | mln. EUR",125.938,177.00200000000001,146.84299999999999,209.26599999999999,189.64599999999999,194.24799999999999,147.041,150.85599999999999,158.274,151.91399999999999,149.55000000000001,165.80600000000001,null,null,{"$f":"ROWS($R$7:R1203)","v":1197},"",{"$f":"IF(ISERROR(SMALL($S$7:$S$1504,ROWS($S$7:S1203))),\"\",SMALL($S$7:$S$1504,ROWS($S$7:S1203)))","v":""},"",{"$f":"IF(ISERROR(SMALL($U$7:$U$1504,ROWS(U$7:$U1203))),\"\",SMALL($U$7:$U$1504,ROWS(U$7:$U1203)))","v":""},"",{"$f":"IF(ISERROR(SMALL($W$7:$W$1504,ROWS($W$7:W1203))),\"\",SMALL($W$7:$W$1504,ROWS($W$7:W1203)))","v":""}]
[null,"Anykščių r. sav.","Materialinės investicijos to meto kainomis | mln. EUR",12.622999999999999,21.36,20.326000000000001,27.747,22.64,24.148,13.754,14.75,22.792999999999999,18.045999999999999,21.564,25.38,null,null,{"$f":"ROWS($R$7:R1204)","v":1198},"",{"$f":"IF(ISERROR(SMALL($S$7:$S$1504,ROWS($S$7:S1204))),\"\",SMALL($S$7:$S$1504,ROWS($S$7:S1204)))","v":""},"",{"$f":"IF(ISERROR(SMALL($U$7:$U$1504,ROWS(U$7:$U1204))),\"\",SMALL($U$7:$U$1504,ROWS(U$7:$U1204)))","v":""},"",{"$f":"IF(ISERROR(SMALL($W$7:$W$1504,ROWS($W$7:W1204))),\"\",SMALL($W$7:$W$1504,ROWS($W$7:W1204)))","v":""}]
[null,"Ignalinos r. sav.","Materialinės investicijos to meto kainomis | mln. EUR",8.4550000000000001,15.519,16.844000000000001,11.907999999999999,9.6470000000000002,13.518000000000001,7.06,10.411,10.643000000000001,8.8680000000000003,20.914000000000001,8.3019999999999996,null,null,{"$f":"ROWS($R$7:R1205)","v":1199},"",{"$f":"IF(ISERROR(SMALL($S$7:$S$1504,ROWS($S$7:S1205))),\"\",SMALL($S$7:$S$1504,ROWS($S$7:S1205)))","v":""},"",{"$f":"IF(ISERROR(SMALL($U$7:$U$1504,ROWS(U$7:$U1205))),\"\",SMALL($U$7:$U$1504,ROWS(U$7:$U1205)))","v":""},"",{"$f":"IF(ISERROR(SMALL($W$7:$W$1504,ROWS($W$7:W1205))),\"\",SMALL($W$7:$W$1504,ROWS($W$7:W1205)))","v":""}]
[null,"Molėtų r. sav.","Materialinės investicijos to meto kainomis | mln. EUR",10.021000000000001,9.1739999999999995,13.108000000000001,13.763999999999999,15.191000000000001,17.7,14.933999999999999,14.82,18.684999999999999,24.262,22.927,19.382000000000001,null,null,{"$f":"ROWS($R$7:R1206)","v":1200},"",{"$f":"IF(ISERROR(SMALL($S$7:$S$1504,ROWS($S$7:S1206))),\"\",SMALL($S$7:$S$1504,ROWS($S$7:S1206)))","v":""},"",{"$f":"IF(ISERROR(SMALL($U$7:$U$1504,ROWS(U$7:$U1206))),\"\",SMALL($U$7:$U$1504,ROWS(U$7:$U1206)))","v":""},"",{"$f":"IF(ISERROR(SMALL($W$7:$W$1504,ROWS($W$7:W1206))),\"\",SMALL($W$7:$W$1504,ROWS($W$7:W1206)))","v":""}]
[null,"Utenos r. sav.","Materialinės investicijos to meto kainomis | mln. EUR",36.567999999999998,49.517000000000003,62.293999999999997,53.813000000000002,59.399000000000001,74.207999999999998,71.183999999999997,52.612000000000002,58.087000000000003,56.051000000000002,50.984999999999999,82.233000000000004,null,null,{"$f":"ROWS($R$7:R1207)","v":1201},"",{"$f":"IF(ISERROR(SMALL($S$7:$S$1504,ROWS($S$7:S1207))),\"\",SMALL($S$7:$S$1504,ROWS($S$7:S1207)))","v":""},"",{"$f":"IF(ISERROR(SMALL($U$7:$U$1504,ROWS(U$7:$U1207))),\"\",SMALL($U$7:$U$1504,ROWS(U$7:$U1207)))","v":""},"",{"$f":"IF(ISERROR(SMALL($W$7:$W$1504,ROWS($W$7:W1207))),\"\",SMALL($W$7:$W$1504,ROWS($W$7:W1207)))","v":""}]
[null,"Visagino sav.","Materialinės investicijos to meto kainomis | mln. EUR",40.972999999999999,68.453000000000003,21.951000000000001,91.826999999999998,70.397999999999996,54.642000000000003,32.094999999999999,50.142000000000003,38.646999999999998,35.128,20.716999999999999,18.280999999999999,null,null,{"$f":"ROWS($R$7:R1208)","v":1202},"",{"$f":"IF(ISERROR(SMALL($S$7:$S$1504,ROWS($S$7:S1208))),\"\",SMALL($S$7:$S$1504,ROWS($S$7:S1208)))","v":""},"",{"$f":"IF(ISERROR(SMALL($U$7:$U$1504,ROWS(U$7:$U1208))),\"\",SMALL($U$7:$U$1504,ROWS(U$7:$U1208)))","v":""},"",{"$f":"IF(ISERROR(SMALL($W$7:$W$1504,ROWS($W$7:W1208))),\"\",SMALL($W$7:$W$1504,ROWS($W$7:W1208)))","v":""}]
[null,"Zarasų r. sav.","Materialinės investicijos to meto kainomis | mln. EUR",17.297999999999998,12.978999999999999,12.32,10.207000000000001,12.371,10.032,8.0139999999999993,8.1210000000000004,9.4190000000000005,9.5589999999999993,12.443,12.228,null,null,{"$f":"ROWS($R$7:R1209)","v":1203},"",{"$f":"IF(ISERROR(SMALL($S$7:$S$1504,ROWS($S$7:S1209))),\"\",SMALL($S$7:$S$1504,ROWS($S$7:S1209)))","v":""},"",{"$f":"IF(ISERROR(SMALL($U$7:$U$1504,ROWS(U$7:$U1209))),\"\",SMALL($U$7:$U$1504,ROWS(U$7:$U1209)))","v":""},"",{"$f":"IF(ISERROR(SMALL($W$7:$W$1504,ROWS($W$7:W1209))),\"\",SMALL($W$7:$W$1504,ROWS($W$7:W1209)))","v":""}]
[null,"Vilniaus apskritis","Materialinės investicijos to meto kainomis | mln. EUR",1583.9649999999999,1846.942,2156.038,2367.567,2475.8960000000002,2724.4749999999999,2882.7109999999998,2937.5230000000001,3591.1190000000001,3952.5569999999998,3771.335,4777.7719999999999,null,null,{"$f":"ROWS($R$7:R1210)","v":1204},"",{"$f":"IF(ISERROR(SMALL($S$7:$S$1504,ROWS($S$7:S1210))),\"\",SMALL($S$7:$S$1504,ROWS($S$7:S1210)))","v":""},1204,{"$f":"IF(ISERROR(SMALL($U$7:$U$1504,ROWS(U$7:$U1210))),\"\",SMALL($U$7:$U$1504,ROWS(U$7:$U1210)))","v":""},"",{"$f":"IF(ISERROR(SMALL($W$7:$W$1504,ROWS($W$7:W1210))),\"\",SMALL($W$7:$W$1504,ROWS($W$7:W1210)))","v":""}]
[null,"Elektrėnų sav.","Materialinės investicijos to meto kainomis | mln. EUR",198.749,120.75700000000001,83.88,54.18,62.494,62.87,69.918000000000006,45.18,90.801000000000002,66.373000000000005,47.149000000000001,80.174999999999997,null,null,{"$f":"ROWS($R$7:R1211)","v":1205},"",{"$f":"IF(ISERROR(SMALL($S$7:$S$1504,ROWS($S$7:S1211))),\"\",SMALL($S$7:$S$1504,ROWS($S$7:S1211)))","v":""},"",{"$f":"IF(ISERROR(SMALL($U$7:$U$1504,ROWS(U$7:$U1211))),\"\",SMALL($U$7:$U$1504,ROWS(U$7:$U1211)))","v":""},"",{"$f":"IF(ISERROR(SMALL($W$7:$W$1504,ROWS($W$7:W1211))),\"\",SMALL($W$7:$W$1504,ROWS($W$7:W1211)))","v":""}]
[null,"Šalčininkų r. sav.","Materialinės investicijos to meto kainomis | mln. EUR",17.027999999999999,13.221,20.355,20.260000000000002,27.321000000000002,21.693000000000001,14.208,20.553999999999998,37.578000000000003,28.396999999999998,34.863999999999997,41.322000000000003,null,null,{"$f":"ROWS($R$7:R1212)","v":1206},"",{"$f":"IF(ISERROR(SMALL($S$7:$S$1504,ROWS($S$7:S1212))),\"\",SMALL($S$7:$S$1504,ROWS($S$7:S1212)))","v":""},"",{"$f":"IF(ISERROR(SMALL($U$7:$U$1504,ROWS(U$7:$U1212))),\"\",SMALL($U$7:$U$1504,ROWS(U$7:$U1212)))","v":""},"",{"$f":"IF(ISERROR(SMALL($W$7:$W$1504,ROWS($W$7:W1212))),\"\",SMALL($W$7:$W$1504,ROWS($W$7:W1212)))","v":""}]
[null,"Širvintų r. sav.","Materialinės investicijos to meto kainomis | mln. EUR",13.404,12.914,12.425000000000001,16.420000000000002,15.004,12.82,19.442,14.831,25.395,24.745000000000001,25.335000000000001,35.991999999999997,null,null,{"$f":"ROWS($R$7:R1213)","v":1207},"",{"$f":"IF(ISERROR(SMALL($S$7:$S$1504,ROWS($S$7:S1213))),\"\",SMALL($S$7:$S$1504,ROWS($S$7:S1213)))","v":""},"",{"$f":"IF(ISERROR(SMALL($U$7:$U$1504,ROWS(U$7:$U1213))),\"\",SMALL($U$7:$U$1504,ROWS(U$7:$U1213)))","v":""},"",{"$f":"IF(ISERROR(SMALL($W$7:$W$1504,ROWS($W$7:W1213))),\"\",SMALL($W$7:$W$1504,ROWS($W$7:W1213)))","v":""}]
[null,"Švenčionių r. sav.","Materialinės investicijos to meto kainomis | mln. EUR",15.468999999999999,26.927,26.571000000000002,28.7,27.228999999999999,27.396000000000001,23.529,25.960999999999999,44.997,47.615000000000002,68.244,46.475000000000001,null,null,{"$f":"ROWS($R$7:R1214)","v":1208},"",{"$f":"IF(ISERROR(SMALL($S$7:$S$1504,ROWS($S$7:S1214))),\"\",SMALL($S$7:$S$1504,ROWS($S$7:S1214)))","v":""},"",{"$f":"IF(ISERROR(SMALL($U$7:$U$1504,ROWS(U$7:$U1214))),\"\",SMALL($U$7:$U$1504,ROWS(U$7:$U1214)))","v":""},"",{"$f":"IF(ISERROR(SMALL($W$7:$W$1504,ROWS($W$7:W1214))),\"\",SMALL($W$7:$W$1504,ROWS($W$7:W1214)))","v":""}]
[null,"Trakų r. sav.","Materialinės investicijos to meto kainomis | mln. EUR",32.981999999999999,42.424999999999997,43.670999999999999,49.029000000000003,56.121000000000002,68.275999999999996,62.368000000000002,55.670999999999999,82.981999999999999,63.783000000000001,90.915999999999997,92.131,null,null,{"$f":"ROWS($R$7:R1215)","v":1209},"",{"$f":"IF(ISERROR(SMALL($S$7:$S$1504,ROWS($S$7:S1215))),\"\",SMALL($S$7:$S$1504,ROWS($S$7:S1215)))","v":""},"",{"$f":"IF(ISERROR(SMALL($U$7:$U$1504,ROWS(U$7:$U1215))),\"\",SMALL($U$7:$U$1504,ROWS(U$7:$U1215)))","v":""},"",{"$f":"IF(ISERROR(SMALL($W$7:$W$1504,ROWS($W$7:W1215))),\"\",SMALL($W$7:$W$1504,ROWS($W$7:W1215)))","v":""}]
[null,"Ukmergės r. sav.","Materialinės investicijos to meto kainomis | mln. EUR",42.415999999999997,25.821000000000002,28.472999999999999,36.503,31.562999999999999,35.198,33.116999999999997,41.781999999999996,47.314999999999998,50.189,45.286000000000001,53.725000000000001,null,null,{"$f":"ROWS($R$7:R1216)","v":1210},"",{"$f":"IF(ISERROR(SMALL($S$7:$S$1504,ROWS($S$7:S1216))),\"\",SMALL($S$7:$S$1504,ROWS($S$7:S1216)))","v":""},"",{"$f":"IF(ISERROR(SMALL($U$7:$U$1504,ROWS(U$7:$U1216))),\"\",SMALL($U$7:$U$1504,ROWS(U$7:$U1216)))","v":""},"",{"$f":"IF(ISERROR(SMALL($W$7:$W$1504,ROWS($W$7:W1216))),\"\",SMALL($W$7:$W$1504,ROWS($W$7:W1216)))","v":""}]
[null,"Vilniaus m. sav.","Materialinės investicijos to meto kainomis | mln. EUR",1126.9680000000001,1415.4549999999999,1771.749,2008.2529999999999,2050.2049999999999,2266.8119999999999,2403.9589999999998,2482.9250000000002,2996.5030000000002,3351.768,3150.0929999999998,3894.7689999999998,null,null,{"$f":"ROWS($R$7:R1217)","v":1211},1211,{"$f":"IF(ISERROR(SMALL($S$7:$S$1504,ROWS($S$7:S1217))),\"\",SMALL($S$7:$S$1504,ROWS($S$7:S1217)))","v":""},"",{"$f":"IF(ISERROR(SMALL($U$7:$U$1504,ROWS(U$7:$U1217))),\"\",SMALL($U$7:$U$1504,ROWS(U$7:$U1217)))","v":""},"",{"$f":"IF(ISERROR(SMALL($W$7:$W$1504,ROWS($W$7:W1217))),\"\",SMALL($W$7:$W$1504,ROWS($W$7:W1217)))","v":""}]
[null,"Vilniaus r. sav.","Materialinės investicijos to meto kainomis | mln. EUR",136.94900000000001,189.422,168.91399999999999,154.22200000000001,205.959,229.41,256.17,250.619,265.548,319.68700000000001,309.44799999999998,533.18299999999999,null,null,{"$f":"ROWS($R$7:R1218)","v":1212},"",{"$f":"IF(ISERROR(SMALL($S$7:$S$1504,ROWS($S$7:S1218))),\"\",SMALL($S$7:$S$1504,ROWS($S$7:S1218)))","v":""},"",{"$f":"IF(ISERROR(SMALL($U$7:$U$1504,ROWS(U$7:$U1218))),\"\",SMALL($U$7:$U$1504,ROWS(U$7:$U1218)))","v":""},"",{"$f":"IF(ISERROR(SMALL($W$7:$W$1504,ROWS($W$7:W1218))),\"\",SMALL($W$7:$W$1504,ROWS($W$7:W1218)))","v":""}]
[null,"Lietuvos Respublika","Apyvarta pagal veiklos vykdymo vietą | mln. EUR",52800.998,63437.506999999998,69322.489000000001,73216.409,74876.148000000001,75995.990000000005,77979.909,86986.501000000004,94451.705000000002,101154.27499999999,99870.067999999999,124410.463,null,null,{"$f":"ROWS($R$7:R1219)","v":1213},"",{"$f":"IF(ISERROR(SMALL($S$7:$S$1504,ROWS($S$7:S1219))),\"\",SMALL($S$7:$S$1504,ROWS($S$7:S1219)))","v":""},"",{"$f":"IF(ISERROR(SMALL($U$7:$U$1504,ROWS(U$7:$U1219))),\"\",SMALL($U$7:$U$1504,ROWS(U$7:$U1219)))","v":""},1213,{"$f":"IF(ISERROR(SMALL($W$7:$W$1504,ROWS($W$7:W1219))),\"\",SMALL($W$7:$W$1504,ROWS($W$7:W1219)))","v":""}]
[null,"Alytaus apskritis","Apyvarta pagal veiklos vykdymo vietą | mln. EUR",1309.4829999999999,1540.1010000000001,1552.4549999999999,1652.7460000000001,1742.817,1755.8,1932.232,2054.942,2186.136,2272.9,2307.9259999999999,2710.6419999999998,null,null,{"$f":"ROWS($R$7:R1220)","v":1214},"",{"$f":"IF(ISERROR(SMALL($S$7:$S$1504,ROWS($S$7:S1220))),\"\",SMALL($S$7:$S$1504,ROWS($S$7:S1220)))","v":""},"",{"$f":"IF(ISERROR(SMALL($U$7:$U$1504,ROWS(U$7:$U1220))),\"\",SMALL($U$7:$U$1504,ROWS(U$7:$U1220)))","v":""},"",{"$f":"IF(ISERROR(SMALL($W$7:$W$1504,ROWS($W$7:W1220))),\"\",SMALL($W$7:$W$1504,ROWS($W$7:W1220)))","v":""}]
[null,"Alytaus m. sav.","Apyvarta pagal veiklos vykdymo vietą | mln. EUR",780.43299999999999,911.971,935.68600000000004,979.97,1032.576,1050.3789999999999,1121.412,1177.712,1227.6099999999999,1302.2529999999999,1341.8150000000001,1539.65,null,null,{"$f":"ROWS($R$7:R1221)","v":1215},"",{"$f":"IF(ISERROR(SMALL($S$7:$S$1504,ROWS($S$7:S1221))),\"\",SMALL($S$7:$S$1504,ROWS($S$7:S1221)))","v":""},"",{"$f":"IF(ISERROR(SMALL($U$7:$U$1504,ROWS(U$7:$U1221))),\"\",SMALL($U$7:$U$1504,ROWS(U$7:$U1221)))","v":""},"",{"$f":"IF(ISERROR(SMALL($W$7:$W$1504,ROWS($W$7:W1221))),\"\",SMALL($W$7:$W$1504,ROWS($W$7:W1221)))","v":""}]
[null,"Alytaus r. sav.","Apyvarta pagal veiklos vykdymo vietą | mln. EUR",140.232,167.398,136.27199999999999,144.04,158.86000000000001,158.649,203.86799999999999,220.833,263.66000000000003,273.00099999999998,283.80700000000002,347.20800000000003,null,null,{"$f":"ROWS($R$7:R1222)","v":1216},"",{"$f":"IF(ISERROR(SMALL($S$7:$S$1504,ROWS($S$7:S1222))),\"\",SMALL($S$7:$S$1504,ROWS($S$7:S1222)))","v":""},"",{"$f":"IF(ISERROR(SMALL($U$7:$U$1504,ROWS(U$7:$U1222))),\"\",SMALL($U$7:$U$1504,ROWS(U$7:$U1222)))","v":""},"",{"$f":"IF(ISERROR(SMALL($W$7:$W$1504,ROWS($W$7:W1222))),\"\",SMALL($W$7:$W$1504,ROWS($W$7:W1222)))","v":""}]
[null,"Druskininkų sav.","Apyvarta pagal veiklos vykdymo vietą | mln. EUR",180.364,218.625,240.12799999999999,265.50400000000002,276.11399999999998,275.77800000000002,322.72300000000001,339.34199999999998,371.10199999999998,356.50099999999998,314.54399999999998,404.86500000000001,null,null,{"$f":"ROWS($R$7:R1223)","v":1217},{"$f":"IF(ISNUMBER(SEARCH($R$3,B1223)),R1223,\"\")","v":""},{"$f":"IF(ISERROR(SMALL($S$7:$S$1504,ROWS($S$7:S1223))),\"\",SMALL($S$7:$S$1504,ROWS($S$7:S1223)))","v":""},{"$f":"IF($R$4=B1223,R1223,\"\")","v":""},{"$f":"IF(ISERROR(SMALL($U$7:$U$1504,ROWS(U$7:$U1223))),\"\",SMALL($U$7:$U$1504,ROWS(U$7:$U1223)))","v":""},{"$f":"IF(\"Lietuvos Respublika\"=B1223,R1223,\"\")","v":""},{"$f":"IF(ISERROR(SMALL($W$7:$W$1504,ROWS($W$7:W1223))),\"\",SMALL($W$7:$W$1504,ROWS($W$7:W1223)))","v":""}]
[null,"Lazdijų r. sav.","Apyvarta pagal veiklos vykdymo vietą | mln. EUR",76.070999999999998,93.95,88.724000000000004,97.634,93.185000000000002,91.668000000000006,92.805000000000007,105.396,109.98099999999999,124.312,130.14699999999999,150.577,null,null,{"$f":"ROWS($R$7:R1224)","v":1218},"",{"$f":"IF(ISERROR(SMALL($S$7:$S$1504,ROWS($S$7:S1224))),\"\",SMALL($S$7:$S$1504,ROWS($S$7:S1224)))","v":""},"",{"$f":"IF(ISERROR(SMALL($U$7:$U$1504,ROWS(U$7:$U1224))),\"\",SMALL($U$7:$U$1504,ROWS(U$7:$U1224)))","v":""},"",{"$f":"IF(ISERROR(SMALL($W$7:$W$1504,ROWS($W$7:W1224))),\"\",SMALL($W$7:$W$1504,ROWS($W$7:W1224)))","v":""}]
[null,"Varėnos r. sav.","Apyvarta pagal veiklos vykdymo vietą | mln. EUR",132.38300000000001,148.15799999999999,151.64500000000001,165.59800000000001,182.083,179.32400000000001,191.423,211.66,213.78299999999999,216.834,237.613,268.34199999999998,null,null,{"$f":"ROWS($R$7:R1225)","v":1219},"",{"$f":"IF(ISERROR(SMALL($S$7:$S$1504,ROWS($S$7:S1225))),\"\",SMALL($S$7:$S$1504,ROWS($S$7:S1225)))","v":""},"",{"$f":"IF(ISERROR(SMALL($U$7:$U$1504,ROWS(U$7:$U1225))),\"\",SMALL($U$7:$U$1504,ROWS(U$7:$U1225)))","v":""},"",{"$f":"IF(ISERROR(SMALL($W$7:$W$1504,ROWS($W$7:W1225))),\"\",SMALL($W$7:$W$1504,ROWS($W$7:W1225)))","v":""}]
[null,"Kauno apskritis","Apyvarta pagal veiklos vykdymo vietą | mln. EUR",10660.924000000001,13413.777,14358.093999999999,14963.21,15738.017,16318.846,16924.505000000001,18781.663,20325.631000000001,22003.911,22352.879000000001,27791.31,null,null,{"$f":"ROWS($R$7:R1226)","v":1220},"",{"$f":"IF(ISERROR(SMALL($S$7:$S$1504,ROWS($S$7:S1226))),\"\",SMALL($S$7:$S$1504,ROWS($S$7:S1226)))","v":""},"",{"$f":"IF(ISERROR(SMALL($U$7:$U$1504,ROWS(U$7:$U1226))),\"\",SMALL($U$7:$U$1504,ROWS(U$7:$U1226)))","v":""},"",{"$f":"IF(ISERROR(SMALL($W$7:$W$1504,ROWS($W$7:W1226))),\"\",SMALL($W$7:$W$1504,ROWS($W$7:W1226)))","v":""}]
[null,"Birštono sav.","Apyvarta pagal veiklos vykdymo vietą | mln. EUR",22.106999999999999,24.449000000000002,27.994,29.992999999999999,33.561,38.238,44.953000000000003,56.207000000000001,65.606999999999999,75.546000000000006,70.087999999999994,78.225999999999999,null,null,{"$f":"ROWS($R$7:R1227)","v":1221},"",{"$f":"IF(ISERROR(SMALL($S$7:$S$1504,ROWS($S$7:S1227))),\"\",SMALL($S$7:$S$1504,ROWS($S$7:S1227)))","v":""},"",{"$f":"IF(ISERROR(SMALL($U$7:$U$1504,ROWS(U$7:$U1227))),\"\",SMALL($U$7:$U$1504,ROWS(U$7:$U1227)))","v":""},"",{"$f":"IF(ISERROR(SMALL($W$7:$W$1504,ROWS($W$7:W1227))),\"\",SMALL($W$7:$W$1504,ROWS($W$7:W1227)))","v":""}]
[null,"Jonavos r. sav.","Apyvarta pagal veiklos vykdymo vietą | mln. EUR",656.57399999999996,998.65099999999995,1169.44,932.45500000000004,928.43700000000001,968.92600000000004,821.11699999999996,1008.11,1099.662,1180.4369999999999,1172.078,1459.941,null,null,{"$f":"ROWS($R$7:R1228)","v":1222},"",{"$f":"IF(ISERROR(SMALL($S$7:$S$1504,ROWS($S$7:S1228))),\"\",SMALL($S$7:$S$1504,ROWS($S$7:S1228)))","v":""},"",{"$f":"IF(ISERROR(SMALL($U$7:$U$1504,ROWS(U$7:$U1228))),\"\",SMALL($U$7:$U$1504,ROWS(U$7:$U1228)))","v":""},"",{"$f":"IF(ISERROR(SMALL($W$7:$W$1504,ROWS($W$7:W1228))),\"\",SMALL($W$7:$W$1504,ROWS($W$7:W1228)))","v":""}]
[null,"Kaišiadorių r. sav.","Apyvarta pagal veiklos vykdymo vietą | mln. EUR",261.67500000000001,302.661,310.53300000000002,282.65499999999997,297.07499999999999,346.34100000000001,358.11399999999998,361.18700000000001,381.66800000000001,374.57400000000001,400.32100000000003,624.29,null,null,{"$f":"ROWS($R$7:R1229)","v":1223},"",{"$f":"IF(ISERROR(SMALL($S$7:$S$1504,ROWS($S$7:S1229))),\"\",SMALL($S$7:$S$1504,ROWS($S$7:S1229)))","v":""},"",{"$f":"IF(ISERROR(SMALL($U$7:$U$1504,ROWS(U$7:$U1229))),\"\",SMALL($U$7:$U$1504,ROWS(U$7:$U1229)))","v":""},"",{"$f":"IF(ISERROR(SMALL($W$7:$W$1504,ROWS($W$7:W1229))),\"\",SMALL($W$7:$W$1504,ROWS($W$7:W1229)))","v":""}]
[null,"Kauno m. sav.","Apyvarta pagal veiklos vykdymo vietą | mln. EUR",7163.2389999999996,8481.4419999999991,9049.7219999999998,9553.7340000000004,10261.204,10727.511,11249.489,12481.957,13753.089,14822.825999999999,14600.748,17903.165000000001,null,null,{"$f":"ROWS($R$7:R1230)","v":1224},"",{"$f":"IF(ISERROR(SMALL($S$7:$S$1504,ROWS($S$7:S1230))),\"\",SMALL($S$7:$S$1504,ROWS($S$7:S1230)))","v":""},"",{"$f":"IF(ISERROR(SMALL($U$7:$U$1504,ROWS(U$7:$U1230))),\"\",SMALL($U$7:$U$1504,ROWS(U$7:$U1230)))","v":""},"",{"$f":"IF(ISERROR(SMALL($W$7:$W$1504,ROWS($W$7:W1230))),\"\",SMALL($W$7:$W$1504,ROWS($W$7:W1230)))","v":""}]
[null,"Kauno r. sav.","Apyvarta pagal veiklos vykdymo vietą | mln. EUR",911.85599999999999,1328.58,1449.5139999999999,1619.056,1769.328,1740.2570000000001,2023.6669999999999,2429.5700000000002,2515.9050000000002,2984.681,3507.404,4566.4030000000002,null,null,{"$f":"ROWS($R$7:R1231)","v":1225},"",{"$f":"IF(ISERROR(SMALL($S$7:$S$1504,ROWS($S$7:S1231))),\"\",SMALL($S$7:$S$1504,ROWS($S$7:S1231)))","v":""},"",{"$f":"IF(ISERROR(SMALL($U$7:$U$1504,ROWS(U$7:$U1231))),\"\",SMALL($U$7:$U$1504,ROWS(U$7:$U1231)))","v":""},"",{"$f":"IF(ISERROR(SMALL($W$7:$W$1504,ROWS($W$7:W1231))),\"\",SMALL($W$7:$W$1504,ROWS($W$7:W1231)))","v":""}]
[null,"Kėdainių r. sav.","Apyvarta pagal veiklos vykdymo vietą | mln. EUR",1130.511,1622.194,1693.5219999999999,1797.857,1696.1869999999999,1688.646,1588.6189999999999,1519.117,1571.9380000000001,1550.181,1602.808,1964.877,null,null,{"$f":"ROWS($R$7:R1232)","v":1226},"",{"$f":"IF(ISERROR(SMALL($S$7:$S$1504,ROWS($S$7:S1232))),\"\",SMALL($S$7:$S$1504,ROWS($S$7:S1232)))","v":""},"",{"$f":"IF(ISERROR(SMALL($U$7:$U$1504,ROWS(U$7:$U1232))),\"\",SMALL($U$7:$U$1504,ROWS(U$7:$U1232)))","v":""},"",{"$f":"IF(ISERROR(SMALL($W$7:$W$1504,ROWS($W$7:W1232))),\"\",SMALL($W$7:$W$1504,ROWS($W$7:W1232)))","v":""}]
[null,"Prienų r. sav.","Apyvarta pagal veiklos vykdymo vietą | mln. EUR",194.024,279.34300000000002,254.893,289.95400000000001,263.14100000000002,265.62599999999998,285.24200000000002,296.85300000000001,292.214,305.95699999999999,334.53800000000001,379.82400000000001,null,null,{"$f":"ROWS($R$7:R1233)","v":1227},"",{"$f":"IF(ISERROR(SMALL($S$7:$S$1504,ROWS($S$7:S1233))),\"\",SMALL($S$7:$S$1504,ROWS($S$7:S1233)))","v":""},"",{"$f":"IF(ISERROR(SMALL($U$7:$U$1504,ROWS(U$7:$U1233))),\"\",SMALL($U$7:$U$1504,ROWS(U$7:$U1233)))","v":""},"",{"$f":"IF(ISERROR(SMALL($W$7:$W$1504,ROWS($W$7:W1233))),\"\",SMALL($W$7:$W$1504,ROWS($W$7:W1233)))","v":""}]
[null,"Raseinių r. sav.","Apyvarta pagal veiklos vykdymo vietą | mln. EUR",320.93700000000001,376.45699999999999,402.476,457.50599999999997,489.08499999999998,543.29999999999995,553.30399999999997,628.66099999999994,645.54700000000003,709.70899999999995,664.89400000000001,814.58299999999997,null,null,{"$f":"ROWS($R$7:R1234)","v":1228},"",{"$f":"IF(ISERROR(SMALL($S$7:$S$1504,ROWS($S$7:S1234))),\"\",SMALL($S$7:$S$1504,ROWS($S$7:S1234)))","v":""},"",{"$f":"IF(ISERROR(SMALL($U$7:$U$1504,ROWS(U$7:$U1234))),\"\",SMALL($U$7:$U$1504,ROWS(U$7:$U1234)))","v":""},"",{"$f":"IF(ISERROR(SMALL($W$7:$W$1504,ROWS($W$7:W1234))),\"\",SMALL($W$7:$W$1504,ROWS($W$7:W1234)))","v":""}]
[null,"Klaipėdos apskritis","Apyvarta pagal veiklos vykdymo vietą | mln. EUR",6288.915,7493.2610000000004,8142.4470000000001,8416.0159999999996,8644.4159999999993,8677.2279999999992,8931.116,10179.897000000001,10972.741,11573.263000000001,11224.517,13824.78,null,null,{"$f":"ROWS($R$7:R1235)","v":1229},"",{"$f":"IF(ISERROR(SMALL($S$7:$S$1504,ROWS($S$7:S1235))),\"\",SMALL($S$7:$S$1504,ROWS($S$7:S1235)))","v":""},"",{"$f":"IF(ISERROR(SMALL($U$7:$U$1504,ROWS(U$7:$U1235))),\"\",SMALL($U$7:$U$1504,ROWS(U$7:$U1235)))","v":""},"",{"$f":"IF(ISERROR(SMALL($W$7:$W$1504,ROWS($W$7:W1235))),\"\",SMALL($W$7:$W$1504,ROWS($W$7:W1235)))","v":""}]
[null,"Klaipėdos m. sav.","Apyvarta pagal veiklos vykdymo vietą | mln. EUR",4266.9049999999997,5224.59,5735.2420000000002,5788.0649999999996,5988.5370000000003,5880.6440000000002,6145.38,7055.2120000000004,7451.2529999999997,7753.6189999999997,7690.2969999999996,9240.92,null,null,{"$f":"ROWS($R$7:R1236)","v":1230},"",{"$f":"IF(ISERROR(SMALL($S$7:$S$1504,ROWS($S$7:S1236))),\"\",SMALL($S$7:$S$1504,ROWS($S$7:S1236)))","v":""},"",{"$f":"IF(ISERROR(SMALL($U$7:$U$1504,ROWS(U$7:$U1236))),\"\",SMALL($U$7:$U$1504,ROWS(U$7:$U1236)))","v":""},"",{"$f":"IF(ISERROR(SMALL($W$7:$W$1504,ROWS($W$7:W1236))),\"\",SMALL($W$7:$W$1504,ROWS($W$7:W1236)))","v":""}]
[null,"Klaipėdos r. sav.","Apyvarta pagal veiklos vykdymo vietą | mln. EUR",1124.4059999999999,1249.126,1283.8820000000001,1405.42,1397.2539999999999,1448.183,1454.538,1603.85,1933.3579999999999,2123.7399999999998,1822.617,2418.105,null,null,{"$f":"ROWS($R$7:R1237)","v":1231},"",{"$f":"IF(ISERROR(SMALL($S$7:$S$1504,ROWS($S$7:S1237))),\"\",SMALL($S$7:$S$1504,ROWS($S$7:S1237)))","v":""},"",{"$f":"IF(ISERROR(SMALL($U$7:$U$1504,ROWS(U$7:$U1237))),\"\",SMALL($U$7:$U$1504,ROWS(U$7:$U1237)))","v":""},"",{"$f":"IF(ISERROR(SMALL($W$7:$W$1504,ROWS($W$7:W1237))),\"\",SMALL($W$7:$W$1504,ROWS($W$7:W1237)))","v":""}]
[null,"Kretingos r. sav.","Apyvarta pagal veiklos vykdymo vietą | mln. EUR",334.77300000000002,362.904,397.07499999999999,433.52,457.19099999999997,486.87900000000002,498.56900000000002,601.63400000000001,621.72199999999998,617.99900000000002,659.029,754.149,null,null,{"$f":"ROWS($R$7:R1238)","v":1232},"",{"$f":"IF(ISERROR(SMALL($S$7:$S$1504,ROWS($S$7:S1238))),\"\",SMALL($S$7:$S$1504,ROWS($S$7:S1238)))","v":""},"",{"$f":"IF(ISERROR(SMALL($U$7:$U$1504,ROWS(U$7:$U1238))),\"\",SMALL($U$7:$U$1504,ROWS(U$7:$U1238)))","v":""},"",{"$f":"IF(ISERROR(SMALL($W$7:$W$1504,ROWS($W$7:W1238))),\"\",SMALL($W$7:$W$1504,ROWS($W$7:W1238)))","v":""}]
[null,"Neringos sav.","Apyvarta pagal veiklos vykdymo vietą | mln. EUR",26.779,32.363999999999997,37.225000000000001,48.064,54.430999999999997,52.249000000000002,59.302,62.58,59.494,71.814999999999998,77.305999999999997,119.23,null,null,{"$f":"ROWS($R$7:R1239)","v":1233},"",{"$f":"IF(ISERROR(SMALL($S$7:$S$1504,ROWS($S$7:S1239))),\"\",SMALL($S$7:$S$1504,ROWS($S$7:S1239)))","v":""},"",{"$f":"IF(ISERROR(SMALL($U$7:$U$1504,ROWS(U$7:$U1239))),\"\",SMALL($U$7:$U$1504,ROWS(U$7:$U1239)))","v":""},"",{"$f":"IF(ISERROR(SMALL($W$7:$W$1504,ROWS($W$7:W1239))),\"\",SMALL($W$7:$W$1504,ROWS($W$7:W1239)))","v":""}]
[null,"Palangos m. sav.","Apyvarta pagal veiklos vykdymo vietą | mln. EUR",142.71199999999999,181.31200000000001,214.60499999999999,231.2,258.66699999999997,306.36900000000003,278.22300000000001,290.57600000000002,385.72800000000001,468.77199999999999,397.77600000000001,567.33900000000006,null,null,{"$f":"ROWS($R$7:R1240)","v":1234},"",{"$f":"IF(ISERROR(SMALL($S$7:$S$1504,ROWS($S$7:S1240))),\"\",SMALL($S$7:$S$1504,ROWS($S$7:S1240)))","v":""},"",{"$f":"IF(ISERROR(SMALL($U$7:$U$1504,ROWS(U$7:$U1240))),\"\",SMALL($U$7:$U$1504,ROWS(U$7:$U1240)))","v":""},"",{"$f":"IF(ISERROR(SMALL($W$7:$W$1504,ROWS($W$7:W1240))),\"\",SMALL($W$7:$W$1504,ROWS($W$7:W1240)))","v":""}]
[null,"Skuodo r. sav.","Apyvarta pagal veiklos vykdymo vietą | mln. EUR",66.900999999999996,79.156000000000006,85.094999999999999,92.69,86.188000000000002,86.456000000000003,84.415000000000006,90.138999999999996,88.597999999999999,86.980999999999995,92.546999999999997,105.863,null,null,{"$f":"ROWS($R$7:R1241)","v":1235},"",{"$f":"IF(ISERROR(SMALL($S$7:$S$1504,ROWS($S$7:S1241))),\"\",SMALL($S$7:$S$1504,ROWS($S$7:S1241)))","v":""},"",{"$f":"IF(ISERROR(SMALL($U$7:$U$1504,ROWS(U$7:$U1241))),\"\",SMALL($U$7:$U$1504,ROWS(U$7:$U1241)))","v":""},"",{"$f":"IF(ISERROR(SMALL($W$7:$W$1504,ROWS($W$7:W1241))),\"\",SMALL($W$7:$W$1504,ROWS($W$7:W1241)))","v":""}]
[null,"Šilutės r. sav.","Apyvarta pagal veiklos vykdymo vietą | mln. EUR",326.43900000000002,363.80799999999999,389.32299999999998,417.05700000000002,402.149,416.44799999999998,410.68799999999999,475.90499999999997,432.58699999999999,450.33699999999999,484.947,619.173,null,null,{"$f":"ROWS($R$7:R1242)","v":1236},"",{"$f":"IF(ISERROR(SMALL($S$7:$S$1504,ROWS($S$7:S1242))),\"\",SMALL($S$7:$S$1504,ROWS($S$7:S1242)))","v":""},"",{"$f":"IF(ISERROR(SMALL($U$7:$U$1504,ROWS(U$7:$U1242))),\"\",SMALL($U$7:$U$1504,ROWS(U$7:$U1242)))","v":""},"",{"$f":"IF(ISERROR(SMALL($W$7:$W$1504,ROWS($W$7:W1242))),\"\",SMALL($W$7:$W$1504,ROWS($W$7:W1242)))","v":""}]
[null,"Marijampolės apskritis","Apyvarta pagal veiklos vykdymo vietą | mln. EUR",1375.4970000000001,1662.3340000000001,1832.14,1935.7750000000001,1918.5050000000001,1790.297,1835.2280000000001,2042.48,2251.9549999999999,2313.2139999999999,2385.511,2848.1179999999999,null,null,{"$f":"ROWS($R$7:R1243)","v":1237},"",{"$f":"IF(ISERROR(SMALL($S$7:$S$1504,ROWS($S$7:S1243))),\"\",SMALL($S$7:$S$1504,ROWS($S$7:S1243)))","v":""},"",{"$f":"IF(ISERROR(SMALL($U$7:$U$1504,ROWS(U$7:$U1243))),\"\",SMALL($U$7:$U$1504,ROWS(U$7:$U1243)))","v":""},"",{"$f":"IF(ISERROR(SMALL($W$7:$W$1504,ROWS($W$7:W1243))),\"\",SMALL($W$7:$W$1504,ROWS($W$7:W1243)))","v":""}]
[null,"Kalvarijos sav.","Apyvarta pagal veiklos vykdymo vietą | mln. EUR",51.591000000000001,67.8,68.781999999999996,77.459999999999994,76.515000000000001,77.882000000000005,87.209000000000003,99.13,101.02500000000001,140.08099999999999,126.396,168.614,null,null,{"$f":"ROWS($R$7:R1244)","v":1238},"",{"$f":"IF(ISERROR(SMALL($S$7:$S$1504,ROWS($S$7:S1244))),\"\",SMALL($S$7:$S$1504,ROWS($S$7:S1244)))","v":""},"",{"$f":"IF(ISERROR(SMALL($U$7:$U$1504,ROWS(U$7:$U1244))),\"\",SMALL($U$7:$U$1504,ROWS(U$7:$U1244)))","v":""},"",{"$f":"IF(ISERROR(SMALL($W$7:$W$1504,ROWS($W$7:W1244))),\"\",SMALL($W$7:$W$1504,ROWS($W$7:W1244)))","v":""}]
[null,"Kazlų Rūdos sav.","Apyvarta pagal veiklos vykdymo vietą | mln. EUR",190.09299999999999,212.19200000000001,219.66300000000001,201.92599999999999,217.256,219.42,211.65299999999999,223.364,224.482,229.32,240.476,316.803,null,null,{"$f":"ROWS($R$7:R1245)","v":1239},"",{"$f":"IF(ISERROR(SMALL($S$7:$S$1504,ROWS($S$7:S1245))),\"\",SMALL($S$7:$S$1504,ROWS($S$7:S1245)))","v":""},"",{"$f":"IF(ISERROR(SMALL($U$7:$U$1504,ROWS(U$7:$U1245))),\"\",SMALL($U$7:$U$1504,ROWS(U$7:$U1245)))","v":""},"",{"$f":"IF(ISERROR(SMALL($W$7:$W$1504,ROWS($W$7:W1245))),\"\",SMALL($W$7:$W$1504,ROWS($W$7:W1245)))","v":""}]
[null,"Marijampolės sav.","Apyvarta pagal veiklos vykdymo vietą | mln. EUR",760.25099999999998,927.19299999999998,1067.5170000000001,1185.9259999999999,1158.894,1026.7149999999999,1057.193,1180.598,1319.961,1338.8,1319.41,1606.7550000000001,null,null,{"$f":"ROWS($R$7:R1246)","v":1240},"",{"$f":"IF(ISERROR(SMALL($S$7:$S$1504,ROWS($S$7:S1246))),\"\",SMALL($S$7:$S$1504,ROWS($S$7:S1246)))","v":""},"",{"$f":"IF(ISERROR(SMALL($U$7:$U$1504,ROWS(U$7:$U1246))),\"\",SMALL($U$7:$U$1504,ROWS(U$7:$U1246)))","v":""},"",{"$f":"IF(ISERROR(SMALL($W$7:$W$1504,ROWS($W$7:W1246))),\"\",SMALL($W$7:$W$1504,ROWS($W$7:W1246)))","v":""}]
[null,"Šakių r. sav.","Apyvarta pagal veiklos vykdymo vietą | mln. EUR",170.66,188.14099999999999,194.93199999999999,184.048,181.589,188.92599999999999,208.40899999999999,229.87899999999999,279.61099999999999,265.053,315.65100000000001,300.02,null,null,{"$f":"ROWS($R$7:R1247)","v":1241},"",{"$f":"IF(ISERROR(SMALL($S$7:$S$1504,ROWS($S$7:S1247))),\"\",SMALL($S$7:$S$1504,ROWS($S$7:S1247)))","v":""},"",{"$f":"IF(ISERROR(SMALL($U$7:$U$1504,ROWS(U$7:$U1247))),\"\",SMALL($U$7:$U$1504,ROWS(U$7:$U1247)))","v":""},"",{"$f":"IF(ISERROR(SMALL($W$7:$W$1504,ROWS($W$7:W1247))),\"\",SMALL($W$7:$W$1504,ROWS($W$7:W1247)))","v":""}]
[null,"Vilkaviškio r. sav.","Apyvarta pagal veiklos vykdymo vietą | mln. EUR",202.90199999999999,267.00799999999998,281.24599999999998,286.41500000000002,284.25200000000001,277.35399999999998,270.76400000000001,309.50900000000001,326.87599999999998,339.96100000000001,383.57799999999997,455.92599999999999,null,null,{"$f":"ROWS($R$7:R1248)","v":1242},"",{"$f":"IF(ISERROR(SMALL($S$7:$S$1504,ROWS($S$7:S1248))),\"\",SMALL($S$7:$S$1504,ROWS($S$7:S1248)))","v":""},"",{"$f":"IF(ISERROR(SMALL($U$7:$U$1504,ROWS(U$7:$U1248))),\"\",SMALL($U$7:$U$1504,ROWS(U$7:$U1248)))","v":""},"",{"$f":"IF(ISERROR(SMALL($W$7:$W$1504,ROWS($W$7:W1248))),\"\",SMALL($W$7:$W$1504,ROWS($W$7:W1248)))","v":""}]
[null,"Panevėžio apskritis","Apyvarta pagal veiklos vykdymo vietą | mln. EUR",2937.4459999999999,3442.0189999999998,3751.6370000000002,4088.5059999999999,4143.7460000000001,4106.1379999999999,4179.125,4664.7560000000003,4915.6149999999998,5176.4440000000004,5164.9309999999996,6175.991,null,null,{"$f":"ROWS($R$7:R1249)","v":1243},"",{"$f":"IF(ISERROR(SMALL($S$7:$S$1504,ROWS($S$7:S1249))),\"\",SMALL($S$7:$S$1504,ROWS($S$7:S1249)))","v":""},"",{"$f":"IF(ISERROR(SMALL($U$7:$U$1504,ROWS(U$7:$U1249))),\"\",SMALL($U$7:$U$1504,ROWS(U$7:$U1249)))","v":""},"",{"$f":"IF(ISERROR(SMALL($W$7:$W$1504,ROWS($W$7:W1249))),\"\",SMALL($W$7:$W$1504,ROWS($W$7:W1249)))","v":""}]
[null,"Biržų r. sav.","Apyvarta pagal veiklos vykdymo vietą | mln. EUR",158.24100000000001,208.36799999999999,206.09399999999999,209.267,228.39699999999999,235.18600000000001,235.77199999999999,255.065,292,283.35700000000003,270.29700000000003,335.53699999999998,null,null,{"$f":"ROWS($R$7:R1250)","v":1244},"",{"$f":"IF(ISERROR(SMALL($S$7:$S$1504,ROWS($S$7:S1250))),\"\",SMALL($S$7:$S$1504,ROWS($S$7:S1250)))","v":""},"",{"$f":"IF(ISERROR(SMALL($U$7:$U$1504,ROWS(U$7:$U1250))),\"\",SMALL($U$7:$U$1504,ROWS(U$7:$U1250)))","v":""},"",{"$f":"IF(ISERROR(SMALL($W$7:$W$1504,ROWS($W$7:W1250))),\"\",SMALL($W$7:$W$1504,ROWS($W$7:W1250)))","v":""}]
[null,"Kupiškio r. sav.","Apyvarta pagal veiklos vykdymo vietą | mln. EUR",141.17699999999999,167.79900000000001,171.02500000000001,179.446,170.80099999999999,169.148,159.82300000000001,193.334,182.458,191.452,184.965,213.55099999999999,null,null,{"$f":"ROWS($R$7:R1251)","v":1245},"",{"$f":"IF(ISERROR(SMALL($S$7:$S$1504,ROWS($S$7:S1251))),\"\",SMALL($S$7:$S$1504,ROWS($S$7:S1251)))","v":""},"",{"$f":"IF(ISERROR(SMALL($U$7:$U$1504,ROWS(U$7:$U1251))),\"\",SMALL($U$7:$U$1504,ROWS(U$7:$U1251)))","v":""},"",{"$f":"IF(ISERROR(SMALL($W$7:$W$1504,ROWS($W$7:W1251))),\"\",SMALL($W$7:$W$1504,ROWS($W$7:W1251)))","v":""}]
[null,"Panevėžio m. sav.","Apyvarta pagal veiklos vykdymo vietą | mln. EUR",1852.6020000000001,2116.1570000000002,2315.1970000000001,2617.7489999999998,2647.8069999999998,2606.5889999999999,2580.36,2886.7170000000001,3049.8710000000001,3241.6289999999999,3114.634,3823.261,null,null,{"$f":"ROWS($R$7:R1252)","v":1246},"",{"$f":"IF(ISERROR(SMALL($S$7:$S$1504,ROWS($S$7:S1252))),\"\",SMALL($S$7:$S$1504,ROWS($S$7:S1252)))","v":""},"",{"$f":"IF(ISERROR(SMALL($U$7:$U$1504,ROWS(U$7:$U1252))),\"\",SMALL($U$7:$U$1504,ROWS(U$7:$U1252)))","v":""},"",{"$f":"IF(ISERROR(SMALL($W$7:$W$1504,ROWS($W$7:W1252))),\"\",SMALL($W$7:$W$1504,ROWS($W$7:W1252)))","v":""}]
[null,"Panevėžio r. sav.","Apyvarta pagal veiklos vykdymo vietą | mln. EUR",212.06200000000001,280.28500000000003,325.73700000000002,347.70600000000002,415.48899999999998,456.233,490.98200000000003,560.84900000000005,647.11,682.904,731.58199999999999,873.78,null,null,{"$f":"ROWS($R$7:R1253)","v":1247},"",{"$f":"IF(ISERROR(SMALL($S$7:$S$1504,ROWS($S$7:S1253))),\"\",SMALL($S$7:$S$1504,ROWS($S$7:S1253)))","v":""},"",{"$f":"IF(ISERROR(SMALL($U$7:$U$1504,ROWS(U$7:$U1253))),\"\",SMALL($U$7:$U$1504,ROWS(U$7:$U1253)))","v":""},"",{"$f":"IF(ISERROR(SMALL($W$7:$W$1504,ROWS($W$7:W1253))),\"\",SMALL($W$7:$W$1504,ROWS($W$7:W1253)))","v":""}]
[null,"Pasvalio r. sav.","Apyvarta pagal veiklos vykdymo vietą | mln. EUR",166.714,183.441,214.012,193.874,199.61699999999999,201.61099999999999,225.279,234.495,259.67,288.01299999999998,333.685,335.661,null,null,{"$f":"ROWS($R$7:R1254)","v":1248},"",{"$f":"IF(ISERROR(SMALL($S$7:$S$1504,ROWS($S$7:S1254))),\"\",SMALL($S$7:$S$1504,ROWS($S$7:S1254)))","v":""},"",{"$f":"IF(ISERROR(SMALL($U$7:$U$1504,ROWS(U$7:$U1254))),\"\",SMALL($U$7:$U$1504,ROWS(U$7:$U1254)))","v":""},"",{"$f":"IF(ISERROR(SMALL($W$7:$W$1504,ROWS($W$7:W1254))),\"\",SMALL($W$7:$W$1504,ROWS($W$7:W1254)))","v":""}]
[null,"Rokiškio r. sav.","Apyvarta pagal veiklos vykdymo vietą | mln. EUR",406.65,485.97,519.572,540.46199999999999,481.63600000000002,437.37200000000001,486.90800000000002,534.29499999999996,484.50599999999997,489.08800000000002,529.76800000000003,594.20100000000002,null,null,{"$f":"ROWS($R$7:R1255)","v":1249},"",{"$f":"IF(ISERROR(SMALL($S$7:$S$1504,ROWS($S$7:S1255))),\"\",SMALL($S$7:$S$1504,ROWS($S$7:S1255)))","v":""},"",{"$f":"IF(ISERROR(SMALL($U$7:$U$1504,ROWS(U$7:$U1255))),\"\",SMALL($U$7:$U$1504,ROWS(U$7:$U1255)))","v":""},"",{"$f":"IF(ISERROR(SMALL($W$7:$W$1504,ROWS($W$7:W1255))),\"\",SMALL($W$7:$W$1504,ROWS($W$7:W1255)))","v":""}]
[null,"Šiaulių apskritis","Apyvarta pagal veiklos vykdymo vietą | mln. EUR",3313.4119999999998,3916.2890000000002,4306.1180000000004,4404.37,4697.0479999999998,4686.7359999999999,4661.3450000000003,5241.4840000000004,5459.1819999999998,5689.32,5700.9769999999999,6783.45,null,null,{"$f":"ROWS($R$7:R1256)","v":1250},"",{"$f":"IF(ISERROR(SMALL($S$7:$S$1504,ROWS($S$7:S1256))),\"\",SMALL($S$7:$S$1504,ROWS($S$7:S1256)))","v":""},"",{"$f":"IF(ISERROR(SMALL($U$7:$U$1504,ROWS(U$7:$U1256))),\"\",SMALL($U$7:$U$1504,ROWS(U$7:$U1256)))","v":""},"",{"$f":"IF(ISERROR(SMALL($W$7:$W$1504,ROWS($W$7:W1256))),\"\",SMALL($W$7:$W$1504,ROWS($W$7:W1256)))","v":""}]
[null,"Akmenės r. sav.","Apyvarta pagal veiklos vykdymo vietą | mln. EUR",155.416,215.37299999999999,246.08600000000001,236.65199999999999,239.566,221.536,216.083,230.7,259.20100000000002,274.89400000000001,288.67500000000001,316.12400000000002,null,null,{"$f":"ROWS($R$7:R1257)","v":1251},"",{"$f":"IF(ISERROR(SMALL($S$7:$S$1504,ROWS($S$7:S1257))),\"\",SMALL($S$7:$S$1504,ROWS($S$7:S1257)))","v":""},"",{"$f":"IF(ISERROR(SMALL($U$7:$U$1504,ROWS(U$7:$U1257))),\"\",SMALL($U$7:$U$1504,ROWS(U$7:$U1257)))","v":""},"",{"$f":"IF(ISERROR(SMALL($W$7:$W$1504,ROWS($W$7:W1257))),\"\",SMALL($W$7:$W$1504,ROWS($W$7:W1257)))","v":""}]
[null,"Joniškio r. sav.","Apyvarta pagal veiklos vykdymo vietą | mln. EUR",176.464,198.71899999999999,234.86699999999999,210.55,196.67500000000001,202.83199999999999,202.67500000000001,199.16499999999999,215.45599999999999,225.958,226.53800000000001,268.78199999999998,null,null,{"$f":"ROWS($R$7:R1258)","v":1252},"",{"$f":"IF(ISERROR(SMALL($S$7:$S$1504,ROWS($S$7:S1258))),\"\",SMALL($S$7:$S$1504,ROWS($S$7:S1258)))","v":""},"",{"$f":"IF(ISERROR(SMALL($U$7:$U$1504,ROWS(U$7:$U1258))),\"\",SMALL($U$7:$U$1504,ROWS(U$7:$U1258)))","v":""},"",{"$f":"IF(ISERROR(SMALL($W$7:$W$1504,ROWS($W$7:W1258))),\"\",SMALL($W$7:$W$1504,ROWS($W$7:W1258)))","v":""}]
[null,"Kelmės r. sav.","Apyvarta pagal veiklos vykdymo vietą | mln. EUR",138.196,166.12899999999999,176.94800000000001,186.08799999999999,221.06200000000001,203.56800000000001,202.80799999999999,217.28800000000001,182.964,217.214,206.02199999999999,246.476,null,null,{"$f":"ROWS($R$7:R1259)","v":1253},"",{"$f":"IF(ISERROR(SMALL($S$7:$S$1504,ROWS($S$7:S1259))),\"\",SMALL($S$7:$S$1504,ROWS($S$7:S1259)))","v":""},"",{"$f":"IF(ISERROR(SMALL($U$7:$U$1504,ROWS(U$7:$U1259))),\"\",SMALL($U$7:$U$1504,ROWS(U$7:$U1259)))","v":""},"",{"$f":"IF(ISERROR(SMALL($W$7:$W$1504,ROWS($W$7:W1259))),\"\",SMALL($W$7:$W$1504,ROWS($W$7:W1259)))","v":""}]
[null,"Pakruojo r. sav.","Apyvarta pagal veiklos vykdymo vietą | mln. EUR",135.65199999999999,162.19999999999999,176.929,191.55199999999999,179.369,181.91900000000001,188.68700000000001,227.24199999999999,200.02199999999999,230.33099999999999,273.34300000000002,293.32600000000002,null,null,{"$f":"ROWS($R$7:R1260)","v":1254},"",{"$f":"IF(ISERROR(SMALL($S$7:$S$1504,ROWS($S$7:S1260))),\"\",SMALL($S$7:$S$1504,ROWS($S$7:S1260)))","v":""},"",{"$f":"IF(ISERROR(SMALL($U$7:$U$1504,ROWS(U$7:$U1260))),\"\",SMALL($U$7:$U$1504,ROWS(U$7:$U1260)))","v":""},"",{"$f":"IF(ISERROR(SMALL($W$7:$W$1504,ROWS($W$7:W1260))),\"\",SMALL($W$7:$W$1504,ROWS($W$7:W1260)))","v":""}]
[null,"Radviliškio r. sav.","Apyvarta pagal veiklos vykdymo vietą | mln. EUR",294.72800000000001,303.72399999999999,365.88,352.78300000000002,343.96199999999999,357.18900000000002,373.68299999999999,432.66,463.84,519.22699999999998,556.65800000000002,694.48900000000003,null,null,{"$f":"ROWS($R$7:R1261)","v":1255},"",{"$f":"IF(ISERROR(SMALL($S$7:$S$1504,ROWS($S$7:S1261))),\"\",SMALL($S$7:$S$1504,ROWS($S$7:S1261)))","v":""},"",{"$f":"IF(ISERROR(SMALL($U$7:$U$1504,ROWS(U$7:$U1261))),\"\",SMALL($U$7:$U$1504,ROWS(U$7:$U1261)))","v":""},"",{"$f":"IF(ISERROR(SMALL($W$7:$W$1504,ROWS($W$7:W1261))),\"\",SMALL($W$7:$W$1504,ROWS($W$7:W1261)))","v":""}]
[null,"Šiaulių m. sav.","Apyvarta pagal veiklos vykdymo vietą | mln. EUR",2123.953,2518.7759999999998,2766.3539999999998,2827.9760000000001,3086.1579999999999,3091.8490000000002,3046.9690000000001,3466.8960000000002,3609.239,3714.3580000000002,3605.3310000000001,4296.1360000000004,null,null,{"$f":"ROWS($R$7:R1262)","v":1256},"",{"$f":"IF(ISERROR(SMALL($S$7:$S$1504,ROWS($S$7:S1262))),\"\",SMALL($S$7:$S$1504,ROWS($S$7:S1262)))","v":""},"",{"$f":"IF(ISERROR(SMALL($U$7:$U$1504,ROWS(U$7:$U1262))),\"\",SMALL($U$7:$U$1504,ROWS(U$7:$U1262)))","v":""},"",{"$f":"IF(ISERROR(SMALL($W$7:$W$1504,ROWS($W$7:W1262))),\"\",SMALL($W$7:$W$1504,ROWS($W$7:W1262)))","v":""}]
[null,"Šiaulių r. sav.","Apyvarta pagal veiklos vykdymo vietą | mln. EUR",289.00299999999999,351.36799999999999,339.053,398.77100000000002,430.25700000000001,427.84300000000002,430.44099999999997,467.53399999999999,528.46100000000001,507.339,544.40899999999999,668.11599999999999,null,null,{"$f":"ROWS($R$7:R1263)","v":1257},"",{"$f":"IF(ISERROR(SMALL($S$7:$S$1504,ROWS($S$7:S1263))),\"\",SMALL($S$7:$S$1504,ROWS($S$7:S1263)))","v":""},"",{"$f":"IF(ISERROR(SMALL($U$7:$U$1504,ROWS(U$7:$U1263))),\"\",SMALL($U$7:$U$1504,ROWS(U$7:$U1263)))","v":""},"",{"$f":"IF(ISERROR(SMALL($W$7:$W$1504,ROWS($W$7:W1263))),\"\",SMALL($W$7:$W$1504,ROWS($W$7:W1263)))","v":""}]
[null,"Tauragės apskritis","Apyvarta pagal veiklos vykdymo vietą | mln. EUR",805.14099999999996,978.31799999999998,990.66300000000001,1051.5360000000001,1056.2380000000001,1045.0429999999999,1125.165,1378.058,1430.1389999999999,1453.1859999999999,1422.4090000000001,1773.73,null,null,{"$f":"ROWS($R$7:R1264)","v":1258},"",{"$f":"IF(ISERROR(SMALL($S$7:$S$1504,ROWS($S$7:S1264))),\"\",SMALL($S$7:$S$1504,ROWS($S$7:S1264)))","v":""},"",{"$f":"IF(ISERROR(SMALL($U$7:$U$1504,ROWS(U$7:$U1264))),\"\",SMALL($U$7:$U$1504,ROWS(U$7:$U1264)))","v":""},"",{"$f":"IF(ISERROR(SMALL($W$7:$W$1504,ROWS($W$7:W1264))),\"\",SMALL($W$7:$W$1504,ROWS($W$7:W1264)))","v":""}]
[null,"Jurbarko r. sav.","Apyvarta pagal veiklos vykdymo vietą | mln. EUR",154.49799999999999,193.482,192.83,199.86799999999999,228.64500000000001,241.32599999999999,241.61699999999999,361.97800000000001,347.30599999999998,385.24700000000001,328.21300000000002,376.745,null,null,{"$f":"ROWS($R$7:R1265)","v":1259},"",{"$f":"IF(ISERROR(SMALL($S$7:$S$1504,ROWS($S$7:S1265))),\"\",SMALL($S$7:$S$1504,ROWS($S$7:S1265)))","v":""},"",{"$f":"IF(ISERROR(SMALL($U$7:$U$1504,ROWS(U$7:$U1265))),\"\",SMALL($U$7:$U$1504,ROWS(U$7:$U1265)))","v":""},"",{"$f":"IF(ISERROR(SMALL($W$7:$W$1504,ROWS($W$7:W1265))),\"\",SMALL($W$7:$W$1504,ROWS($W$7:W1265)))","v":""}]
[null,"Pagėgių sav.","Apyvarta pagal veiklos vykdymo vietą | mln. EUR",90.222999999999999,99.034999999999997,132.98599999999999,155.68,117.352,93.399000000000001,94.343000000000004,116.76300000000001,52.954000000000001,107.515,127.628,159.18600000000001,null,null,{"$f":"ROWS($R$7:R1266)","v":1260},"",{"$f":"IF(ISERROR(SMALL($S$7:$S$1504,ROWS($S$7:S1266))),\"\",SMALL($S$7:$S$1504,ROWS($S$7:S1266)))","v":""},"",{"$f":"IF(ISERROR(SMALL($U$7:$U$1504,ROWS(U$7:$U1266))),\"\",SMALL($U$7:$U$1504,ROWS(U$7:$U1266)))","v":""},"",{"$f":"IF(ISERROR(SMALL($W$7:$W$1504,ROWS($W$7:W1266))),\"\",SMALL($W$7:$W$1504,ROWS($W$7:W1266)))","v":""}]
[null,"Šilalės r. sav.","Apyvarta pagal veiklos vykdymo vietą | mln. EUR",145.761,178.232,181.92400000000001,206.16800000000001,213.887,214.60400000000001,258.02800000000002,280.32299999999998,296.827,316.51299999999998,303.76799999999997,384.51100000000002,null,null,{"$f":"ROWS($R$7:R1267)","v":1261},"",{"$f":"IF(ISERROR(SMALL($S$7:$S$1504,ROWS($S$7:S1267))),\"\",SMALL($S$7:$S$1504,ROWS($S$7:S1267)))","v":""},"",{"$f":"IF(ISERROR(SMALL($U$7:$U$1504,ROWS(U$7:$U1267))),\"\",SMALL($U$7:$U$1504,ROWS(U$7:$U1267)))","v":""},"",{"$f":"IF(ISERROR(SMALL($W$7:$W$1504,ROWS($W$7:W1267))),\"\",SMALL($W$7:$W$1504,ROWS($W$7:W1267)))","v":""}]
[null,"Tauragės r. sav.","Apyvarta pagal veiklos vykdymo vietą | mln. EUR",414.65899999999999,507.56900000000002,482.923,489.81900000000002,496.35399999999998,495.71300000000002,531.178,618.99300000000005,733.05200000000002,643.91200000000003,662.8,853.28800000000001,null,null,{"$f":"ROWS($R$7:R1268)","v":1262},"",{"$f":"IF(ISERROR(SMALL($S$7:$S$1504,ROWS($S$7:S1268))),\"\",SMALL($S$7:$S$1504,ROWS($S$7:S1268)))","v":""},"",{"$f":"IF(ISERROR(SMALL($U$7:$U$1504,ROWS(U$7:$U1268))),\"\",SMALL($U$7:$U$1504,ROWS(U$7:$U1268)))","v":""},"",{"$f":"IF(ISERROR(SMALL($W$7:$W$1504,ROWS($W$7:W1268))),\"\",SMALL($W$7:$W$1504,ROWS($W$7:W1268)))","v":""}]
[null,"Telšių apskritis","Apyvarta pagal veiklos vykdymo vietą | mln. EUR",6082.3630000000003,7549.9750000000004,7997.4309999999996,7861.3959999999997,6404.0219999999999,5576.643,5205.6049999999996,6259.9260000000004,6891.6670000000004,6783.607,4785.3360000000002,7051.0249999999996,null,null,{"$f":"ROWS($R$7:R1269)","v":1263},"",{"$f":"IF(ISERROR(SMALL($S$7:$S$1504,ROWS($S$7:S1269))),\"\",SMALL($S$7:$S$1504,ROWS($S$7:S1269)))","v":""},"",{"$f":"IF(ISERROR(SMALL($U$7:$U$1504,ROWS(U$7:$U1269))),\"\",SMALL($U$7:$U$1504,ROWS(U$7:$U1269)))","v":""},"",{"$f":"IF(ISERROR(SMALL($W$7:$W$1504,ROWS($W$7:W1269))),\"\",SMALL($W$7:$W$1504,ROWS($W$7:W1269)))","v":""}]
[null,"Mažeikių r. sav.","Apyvarta pagal veiklos vykdymo vietą | mln. EUR",5243.9979999999996,6553.4579999999996,7019.2629999999999,6860.61,5338.0320000000002,4503.5039999999999,4069.2020000000002,4992.4459999999999,5609.3779999999997,5423.0690000000004,3405.1060000000002,5407.8029999999999,null,null,{"$f":"ROWS($R$7:R1270)","v":1264},"",{"$f":"IF(ISERROR(SMALL($S$7:$S$1504,ROWS($S$7:S1270))),\"\",SMALL($S$7:$S$1504,ROWS($S$7:S1270)))","v":""},"",{"$f":"IF(ISERROR(SMALL($U$7:$U$1504,ROWS(U$7:$U1270))),\"\",SMALL($U$7:$U$1504,ROWS(U$7:$U1270)))","v":""},"",{"$f":"IF(ISERROR(SMALL($W$7:$W$1504,ROWS($W$7:W1270))),\"\",SMALL($W$7:$W$1504,ROWS($W$7:W1270)))","v":""}]
[null,"Plungės r. sav.","Apyvarta pagal veiklos vykdymo vietą | mln. EUR",361.82299999999998,418.07299999999998,459.06299999999999,479.21100000000001,512.08299999999997,533.87,556.95399999999995,626.88599999999997,558.78599999999994,600.64499999999998,591.19100000000003,708.21100000000001,null,null,{"$f":"ROWS($R$7:R1271)","v":1265},"",{"$f":"IF(ISERROR(SMALL($S$7:$S$1504,ROWS($S$7:S1271))),\"\",SMALL($S$7:$S$1504,ROWS($S$7:S1271)))","v":""},"",{"$f":"IF(ISERROR(SMALL($U$7:$U$1504,ROWS(U$7:$U1271))),\"\",SMALL($U$7:$U$1504,ROWS(U$7:$U1271)))","v":""},"",{"$f":"IF(ISERROR(SMALL($W$7:$W$1504,ROWS($W$7:W1271))),\"\",SMALL($W$7:$W$1504,ROWS($W$7:W1271)))","v":""}]
[null,"Rietavo sav.","Apyvarta pagal veiklos vykdymo vietą | mln. EUR",58.868000000000002,72.525999999999996,71.269000000000005,68.8,78.8,70.896000000000001,70.674999999999997,67.736999999999995,96.793999999999997,104.438,110.67700000000001,149.83600000000001,null,null,{"$f":"ROWS($R$7:R1272)","v":1266},"",{"$f":"IF(ISERROR(SMALL($S$7:$S$1504,ROWS($S$7:S1272))),\"\",SMALL($S$7:$S$1504,ROWS($S$7:S1272)))","v":""},"",{"$f":"IF(ISERROR(SMALL($U$7:$U$1504,ROWS(U$7:$U1272))),\"\",SMALL($U$7:$U$1504,ROWS(U$7:$U1272)))","v":""},"",{"$f":"IF(ISERROR(SMALL($W$7:$W$1504,ROWS($W$7:W1272))),\"\",SMALL($W$7:$W$1504,ROWS($W$7:W1272)))","v":""}]
[null,"Telšių r. sav.","Apyvarta pagal veiklos vykdymo vietą | mln. EUR",417.67399999999998,505.91800000000001,447.83600000000001,452.77499999999998,475.10700000000003,468.37200000000001,508.774,572.85699999999997,626.70799999999997,655.45399999999995,678.36199999999997,785.17399999999998,null,null,{"$f":"ROWS($R$7:R1273)","v":1267},"",{"$f":"IF(ISERROR(SMALL($S$7:$S$1504,ROWS($S$7:S1273))),\"\",SMALL($S$7:$S$1504,ROWS($S$7:S1273)))","v":""},"",{"$f":"IF(ISERROR(SMALL($U$7:$U$1504,ROWS(U$7:$U1273))),\"\",SMALL($U$7:$U$1504,ROWS(U$7:$U1273)))","v":""},"",{"$f":"IF(ISERROR(SMALL($W$7:$W$1504,ROWS($W$7:W1273))),\"\",SMALL($W$7:$W$1504,ROWS($W$7:W1273)))","v":""}]
[null,"Utenos apskritis","Apyvarta pagal veiklos vykdymo vietą | mln. EUR",1174.817,1323.19,1390.096,1501.9390000000001,1612.3720000000001,1496.6179999999999,1488.8710000000001,1595.991,1541.441,1682.9839999999999,1737.962,2086.4,null,null,{"$f":"ROWS($R$7:R1274)","v":1268},"",{"$f":"IF(ISERROR(SMALL($S$7:$S$1504,ROWS($S$7:S1274))),\"\",SMALL($S$7:$S$1504,ROWS($S$7:S1274)))","v":""},"",{"$f":"IF(ISERROR(SMALL($U$7:$U$1504,ROWS(U$7:$U1274))),\"\",SMALL($U$7:$U$1504,ROWS(U$7:$U1274)))","v":""},"",{"$f":"IF(ISERROR(SMALL($W$7:$W$1504,ROWS($W$7:W1274))),\"\",SMALL($W$7:$W$1504,ROWS($W$7:W1274)))","v":""}]
[null,"Anykščių r. sav.","Apyvarta pagal veiklos vykdymo vietą | mln. EUR",139.77699999999999,152.333,177.148,199.197,246.74,194.23699999999999,197.11500000000001,208.57599999999999,257.78399999999999,259.37299999999999,271.00599999999997,368.73700000000002,null,null,{"$f":"ROWS($R$7:R1275)","v":1269},"",{"$f":"IF(ISERROR(SMALL($S$7:$S$1504,ROWS($S$7:S1275))),\"\",SMALL($S$7:$S$1504,ROWS($S$7:S1275)))","v":""},"",{"$f":"IF(ISERROR(SMALL($U$7:$U$1504,ROWS(U$7:$U1275))),\"\",SMALL($U$7:$U$1504,ROWS(U$7:$U1275)))","v":""},"",{"$f":"IF(ISERROR(SMALL($W$7:$W$1504,ROWS($W$7:W1275))),\"\",SMALL($W$7:$W$1504,ROWS($W$7:W1275)))","v":""}]
[null,"Ignalinos r. sav.","Apyvarta pagal veiklos vykdymo vietą | mln. EUR",70.448999999999998,81.94,80.69,84.861999999999995,84.18,82.015000000000001,91.271000000000001,113.346,115.47499999999999,110.36499999999999,116.98699999999999,138.59800000000001,null,null,{"$f":"ROWS($R$7:R1276)","v":1270},"",{"$f":"IF(ISERROR(SMALL($S$7:$S$1504,ROWS($S$7:S1276))),\"\",SMALL($S$7:$S$1504,ROWS($S$7:S1276)))","v":""},"",{"$f":"IF(ISERROR(SMALL($U$7:$U$1504,ROWS(U$7:$U1276))),\"\",SMALL($U$7:$U$1504,ROWS(U$7:$U1276)))","v":""},"",{"$f":"IF(ISERROR(SMALL($W$7:$W$1504,ROWS($W$7:W1276))),\"\",SMALL($W$7:$W$1504,ROWS($W$7:W1276)))","v":""}]
[null,"Molėtų r. sav.","Apyvarta pagal veiklos vykdymo vietą | mln. EUR",117.94799999999999,121.729,129.32599999999999,120.369,121.70399999999999,126.854,124.645,140.208,145.29599999999999,148.816,162.917,195.29900000000001,null,null,{"$f":"ROWS($R$7:R1277)","v":1271},"",{"$f":"IF(ISERROR(SMALL($S$7:$S$1504,ROWS($S$7:S1277))),\"\",SMALL($S$7:$S$1504,ROWS($S$7:S1277)))","v":""},"",{"$f":"IF(ISERROR(SMALL($U$7:$U$1504,ROWS(U$7:$U1277))),\"\",SMALL($U$7:$U$1504,ROWS(U$7:$U1277)))","v":""},"",{"$f":"IF(ISERROR(SMALL($W$7:$W$1504,ROWS($W$7:W1277))),\"\",SMALL($W$7:$W$1504,ROWS($W$7:W1277)))","v":""}]
[null,"Utenos r. sav.","Apyvarta pagal veiklos vykdymo vietą | mln. EUR",567.13800000000003,679.00800000000004,697.30100000000004,780.36199999999997,840.31100000000004,765.726,752.21,794.69600000000003,762.83500000000004,873.44500000000005,897.11800000000005,1036.05,null,null,{"$f":"ROWS($R$7:R1278)","v":1272},"",{"$f":"IF(ISERROR(SMALL($S$7:$S$1504,ROWS($S$7:S1278))),\"\",SMALL($S$7:$S$1504,ROWS($S$7:S1278)))","v":""},"",{"$f":"IF(ISERROR(SMALL($U$7:$U$1504,ROWS(U$7:$U1278))),\"\",SMALL($U$7:$U$1504,ROWS(U$7:$U1278)))","v":""},"",{"$f":"IF(ISERROR(SMALL($W$7:$W$1504,ROWS($W$7:W1278))),\"\",SMALL($W$7:$W$1504,ROWS($W$7:W1278)))","v":""}]
[null,"Visagino sav.","Apyvarta pagal veiklos vykdymo vietą | mln. EUR",205.62899999999999,211.71199999999999,229.30699999999999,236.41800000000001,234.24299999999999,248.435,246.071,254.53800000000001,171.88900000000001,197.71700000000001,182.21899999999999,208.65299999999999,null,null,{"$f":"ROWS($R$7:R1279)","v":1273},"",{"$f":"IF(ISERROR(SMALL($S$7:$S$1504,ROWS($S$7:S1279))),\"\",SMALL($S$7:$S$1504,ROWS($S$7:S1279)))","v":""},"",{"$f":"IF(ISERROR(SMALL($U$7:$U$1504,ROWS(U$7:$U1279))),\"\",SMALL($U$7:$U$1504,ROWS(U$7:$U1279)))","v":""},"",{"$f":"IF(ISERROR(SMALL($W$7:$W$1504,ROWS($W$7:W1279))),\"\",SMALL($W$7:$W$1504,ROWS($W$7:W1279)))","v":""}]
[null,"Zarasų r. sav.","Apyvarta pagal veiklos vykdymo vietą | mln. EUR",73.876000000000005,76.466999999999999,76.322999999999993,80.73,85.192999999999998,79.352000000000004,77.558000000000007,84.626999999999995,88.161000000000001,93.266999999999996,107.714,139.06299999999999,null,null,{"$f":"ROWS($R$7:R1280)","v":1274},"",{"$f":"IF(ISERROR(SMALL($S$7:$S$1504,ROWS($S$7:S1280))),\"\",SMALL($S$7:$S$1504,ROWS($S$7:S1280)))","v":""},"",{"$f":"IF(ISERROR(SMALL($U$7:$U$1504,ROWS(U$7:$U1280))),\"\",SMALL($U$7:$U$1504,ROWS(U$7:$U1280)))","v":""},"",{"$f":"IF(ISERROR(SMALL($W$7:$W$1504,ROWS($W$7:W1280))),\"\",SMALL($W$7:$W$1504,ROWS($W$7:W1280)))","v":""}]
[null,"Vilniaus apskritis","Apyvarta pagal veiklos vykdymo vietą | mln. EUR",18853.001,22118.242999999999,25001.405999999999,27340.916000000001,28918.966,30542.642,31696.718000000001,34787.303999999996,38477.197,42205.447,42787.618999999999,53365.016000000003,null,null,{"$f":"ROWS($R$7:R1281)","v":1275},"",{"$f":"IF(ISERROR(SMALL($S$7:$S$1504,ROWS($S$7:S1281))),\"\",SMALL($S$7:$S$1504,ROWS($S$7:S1281)))","v":""},1275,{"$f":"IF(ISERROR(SMALL($U$7:$U$1504,ROWS(U$7:$U1281))),\"\",SMALL($U$7:$U$1504,ROWS(U$7:$U1281)))","v":""},"",{"$f":"IF(ISERROR(SMALL($W$7:$W$1504,ROWS($W$7:W1281))),\"\",SMALL($W$7:$W$1504,ROWS($W$7:W1281)))","v":""}]
[null,"Elektrėnų sav.","Apyvarta pagal veiklos vykdymo vietą | mln. EUR",438.87900000000002,599.4,586.50199999999995,664.31899999999996,628.61,641.07399999999996,662.05700000000002,690.19899999999996,752.58500000000004,763.47900000000004,776.37300000000005,678.72699999999998,null,null,{"$f":"ROWS($R$7:R1282)","v":1276},"",{"$f":"IF(ISERROR(SMALL($S$7:$S$1504,ROWS($S$7:S1282))),\"\",SMALL($S$7:$S$1504,ROWS($S$7:S1282)))","v":""},"",{"$f":"IF(ISERROR(SMALL($U$7:$U$1504,ROWS(U$7:$U1282))),\"\",SMALL($U$7:$U$1504,ROWS(U$7:$U1282)))","v":""},"",{"$f":"IF(ISERROR(SMALL($W$7:$W$1504,ROWS($W$7:W1282))),\"\",SMALL($W$7:$W$1504,ROWS($W$7:W1282)))","v":""}]
[null,"Šalčininkų r. sav.","Apyvarta pagal veiklos vykdymo vietą | mln. EUR",107.017,135.11699999999999,144.64500000000001,149.11799999999999,163.70400000000001,184.596,168.24700000000001,173.90600000000001,242.29,277.74200000000002,304.79399999999998,341.11599999999999,null,null,{"$f":"ROWS($R$7:R1283)","v":1277},"",{"$f":"IF(ISERROR(SMALL($S$7:$S$1504,ROWS($S$7:S1283))),\"\",SMALL($S$7:$S$1504,ROWS($S$7:S1283)))","v":""},"",{"$f":"IF(ISERROR(SMALL($U$7:$U$1504,ROWS(U$7:$U1283))),\"\",SMALL($U$7:$U$1504,ROWS(U$7:$U1283)))","v":""},"",{"$f":"IF(ISERROR(SMALL($W$7:$W$1504,ROWS($W$7:W1283))),\"\",SMALL($W$7:$W$1504,ROWS($W$7:W1283)))","v":""}]
[null,"Širvintų r. sav.","Apyvarta pagal veiklos vykdymo vietą | mln. EUR",65.143000000000001,71.707999999999998,85.090999999999994,125.873,143.51400000000001,158.245,190.292,219.512,235.07400000000001,258.32299999999998,279.517,361.37400000000002,null,null,{"$f":"ROWS($R$7:R1284)","v":1278},"",{"$f":"IF(ISERROR(SMALL($S$7:$S$1504,ROWS($S$7:S1284))),\"\",SMALL($S$7:$S$1504,ROWS($S$7:S1284)))","v":""},"",{"$f":"IF(ISERROR(SMALL($U$7:$U$1504,ROWS(U$7:$U1284))),\"\",SMALL($U$7:$U$1504,ROWS(U$7:$U1284)))","v":""},"",{"$f":"IF(ISERROR(SMALL($W$7:$W$1504,ROWS($W$7:W1284))),\"\",SMALL($W$7:$W$1504,ROWS($W$7:W1284)))","v":""}]
[null,"Švenčionių r. sav.","Apyvarta pagal veiklos vykdymo vietą | mln. EUR",181.19900000000001,216.56299999999999,247.876,252.09899999999999,241.935,241.24600000000001,248.648,269.661,297.48700000000002,302.63,332.66399999999999,343.101,null,null,{"$f":"ROWS($R$7:R1285)","v":1279},"",{"$f":"IF(ISERROR(SMALL($S$7:$S$1504,ROWS($S$7:S1285))),\"\",SMALL($S$7:$S$1504,ROWS($S$7:S1285)))","v":""},"",{"$f":"IF(ISERROR(SMALL($U$7:$U$1504,ROWS(U$7:$U1285))),\"\",SMALL($U$7:$U$1504,ROWS(U$7:$U1285)))","v":""},"",{"$f":"IF(ISERROR(SMALL($W$7:$W$1504,ROWS($W$7:W1285))),\"\",SMALL($W$7:$W$1504,ROWS($W$7:W1285)))","v":""}]
[null,"Trakų r. sav.","Apyvarta pagal veiklos vykdymo vietą | mln. EUR",257.29599999999999,309.029,337.572,377.01900000000001,497.96100000000001,489.57400000000001,488.05799999999999,575.65200000000004,638.00900000000001,655.346,683.07399999999996,812.88900000000001,null,null,{"$f":"ROWS($R$7:R1286)","v":1280},"",{"$f":"IF(ISERROR(SMALL($S$7:$S$1504,ROWS($S$7:S1286))),\"\",SMALL($S$7:$S$1504,ROWS($S$7:S1286)))","v":""},"",{"$f":"IF(ISERROR(SMALL($U$7:$U$1504,ROWS(U$7:$U1286))),\"\",SMALL($U$7:$U$1504,ROWS(U$7:$U1286)))","v":""},"",{"$f":"IF(ISERROR(SMALL($W$7:$W$1504,ROWS($W$7:W1286))),\"\",SMALL($W$7:$W$1504,ROWS($W$7:W1286)))","v":""}]
[null,"Ukmergės r. sav.","Apyvarta pagal veiklos vykdymo vietą | mln. EUR",354.92,417.255,423.084,429.63900000000001,434.56099999999998,484.93,499.56400000000002,574.93799999999999,653.83000000000004,683.50099999999998,661.65300000000002,806.31799999999998,null,null,{"$f":"ROWS($R$7:R1287)","v":1281},{"$f":"IF(ISNUMBER(SEARCH($R$3,B1287)),R1287,\"\")","v":""},{"$f":"IF(ISERROR(SMALL($S$7:$S$1504,ROWS($S$7:S1287))),\"\",SMALL($S$7:$S$1504,ROWS($S$7:S1287)))","v":""},{"$f":"IF($R$4=B1287,R1287,\"\")","v":""},{"$f":"IF(ISERROR(SMALL($U$7:$U$1504,ROWS(U$7:$U1287))),\"\",SMALL($U$7:$U$1504,ROWS(U$7:$U1287)))","v":""},{"$f":"IF(\"Lietuvos Respublika\"=B1287,R1287,\"\")","v":""},{"$f":"IF(ISERROR(SMALL($W$7:$W$1504,ROWS($W$7:W1287))),\"\",SMALL($W$7:$W$1504,ROWS($W$7:W1287)))","v":""}]
[null,"Vilniaus m. sav.","Apyvarta pagal veiklos vykdymo vietą | mln. EUR",16618.971000000001,19255.164000000001,21824.419000000002,23889.722000000002,25677.258000000002,27060.076000000001,27992.600999999999,30555.714,33709.499000000003,37023.476000000002,37356.364999999998,46942.705000000002,null,null,{"$f":"ROWS($R$7:R1288)","v":1282},1282,{"$f":"IF(ISERROR(SMALL($S$7:$S$1504,ROWS($S$7:S1288))),\"\",SMALL($S$7:$S$1504,ROWS($S$7:S1288)))","v":""},"",{"$f":"IF(ISERROR(SMALL($U$7:$U$1504,ROWS(U$7:$U1288))),\"\",SMALL($U$7:$U$1504,ROWS(U$7:$U1288)))","v":""},"",{"$f":"IF(ISERROR(SMALL($W$7:$W$1504,ROWS($W$7:W1288))),\"\",SMALL($W$7:$W$1504,ROWS($W$7:W1288)))","v":""}]
[null,"Vilniaus r. sav.","Apyvarta pagal veiklos vykdymo vietą | mln. EUR",829.57500000000005,1114.0070000000001,1352.2180000000001,1453.127,1131.423,1282.903,1447.252,1727.721,1948.423,2240.9490000000001,2393.1790000000001,3078.7860000000001,null,null,{"$f":"ROWS($R$7:R1289)","v":1283},"",{"$f":"IF(ISERROR(SMALL($S$7:$S$1504,ROWS($S$7:S1289))),\"\",SMALL($S$7:$S$1504,ROWS($S$7:S1289)))","v":""},"",{"$f":"IF(ISERROR(SMALL($U$7:$U$1504,ROWS(U$7:$U1289))),\"\",SMALL($U$7:$U$1504,ROWS(U$7:$U1289)))","v":""},"",{"$f":"IF(ISERROR(SMALL($W$7:$W$1504,ROWS($W$7:W1289))),\"\",SMALL($W$7:$W$1504,ROWS($W$7:W1289)))","v":""}]
[null,"Lietuvos Respublika","Pridėtinė vertė gamybos kainomis pagal veiklos vykdymo vietą | mln. EUR",9753.9529999999995,11878.057000000001,12560.322,13002.056,15133.377,16364.799000000001,17591.092000000001,19445.508000000002,21611.072,24007.458999999999,25481.777999999998,30476.312999999998,null,null,{"$f":"ROWS($R$7:R1290)","v":1284},"",{"$f":"IF(ISERROR(SMALL($S$7:$S$1504,ROWS($S$7:S1290))),\"\",SMALL($S$7:$S$1504,ROWS($S$7:S1290)))","v":""},"",{"$f":"IF(ISERROR(SMALL($U$7:$U$1504,ROWS(U$7:$U1290))),\"\",SMALL($U$7:$U$1504,ROWS(U$7:$U1290)))","v":""},1284,{"$f":"IF(ISERROR(SMALL($W$7:$W$1504,ROWS($W$7:W1290))),\"\",SMALL($W$7:$W$1504,ROWS($W$7:W1290)))","v":""}]
[null,"Alytaus apskritis","Pridėtinė vertė gamybos kainomis pagal veiklos vykdymo vietą | mln. EUR",265.32900000000001,340.666,355.673,379.99900000000002,427.44200000000001,448.39299999999997,466.54,489.91899999999998,541.50300000000004,567.83299999999997,655.56600000000003,709.90800000000002,null,null,{"$f":"ROWS($R$7:R1291)","v":1285},"",{"$f":"IF(ISERROR(SMALL($S$7:$S$1504,ROWS($S$7:S1291))),\"\",SMALL($S$7:$S$1504,ROWS($S$7:S1291)))","v":""},"",{"$f":"IF(ISERROR(SMALL($U$7:$U$1504,ROWS(U$7:$U1291))),\"\",SMALL($U$7:$U$1504,ROWS(U$7:$U1291)))","v":""},"",{"$f":"IF(ISERROR(SMALL($W$7:$W$1504,ROWS($W$7:W1291))),\"\",SMALL($W$7:$W$1504,ROWS($W$7:W1291)))","v":""}]
[null,"Alytaus m. sav.","Pridėtinė vertė gamybos kainomis pagal veiklos vykdymo vietą | mln. EUR",150.82,186.53299999999999,202.00899999999999,210.24799999999999,237.863,255.07499999999999,264.67500000000001,271.649,299.49400000000003,310.32400000000001,374.11200000000002,393.399,null,null,{"$f":"ROWS($R$7:R1292)","v":1286},"",{"$f":"IF(ISERROR(SMALL($S$7:$S$1504,ROWS($S$7:S1292))),\"\",SMALL($S$7:$S$1504,ROWS($S$7:S1292)))","v":""},"",{"$f":"IF(ISERROR(SMALL($U$7:$U$1504,ROWS(U$7:$U1292))),\"\",SMALL($U$7:$U$1504,ROWS(U$7:$U1292)))","v":""},"",{"$f":"IF(ISERROR(SMALL($W$7:$W$1504,ROWS($W$7:W1292))),\"\",SMALL($W$7:$W$1504,ROWS($W$7:W1292)))","v":""}]
[null,"Alytaus r. sav.","Pridėtinė vertė gamybos kainomis pagal veiklos vykdymo vietą | mln. EUR",23.338000000000001,31.411999999999999,30.692,31.535,38.848999999999997,40.814,42.011000000000003,46.634,52.015999999999998,60.398000000000003,76.197000000000003,84.516999999999996,null,null,{"$f":"ROWS($R$7:R1293)","v":1287},"",{"$f":"IF(ISERROR(SMALL($S$7:$S$1504,ROWS($S$7:S1293))),\"\",SMALL($S$7:$S$1504,ROWS($S$7:S1293)))","v":""},"",{"$f":"IF(ISERROR(SMALL($U$7:$U$1504,ROWS(U$7:$U1293))),\"\",SMALL($U$7:$U$1504,ROWS(U$7:$U1293)))","v":""},"",{"$f":"IF(ISERROR(SMALL($W$7:$W$1504,ROWS($W$7:W1293))),\"\",SMALL($W$7:$W$1504,ROWS($W$7:W1293)))","v":""}]
[null,"Druskininkų sav.","Pridėtinė vertė gamybos kainomis pagal veiklos vykdymo vietą | mln. EUR",48.018999999999998,66.066999999999993,65.387,75.23,81.843999999999994,84.807000000000002,92.671999999999997,97.308999999999997,108.411,117.51,112.684,132.511,null,null,{"$f":"ROWS($R$7:R1294)","v":1288},"",{"$f":"IF(ISERROR(SMALL($S$7:$S$1504,ROWS($S$7:S1294))),\"\",SMALL($S$7:$S$1504,ROWS($S$7:S1294)))","v":""},"",{"$f":"IF(ISERROR(SMALL($U$7:$U$1504,ROWS(U$7:$U1294))),\"\",SMALL($U$7:$U$1504,ROWS(U$7:$U1294)))","v":""},"",{"$f":"IF(ISERROR(SMALL($W$7:$W$1504,ROWS($W$7:W1294))),\"\",SMALL($W$7:$W$1504,ROWS($W$7:W1294)))","v":""}]
[null,"Lazdijų r. sav.","Pridėtinė vertė gamybos kainomis pagal veiklos vykdymo vietą | mln. EUR",15.239000000000001,20.158000000000001,20.84,23.138000000000002,22.794,23.321999999999999,22.954999999999998,26.812000000000001,30.177,31.425999999999998,35.697000000000003,39.622,null,null,{"$f":"ROWS($R$7:R1295)","v":1289},"",{"$f":"IF(ISERROR(SMALL($S$7:$S$1504,ROWS($S$7:S1295))),\"\",SMALL($S$7:$S$1504,ROWS($S$7:S1295)))","v":""},"",{"$f":"IF(ISERROR(SMALL($U$7:$U$1504,ROWS(U$7:$U1295))),\"\",SMALL($U$7:$U$1504,ROWS(U$7:$U1295)))","v":""},"",{"$f":"IF(ISERROR(SMALL($W$7:$W$1504,ROWS($W$7:W1295))),\"\",SMALL($W$7:$W$1504,ROWS($W$7:W1295)))","v":""}]
[null,"Varėnos r. sav.","Pridėtinė vertė gamybos kainomis pagal veiklos vykdymo vietą | mln. EUR",27.914000000000001,36.494999999999997,36.744999999999997,39.848999999999997,46.091000000000001,44.374000000000002,44.226999999999997,47.515000000000001,51.405000000000001,48.174999999999997,56.875,59.859000000000002,null,null,{"$f":"ROWS($R$7:R1296)","v":1290},"",{"$f":"IF(ISERROR(SMALL($S$7:$S$1504,ROWS($S$7:S1296))),\"\",SMALL($S$7:$S$1504,ROWS($S$7:S1296)))","v":""},"",{"$f":"IF(ISERROR(SMALL($U$7:$U$1504,ROWS(U$7:$U1296))),\"\",SMALL($U$7:$U$1504,ROWS(U$7:$U1296)))","v":""},"",{"$f":"IF(ISERROR(SMALL($W$7:$W$1504,ROWS($W$7:W1296))),\"\",SMALL($W$7:$W$1504,ROWS($W$7:W1296)))","v":""}]
[null,"Kauno apskritis","Pridėtinė vertė gamybos kainomis pagal veiklos vykdymo vietą | mln. EUR",1979.096,2467.645,2499.62,2528.643,3045.1990000000001,3346.0010000000002,3511.3049999999998,3928.4520000000002,4307.5630000000001,4756.8159999999998,5230.29,6410.9309999999996,null,null,{"$f":"ROWS($R$7:R1297)","v":1291},"",{"$f":"IF(ISERROR(SMALL($S$7:$S$1504,ROWS($S$7:S1297))),\"\",SMALL($S$7:$S$1504,ROWS($S$7:S1297)))","v":""},"",{"$f":"IF(ISERROR(SMALL($U$7:$U$1504,ROWS(U$7:$U1297))),\"\",SMALL($U$7:$U$1504,ROWS(U$7:$U1297)))","v":""},"",{"$f":"IF(ISERROR(SMALL($W$7:$W$1504,ROWS($W$7:W1297))),\"\",SMALL($W$7:$W$1504,ROWS($W$7:W1297)))","v":""}]
[null,"Birštono sav.","Pridėtinė vertė gamybos kainomis pagal veiklos vykdymo vietą | mln. EUR",6.6920000000000002,7.3380000000000001,6.681,7.4390000000000001,10.182,11.579000000000001,13.510999999999999,18.841000000000001,25.311,27.43,26.504000000000001,28.841999999999999,null,null,{"$f":"ROWS($R$7:R1298)","v":1292},"",{"$f":"IF(ISERROR(SMALL($S$7:$S$1504,ROWS($S$7:S1298))),\"\",SMALL($S$7:$S$1504,ROWS($S$7:S1298)))","v":""},"",{"$f":"IF(ISERROR(SMALL($U$7:$U$1504,ROWS(U$7:$U1298))),\"\",SMALL($U$7:$U$1504,ROWS(U$7:$U1298)))","v":""},"",{"$f":"IF(ISERROR(SMALL($W$7:$W$1504,ROWS($W$7:W1298))),\"\",SMALL($W$7:$W$1504,ROWS($W$7:W1298)))","v":""}]
[null,"Jonavos r. sav.","Pridėtinė vertė gamybos kainomis pagal veiklos vykdymo vietą | mln. EUR",141.148,208.68199999999999,189.02500000000001,101.313,116.904,236.94200000000001,199.47300000000001,226.93100000000001,171.43100000000001,233.245,305.92599999999999,300.78300000000002,null,null,{"$f":"ROWS($R$7:R1299)","v":1293},"",{"$f":"IF(ISERROR(SMALL($S$7:$S$1504,ROWS($S$7:S1299))),\"\",SMALL($S$7:$S$1504,ROWS($S$7:S1299)))","v":""},"",{"$f":"IF(ISERROR(SMALL($U$7:$U$1504,ROWS(U$7:$U1299))),\"\",SMALL($U$7:$U$1504,ROWS(U$7:$U1299)))","v":""},"",{"$f":"IF(ISERROR(SMALL($W$7:$W$1504,ROWS($W$7:W1299))),\"\",SMALL($W$7:$W$1504,ROWS($W$7:W1299)))","v":""}]
[null,"Kaišiadorių r. sav.","Pridėtinė vertė gamybos kainomis pagal veiklos vykdymo vietą | mln. EUR",49.564,48.017000000000003,57.872999999999998,61.704000000000001,69.316000000000003,77.555999999999997,89.137,95.629000000000005,95.655000000000001,100.867,117.075,191.69200000000001,null,null,{"$f":"ROWS($R$7:R1300)","v":1294},"",{"$f":"IF(ISERROR(SMALL($S$7:$S$1504,ROWS($S$7:S1300))),\"\",SMALL($S$7:$S$1504,ROWS($S$7:S1300)))","v":""},"",{"$f":"IF(ISERROR(SMALL($U$7:$U$1504,ROWS(U$7:$U1300))),\"\",SMALL($U$7:$U$1504,ROWS(U$7:$U1300)))","v":""},"",{"$f":"IF(ISERROR(SMALL($W$7:$W$1504,ROWS($W$7:W1300))),\"\",SMALL($W$7:$W$1504,ROWS($W$7:W1300)))","v":""}]
[null,"Kauno m. sav.","Pridėtinė vertė gamybos kainomis pagal veiklos vykdymo vietą | mln. EUR",1323.182,1605.8420000000001,1705.3130000000001,1803.0150000000001,2136.2469999999998,2225.393,2410.0770000000002,2655.665,2993.0729999999999,3301.1610000000001,3494.7109999999998,4203.1210000000001,null,null,{"$f":"ROWS($R$7:R1301)","v":1295},"",{"$f":"IF(ISERROR(SMALL($S$7:$S$1504,ROWS($S$7:S1301))),\"\",SMALL($S$7:$S$1504,ROWS($S$7:S1301)))","v":""},"",{"$f":"IF(ISERROR(SMALL($U$7:$U$1504,ROWS(U$7:$U1301))),\"\",SMALL($U$7:$U$1504,ROWS(U$7:$U1301)))","v":""},"",{"$f":"IF(ISERROR(SMALL($W$7:$W$1504,ROWS($W$7:W1301))),\"\",SMALL($W$7:$W$1504,ROWS($W$7:W1301)))","v":""}]
[null,"Kauno r. sav.","Pridėtinė vertė gamybos kainomis pagal veiklos vykdymo vietą | mln. EUR",163.65899999999999,216.40899999999999,242.881,281.39499999999998,343.68700000000001,357.25200000000001,413.858,512.23900000000003,562.83399999999995,625.23699999999997,758.11800000000005,995.00400000000002,null,null,{"$f":"ROWS($R$7:R1302)","v":1296},"",{"$f":"IF(ISERROR(SMALL($S$7:$S$1504,ROWS($S$7:S1302))),\"\",SMALL($S$7:$S$1504,ROWS($S$7:S1302)))","v":""},"",{"$f":"IF(ISERROR(SMALL($U$7:$U$1504,ROWS(U$7:$U1302))),\"\",SMALL($U$7:$U$1504,ROWS(U$7:$U1302)))","v":""},"",{"$f":"IF(ISERROR(SMALL($W$7:$W$1504,ROWS($W$7:W1302))),\"\",SMALL($W$7:$W$1504,ROWS($W$7:W1302)))","v":""}]
[null,"Kėdainių r. sav.","Pridėtinė vertė gamybos kainomis pagal veiklos vykdymo vietą | mln. EUR",211.62899999999999,260.11,184.08699999999999,157.28,228.16900000000001,282.44799999999998,231.37299999999999,241.643,267.68200000000002,255.11,307.18400000000003,448.82900000000001,null,null,{"$f":"ROWS($R$7:R1303)","v":1297},"",{"$f":"IF(ISERROR(SMALL($S$7:$S$1504,ROWS($S$7:S1303))),\"\",SMALL($S$7:$S$1504,ROWS($S$7:S1303)))","v":""},"",{"$f":"IF(ISERROR(SMALL($U$7:$U$1504,ROWS(U$7:$U1303))),\"\",SMALL($U$7:$U$1504,ROWS(U$7:$U1303)))","v":""},"",{"$f":"IF(ISERROR(SMALL($W$7:$W$1504,ROWS($W$7:W1303))),\"\",SMALL($W$7:$W$1504,ROWS($W$7:W1303)))","v":""}]
[null,"Prienų r. sav.","Pridėtinė vertė gamybos kainomis pagal veiklos vykdymo vietą | mln. EUR",28.963000000000001,45.103999999999999,43.372999999999998,44.046999999999997,48.411999999999999,52.155999999999999,53.249000000000002,57.481000000000002,63.255000000000003,62.354999999999997,78.825000000000003,90.087000000000003,null,null,{"$f":"ROWS($R$7:R1304)","v":1298},"",{"$f":"IF(ISERROR(SMALL($S$7:$S$1504,ROWS($S$7:S1304))),\"\",SMALL($S$7:$S$1504,ROWS($S$7:S1304)))","v":""},"",{"$f":"IF(ISERROR(SMALL($U$7:$U$1504,ROWS(U$7:$U1304))),\"\",SMALL($U$7:$U$1504,ROWS(U$7:$U1304)))","v":""},"",{"$f":"IF(ISERROR(SMALL($W$7:$W$1504,ROWS($W$7:W1304))),\"\",SMALL($W$7:$W$1504,ROWS($W$7:W1304)))","v":""}]
[null,"Raseinių r. sav.","Pridėtinė vertė gamybos kainomis pagal veiklos vykdymo vietą | mln. EUR",54.259,76.143000000000001,70.388000000000005,72.45,92.283000000000001,102.676,100.627,120.02200000000001,128.321,151.411,141.947,152.572,null,null,{"$f":"ROWS($R$7:R1305)","v":1299},"",{"$f":"IF(ISERROR(SMALL($S$7:$S$1504,ROWS($S$7:S1305))),\"\",SMALL($S$7:$S$1504,ROWS($S$7:S1305)))","v":""},"",{"$f":"IF(ISERROR(SMALL($U$7:$U$1504,ROWS(U$7:$U1305))),\"\",SMALL($U$7:$U$1504,ROWS(U$7:$U1305)))","v":""},"",{"$f":"IF(ISERROR(SMALL($W$7:$W$1504,ROWS($W$7:W1305))),\"\",SMALL($W$7:$W$1504,ROWS($W$7:W1305)))","v":""}]
[null,"Klaipėdos apskritis","Pridėtinė vertė gamybos kainomis pagal veiklos vykdymo vietą | mln. EUR",1290.3309999999999,1552.386,1532.4960000000001,1568.7270000000001,1868.2639999999999,2004.962,2120.2240000000002,2371.1579999999999,2680.991,2974.8850000000002,3089.6419999999998,3560.8980000000001,null,null,{"$f":"ROWS($R$7:R1306)","v":1300},"",{"$f":"IF(ISERROR(SMALL($S$7:$S$1504,ROWS($S$7:S1306))),\"\",SMALL($S$7:$S$1504,ROWS($S$7:S1306)))","v":""},"",{"$f":"IF(ISERROR(SMALL($U$7:$U$1504,ROWS(U$7:$U1306))),\"\",SMALL($U$7:$U$1504,ROWS(U$7:$U1306)))","v":""},"",{"$f":"IF(ISERROR(SMALL($W$7:$W$1504,ROWS($W$7:W1306))),\"\",SMALL($W$7:$W$1504,ROWS($W$7:W1306)))","v":""}]
[null,"Klaipėdos m. sav.","Pridėtinė vertė gamybos kainomis pagal veiklos vykdymo vietą | mln. EUR",892.745,1077.6179999999999,1099.7619999999999,1111.548,1339.317,1410.799,1510.038,1652.346,1885.7639999999999,2120.3150000000001,2200.0459999999998,2429.3939999999998,null,null,{"$f":"ROWS($R$7:R1307)","v":1301},"",{"$f":"IF(ISERROR(SMALL($S$7:$S$1504,ROWS($S$7:S1307))),\"\",SMALL($S$7:$S$1504,ROWS($S$7:S1307)))","v":""},"",{"$f":"IF(ISERROR(SMALL($U$7:$U$1504,ROWS(U$7:$U1307))),\"\",SMALL($U$7:$U$1504,ROWS(U$7:$U1307)))","v":""},"",{"$f":"IF(ISERROR(SMALL($W$7:$W$1504,ROWS($W$7:W1307))),\"\",SMALL($W$7:$W$1504,ROWS($W$7:W1307)))","v":""}]
[null,"Klaipėdos r. sav.","Pridėtinė vertė gamybos kainomis pagal veiklos vykdymo vietą | mln. EUR",205.161,254.67500000000001,202.02500000000001,199.84700000000001,237.977,268.64600000000002,268.75299999999999,325.04500000000002,394.63499999999999,420.18799999999999,409.65199999999999,535.76099999999997,null,null,{"$f":"ROWS($R$7:R1308)","v":1302},"",{"$f":"IF(ISERROR(SMALL($S$7:$S$1504,ROWS($S$7:S1308))),\"\",SMALL($S$7:$S$1504,ROWS($S$7:S1308)))","v":""},"",{"$f":"IF(ISERROR(SMALL($U$7:$U$1504,ROWS(U$7:$U1308))),\"\",SMALL($U$7:$U$1504,ROWS(U$7:$U1308)))","v":""},"",{"$f":"IF(ISERROR(SMALL($W$7:$W$1504,ROWS($W$7:W1308))),\"\",SMALL($W$7:$W$1504,ROWS($W$7:W1308)))","v":""}]
[null,"Kretingos r. sav.","Pridėtinė vertė gamybos kainomis pagal veiklos vykdymo vietą | mln. EUR",59.185000000000002,71.635999999999996,66.393000000000001,79.302999999999997,93.772999999999996,100.05800000000001,108.483,130.86099999999999,122.61499999999999,134.946,150.982,188.45099999999999,null,null,{"$f":"ROWS($R$7:R1309)","v":1303},"",{"$f":"IF(ISERROR(SMALL($S$7:$S$1504,ROWS($S$7:S1309))),\"\",SMALL($S$7:$S$1504,ROWS($S$7:S1309)))","v":""},"",{"$f":"IF(ISERROR(SMALL($U$7:$U$1504,ROWS(U$7:$U1309))),\"\",SMALL($U$7:$U$1504,ROWS(U$7:$U1309)))","v":""},"",{"$f":"IF(ISERROR(SMALL($W$7:$W$1504,ROWS($W$7:W1309))),\"\",SMALL($W$7:$W$1504,ROWS($W$7:W1309)))","v":""}]
[null,"Neringos sav.","Pridėtinė vertė gamybos kainomis pagal veiklos vykdymo vietą | mln. EUR",10.864000000000001,10.708,12.541,16.286999999999999,17.324999999999999,19.318999999999999,24.273,27.634,25.72,29.984999999999999,33.295999999999999,45.029000000000003,null,null,{"$f":"ROWS($R$7:R1310)","v":1304},"",{"$f":"IF(ISERROR(SMALL($S$7:$S$1504,ROWS($S$7:S1310))),\"\",SMALL($S$7:$S$1504,ROWS($S$7:S1310)))","v":""},"",{"$f":"IF(ISERROR(SMALL($U$7:$U$1504,ROWS(U$7:$U1310))),\"\",SMALL($U$7:$U$1504,ROWS(U$7:$U1310)))","v":""},"",{"$f":"IF(ISERROR(SMALL($W$7:$W$1504,ROWS($W$7:W1310))),\"\",SMALL($W$7:$W$1504,ROWS($W$7:W1310)))","v":""}]
[null,"Palangos m. sav.","Pridėtinė vertė gamybos kainomis pagal veiklos vykdymo vietą | mln. EUR",38.149000000000001,42.695999999999998,49.658000000000001,50.042999999999999,58.493000000000002,74.680000000000007,75.936000000000007,82.534000000000006,91.869,106.849,109.036,144.21700000000001,null,null,{"$f":"ROWS($R$7:R1311)","v":1305},"",{"$f":"IF(ISERROR(SMALL($S$7:$S$1504,ROWS($S$7:S1311))),\"\",SMALL($S$7:$S$1504,ROWS($S$7:S1311)))","v":""},"",{"$f":"IF(ISERROR(SMALL($U$7:$U$1504,ROWS(U$7:$U1311))),\"\",SMALL($U$7:$U$1504,ROWS(U$7:$U1311)))","v":""},"",{"$f":"IF(ISERROR(SMALL($W$7:$W$1504,ROWS($W$7:W1311))),\"\",SMALL($W$7:$W$1504,ROWS($W$7:W1311)))","v":""}]
[null,"Skuodo r. sav.","Pridėtinė vertė gamybos kainomis pagal veiklos vykdymo vietą | mln. EUR",13.394,16.797000000000001,17.738,19.613,21.696000000000002,23.001000000000001,22.927,23.995999999999999,25.001999999999999,24.902999999999999,26.577999999999999,29.98,null,null,{"$f":"ROWS($R$7:R1312)","v":1306},"",{"$f":"IF(ISERROR(SMALL($S$7:$S$1504,ROWS($S$7:S1312))),\"\",SMALL($S$7:$S$1504,ROWS($S$7:S1312)))","v":""},"",{"$f":"IF(ISERROR(SMALL($U$7:$U$1504,ROWS(U$7:$U1312))),\"\",SMALL($U$7:$U$1504,ROWS(U$7:$U1312)))","v":""},"",{"$f":"IF(ISERROR(SMALL($W$7:$W$1504,ROWS($W$7:W1312))),\"\",SMALL($W$7:$W$1504,ROWS($W$7:W1312)))","v":""}]
[null,"Šilutės r. sav.","Pridėtinė vertė gamybos kainomis pagal veiklos vykdymo vietą | mln. EUR",70.832999999999998,78.256,84.378,92.087000000000003,99.683999999999997,108.459,109.81399999999999,128.74199999999999,135.38499999999999,137.69800000000001,160.05199999999999,188.066,null,null,{"$f":"ROWS($R$7:R1313)","v":1307},"",{"$f":"IF(ISERROR(SMALL($S$7:$S$1504,ROWS($S$7:S1313))),\"\",SMALL($S$7:$S$1504,ROWS($S$7:S1313)))","v":""},"",{"$f":"IF(ISERROR(SMALL($U$7:$U$1504,ROWS(U$7:$U1313))),\"\",SMALL($U$7:$U$1504,ROWS(U$7:$U1313)))","v":""},"",{"$f":"IF(ISERROR(SMALL($W$7:$W$1504,ROWS($W$7:W1313))),\"\",SMALL($W$7:$W$1504,ROWS($W$7:W1313)))","v":""}]
[null,"Marijampolės apskritis","Pridėtinė vertė gamybos kainomis pagal veiklos vykdymo vietą | mln. EUR",250.83500000000001,315.63499999999999,314.70299999999997,349.779,403.74099999999999,416.36399999999998,420.98700000000002,455.41500000000002,503.55799999999999,543.46900000000005,622.13099999999997,706.53700000000003,null,null,{"$f":"ROWS($R$7:R1314)","v":1308},"",{"$f":"IF(ISERROR(SMALL($S$7:$S$1504,ROWS($S$7:S1314))),\"\",SMALL($S$7:$S$1504,ROWS($S$7:S1314)))","v":""},"",{"$f":"IF(ISERROR(SMALL($U$7:$U$1504,ROWS(U$7:$U1314))),\"\",SMALL($U$7:$U$1504,ROWS(U$7:$U1314)))","v":""},"",{"$f":"IF(ISERROR(SMALL($W$7:$W$1504,ROWS($W$7:W1314))),\"\",SMALL($W$7:$W$1504,ROWS($W$7:W1314)))","v":""}]
[null,"Kalvarijos sav.","Pridėtinė vertė gamybos kainomis pagal veiklos vykdymo vietą | mln. EUR",8.7070000000000007,10.714,9.625,11.04,13.423,17.184999999999999,19.012,20.617999999999999,21.143999999999998,23.867999999999999,27.844000000000001,33.895000000000003,null,null,{"$f":"ROWS($R$7:R1315)","v":1309},"",{"$f":"IF(ISERROR(SMALL($S$7:$S$1504,ROWS($S$7:S1315))),\"\",SMALL($S$7:$S$1504,ROWS($S$7:S1315)))","v":""},"",{"$f":"IF(ISERROR(SMALL($U$7:$U$1504,ROWS(U$7:$U1315))),\"\",SMALL($U$7:$U$1504,ROWS(U$7:$U1315)))","v":""},"",{"$f":"IF(ISERROR(SMALL($W$7:$W$1504,ROWS($W$7:W1315))),\"\",SMALL($W$7:$W$1504,ROWS($W$7:W1315)))","v":""}]
[null,"Kazlų Rūdos sav.","Pridėtinė vertė gamybos kainomis pagal veiklos vykdymo vietą | mln. EUR",38.987000000000002,48.444000000000003,34.700000000000003,47.585000000000001,59.637,60.731000000000002,47.923999999999999,58.915999999999997,52.795000000000002,51.42,78.132999999999996,111.22499999999999,null,null,{"$f":"ROWS($R$7:R1316)","v":1310},"",{"$f":"IF(ISERROR(SMALL($S$7:$S$1504,ROWS($S$7:S1316))),\"\",SMALL($S$7:$S$1504,ROWS($S$7:S1316)))","v":""},"",{"$f":"IF(ISERROR(SMALL($U$7:$U$1504,ROWS(U$7:$U1316))),\"\",SMALL($U$7:$U$1504,ROWS(U$7:$U1316)))","v":""},"",{"$f":"IF(ISERROR(SMALL($W$7:$W$1504,ROWS($W$7:W1316))),\"\",SMALL($W$7:$W$1504,ROWS($W$7:W1316)))","v":""}]
[null,"Marijampolės sav.","Pridėtinė vertė gamybos kainomis pagal veiklos vykdymo vietą | mln. EUR",135.80099999999999,171.012,181.10599999999999,200.893,227.38200000000001,234.959,244.654,256.21899999999999,296.245,336.726,362.32600000000002,386.51100000000002,null,null,{"$f":"ROWS($R$7:R1317)","v":1311},"",{"$f":"IF(ISERROR(SMALL($S$7:$S$1504,ROWS($S$7:S1317))),\"\",SMALL($S$7:$S$1504,ROWS($S$7:S1317)))","v":""},"",{"$f":"IF(ISERROR(SMALL($U$7:$U$1504,ROWS(U$7:$U1317))),\"\",SMALL($U$7:$U$1504,ROWS(U$7:$U1317)))","v":""},"",{"$f":"IF(ISERROR(SMALL($W$7:$W$1504,ROWS($W$7:W1317))),\"\",SMALL($W$7:$W$1504,ROWS($W$7:W1317)))","v":""}]
[null,"Marijampolės r. sav.","Pridėtinė vertė gamybos kainomis pagal veiklos vykdymo vietą | mln. EUR",0,0,0,0,0,0,0,0,0,0,0,0,null,null,{"$f":"ROWS($R$7:R1318)","v":1312},"",{"$f":"IF(ISERROR(SMALL($S$7:$S$1504,ROWS($S$7:S1318))),\"\",SMALL($S$7:$S$1504,ROWS($S$7:S1318)))","v":""},"",{"$f":"IF(ISERROR(SMALL($U$7:$U$1504,ROWS(U$7:$U1318))),\"\",SMALL($U$7:$U$1504,ROWS(U$7:$U1318)))","v":""},"",{"$f":"IF(ISERROR(SMALL($W$7:$W$1504,ROWS($W$7:W1318))),\"\",SMALL($W$7:$W$1504,ROWS($W$7:W1318)))","v":""}]
[null,"Šakių r. sav.","Pridėtinė vertė gamybos kainomis pagal veiklos vykdymo vietą | mln. EUR",32.182000000000002,37.628,40.850999999999999,38.999000000000002,44.822000000000003,44.01,48.158000000000001,53.134,65.004999999999995,58.197000000000003,68.510000000000005,79.569999999999993,null,null,{"$f":"ROWS($R$7:R1319)","v":1313},"",{"$f":"IF(ISERROR(SMALL($S$7:$S$1504,ROWS($S$7:S1319))),\"\",SMALL($S$7:$S$1504,ROWS($S$7:S1319)))","v":""},"",{"$f":"IF(ISERROR(SMALL($U$7:$U$1504,ROWS(U$7:$U1319))),\"\",SMALL($U$7:$U$1504,ROWS(U$7:$U1319)))","v":""},"",{"$f":"IF(ISERROR(SMALL($W$7:$W$1504,ROWS($W$7:W1319))),\"\",SMALL($W$7:$W$1504,ROWS($W$7:W1319)))","v":""}]
[null,"Vilkaviškio r. sav.","Pridėtinė vertė gamybos kainomis pagal veiklos vykdymo vietą | mln. EUR",35.158000000000001,47.835999999999999,48.420999999999999,51.262999999999998,58.476999999999997,59.48,61.24,66.528000000000006,68.369,73.257000000000005,85.319000000000003,95.334999999999994,null,null,{"$f":"ROWS($R$7:R1320)","v":1314},"",{"$f":"IF(ISERROR(SMALL($S$7:$S$1504,ROWS($S$7:S1320))),\"\",SMALL($S$7:$S$1504,ROWS($S$7:S1320)))","v":""},"",{"$f":"IF(ISERROR(SMALL($U$7:$U$1504,ROWS(U$7:$U1320))),\"\",SMALL($U$7:$U$1504,ROWS(U$7:$U1320)))","v":""},"",{"$f":"IF(ISERROR(SMALL($W$7:$W$1504,ROWS($W$7:W1320))),\"\",SMALL($W$7:$W$1504,ROWS($W$7:W1320)))","v":""}]
[null,"Panevėžio apskritis","Pridėtinė vertė gamybos kainomis pagal veiklos vykdymo vietą | mln. EUR",565.18200000000002,708.08299999999997,684.58600000000001,720.67200000000003,801.97699999999998,851.52700000000004,912.23800000000006,995.87,1016.732,1071.6469999999999,1140.5540000000001,1243.3030000000001,null,null,{"$f":"ROWS($R$7:R1321)","v":1315},"",{"$f":"IF(ISERROR(SMALL($S$7:$S$1504,ROWS($S$7:S1321))),\"\",SMALL($S$7:$S$1504,ROWS($S$7:S1321)))","v":""},"",{"$f":"IF(ISERROR(SMALL($U$7:$U$1504,ROWS(U$7:$U1321))),\"\",SMALL($U$7:$U$1504,ROWS(U$7:$U1321)))","v":""},"",{"$f":"IF(ISERROR(SMALL($W$7:$W$1504,ROWS($W$7:W1321))),\"\",SMALL($W$7:$W$1504,ROWS($W$7:W1321)))","v":""}]
[null,"Biržų r. sav.","Pridėtinė vertė gamybos kainomis pagal veiklos vykdymo vietą | mln. EUR",31.657,39.441000000000003,37.415999999999997,42.347999999999999,45.786000000000001,46.503,52.124000000000002,52.281999999999996,58.218000000000004,61.526000000000003,62.816000000000003,73.456000000000003,null,null,{"$f":"ROWS($R$7:R1322)","v":1316},"",{"$f":"IF(ISERROR(SMALL($S$7:$S$1504,ROWS($S$7:S1322))),\"\",SMALL($S$7:$S$1504,ROWS($S$7:S1322)))","v":""},"",{"$f":"IF(ISERROR(SMALL($U$7:$U$1504,ROWS(U$7:$U1322))),\"\",SMALL($U$7:$U$1504,ROWS(U$7:$U1322)))","v":""},"",{"$f":"IF(ISERROR(SMALL($W$7:$W$1504,ROWS($W$7:W1322))),\"\",SMALL($W$7:$W$1504,ROWS($W$7:W1322)))","v":""}]
[null,"Kupiškio r. sav.","Pridėtinė vertė gamybos kainomis pagal veiklos vykdymo vietą | mln. EUR",22.754999999999999,30.771999999999998,30.585999999999999,29.925999999999998,32.381,35.134999999999998,33.561,37.055999999999997,39.378999999999998,42.115000000000002,38.466999999999999,49.042000000000002,null,null,{"$f":"ROWS($R$7:R1323)","v":1317},"",{"$f":"IF(ISERROR(SMALL($S$7:$S$1504,ROWS($S$7:S1323))),\"\",SMALL($S$7:$S$1504,ROWS($S$7:S1323)))","v":""},"",{"$f":"IF(ISERROR(SMALL($U$7:$U$1504,ROWS(U$7:$U1323))),\"\",SMALL($U$7:$U$1504,ROWS(U$7:$U1323)))","v":""},"",{"$f":"IF(ISERROR(SMALL($W$7:$W$1504,ROWS($W$7:W1323))),\"\",SMALL($W$7:$W$1504,ROWS($W$7:W1323)))","v":""}]
[null,"Panevėžio m. sav.","Pridėtinė vertė gamybos kainomis pagal veiklos vykdymo vietą | mln. EUR",368.392,458.596,458.30500000000001,456.88400000000001,518.09699999999998,535.83199999999999,573.476,618.09100000000001,637.13599999999997,661.24300000000005,704.16600000000005,748.09900000000005,null,null,{"$f":"ROWS($R$7:R1324)","v":1318},"",{"$f":"IF(ISERROR(SMALL($S$7:$S$1504,ROWS($S$7:S1324))),\"\",SMALL($S$7:$S$1504,ROWS($S$7:S1324)))","v":""},"",{"$f":"IF(ISERROR(SMALL($U$7:$U$1504,ROWS(U$7:$U1324))),\"\",SMALL($U$7:$U$1504,ROWS(U$7:$U1324)))","v":""},"",{"$f":"IF(ISERROR(SMALL($W$7:$W$1504,ROWS($W$7:W1324))),\"\",SMALL($W$7:$W$1504,ROWS($W$7:W1324)))","v":""}]
[null,"Panevėžio r. sav.","Pridėtinė vertė gamybos kainomis pagal veiklos vykdymo vietą | mln. EUR",40.984999999999999,53.183,59.295000000000002,70.879000000000005,88.694999999999993,102.34699999999999,113.387,118.94799999999999,127.58799999999999,140.51400000000001,158.86500000000001,176.054,null,null,{"$f":"ROWS($R$7:R1325)","v":1319},"",{"$f":"IF(ISERROR(SMALL($S$7:$S$1504,ROWS($S$7:S1325))),\"\",SMALL($S$7:$S$1504,ROWS($S$7:S1325)))","v":""},"",{"$f":"IF(ISERROR(SMALL($U$7:$U$1504,ROWS(U$7:$U1325))),\"\",SMALL($U$7:$U$1504,ROWS(U$7:$U1325)))","v":""},"",{"$f":"IF(ISERROR(SMALL($W$7:$W$1504,ROWS($W$7:W1325))),\"\",SMALL($W$7:$W$1504,ROWS($W$7:W1325)))","v":""}]
[null,"Pasvalio r. sav.","Pridėtinė vertė gamybos kainomis pagal veiklos vykdymo vietą | mln. EUR",32.89,35.381,38.860999999999997,38.561,40.063000000000002,44.008000000000003,46.027000000000001,52.875999999999998,54.49,59.622999999999998,69.861999999999995,69.421000000000006,null,null,{"$f":"ROWS($R$7:R1326)","v":1320},"",{"$f":"IF(ISERROR(SMALL($S$7:$S$1504,ROWS($S$7:S1326))),\"\",SMALL($S$7:$S$1504,ROWS($S$7:S1326)))","v":""},"",{"$f":"IF(ISERROR(SMALL($U$7:$U$1504,ROWS(U$7:$U1326))),\"\",SMALL($U$7:$U$1504,ROWS(U$7:$U1326)))","v":""},"",{"$f":"IF(ISERROR(SMALL($W$7:$W$1504,ROWS($W$7:W1326))),\"\",SMALL($W$7:$W$1504,ROWS($W$7:W1326)))","v":""}]
[null,"Rokiškio r. sav.","Pridėtinė vertė gamybos kainomis pagal veiklos vykdymo vietą | mln. EUR",68.503,90.71,60.122,82.073999999999998,76.953999999999994,87.703000000000003,93.662999999999997,116.617,99.921000000000006,106.627,106.378,127.23099999999999,null,null,{"$f":"ROWS($R$7:R1327)","v":1321},"",{"$f":"IF(ISERROR(SMALL($S$7:$S$1504,ROWS($S$7:S1327))),\"\",SMALL($S$7:$S$1504,ROWS($S$7:S1327)))","v":""},"",{"$f":"IF(ISERROR(SMALL($U$7:$U$1504,ROWS(U$7:$U1327))),\"\",SMALL($U$7:$U$1504,ROWS(U$7:$U1327)))","v":""},"",{"$f":"IF(ISERROR(SMALL($W$7:$W$1504,ROWS($W$7:W1327))),\"\",SMALL($W$7:$W$1504,ROWS($W$7:W1327)))","v":""}]
[null,"Šiaulių apskritis","Pridėtinė vertė gamybos kainomis pagal veiklos vykdymo vietą | mln. EUR",626.08000000000004,783.69899999999996,833.66700000000003,868.02099999999996,992.26499999999999,1026.4570000000001,1067.232,1227.0440000000001,1356.0060000000001,1419.453,1593.06,1779.5360000000001,null,null,{"$f":"ROWS($R$7:R1328)","v":1322},"",{"$f":"IF(ISERROR(SMALL($S$7:$S$1504,ROWS($S$7:S1328))),\"\",SMALL($S$7:$S$1504,ROWS($S$7:S1328)))","v":""},"",{"$f":"IF(ISERROR(SMALL($U$7:$U$1504,ROWS(U$7:$U1328))),\"\",SMALL($U$7:$U$1504,ROWS(U$7:$U1328)))","v":""},"",{"$f":"IF(ISERROR(SMALL($W$7:$W$1504,ROWS($W$7:W1328))),\"\",SMALL($W$7:$W$1504,ROWS($W$7:W1328)))","v":""}]
[null,"Akmenės r. sav.","Pridėtinė vertė gamybos kainomis pagal veiklos vykdymo vietą | mln. EUR",36.505000000000003,63.6,60.743000000000002,61.677,61.51,61.478000000000002,56.426000000000002,61.13,60.805999999999997,67.552000000000007,84.253,82.566000000000003,null,null,{"$f":"ROWS($R$7:R1329)","v":1323},"",{"$f":"IF(ISERROR(SMALL($S$7:$S$1504,ROWS($S$7:S1329))),\"\",SMALL($S$7:$S$1504,ROWS($S$7:S1329)))","v":""},"",{"$f":"IF(ISERROR(SMALL($U$7:$U$1504,ROWS(U$7:$U1329))),\"\",SMALL($U$7:$U$1504,ROWS(U$7:$U1329)))","v":""},"",{"$f":"IF(ISERROR(SMALL($W$7:$W$1504,ROWS($W$7:W1329))),\"\",SMALL($W$7:$W$1504,ROWS($W$7:W1329)))","v":""}]
[null,"Joniškio r. sav.","Pridėtinė vertė gamybos kainomis pagal veiklos vykdymo vietą | mln. EUR",30.388000000000002,35.426000000000002,37.921999999999997,37.133000000000003,39.286000000000001,39.591000000000001,38.53,41.777000000000001,45.982999999999997,46.100999999999999,48.45,58.662999999999997,null,null,{"$f":"ROWS($R$7:R1330)","v":1324},"",{"$f":"IF(ISERROR(SMALL($S$7:$S$1504,ROWS($S$7:S1330))),\"\",SMALL($S$7:$S$1504,ROWS($S$7:S1330)))","v":""},"",{"$f":"IF(ISERROR(SMALL($U$7:$U$1504,ROWS(U$7:$U1330))),\"\",SMALL($U$7:$U$1504,ROWS(U$7:$U1330)))","v":""},"",{"$f":"IF(ISERROR(SMALL($W$7:$W$1504,ROWS($W$7:W1330))),\"\",SMALL($W$7:$W$1504,ROWS($W$7:W1330)))","v":""}]
[null,"Kelmės r. sav.","Pridėtinė vertė gamybos kainomis pagal veiklos vykdymo vietą | mln. EUR",26.706,33.326999999999998,33.439,39.607999999999997,44.598999999999997,45.713000000000001,47.110999999999997,50.72,53.831000000000003,59.292000000000002,67.814999999999998,64.747,null,null,{"$f":"ROWS($R$7:R1331)","v":1325},"",{"$f":"IF(ISERROR(SMALL($S$7:$S$1504,ROWS($S$7:S1331))),\"\",SMALL($S$7:$S$1504,ROWS($S$7:S1331)))","v":""},"",{"$f":"IF(ISERROR(SMALL($U$7:$U$1504,ROWS(U$7:$U1331))),\"\",SMALL($U$7:$U$1504,ROWS(U$7:$U1331)))","v":""},"",{"$f":"IF(ISERROR(SMALL($W$7:$W$1504,ROWS($W$7:W1331))),\"\",SMALL($W$7:$W$1504,ROWS($W$7:W1331)))","v":""}]
[null,"Pakruojo r. sav.","Pridėtinė vertė gamybos kainomis pagal veiklos vykdymo vietą | mln. EUR",28.745000000000001,37.750999999999998,39.292999999999999,42.11,37.731000000000002,43.402999999999999,45.959000000000003,56.341999999999999,57.572000000000003,56.93,73.97,73.052999999999997,null,null,{"$f":"ROWS($R$7:R1332)","v":1326},"",{"$f":"IF(ISERROR(SMALL($S$7:$S$1504,ROWS($S$7:S1332))),\"\",SMALL($S$7:$S$1504,ROWS($S$7:S1332)))","v":""},"",{"$f":"IF(ISERROR(SMALL($U$7:$U$1504,ROWS(U$7:$U1332))),\"\",SMALL($U$7:$U$1504,ROWS(U$7:$U1332)))","v":""},"",{"$f":"IF(ISERROR(SMALL($W$7:$W$1504,ROWS($W$7:W1332))),\"\",SMALL($W$7:$W$1504,ROWS($W$7:W1332)))","v":""}]
[null,"Radviliškio r. sav.","Pridėtinė vertė gamybos kainomis pagal veiklos vykdymo vietą | mln. EUR",72.566000000000003,80.933999999999997,95.222999999999999,92.11,103.15600000000001,97.471999999999994,107.63200000000001,119.47499999999999,135.32599999999999,137.93100000000001,154.37700000000001,175.726,null,null,{"$f":"ROWS($R$7:R1333)","v":1327},"",{"$f":"IF(ISERROR(SMALL($S$7:$S$1504,ROWS($S$7:S1333))),\"\",SMALL($S$7:$S$1504,ROWS($S$7:S1333)))","v":""},"",{"$f":"IF(ISERROR(SMALL($U$7:$U$1504,ROWS(U$7:$U1333))),\"\",SMALL($U$7:$U$1504,ROWS(U$7:$U1333)))","v":""},"",{"$f":"IF(ISERROR(SMALL($W$7:$W$1504,ROWS($W$7:W1333))),\"\",SMALL($W$7:$W$1504,ROWS($W$7:W1333)))","v":""}]
[null,"Šiaulių m. sav.","Pridėtinė vertė gamybos kainomis pagal veiklos vykdymo vietą | mln. EUR",376.41800000000001,467.12799999999999,501.8,518.02700000000004,619.11300000000006,643.17999999999995,673.23599999999999,787.84,877.96500000000003,930.79899999999998,1023.716,1163.3050000000001,null,null,{"$f":"ROWS($R$7:R1334)","v":1328},"",{"$f":"IF(ISERROR(SMALL($S$7:$S$1504,ROWS($S$7:S1334))),\"\",SMALL($S$7:$S$1504,ROWS($S$7:S1334)))","v":""},"",{"$f":"IF(ISERROR(SMALL($U$7:$U$1504,ROWS(U$7:$U1334))),\"\",SMALL($U$7:$U$1504,ROWS(U$7:$U1334)))","v":""},"",{"$f":"IF(ISERROR(SMALL($W$7:$W$1504,ROWS($W$7:W1334))),\"\",SMALL($W$7:$W$1504,ROWS($W$7:W1334)))","v":""}]
[null,"Šiaulių r. sav.","Pridėtinė vertė gamybos kainomis pagal veiklos vykdymo vietą | mln. EUR",54.752000000000002,65.534000000000006,65.245999999999995,77.355999999999995,86.870999999999995,95.62,98.338999999999999,109.76,124.521,120.848,140.47900000000001,161.476,null,null,{"$f":"ROWS($R$7:R1335)","v":1329},"",{"$f":"IF(ISERROR(SMALL($S$7:$S$1504,ROWS($S$7:S1335))),\"\",SMALL($S$7:$S$1504,ROWS($S$7:S1335)))","v":""},"",{"$f":"IF(ISERROR(SMALL($U$7:$U$1504,ROWS(U$7:$U1335))),\"\",SMALL($U$7:$U$1504,ROWS(U$7:$U1335)))","v":""},"",{"$f":"IF(ISERROR(SMALL($W$7:$W$1504,ROWS($W$7:W1335))),\"\",SMALL($W$7:$W$1504,ROWS($W$7:W1335)))","v":""}]
[null,"Tauragės apskritis","Pridėtinė vertė gamybos kainomis pagal veiklos vykdymo vietą | mln. EUR",137.09,172.233,174.44499999999999,192.917,224.869,227.19399999999999,254.17,297.35199999999998,328.38200000000001,319.06599999999997,357.18400000000003,421.99099999999999,null,null,{"$f":"ROWS($R$7:R1336)","v":1330},"",{"$f":"IF(ISERROR(SMALL($S$7:$S$1504,ROWS($S$7:S1336))),\"\",SMALL($S$7:$S$1504,ROWS($S$7:S1336)))","v":""},"",{"$f":"IF(ISERROR(SMALL($U$7:$U$1504,ROWS(U$7:$U1336))),\"\",SMALL($U$7:$U$1504,ROWS(U$7:$U1336)))","v":""},"",{"$f":"IF(ISERROR(SMALL($W$7:$W$1504,ROWS($W$7:W1336))),\"\",SMALL($W$7:$W$1504,ROWS($W$7:W1336)))","v":""}]
[null,"Jurbarko r. sav.","Pridėtinė vertė gamybos kainomis pagal veiklos vykdymo vietą | mln. EUR",29.486999999999998,37.780999999999999,37.74,39.399000000000001,56.363,57.811,62.89,84.207999999999998,85.825999999999993,80.774000000000001,86.307000000000002,87.554000000000002,null,null,{"$f":"ROWS($R$7:R1337)","v":1331},"",{"$f":"IF(ISERROR(SMALL($S$7:$S$1504,ROWS($S$7:S1337))),\"\",SMALL($S$7:$S$1504,ROWS($S$7:S1337)))","v":""},"",{"$f":"IF(ISERROR(SMALL($U$7:$U$1504,ROWS(U$7:$U1337))),\"\",SMALL($U$7:$U$1504,ROWS(U$7:$U1337)))","v":""},"",{"$f":"IF(ISERROR(SMALL($W$7:$W$1504,ROWS($W$7:W1337))),\"\",SMALL($W$7:$W$1504,ROWS($W$7:W1337)))","v":""}]
[null,"Pagėgių sav.","Pridėtinė vertė gamybos kainomis pagal veiklos vykdymo vietą | mln. EUR",6.6,10.324999999999999,10.492000000000001,15.798999999999999,13.904,9.9269999999999996,16.187000000000001,18.561,11.156000000000001,15.384,20.5,28.92,null,null,{"$f":"ROWS($R$7:R1338)","v":1332},"",{"$f":"IF(ISERROR(SMALL($S$7:$S$1504,ROWS($S$7:S1338))),\"\",SMALL($S$7:$S$1504,ROWS($S$7:S1338)))","v":""},"",{"$f":"IF(ISERROR(SMALL($U$7:$U$1504,ROWS(U$7:$U1338))),\"\",SMALL($U$7:$U$1504,ROWS(U$7:$U1338)))","v":""},"",{"$f":"IF(ISERROR(SMALL($W$7:$W$1504,ROWS($W$7:W1338))),\"\",SMALL($W$7:$W$1504,ROWS($W$7:W1338)))","v":""}]
[null,"Šilalės r. sav.","Pridėtinė vertė gamybos kainomis pagal veiklos vykdymo vietą | mln. EUR",27.132999999999999,33.832000000000001,35.677999999999997,37.347000000000001,41.051000000000002,39.947000000000003,44.456000000000003,47.848999999999997,62.457000000000001,59.402999999999999,72.92,87.570999999999998,null,null,{"$f":"ROWS($R$7:R1339)","v":1333},"",{"$f":"IF(ISERROR(SMALL($S$7:$S$1504,ROWS($S$7:S1339))),\"\",SMALL($S$7:$S$1504,ROWS($S$7:S1339)))","v":""},"",{"$f":"IF(ISERROR(SMALL($U$7:$U$1504,ROWS(U$7:$U1339))),\"\",SMALL($U$7:$U$1504,ROWS(U$7:$U1339)))","v":""},"",{"$f":"IF(ISERROR(SMALL($W$7:$W$1504,ROWS($W$7:W1339))),\"\",SMALL($W$7:$W$1504,ROWS($W$7:W1339)))","v":""}]
[null,"Tauragės r. sav.","Pridėtinė vertė gamybos kainomis pagal veiklos vykdymo vietą | mln. EUR",73.87,90.293999999999997,90.534999999999997,100.372,113.551,119.509,130.637,146.73400000000001,168.94300000000001,163.505,177.45699999999999,217.94499999999999,null,null,{"$f":"ROWS($R$7:R1340)","v":1334},"",{"$f":"IF(ISERROR(SMALL($S$7:$S$1504,ROWS($S$7:S1340))),\"\",SMALL($S$7:$S$1504,ROWS($S$7:S1340)))","v":""},"",{"$f":"IF(ISERROR(SMALL($U$7:$U$1504,ROWS(U$7:$U1340))),\"\",SMALL($U$7:$U$1504,ROWS(U$7:$U1340)))","v":""},"",{"$f":"IF(ISERROR(SMALL($W$7:$W$1504,ROWS($W$7:W1340))),\"\",SMALL($W$7:$W$1504,ROWS($W$7:W1340)))","v":""}]
[null,"Telšių apskritis","Pridėtinė vertė gamybos kainomis pagal veiklos vykdymo vietą | mln. EUR",475.25099999999998,562.54499999999996,558.51800000000003,450.71800000000002,448.49900000000002,706.54100000000005,742.346,804.24699999999996,831.76900000000001,903.74,694.40200000000004,1133.3489999999999,null,null,{"$f":"ROWS($R$7:R1341)","v":1335},"",{"$f":"IF(ISERROR(SMALL($S$7:$S$1504,ROWS($S$7:S1341))),\"\",SMALL($S$7:$S$1504,ROWS($S$7:S1341)))","v":""},"",{"$f":"IF(ISERROR(SMALL($U$7:$U$1504,ROWS(U$7:$U1341))),\"\",SMALL($U$7:$U$1504,ROWS(U$7:$U1341)))","v":""},"",{"$f":"IF(ISERROR(SMALL($W$7:$W$1504,ROWS($W$7:W1341))),\"\",SMALL($W$7:$W$1504,ROWS($W$7:W1341)))","v":""}]
[null,"Mažeikių r. sav.","Pridėtinė vertė gamybos kainomis pagal veiklos vykdymo vietą | mln. EUR",302.95499999999998,352.34699999999998,354.24099999999999,236.673,206.869,457.59899999999999,450.03199999999998,490.16500000000002,500.81200000000001,529.94399999999996,273.62599999999998,647.99099999999999,null,null,{"$f":"ROWS($R$7:R1342)","v":1336},"",{"$f":"IF(ISERROR(SMALL($S$7:$S$1504,ROWS($S$7:S1342))),\"\",SMALL($S$7:$S$1504,ROWS($S$7:S1342)))","v":""},"",{"$f":"IF(ISERROR(SMALL($U$7:$U$1504,ROWS(U$7:$U1342))),\"\",SMALL($U$7:$U$1504,ROWS(U$7:$U1342)))","v":""},"",{"$f":"IF(ISERROR(SMALL($W$7:$W$1504,ROWS($W$7:W1342))),\"\",SMALL($W$7:$W$1504,ROWS($W$7:W1342)))","v":""}]
[null,"Plungės r. sav.","Pridėtinė vertė gamybos kainomis pagal veiklos vykdymo vietą | mln. EUR",73.477000000000004,88.707999999999998,92.697999999999993,98.69,114.35,112.65600000000001,132.04599999999999,156.899,152.125,179.191,195.8,232.29300000000001,null,null,{"$f":"ROWS($R$7:R1343)","v":1337},"",{"$f":"IF(ISERROR(SMALL($S$7:$S$1504,ROWS($S$7:S1343))),\"\",SMALL($S$7:$S$1504,ROWS($S$7:S1343)))","v":""},"",{"$f":"IF(ISERROR(SMALL($U$7:$U$1504,ROWS(U$7:$U1343))),\"\",SMALL($U$7:$U$1504,ROWS(U$7:$U1343)))","v":""},"",{"$f":"IF(ISERROR(SMALL($W$7:$W$1504,ROWS($W$7:W1343))),\"\",SMALL($W$7:$W$1504,ROWS($W$7:W1343)))","v":""}]
[null,"Rietavo sav.","Pridėtinė vertė gamybos kainomis pagal veiklos vykdymo vietą | mln. EUR",14.926,16.032,16.196999999999999,16.902999999999999,18.538,17.109000000000002,16.739000000000001,16.283999999999999,24.712,30.158000000000001,33.192999999999998,42.353000000000002,null,null,{"$f":"ROWS($R$7:R1344)","v":1338},"",{"$f":"IF(ISERROR(SMALL($S$7:$S$1504,ROWS($S$7:S1344))),\"\",SMALL($S$7:$S$1504,ROWS($S$7:S1344)))","v":""},"",{"$f":"IF(ISERROR(SMALL($U$7:$U$1504,ROWS(U$7:$U1344))),\"\",SMALL($U$7:$U$1504,ROWS(U$7:$U1344)))","v":""},"",{"$f":"IF(ISERROR(SMALL($W$7:$W$1504,ROWS($W$7:W1344))),\"\",SMALL($W$7:$W$1504,ROWS($W$7:W1344)))","v":""}]
[null,"Telšių r. sav.","Pridėtinė vertė gamybos kainomis pagal veiklos vykdymo vietą | mln. EUR",83.893000000000001,105.458,95.382999999999996,98.453000000000003,108.741,119.178,143.529,140.899,154.12,164.447,191.78299999999999,210.71199999999999,null,null,{"$f":"ROWS($R$7:R1345)","v":1339},"",{"$f":"IF(ISERROR(SMALL($S$7:$S$1504,ROWS($S$7:S1345))),\"\",SMALL($S$7:$S$1504,ROWS($S$7:S1345)))","v":""},"",{"$f":"IF(ISERROR(SMALL($U$7:$U$1504,ROWS(U$7:$U1345))),\"\",SMALL($U$7:$U$1504,ROWS(U$7:$U1345)))","v":""},"",{"$f":"IF(ISERROR(SMALL($W$7:$W$1504,ROWS($W$7:W1345))),\"\",SMALL($W$7:$W$1504,ROWS($W$7:W1345)))","v":""}]
[null,"Utenos apskritis","Pridėtinė vertė gamybos kainomis pagal veiklos vykdymo vietą | mln. EUR",269.83699999999999,258.88299999999998,283.315,300.33600000000001,352.36200000000002,352.685,352.10500000000002,365.18799999999999,409.70299999999997,444.303,482.60599999999999,519.68299999999999,null,null,{"$f":"ROWS($R$7:R1346)","v":1340},"",{"$f":"IF(ISERROR(SMALL($S$7:$S$1504,ROWS($S$7:S1346))),\"\",SMALL($S$7:$S$1504,ROWS($S$7:S1346)))","v":""},"",{"$f":"IF(ISERROR(SMALL($U$7:$U$1504,ROWS(U$7:$U1346))),\"\",SMALL($U$7:$U$1504,ROWS(U$7:$U1346)))","v":""},"",{"$f":"IF(ISERROR(SMALL($W$7:$W$1504,ROWS($W$7:W1346))),\"\",SMALL($W$7:$W$1504,ROWS($W$7:W1346)))","v":""}]
[null,"Anykščių r. sav.","Pridėtinė vertė gamybos kainomis pagal veiklos vykdymo vietą | mln. EUR",25.556000000000001,29.588000000000001,30.027000000000001,35,40.942,43.331000000000003,48.392000000000003,50.348999999999997,60.33,60.131999999999998,63.18,72.975999999999999,null,null,{"$f":"ROWS($R$7:R1347)","v":1341},"",{"$f":"IF(ISERROR(SMALL($S$7:$S$1504,ROWS($S$7:S1347))),\"\",SMALL($S$7:$S$1504,ROWS($S$7:S1347)))","v":""},"",{"$f":"IF(ISERROR(SMALL($U$7:$U$1504,ROWS(U$7:$U1347))),\"\",SMALL($U$7:$U$1504,ROWS(U$7:$U1347)))","v":""},"",{"$f":"IF(ISERROR(SMALL($W$7:$W$1504,ROWS($W$7:W1347))),\"\",SMALL($W$7:$W$1504,ROWS($W$7:W1347)))","v":""}]
[null,"Ignalinos r. sav.","Pridėtinė vertė gamybos kainomis pagal veiklos vykdymo vietą | mln. EUR",16.109000000000002,17.895,16.853000000000002,19.526,21.847999999999999,20.484999999999999,23.45,25.907,27.35,29.797999999999998,32.656999999999996,37.363999999999997,null,null,{"$f":"ROWS($R$7:R1348)","v":1342},"",{"$f":"IF(ISERROR(SMALL($S$7:$S$1504,ROWS($S$7:S1348))),\"\",SMALL($S$7:$S$1504,ROWS($S$7:S1348)))","v":""},"",{"$f":"IF(ISERROR(SMALL($U$7:$U$1504,ROWS(U$7:$U1348))),\"\",SMALL($U$7:$U$1504,ROWS(U$7:$U1348)))","v":""},"",{"$f":"IF(ISERROR(SMALL($W$7:$W$1504,ROWS($W$7:W1348))),\"\",SMALL($W$7:$W$1504,ROWS($W$7:W1348)))","v":""}]
[null,"Molėtų r. sav.","Pridėtinė vertė gamybos kainomis pagal veiklos vykdymo vietą | mln. EUR",25.800999999999998,22.353000000000002,25.428999999999998,25.978999999999999,29.097000000000001,33.503999999999998,35.271000000000001,37.637999999999998,41.076000000000001,41.564999999999998,51.988,57.747999999999998,null,null,{"$f":"ROWS($R$7:R1349)","v":1343},"",{"$f":"IF(ISERROR(SMALL($S$7:$S$1504,ROWS($S$7:S1349))),\"\",SMALL($S$7:$S$1504,ROWS($S$7:S1349)))","v":""},"",{"$f":"IF(ISERROR(SMALL($U$7:$U$1504,ROWS(U$7:$U1349))),\"\",SMALL($U$7:$U$1504,ROWS(U$7:$U1349)))","v":""},"",{"$f":"IF(ISERROR(SMALL($W$7:$W$1504,ROWS($W$7:W1349))),\"\",SMALL($W$7:$W$1504,ROWS($W$7:W1349)))","v":""}]
[null,"Utenos r. sav.","Pridėtinė vertė gamybos kainomis pagal veiklos vykdymo vietą | mln. EUR",107.23,121.60899999999999,142.36199999999999,140.334,178.49700000000001,162.875,163.273,160.68600000000001,184.28299999999999,205.04900000000001,220.982,232.22,null,null,{"$f":"ROWS($R$7:R1350)","v":1344},"",{"$f":"IF(ISERROR(SMALL($S$7:$S$1504,ROWS($S$7:S1350))),\"\",SMALL($S$7:$S$1504,ROWS($S$7:S1350)))","v":""},"",{"$f":"IF(ISERROR(SMALL($U$7:$U$1504,ROWS(U$7:$U1350))),\"\",SMALL($U$7:$U$1504,ROWS(U$7:$U1350)))","v":""},"",{"$f":"IF(ISERROR(SMALL($W$7:$W$1504,ROWS($W$7:W1350))),\"\",SMALL($W$7:$W$1504,ROWS($W$7:W1350)))","v":""}]
[null,"Visagino sav.","Pridėtinė vertė gamybos kainomis pagal veiklos vykdymo vietą | mln. EUR",78.936000000000007,49.610999999999997,50.156999999999996,57.55,56.621000000000002,69.247,58.598999999999997,64.034999999999997,69.494,78.768000000000001,79.47,83.171000000000006,null,null,{"$f":"ROWS($R$7:R1351)","v":1345},{"$f":"IF(ISNUMBER(SEARCH($R$3,B1351)),R1351,\"\")","v":""},{"$f":"IF(ISERROR(SMALL($S$7:$S$1504,ROWS($S$7:S1351))),\"\",SMALL($S$7:$S$1504,ROWS($S$7:S1351)))","v":""},{"$f":"IF($R$4=B1351,R1351,\"\")","v":""},{"$f":"IF(ISERROR(SMALL($U$7:$U$1504,ROWS(U$7:$U1351))),\"\",SMALL($U$7:$U$1504,ROWS(U$7:$U1351)))","v":""},{"$f":"IF(\"Lietuvos Respublika\"=B1351,R1351,\"\")","v":""},{"$f":"IF(ISERROR(SMALL($W$7:$W$1504,ROWS($W$7:W1351))),\"\",SMALL($W$7:$W$1504,ROWS($W$7:W1351)))","v":""}]
[null,"Zarasų r. sav.","Pridėtinė vertė gamybos kainomis pagal veiklos vykdymo vietą | mln. EUR",16.204000000000001,17.827000000000002,18.486000000000001,21.946999999999999,25.358000000000001,23.242999999999999,23.120999999999999,26.573,27.170999999999999,28.991,34.329000000000001,36.204999999999998,null,null,{"$f":"ROWS($R$7:R1352)","v":1346},"",{"$f":"IF(ISERROR(SMALL($S$7:$S$1504,ROWS($S$7:S1352))),\"\",SMALL($S$7:$S$1504,ROWS($S$7:S1352)))","v":""},"",{"$f":"IF(ISERROR(SMALL($U$7:$U$1504,ROWS(U$7:$U1352))),\"\",SMALL($U$7:$U$1504,ROWS(U$7:$U1352)))","v":""},"",{"$f":"IF(ISERROR(SMALL($W$7:$W$1504,ROWS($W$7:W1352))),\"\",SMALL($W$7:$W$1504,ROWS($W$7:W1352)))","v":""}]
[null,"Vilniaus apskritis","Pridėtinė vertė gamybos kainomis pagal veiklos vykdymo vietą | mln. EUR",3894.922,4716.2820000000002,5323.299,5642.2420000000002,6568.759,6984.6729999999998,7743.9449999999997,8510.8629999999994,9634.8649999999998,11006.246999999999,11616.342000000001,13990.178,null,null,{"$f":"ROWS($R$7:R1353)","v":1347},"",{"$f":"IF(ISERROR(SMALL($S$7:$S$1504,ROWS($S$7:S1353))),\"\",SMALL($S$7:$S$1504,ROWS($S$7:S1353)))","v":""},1347,{"$f":"IF(ISERROR(SMALL($U$7:$U$1504,ROWS(U$7:$U1353))),\"\",SMALL($U$7:$U$1504,ROWS(U$7:$U1353)))","v":""},"",{"$f":"IF(ISERROR(SMALL($W$7:$W$1504,ROWS($W$7:W1353))),\"\",SMALL($W$7:$W$1504,ROWS($W$7:W1353)))","v":""}]
[null,"Elektrėnų sav.","Pridėtinė vertė gamybos kainomis pagal veiklos vykdymo vietą | mln. EUR",76.512,84.596999999999994,116.14100000000001,169.73500000000001,184.37799999999999,163.953,199.548,220.97,200.173,228.97900000000001,251.464,208.79900000000001,null,null,{"$f":"ROWS($R$7:R1354)","v":1348},"",{"$f":"IF(ISERROR(SMALL($S$7:$S$1504,ROWS($S$7:S1354))),\"\",SMALL($S$7:$S$1504,ROWS($S$7:S1354)))","v":""},"",{"$f":"IF(ISERROR(SMALL($U$7:$U$1504,ROWS(U$7:$U1354))),\"\",SMALL($U$7:$U$1504,ROWS(U$7:$U1354)))","v":""},"",{"$f":"IF(ISERROR(SMALL($W$7:$W$1504,ROWS($W$7:W1354))),\"\",SMALL($W$7:$W$1504,ROWS($W$7:W1354)))","v":""}]
[null,"Šalčininkų r. sav.","Pridėtinė vertė gamybos kainomis pagal veiklos vykdymo vietą | mln. EUR",23.265000000000001,19.827999999999999,27.853999999999999,31.998999999999999,37.284999999999997,37.411999999999999,29.001000000000001,45.537999999999997,61.438000000000002,67.426000000000002,83.278999999999996,97.373000000000005,null,null,{"$f":"ROWS($R$7:R1355)","v":1349},"",{"$f":"IF(ISERROR(SMALL($S$7:$S$1504,ROWS($S$7:S1355))),\"\",SMALL($S$7:$S$1504,ROWS($S$7:S1355)))","v":""},"",{"$f":"IF(ISERROR(SMALL($U$7:$U$1504,ROWS(U$7:$U1355))),\"\",SMALL($U$7:$U$1504,ROWS(U$7:$U1355)))","v":""},"",{"$f":"IF(ISERROR(SMALL($W$7:$W$1504,ROWS($W$7:W1355))),\"\",SMALL($W$7:$W$1504,ROWS($W$7:W1355)))","v":""}]
[null,"Širvintų r. sav.","Pridėtinė vertė gamybos kainomis pagal veiklos vykdymo vietą | mln. EUR",14.58,16.111000000000001,18.215,25.936,27.454999999999998,27.957999999999998,40.018999999999998,43.822000000000003,43.692999999999998,47.091999999999999,59.985999999999997,75.525000000000006,null,null,{"$f":"ROWS($R$7:R1356)","v":1350},"",{"$f":"IF(ISERROR(SMALL($S$7:$S$1504,ROWS($S$7:S1356))),\"\",SMALL($S$7:$S$1504,ROWS($S$7:S1356)))","v":""},"",{"$f":"IF(ISERROR(SMALL($U$7:$U$1504,ROWS(U$7:$U1356))),\"\",SMALL($U$7:$U$1504,ROWS(U$7:$U1356)))","v":""},"",{"$f":"IF(ISERROR(SMALL($W$7:$W$1504,ROWS($W$7:W1356))),\"\",SMALL($W$7:$W$1504,ROWS($W$7:W1356)))","v":""}]
[null,"Švenčionių r. sav.","Pridėtinė vertė gamybos kainomis pagal veiklos vykdymo vietą | mln. EUR",39.557000000000002,45.075000000000003,48.228999999999999,52.552,65.608000000000004,61.362000000000002,73.825000000000003,71.938999999999993,82.591999999999999,84.975999999999999,96.893000000000001,95.751999999999995,null,null,{"$f":"ROWS($R$7:R1357)","v":1351},"",{"$f":"IF(ISERROR(SMALL($S$7:$S$1504,ROWS($S$7:S1357))),\"\",SMALL($S$7:$S$1504,ROWS($S$7:S1357)))","v":""},"",{"$f":"IF(ISERROR(SMALL($U$7:$U$1504,ROWS(U$7:$U1357))),\"\",SMALL($U$7:$U$1504,ROWS(U$7:$U1357)))","v":""},"",{"$f":"IF(ISERROR(SMALL($W$7:$W$1504,ROWS($W$7:W1357))),\"\",SMALL($W$7:$W$1504,ROWS($W$7:W1357)))","v":""}]
[null,"Trakų r. sav.","Pridėtinė vertė gamybos kainomis pagal veiklos vykdymo vietą | mln. EUR",60.591999999999999,72.525999999999996,83.838999999999999,93.347999999999999,94.206000000000003,112.187,117.521,138.61099999999999,166.12200000000001,176.03700000000001,200.29400000000001,226.79,null,null,{"$f":"ROWS($R$7:R1358)","v":1352},"",{"$f":"IF(ISERROR(SMALL($S$7:$S$1504,ROWS($S$7:S1358))),\"\",SMALL($S$7:$S$1504,ROWS($S$7:S1358)))","v":""},"",{"$f":"IF(ISERROR(SMALL($U$7:$U$1504,ROWS(U$7:$U1358))),\"\",SMALL($U$7:$U$1504,ROWS(U$7:$U1358)))","v":""},"",{"$f":"IF(ISERROR(SMALL($W$7:$W$1504,ROWS($W$7:W1358))),\"\",SMALL($W$7:$W$1504,ROWS($W$7:W1358)))","v":""}]
[null,"Ukmergės r. sav.","Pridėtinė vertė gamybos kainomis pagal veiklos vykdymo vietą | mln. EUR",75.415000000000006,86.51,89.626000000000005,95.415000000000006,108.35,132.24199999999999,136.23599999999999,142.86199999999999,169.999,186.303,205.43199999999999,229.11199999999999,null,null,{"$f":"ROWS($R$7:R1359)","v":1353},"",{"$f":"IF(ISERROR(SMALL($S$7:$S$1504,ROWS($S$7:S1359))),\"\",SMALL($S$7:$S$1504,ROWS($S$7:S1359)))","v":""},"",{"$f":"IF(ISERROR(SMALL($U$7:$U$1504,ROWS(U$7:$U1359))),\"\",SMALL($U$7:$U$1504,ROWS(U$7:$U1359)))","v":""},"",{"$f":"IF(ISERROR(SMALL($W$7:$W$1504,ROWS($W$7:W1359))),\"\",SMALL($W$7:$W$1504,ROWS($W$7:W1359)))","v":""}]
[null,"Vilniaus m. sav.","Pridėtinė vertė gamybos kainomis pagal veiklos vykdymo vietą | mln. EUR",3425.9830000000002,4167.5600000000004,4676.3410000000003,4909.2430000000004,5761.8069999999998,6124.33,6787.6329999999998,7434.0259999999998,8459.8940000000002,9679.33,10142.776,12330.55,null,null,{"$f":"ROWS($R$7:R1360)","v":1354},1354,{"$f":"IF(ISERROR(SMALL($S$7:$S$1504,ROWS($S$7:S1360))),\"\",SMALL($S$7:$S$1504,ROWS($S$7:S1360)))","v":""},"",{"$f":"IF(ISERROR(SMALL($U$7:$U$1504,ROWS(U$7:$U1360))),\"\",SMALL($U$7:$U$1504,ROWS(U$7:$U1360)))","v":""},"",{"$f":"IF(ISERROR(SMALL($W$7:$W$1504,ROWS($W$7:W1360))),\"\",SMALL($W$7:$W$1504,ROWS($W$7:W1360)))","v":""}]
[null,"Vilniaus r. sav.","Pridėtinė vertė gamybos kainomis pagal veiklos vykdymo vietą | mln. EUR",179.018,224.07599999999999,263.05399999999997,264.01499999999999,289.67099999999999,325.23,360.161,413.09399999999999,450.95299999999997,536.10500000000002,576.21799999999996,726.27700000000004,null,null,{"$f":"ROWS($R$7:R1361)","v":1355},"",{"$f":"IF(ISERROR(SMALL($S$7:$S$1504,ROWS($S$7:S1361))),\"\",SMALL($S$7:$S$1504,ROWS($S$7:S1361)))","v":""},"",{"$f":"IF(ISERROR(SMALL($U$7:$U$1504,ROWS(U$7:$U1361))),\"\",SMALL($U$7:$U$1504,ROWS(U$7:$U1361)))","v":""},"",{"$f":"IF(ISERROR(SMALL($W$7:$W$1504,ROWS($W$7:W1361))),\"\",SMALL($W$7:$W$1504,ROWS($W$7:W1361)))","v":""}]
[null,"Lietuvos Respublika","Tarptautinės emigracijos lygis | %",2.6848378675238482,1.7787633560812584,1.3756065136139861,1.312443600392063,1.2488545942578129,1.5330251195389875,1.7548447109036895,1.6944190767722986,1.149580784589064,1.047613014837218,0.82669173376253691,0.8974925045755916,0.8126014825273562,null,{"$f":"ROWS($R$7:R1362)","v":1356},"",{"$f":"IF(ISERROR(SMALL($S$7:$S$1504,ROWS($S$7:S1362))),\"\",SMALL($S$7:$S$1504,ROWS($S$7:S1362)))","v":""},"",{"$f":"IF(ISERROR(SMALL($U$7:$U$1504,ROWS(U$7:$U1362))),\"\",SMALL($U$7:$U$1504,ROWS(U$7:$U1362)))","v":""},1356,{"$f":"IF(ISERROR(SMALL($W$7:$W$1504,ROWS($W$7:W1362))),\"\",SMALL($W$7:$W$1504,ROWS($W$7:W1362)))","v":""}]
[null,"Alytaus apskritis","Tarptautinės emigracijos lygis | %",3.1883824821492657,1.8303423276236181,1.3629940283539226,1.2669293685221366,1.1456023651145602,1.6127380359008323,1.8149858400412939,1.6974602448232468,1.1291888380376784,0.9312490739368795,0.63494922657780373,0.77675867819370692,0.54893569926587227,null,{"$f":"ROWS($R$7:R1363)","v":1357},"",{"$f":"IF(ISERROR(SMALL($S$7:$S$1504,ROWS($S$7:S1363))),\"\",SMALL($S$7:$S$1504,ROWS($S$7:S1363)))","v":""},"",{"$f":"IF(ISERROR(SMALL($U$7:$U$1504,ROWS(U$7:$U1363))),\"\",SMALL($U$7:$U$1504,ROWS(U$7:$U1363)))","v":""},"",{"$f":"IF(ISERROR(SMALL($W$7:$W$1504,ROWS($W$7:W1363))),\"\",SMALL($W$7:$W$1504,ROWS($W$7:W1363)))","v":""}]
[null,"Alytaus m. sav.","Tarptautinės emigracijos lygis | %",4.6590065519801183,2.5821003551650423,1.8446233030501917,1.566377444164804,1.4432179473439788,1.9155625829198699,2.2345743490263374,1.8020435941184365,1.2417121111067519,0.98694048449805594,0.69633666363911595,0.74435514734022201,0.61746261456825857,null,{"$f":"ROWS($R$7:R1364)","v":1358},"",{"$f":"IF(ISERROR(SMALL($S$7:$S$1504,ROWS($S$7:S1364))),\"\",SMALL($S$7:$S$1504,ROWS($S$7:S1364)))","v":""},"",{"$f":"IF(ISERROR(SMALL($U$7:$U$1504,ROWS(U$7:$U1364))),\"\",SMALL($U$7:$U$1504,ROWS(U$7:$U1364)))","v":""},"",{"$f":"IF(ISERROR(SMALL($W$7:$W$1504,ROWS($W$7:W1364))),\"\",SMALL($W$7:$W$1504,ROWS($W$7:W1364)))","v":""}]
[null,"Alytaus r. sav.","Tarptautinės emigracijos lygis | %",2.7871887115364467,1.4456115364073348,1.1191478642628379,1.1388858567114217,1.1528435583948307,1.397434946993847,1.6481252575195715,1.6337386018237081,0.99942561746122915,0.90699461952344351,0.56842349483778665,0.8586551656537933,0.47258979206049151,null,{"$f":"ROWS($R$7:R1365)","v":1359},"",{"$f":"IF(ISERROR(SMALL($S$7:$S$1504,ROWS($S$7:S1365))),\"\",SMALL($S$7:$S$1504,ROWS($S$7:S1365)))","v":""},"",{"$f":"IF(ISERROR(SMALL($U$7:$U$1504,ROWS(U$7:$U1365))),\"\",SMALL($U$7:$U$1504,ROWS(U$7:$U1365)))","v":""},"",{"$f":"IF(ISERROR(SMALL($W$7:$W$1504,ROWS($W$7:W1365))),\"\",SMALL($W$7:$W$1504,ROWS($W$7:W1365)))","v":""}]
[null,"Druskininkų sav.","Tarptautinės emigracijos lygis | %",2.9776340609000269,1.9644915840442705,1.5778630957954862,1.645953894317427,1.2574994000479962,2.290410425987162,2.1562809099901088,2.0783937849972256,1.3242313812041266,1.1698034730165332,0.76572087900561181,1.0378020655770581,0.70872429626671996,null,{"$f":"ROWS($R$7:R1366)","v":1360},"",{"$f":"IF(ISERROR(SMALL($S$7:$S$1504,ROWS($S$7:S1366))),\"\",SMALL($S$7:$S$1504,ROWS($S$7:S1366)))","v":""},"",{"$f":"IF(ISERROR(SMALL($U$7:$U$1504,ROWS(U$7:$U1366))),\"\",SMALL($U$7:$U$1504,ROWS(U$7:$U1366)))","v":""},"",{"$f":"IF(ISERROR(SMALL($W$7:$W$1504,ROWS($W$7:W1366))),\"\",SMALL($W$7:$W$1504,ROWS($W$7:W1366)))","v":""}]
[null,"Lazdijų r. sav.","Tarptautinės emigracijos lygis | %",1.2415547951215233,0.9512271727913133,0.68189098897075651,0.811340110043831,0.72742832691484804,1.0423737030931834,1.3463162601222118,1.6437230326689953,1.0526315789473684,0.83184789067142006,0.52535530608859149,0.6972883231876037,0.43571751923947488,null,{"$f":"ROWS($R$7:R1367)","v":1361},"",{"$f":"IF(ISERROR(SMALL($S$7:$S$1504,ROWS($S$7:S1367))),\"\",SMALL($S$7:$S$1504,ROWS($S$7:S1367)))","v":""},"",{"$f":"IF(ISERROR(SMALL($U$7:$U$1504,ROWS(U$7:$U1367))),\"\",SMALL($U$7:$U$1504,ROWS(U$7:$U1367)))","v":""},"",{"$f":"IF(ISERROR(SMALL($W$7:$W$1504,ROWS($W$7:W1367))),\"\",SMALL($W$7:$W$1504,ROWS($W$7:W1367)))","v":""}]
[null,"Varėnos r. sav.","Tarptautinės emigracijos lygis | %",2.0107083702476793,1.1496075477681758,0.92446174431334383,0.78212290502793302,0.70769619613294577,1.0529482551143201,1.1319591261451727,1.2317724843764151,0.91078066914498135,0.6980719916421313,0.54634240680752311,0.57781385798194929,0.41242115477923341,null,{"$f":"ROWS($R$7:R1368)","v":1362},"",{"$f":"IF(ISERROR(SMALL($S$7:$S$1504,ROWS($S$7:S1368))),\"\",SMALL($S$7:$S$1504,ROWS($S$7:S1368)))","v":""},"",{"$f":"IF(ISERROR(SMALL($U$7:$U$1504,ROWS(U$7:$U1368))),\"\",SMALL($U$7:$U$1504,ROWS(U$7:$U1368)))","v":""},"",{"$f":"IF(ISERROR(SMALL($W$7:$W$1504,ROWS($W$7:W1368))),\"\",SMALL($W$7:$W$1504,ROWS($W$7:W1368)))","v":""}]
[null,"Kauno apskritis","Tarptautinės emigracijos lygis | %",3.0653435710357528,1.953938624506556,1.5002675155603487,1.4068847696800315,1.3029293694020094,1.4089896122564001,1.7243212805757153,1.603726789210105,1.066033994283895,0.94207887064381923,0.70912432627871902,0.82606321622138856,0.73119401687103225,null,{"$f":"ROWS($R$7:R1369)","v":1363},"",{"$f":"IF(ISERROR(SMALL($S$7:$S$1504,ROWS($S$7:S1369))),\"\",SMALL($S$7:$S$1504,ROWS($S$7:S1369)))","v":""},"",{"$f":"IF(ISERROR(SMALL($U$7:$U$1504,ROWS(U$7:$U1369))),\"\",SMALL($U$7:$U$1504,ROWS(U$7:$U1369)))","v":""},"",{"$f":"IF(ISERROR(SMALL($W$7:$W$1504,ROWS($W$7:W1369))),\"\",SMALL($W$7:$W$1504,ROWS($W$7:W1369)))","v":""}]
[null,"Birštono sav.","Tarptautinės emigracijos lygis | %",2.1570319240724762,1.797063335524874,1.6014234875444839,1.3363533408833523,1.1212814645308924,1.4249597793610664,2.0736253494874184,1.4485870339586795,0.82066135650494809,0.73295870999267043,0.54320987654320985,0.73081607795371495,0.51207022677395753,null,{"$f":"ROWS($R$7:R1370)","v":1364},"",{"$f":"IF(ISERROR(SMALL($S$7:$S$1504,ROWS($S$7:S1370))),\"\",SMALL($S$7:$S$1504,ROWS($S$7:S1370)))","v":""},"",{"$f":"IF(ISERROR(SMALL($U$7:$U$1504,ROWS(U$7:$U1370))),\"\",SMALL($U$7:$U$1504,ROWS(U$7:$U1370)))","v":""},"",{"$f":"IF(ISERROR(SMALL($W$7:$W$1504,ROWS($W$7:W1370))),\"\",SMALL($W$7:$W$1504,ROWS($W$7:W1370)))","v":""}]
[null,"Jonavos r. sav.","Tarptautinės emigracijos lygis | %",2.9654662583166123,2.07652166381569,1.7027931976385584,1.6036092375039086,1.5959975550675753,1.6101617052554209,1.919354462557429,1.8602562284309554,1.3240601324060133,1.0870352924124935,0.67400913331216883,0.94877118439476615,0.55304658632598347,null,{"$f":"ROWS($R$7:R1371)","v":1365},"",{"$f":"IF(ISERROR(SMALL($S$7:$S$1504,ROWS($S$7:S1371))),\"\",SMALL($S$7:$S$1504,ROWS($S$7:S1371)))","v":""},"",{"$f":"IF(ISERROR(SMALL($U$7:$U$1504,ROWS(U$7:$U1371))),\"\",SMALL($U$7:$U$1504,ROWS(U$7:$U1371)))","v":""},"",{"$f":"IF(ISERROR(SMALL($W$7:$W$1504,ROWS($W$7:W1371))),\"\",SMALL($W$7:$W$1504,ROWS($W$7:W1371)))","v":""}]
[null,"Kaišiadorių r. sav.","Tarptautinės emigracijos lygis | %",1.9675757487557122,1.2450228798954062,1.1220027145226965,1.2408088235294117,1.0828976848394325,1.0952937091632209,1.4514627019042419,1.3323730644580483,0.97071240982680096,0.66296483257614003,0.48370065061143852,0.72718663329500111,0.53550719694385707,null,{"$f":"ROWS($R$7:R1372)","v":1366},"",{"$f":"IF(ISERROR(SMALL($S$7:$S$1504,ROWS($S$7:S1372))),\"\",SMALL($S$7:$S$1504,ROWS($S$7:S1372)))","v":""},"",{"$f":"IF(ISERROR(SMALL($U$7:$U$1504,ROWS(U$7:$U1372))),\"\",SMALL($U$7:$U$1504,ROWS(U$7:$U1372)))","v":""},"",{"$f":"IF(ISERROR(SMALL($W$7:$W$1504,ROWS($W$7:W1372))),\"\",SMALL($W$7:$W$1504,ROWS($W$7:W1372)))","v":""}]
[null,"Kauno m. sav.","Tarptautinės emigracijos lygis | %",3.4804950669540027,2.1200715818701719,1.5820950617004121,1.4686528073334424,1.3604902786725472,1.4772981398593463,1.7909093064290529,1.5874600295325392,1.0477849763005156,0.99282458594701939,0.75040077443007647,0.82090577851968805,0.7681260841157761,null,{"$f":"ROWS($R$7:R1373)","v":1367},"",{"$f":"IF(ISERROR(SMALL($S$7:$S$1504,ROWS($S$7:S1373))),\"\",SMALL($S$7:$S$1504,ROWS($S$7:S1373)))","v":""},"",{"$f":"IF(ISERROR(SMALL($U$7:$U$1504,ROWS(U$7:$U1373))),\"\",SMALL($U$7:$U$1504,ROWS(U$7:$U1373)))","v":""},"",{"$f":"IF(ISERROR(SMALL($W$7:$W$1504,ROWS($W$7:W1373))),\"\",SMALL($W$7:$W$1504,ROWS($W$7:W1373)))","v":""}]
[null,"Kauno r. sav.","Tarptautinės emigracijos lygis | %",2.9936379410063623,1.7729259672619049,1.4026708708151721,1.2168842692356445,1.0801326238791347,1.2624218714870274,1.5881453917203798,1.4838119706503516,0.92349971240493389,0.86029588331715068,0.75063154095994222,0.80578204500457717,0.84721394976277997,null,{"$f":"ROWS($R$7:R1374)","v":1368},"",{"$f":"IF(ISERROR(SMALL($S$7:$S$1504,ROWS($S$7:S1374))),\"\",SMALL($S$7:$S$1504,ROWS($S$7:S1374)))","v":""},"",{"$f":"IF(ISERROR(SMALL($U$7:$U$1504,ROWS(U$7:$U1374))),\"\",SMALL($U$7:$U$1504,ROWS(U$7:$U1374)))","v":""},"",{"$f":"IF(ISERROR(SMALL($W$7:$W$1504,ROWS($W$7:W1374))),\"\",SMALL($W$7:$W$1504,ROWS($W$7:W1374)))","v":""}]
[null,"Kėdainių r. sav.","Tarptautinės emigracijos lygis | %",2.6696167866664249,2.2581789000242614,1.6800152555301298,1.7929022848808946,1.6028565760761753,1.6405366090189106,1.8674039989270166,1.9386653685792292,1.4119529493167271,1.1233489841590241,0.77314434249405695,0.95130777732030258,0.76731917861969745,null,{"$f":"ROWS($R$7:R1375)","v":1369},"",{"$f":"IF(ISERROR(SMALL($S$7:$S$1504,ROWS($S$7:S1375))),\"\",SMALL($S$7:$S$1504,ROWS($S$7:S1375)))","v":""},"",{"$f":"IF(ISERROR(SMALL($U$7:$U$1504,ROWS(U$7:$U1375))),\"\",SMALL($U$7:$U$1504,ROWS(U$7:$U1375)))","v":""},"",{"$f":"IF(ISERROR(SMALL($W$7:$W$1504,ROWS($W$7:W1375))),\"\",SMALL($W$7:$W$1504,ROWS($W$7:W1375)))","v":""}]
[null,"Prienų r. sav.","Tarptautinės emigracijos lygis | %",2.4357417194629551,1.3760539629005057,1.1063917243269166,1.0878632003336577,1.0193643963175902,1.2424361774499624,1.7044417679477353,1.6189801171335845,0.8478442703976885,0.62025657818700164,0.52662375658279692,0.77938603467472567,0.56485858504927489,null,{"$f":"ROWS($R$7:R1376)","v":1370},"",{"$f":"IF(ISERROR(SMALL($S$7:$S$1504,ROWS($S$7:S1376))),\"\",SMALL($S$7:$S$1504,ROWS($S$7:S1376)))","v":""},"",{"$f":"IF(ISERROR(SMALL($U$7:$U$1504,ROWS(U$7:$U1376))),\"\",SMALL($U$7:$U$1504,ROWS(U$7:$U1376)))","v":""},"",{"$f":"IF(ISERROR(SMALL($W$7:$W$1504,ROWS($W$7:W1376))),\"\",SMALL($W$7:$W$1504,ROWS($W$7:W1376)))","v":""}]
[null,"Raseinių r. sav.","Tarptautinės emigracijos lygis | %",2.00836820083682,1.5011950479361924,1.174179034868728,0.95605501509560542,1.0184108252248163,1.0302138343000606,1.2780401416765053,1.5308597065599612,1.111283563557349,0.82982294998891459,0.53041818946278985,0.73124959554779001,0.53623712866401285,null,{"$f":"ROWS($R$7:R1377)","v":1371},"",{"$f":"IF(ISERROR(SMALL($S$7:$S$1504,ROWS($S$7:S1377))),\"\",SMALL($S$7:$S$1504,ROWS($S$7:S1377)))","v":""},"",{"$f":"IF(ISERROR(SMALL($U$7:$U$1504,ROWS(U$7:$U1377))),\"\",SMALL($U$7:$U$1504,ROWS(U$7:$U1377)))","v":""},"",{"$f":"IF(ISERROR(SMALL($W$7:$W$1504,ROWS($W$7:W1377))),\"\",SMALL($W$7:$W$1504,ROWS($W$7:W1377)))","v":""}]
[null,"Klaipėdos apskritis","Tarptautinės emigracijos lygis | %",3.1931536375646044,2.0723484343277168,1.703141837436102,1.6419252580362902,1.5236609305911499,1.7683205556527046,2.0188304300245221,1.9022829904666332,1.2620989205857247,1.1992423197059598,1.004434721092506,1.0737055058727454,0.98430264429119596,null,{"$f":"ROWS($R$7:R1378)","v":1372},"",{"$f":"IF(ISERROR(SMALL($S$7:$S$1504,ROWS($S$7:S1378))),\"\",SMALL($S$7:$S$1504,ROWS($S$7:S1378)))","v":""},"",{"$f":"IF(ISERROR(SMALL($U$7:$U$1504,ROWS(U$7:$U1378))),\"\",SMALL($U$7:$U$1504,ROWS(U$7:$U1378)))","v":""},"",{"$f":"IF(ISERROR(SMALL($W$7:$W$1504,ROWS($W$7:W1378))),\"\",SMALL($W$7:$W$1504,ROWS($W$7:W1378)))","v":""}]
[null,"Klaipėdos m. sav.","Tarptautinės emigracijos lygis | %",3.5060054617076295,2.2647350173353145,1.8978047219188916,1.8395040621062164,1.6870529532997711,2.0066480281381653,2.2006569906686386,1.8706406677814122,1.3167115902964959,1.3075239858609662,1.2141050838134972,1.1188388267311764,1.1227853316852081,null,{"$f":"ROWS($R$7:R1379)","v":1373},"",{"$f":"IF(ISERROR(SMALL($S$7:$S$1504,ROWS($S$7:S1379))),\"\",SMALL($S$7:$S$1504,ROWS($S$7:S1379)))","v":""},"",{"$f":"IF(ISERROR(SMALL($U$7:$U$1504,ROWS(U$7:$U1379))),\"\",SMALL($U$7:$U$1504,ROWS(U$7:$U1379)))","v":""},"",{"$f":"IF(ISERROR(SMALL($W$7:$W$1504,ROWS($W$7:W1379))),\"\",SMALL($W$7:$W$1504,ROWS($W$7:W1379)))","v":""}]
[null,"Klaipėdos r. sav.","Tarptautinės emigracijos lygis | %",2.2303679137332479,1.4335242101982781,1.2017317362014406,1.1087115807334851,1.1129957500333516,1.3133879010254963,1.5838066867726239,1.7947745698138415,1.2376712926595095,1.157044308387728,0.96775770214568502,1.1393318669232884,1.2459239791697085,null,{"$f":"ROWS($R$7:R1380)","v":1374},"",{"$f":"IF(ISERROR(SMALL($S$7:$S$1504,ROWS($S$7:S1380))),\"\",SMALL($S$7:$S$1504,ROWS($S$7:S1380)))","v":""},"",{"$f":"IF(ISERROR(SMALL($U$7:$U$1504,ROWS(U$7:$U1380))),\"\",SMALL($U$7:$U$1504,ROWS(U$7:$U1380)))","v":""},"",{"$f":"IF(ISERROR(SMALL($W$7:$W$1504,ROWS($W$7:W1380))),\"\",SMALL($W$7:$W$1504,ROWS($W$7:W1380)))","v":""}]
[null,"Kretingos r. sav.","Tarptautinės emigracijos lygis | %",2.3147927867916449,1.5423852319650231,1.1193480288673965,1.1198097314438609,1.1490512191458468,1.305814041938183,1.498493782023224,1.6914590468223054,1.0672669491525424,0.81064504946534754,0.58066415134730132,0.84752538578396108,0.58608839278578473,null,{"$f":"ROWS($R$7:R1381)","v":1375},"",{"$f":"IF(ISERROR(SMALL($S$7:$S$1504,ROWS($S$7:S1381))),\"\",SMALL($S$7:$S$1504,ROWS($S$7:S1381)))","v":""},"",{"$f":"IF(ISERROR(SMALL($U$7:$U$1504,ROWS(U$7:$U1381))),\"\",SMALL($U$7:$U$1504,ROWS(U$7:$U1381)))","v":""},"",{"$f":"IF(ISERROR(SMALL($W$7:$W$1504,ROWS($W$7:W1381))),\"\",SMALL($W$7:$W$1504,ROWS($W$7:W1381)))","v":""}]
[null,"Neringos sav.","Tarptautinės emigracijos lygis | %",2.8594442207007651,1.9976949673453708,0.89552238805970152,1.4619883040935671,1.1722912966252221,1.2542372881355932,1.1118378024852846,1.7083201518506803,1.2574850299401197,1.3745704467353952,1.2555803571428572,1.1714589989350372,0.98435133770822825,null,{"$f":"ROWS($R$7:R1382)","v":1376},"",{"$f":"IF(ISERROR(SMALL($S$7:$S$1504,ROWS($S$7:S1382))),\"\",SMALL($S$7:$S$1504,ROWS($S$7:S1382)))","v":""},"",{"$f":"IF(ISERROR(SMALL($U$7:$U$1504,ROWS(U$7:$U1382))),\"\",SMALL($U$7:$U$1504,ROWS(U$7:$U1382)))","v":""},"",{"$f":"IF(ISERROR(SMALL($W$7:$W$1504,ROWS($W$7:W1382))),\"\",SMALL($W$7:$W$1504,ROWS($W$7:W1382)))","v":""}]
[null,"Palangos m. sav.","Tarptautinės emigracijos lygis | %",3.726863431715858,2.6468895850648937,2.2615344738206327,1.9731700963792655,1.633157655019845,1.8175937904269084,2.2457408363448632,1.8747972753811224,1.056564875660353,1.0974456007568589,0.74553296364756627,1.2217543443449381,0.70639170559416653,null,{"$f":"ROWS($R$7:R1383)","v":1377},"",{"$f":"IF(ISERROR(SMALL($S$7:$S$1504,ROWS($S$7:S1383))),\"\",SMALL($S$7:$S$1504,ROWS($S$7:S1383)))","v":""},"",{"$f":"IF(ISERROR(SMALL($U$7:$U$1504,ROWS(U$7:$U1383))),\"\",SMALL($U$7:$U$1504,ROWS(U$7:$U1383)))","v":""},"",{"$f":"IF(ISERROR(SMALL($W$7:$W$1504,ROWS($W$7:W1383))),\"\",SMALL($W$7:$W$1504,ROWS($W$7:W1383)))","v":""}]
[null,"Skuodo r. sav.","Tarptautinės emigracijos lygis | %",1.8057403535449534,1.3278455583321085,1.6802058630606993,1.4627798021863612,1.2778698604501952,1.4388882809935442,1.656651878474757,2.0133449376269219,1.0177812369035504,1.0008596340415079,0.83784805342068791,1.1345926064459821,0.5939455869204241,null,{"$f":"ROWS($R$7:R1384)","v":1378},"",{"$f":"IF(ISERROR(SMALL($S$7:$S$1504,ROWS($S$7:S1384))),\"\",SMALL($S$7:$S$1504,ROWS($S$7:S1384)))","v":""},"",{"$f":"IF(ISERROR(SMALL($U$7:$U$1504,ROWS(U$7:$U1384))),\"\",SMALL($U$7:$U$1504,ROWS(U$7:$U1384)))","v":""},"",{"$f":"IF(ISERROR(SMALL($W$7:$W$1504,ROWS($W$7:W1384))),\"\",SMALL($W$7:$W$1504,ROWS($W$7:W1384)))","v":""}]
[null,"Šilutės r. sav.","Tarptautinės emigracijos lygis | %",4.402096850427534,2.742115857749944,1.9917944486465424,2.0241875233470301,1.8751483503441728,2.0625768943140423,2.5532125043212011,2.357219142552001,1.4684096993008811,1.3370253164556962,0.81107125649124678,0.91799896854048491,0.68046645715918241,null,{"$f":"ROWS($R$7:R1385)","v":1379},"",{"$f":"IF(ISERROR(SMALL($S$7:$S$1504,ROWS($S$7:S1385))),\"\",SMALL($S$7:$S$1504,ROWS($S$7:S1385)))","v":""},"",{"$f":"IF(ISERROR(SMALL($U$7:$U$1504,ROWS(U$7:$U1385))),\"\",SMALL($U$7:$U$1504,ROWS(U$7:$U1385)))","v":""},"",{"$f":"IF(ISERROR(SMALL($W$7:$W$1504,ROWS($W$7:W1385))),\"\",SMALL($W$7:$W$1504,ROWS($W$7:W1385)))","v":""}]
[null,"Marijampolės apskritis","Tarptautinės emigracijos lygis | %",2.3622429770334117,1.5522057496936026,1.2998530380580753,1.1657113415341018,1.2057094658654759,1.433841858610031,1.9922700194947665,2.1434103388848964,1.3594507904531266,1.2058082183820378,0.75574543311726583,0.81100757134536983,0.68669212690951831,null,{"$f":"ROWS($R$7:R1386)","v":1380},"",{"$f":"IF(ISERROR(SMALL($S$7:$S$1504,ROWS($S$7:S1386))),\"\",SMALL($S$7:$S$1504,ROWS($S$7:S1386)))","v":""},"",{"$f":"IF(ISERROR(SMALL($U$7:$U$1504,ROWS(U$7:$U1386))),\"\",SMALL($U$7:$U$1504,ROWS(U$7:$U1386)))","v":""},"",{"$f":"IF(ISERROR(SMALL($W$7:$W$1504,ROWS($W$7:W1386))),\"\",SMALL($W$7:$W$1504,ROWS($W$7:W1386)))","v":""}]
[null,"Kalvarijos sav.","Tarptautinės emigracijos lygis | %",1.9114523770625713,1.2070257221343546,1.2152924297409062,0.94815067908089168,0.92552547357495019,1.166973765025884,1.6268883525520694,1.8771174800842414,1.0653342132553973,1.0859026565832848,0.79443892750744782,0.85948430941435139,0.56474384832593794,null,{"$f":"ROWS($R$7:R1387)","v":1381},"",{"$f":"IF(ISERROR(SMALL($S$7:$S$1504,ROWS($S$7:S1387))),\"\",SMALL($S$7:$S$1504,ROWS($S$7:S1387)))","v":""},"",{"$f":"IF(ISERROR(SMALL($U$7:$U$1504,ROWS(U$7:$U1387))),\"\",SMALL($U$7:$U$1504,ROWS(U$7:$U1387)))","v":""},"",{"$f":"IF(ISERROR(SMALL($W$7:$W$1504,ROWS($W$7:W1387))),\"\",SMALL($W$7:$W$1504,ROWS($W$7:W1387)))","v":""}]
[null,"Kazlų Rūdos sav.","Tarptautinės emigracijos lygis | %",2.5100252487746921,1.8853580659875322,1.7227999379171195,1.1508749802932368,1.0904170646290992,1.2142167899646188,1.8527587332680377,2.076182503139389,1.4532633932410353,1.0775295663600526,0.85424452749599566,0.71779029620207158,0.67610781178620372,null,{"$f":"ROWS($R$7:R1388)","v":1382},"",{"$f":"IF(ISERROR(SMALL($S$7:$S$1504,ROWS($S$7:S1388))),\"\",SMALL($S$7:$S$1504,ROWS($S$7:S1388)))","v":""},"",{"$f":"IF(ISERROR(SMALL($U$7:$U$1504,ROWS(U$7:$U1388))),\"\",SMALL($U$7:$U$1504,ROWS(U$7:$U1388)))","v":""},"",{"$f":"IF(ISERROR(SMALL($W$7:$W$1504,ROWS($W$7:W1388))),\"\",SMALL($W$7:$W$1504,ROWS($W$7:W1388)))","v":""}]
[null,"Marijampolės sav.","Tarptautinės emigracijos lygis | %",2.6812139051976516,1.7001951043562378,1.4907205149155425,1.3352739088493628,1.3896266342249104,1.693737514114479,2.2488038277511961,2.1983399180832941,1.3635109025669334,1.2923921306855055,0.79445003916303014,0.82097894408913485,0.8018201500889891,null,{"$f":"ROWS($R$7:R1389)","v":1383},"",{"$f":"IF(ISERROR(SMALL($S$7:$S$1504,ROWS($S$7:S1389))),\"\",SMALL($S$7:$S$1504,ROWS($S$7:S1389)))","v":""},"",{"$f":"IF(ISERROR(SMALL($U$7:$U$1504,ROWS(U$7:$U1389))),\"\",SMALL($U$7:$U$1504,ROWS(U$7:$U1389)))","v":""},"",{"$f":"IF(ISERROR(SMALL($W$7:$W$1504,ROWS($W$7:W1389))),\"\",SMALL($W$7:$W$1504,ROWS($W$7:W1389)))","v":""}]
[null,"Šakių r. sav.","Tarptautinės emigracijos lygis | %",1.6798837702040075,1.1854649003342825,0.80721447940972446,0.87691121675446493,0.75512405609492994,1.0897457259972674,1.4394869695729295,1.8006950050896835,1.1159263271939328,0.86235611976757087,0.58359860542670916,0.75120192307692313,0.45562447354315033,null,{"$f":"ROWS($R$7:R1390)","v":1384},"",{"$f":"IF(ISERROR(SMALL($S$7:$S$1504,ROWS($S$7:S1390))),\"\",SMALL($S$7:$S$1504,ROWS($S$7:S1390)))","v":""},"",{"$f":"IF(ISERROR(SMALL($U$7:$U$1504,ROWS(U$7:$U1390))),\"\",SMALL($U$7:$U$1504,ROWS(U$7:$U1390)))","v":""},"",{"$f":"IF(ISERROR(SMALL($W$7:$W$1504,ROWS($W$7:W1390))),\"\",SMALL($W$7:$W$1504,ROWS($W$7:W1390)))","v":""}]
[null,"Vilkaviškio r. sav.","Tarptautinės emigracijos lygis | %",2.5035122872475184,1.6133992571739488,1.2933114564231252,1.2076938213301849,1.39982941146957,1.4629771970279271,2.1901456591470789,2.4272900244631694,1.5989023297491041,1.4147707785526467,0.78392660124266889,0.85620822073673741,0.7179930795847751,null,{"$f":"ROWS($R$7:R1391)","v":1385},"",{"$f":"IF(ISERROR(SMALL($S$7:$S$1504,ROWS($S$7:S1391))),\"\",SMALL($S$7:$S$1504,ROWS($S$7:S1391)))","v":""},"",{"$f":"IF(ISERROR(SMALL($U$7:$U$1504,ROWS(U$7:$U1391))),\"\",SMALL($U$7:$U$1504,ROWS(U$7:$U1391)))","v":""},"",{"$f":"IF(ISERROR(SMALL($W$7:$W$1504,ROWS($W$7:W1391))),\"\",SMALL($W$7:$W$1504,ROWS($W$7:W1391)))","v":""}]
[null,"Panevėžio apskritis","Tarptautinės emigracijos lygis | %",2.2518677463310728,1.4277734690515131,0.99460132040488058,0.95575029932153788,0.93853740018812926,1.2302902696003808,1.6384743242828386,1.7387777176852353,1.0979780404391912,0.96528723754051393,0.67610768100313956,0.79030558482613289,0.57026246211996245,null,{"$f":"ROWS($R$7:R1392)","v":1386},"",{"$f":"IF(ISERROR(SMALL($S$7:$S$1504,ROWS($S$7:S1392))),\"\",SMALL($S$7:$S$1504,ROWS($S$7:S1392)))","v":""},"",{"$f":"IF(ISERROR(SMALL($U$7:$U$1504,ROWS(U$7:$U1392))),\"\",SMALL($U$7:$U$1504,ROWS(U$7:$U1392)))","v":""},"",{"$f":"IF(ISERROR(SMALL($W$7:$W$1504,ROWS($W$7:W1392))),\"\",SMALL($W$7:$W$1504,ROWS($W$7:W1392)))","v":""}]
[null,"Biržų r. sav.","Tarptautinės emigracijos lygis | %",2.5242382271468142,1.4333202273295922,1.0465073731201289,0.8672897196261683,0.95783247471856514,1.1839389336760524,1.6619391953977067,2.0898727903518917,1.1714589989350372,0.90215733275223353,0.74650077760497668,1.1373996092902106,0.62392141245187838,null,{"$f":"ROWS($R$7:R1393)","v":1387},"",{"$f":"IF(ISERROR(SMALL($S$7:$S$1504,ROWS($S$7:S1393))),\"\",SMALL($S$7:$S$1504,ROWS($S$7:S1393)))","v":""},"",{"$f":"IF(ISERROR(SMALL($U$7:$U$1504,ROWS(U$7:$U1393))),\"\",SMALL($U$7:$U$1504,ROWS(U$7:$U1393)))","v":""},"",{"$f":"IF(ISERROR(SMALL($W$7:$W$1504,ROWS($W$7:W1393))),\"\",SMALL($W$7:$W$1504,ROWS($W$7:W1393)))","v":""}]
[null,"Kupiškio r. sav.","Tarptautinės emigracijos lygis | %",1.7817479478512797,1.3286887285394378,0.87620988283239942,0.9355023127696066,0.83739665041339828,1.0893128116193367,1.515573633476347,1.8638900074785709,1.0280042538107055,1.0630587098332931,0.69714356221852058,0.92179964593126185,0.69526351728847224,null,{"$f":"ROWS($R$7:R1394)","v":1388},"",{"$f":"IF(ISERROR(SMALL($S$7:$S$1504,ROWS($S$7:S1394))),\"\",SMALL($S$7:$S$1504,ROWS($S$7:S1394)))","v":""},"",{"$f":"IF(ISERROR(SMALL($U$7:$U$1504,ROWS(U$7:$U1394))),\"\",SMALL($U$7:$U$1504,ROWS(U$7:$U1394)))","v":""},"",{"$f":"IF(ISERROR(SMALL($W$7:$W$1504,ROWS($W$7:W1394))),\"\",SMALL($W$7:$W$1504,ROWS($W$7:W1394)))","v":""}]
[null,"Panevėžio m. sav.","Tarptautinės emigracijos lygis | %",2.7273443346067507,1.6000322424633242,1.0857352971217289,1.0440332107893757,1.0390017229676813,1.3739406779661016,1.7167428460022096,1.6157389891616407,1.0340238200866805,0.95596989908564423,0.66990473508846027,0.71198143641405853,0.53446075303126994,null,{"$f":"ROWS($R$7:R1395)","v":1389},"",{"$f":"IF(ISERROR(SMALL($S$7:$S$1504,ROWS($S$7:S1395))),\"\",SMALL($S$7:$S$1504,ROWS($S$7:S1395)))","v":""},"",{"$f":"IF(ISERROR(SMALL($U$7:$U$1504,ROWS(U$7:$U1395))),\"\",SMALL($U$7:$U$1504,ROWS(U$7:$U1395)))","v":""},"",{"$f":"IF(ISERROR(SMALL($W$7:$W$1504,ROWS($W$7:W1395))),\"\",SMALL($W$7:$W$1504,ROWS($W$7:W1395)))","v":""}]
[null,"Panevėžio r. sav.","Tarptautinės emigracijos lygis | %",1.9687712152070607,1.3100211460106246,0.9441384736428009,0.87321177376118064,0.88398382041734758,0.96645821489482664,1.4769836711249693,1.7379975607051779,1.1548512180730002,0.85349310422789948,0.65800669351636509,0.8176545480265951,0.581659289524458,null,{"$f":"ROWS($R$7:R1396)","v":1390},"",{"$f":"IF(ISERROR(SMALL($S$7:$S$1504,ROWS($S$7:S1396))),\"\",SMALL($S$7:$S$1504,ROWS($S$7:S1396)))","v":""},"",{"$f":"IF(ISERROR(SMALL($U$7:$U$1504,ROWS(U$7:$U1396))),\"\",SMALL($U$7:$U$1504,ROWS(U$7:$U1396)))","v":""},"",{"$f":"IF(ISERROR(SMALL($W$7:$W$1504,ROWS($W$7:W1396))),\"\",SMALL($W$7:$W$1504,ROWS($W$7:W1396)))","v":""}]
[null,"Pasvalio r. sav.","Tarptautinės emigracijos lygis | %",1.6819202210326369,1.3259393551597882,0.92370354207578742,0.94252105829529864,0.89282336473347712,1.2660670861157215,1.8532481447676497,1.9522598638339759,1.1532612369043596,1.225267350738191,0.75277863879909668,0.83813514929282351,0.6805444355484388,null,{"$f":"ROWS($R$7:R1397)","v":1391},"",{"$f":"IF(ISERROR(SMALL($S$7:$S$1504,ROWS($S$7:S1397))),\"\",SMALL($S$7:$S$1504,ROWS($S$7:S1397)))","v":""},"",{"$f":"IF(ISERROR(SMALL($U$7:$U$1504,ROWS(U$7:$U1397))),\"\",SMALL($U$7:$U$1504,ROWS(U$7:$U1397)))","v":""},"",{"$f":"IF(ISERROR(SMALL($W$7:$W$1504,ROWS($W$7:W1397))),\"\",SMALL($W$7:$W$1504,ROWS($W$7:W1397)))","v":""}]
[null,"Rokiškio r. sav.","Tarptautinės emigracijos lygis | %",1.7263715219105551,1.2016175621028307,0.87211021108023412,0.88543712791997831,0.78536450152453119,1.2004273772861542,1.4732013052046653,1.5787190013684456,1.1580756013745706,0.91552519454910375,0.5865208160915405,0.6043569922698524,0.46433546451405511,null,{"$f":"ROWS($R$7:R1398)","v":1392},"",{"$f":"IF(ISERROR(SMALL($S$7:$S$1504,ROWS($S$7:S1398))),\"\",SMALL($S$7:$S$1504,ROWS($S$7:S1398)))","v":""},"",{"$f":"IF(ISERROR(SMALL($U$7:$U$1504,ROWS(U$7:$U1398))),\"\",SMALL($U$7:$U$1504,ROWS(U$7:$U1398)))","v":""},"",{"$f":"IF(ISERROR(SMALL($W$7:$W$1504,ROWS($W$7:W1398))),\"\",SMALL($W$7:$W$1504,ROWS($W$7:W1398)))","v":""}]
[null,"Šiaulių apskritis","Tarptautinės emigracijos lygis | %",3.6300348085529586,2.3638664694273492,1.7346186909001595,1.663560289743403,1.5851418943450231,1.9047892150361494,2.1001810500905251,2.0173598931239596,1.4130018903162018,1.3693034761297613,1.1669703653975256,0.99739378329422723,1.1397798465504447,null,{"$f":"ROWS($R$7:R1399)","v":1393},"",{"$f":"IF(ISERROR(SMALL($S$7:$S$1504,ROWS($S$7:S1399))),\"\",SMALL($S$7:$S$1504,ROWS($S$7:S1399)))","v":""},"",{"$f":"IF(ISERROR(SMALL($U$7:$U$1504,ROWS(U$7:$U1399))),\"\",SMALL($U$7:$U$1504,ROWS(U$7:$U1399)))","v":""},"",{"$f":"IF(ISERROR(SMALL($W$7:$W$1504,ROWS($W$7:W1399))),\"\",SMALL($W$7:$W$1504,ROWS($W$7:W1399)))","v":""}]
[null,"Akmenės r. sav.","Tarptautinės emigracijos lygis | %",2.9398273633293024,2.3521272915946039,1.7508776607563437,1.8501640539555231,1.7206101190476191,2.253534490938419,2.3102792805965784,2.3508137432188065,1.6008262328943972,1.2246621621621621,0.89017589017589016,1.0452064668932139,0.89248650892486503,null,{"$f":"ROWS($R$7:R1400)","v":1394},"",{"$f":"IF(ISERROR(SMALL($S$7:$S$1504,ROWS($S$7:S1400))),\"\",SMALL($S$7:$S$1504,ROWS($S$7:S1400)))","v":""},"",{"$f":"IF(ISERROR(SMALL($U$7:$U$1504,ROWS(U$7:$U1400))),\"\",SMALL($U$7:$U$1504,ROWS(U$7:$U1400)))","v":""},"",{"$f":"IF(ISERROR(SMALL($W$7:$W$1504,ROWS($W$7:W1400))),\"\",SMALL($W$7:$W$1504,ROWS($W$7:W1400)))","v":""}]
[null,"Joniškio r. sav.","Tarptautinės emigracijos lygis | %",2.9694128153605717,2.20783724424922,2.0287672861275112,1.7155866330595984,1.587895415055909,2.0019593644843887,1.9563119571892269,2.4663880813953485,1.5691601480163007,1.089866156787763,0.7206856252434749,0.82973780285429799,0.6758061401815022,null,{"$f":"ROWS($R$7:R1401)","v":1395},"",{"$f":"IF(ISERROR(SMALL($S$7:$S$1504,ROWS($S$7:S1401))),\"\",SMALL($S$7:$S$1504,ROWS($S$7:S1401)))","v":""},"",{"$f":"IF(ISERROR(SMALL($U$7:$U$1504,ROWS(U$7:$U1401))),\"\",SMALL($U$7:$U$1504,ROWS(U$7:$U1401)))","v":""},"",{"$f":"IF(ISERROR(SMALL($W$7:$W$1504,ROWS($W$7:W1401))),\"\",SMALL($W$7:$W$1504,ROWS($W$7:W1401)))","v":""}]
[null,"Kelmės r. sav.","Tarptautinės emigracijos lygis | %",2.50572220214432,1.7328272772523645,1.1121733588272784,1.3335072218056143,1.1392489643191233,1.5634127065938217,1.6207972762093914,1.6287003411466932,1.1516023941207667,1.0699972763705692,0.67314586154704059,0.91004550227511383,0.46939019054059433,null,{"$f":"ROWS($R$7:R1402)","v":1396},"",{"$f":"IF(ISERROR(SMALL($S$7:$S$1504,ROWS($S$7:S1402))),\"\",SMALL($S$7:$S$1504,ROWS($S$7:S1402)))","v":""},"",{"$f":"IF(ISERROR(SMALL($U$7:$U$1504,ROWS(U$7:$U1402))),\"\",SMALL($U$7:$U$1504,ROWS(U$7:$U1402)))","v":""},"",{"$f":"IF(ISERROR(SMALL($W$7:$W$1504,ROWS($W$7:W1402))),\"\",SMALL($W$7:$W$1504,ROWS($W$7:W1402)))","v":""}]
[null,"Pakruojo r. sav.","Tarptautinės emigracijos lygis | %",2.1543911682319989,1.8035645922838062,1.4786298613237674,1.3519583183614803,1.1669040290347774,1.547798268724125,2.2052052537197691,2.032214360981484,1.2636594334248277,1.2952542732774179,0.64638783269961975,0.77697995927553321,0.51969365426695835,null,{"$f":"ROWS($R$7:R1403)","v":1397},"",{"$f":"IF(ISERROR(SMALL($S$7:$S$1504,ROWS($S$7:S1403))),\"\",SMALL($S$7:$S$1504,ROWS($S$7:S1403)))","v":""},"",{"$f":"IF(ISERROR(SMALL($U$7:$U$1504,ROWS(U$7:$U1403))),\"\",SMALL($U$7:$U$1504,ROWS(U$7:$U1403)))","v":""},"",{"$f":"IF(ISERROR(SMALL($W$7:$W$1504,ROWS($W$7:W1403))),\"\",SMALL($W$7:$W$1504,ROWS($W$7:W1403)))","v":""}]
[null,"Radviliškio r. sav.","Tarptautinės emigracijos lygis | %",3.3859786052063723,2.0524650985801602,1.5428487861947937,1.6123405103668262,1.4098460600518214,1.5990478161871249,1.9265982007801927,1.8558445457274637,1.4116334216766633,1.2337625503431844,0.92845439650464223,0.94980428275385675,0.90053332556174048,null,{"$f":"ROWS($R$7:R1404)","v":1398},"",{"$f":"IF(ISERROR(SMALL($S$7:$S$1504,ROWS($S$7:S1404))),\"\",SMALL($S$7:$S$1504,ROWS($S$7:S1404)))","v":""},"",{"$f":"IF(ISERROR(SMALL($U$7:$U$1504,ROWS(U$7:$U1404))),\"\",SMALL($U$7:$U$1504,ROWS(U$7:$U1404)))","v":""},"",{"$f":"IF(ISERROR(SMALL($W$7:$W$1504,ROWS($W$7:W1404))),\"\",SMALL($W$7:$W$1504,ROWS($W$7:W1404)))","v":""}]
[null,"Šiaulių m. sav.","Tarptautinės emigracijos lygis | %",4.5805203028708519,2.7796429326980565,2.0041090773253645,1.8559034326669179,1.8688920819495853,2.2057335581787521,2.3516851621497201,2.0863480484468848,1.5246180981136588,1.7674713852135446,1.8183248596182402,1.2114145685941267,1.8461000892961137,null,{"$f":"ROWS($R$7:R1405)","v":1399},"",{"$f":"IF(ISERROR(SMALL($S$7:$S$1504,ROWS($S$7:S1405))),\"\",SMALL($S$7:$S$1504,ROWS($S$7:S1405)))","v":""},"",{"$f":"IF(ISERROR(SMALL($U$7:$U$1504,ROWS(U$7:$U1405))),\"\",SMALL($U$7:$U$1504,ROWS(U$7:$U1405)))","v":""},"",{"$f":"IF(ISERROR(SMALL($W$7:$W$1504,ROWS($W$7:W1405))),\"\",SMALL($W$7:$W$1504,ROWS($W$7:W1405)))","v":""}]
[null,"Šiaulių r. sav.","Tarptautinės emigracijos lygis | %",3.8821983796803154,2.4927786749152774,1.6557906226051415,1.5068751177246187,1.5030251059978086,1.6280856786091633,1.8876111954870907,1.8415003024803387,1.2113738575366315,0.94273658830620854,0.64579869394443246,0.72712138275473726,0.5994202328895003,null,{"$f":"ROWS($R$7:R1406)","v":1400},"",{"$f":"IF(ISERROR(SMALL($S$7:$S$1504,ROWS($S$7:S1406))),\"\",SMALL($S$7:$S$1504,ROWS($S$7:S1406)))","v":""},"",{"$f":"IF(ISERROR(SMALL($U$7:$U$1504,ROWS(U$7:$U1406))),\"\",SMALL($U$7:$U$1504,ROWS(U$7:$U1406)))","v":""},"",{"$f":"IF(ISERROR(SMALL($W$7:$W$1504,ROWS($W$7:W1406))),\"\",SMALL($W$7:$W$1504,ROWS($W$7:W1406)))","v":""}]
[null,"Tauragės apskritis","Tarptautinės emigracijos lygis | %",2.7335600202420167,1.6904809820889515,1.2981441760701298,1.1632647256799931,1.2142162479658749,1.397074660766384,1.7456758488148623,1.8690915824015306,1.2009793575077039,1.1159270280760771,0.77832133238058598,0.96099368054042267,0.61912683286880466,null,{"$f":"ROWS($R$7:R1407)","v":1401},"",{"$f":"IF(ISERROR(SMALL($S$7:$S$1504,ROWS($S$7:S1407))),\"\",SMALL($S$7:$S$1504,ROWS($S$7:S1407)))","v":""},"",{"$f":"IF(ISERROR(SMALL($U$7:$U$1504,ROWS(U$7:$U1407))),\"\",SMALL($U$7:$U$1504,ROWS(U$7:$U1407)))","v":""},"",{"$f":"IF(ISERROR(SMALL($W$7:$W$1504,ROWS($W$7:W1407))),\"\",SMALL($W$7:$W$1504,ROWS($W$7:W1407)))","v":""}]
[null,"Jurbarko r. sav.","Tarptautinės emigracijos lygis | %",2.496685100740597,1.263586050543442,1.0570680806226844,0.95073465859982709,1.0698951221228972,1.1233132357163365,1.6076815539695386,1.7258345318295361,1.1108090262943255,1.0661574571349008,0.7091909517016507,0.87877693511496324,0.62661707632600261,null,{"$f":"ROWS($R$7:R1408)","v":1402},"",{"$f":"IF(ISERROR(SMALL($S$7:$S$1504,ROWS($S$7:S1408))),\"\",SMALL($S$7:$S$1504,ROWS($S$7:S1408)))","v":""},"",{"$f":"IF(ISERROR(SMALL($U$7:$U$1504,ROWS(U$7:$U1408))),\"\",SMALL($U$7:$U$1504,ROWS(U$7:$U1408)))","v":""},"",{"$f":"IF(ISERROR(SMALL($W$7:$W$1504,ROWS($W$7:W1408))),\"\",SMALL($W$7:$W$1504,ROWS($W$7:W1408)))","v":""}]
[null,"Pagėgių sav.","Tarptautinės emigracijos lygis | %",2.9161104836225484,2.3364485981308412,1.6829533116178068,1.5843119875914025,1.6781948066674226,2.2307871992525112,2.834989096195784,2.7949137605438752,1.7214397496087637,1.8341200269723534,1.3048306496390893,1.2401199236849278,0.89360513822954479,null,{"$f":"ROWS($R$7:R1409)","v":1403},"",{"$f":"IF(ISERROR(SMALL($S$7:$S$1504,ROWS($S$7:S1409))),\"\",SMALL($S$7:$S$1504,ROWS($S$7:S1409)))","v":""},"",{"$f":"IF(ISERROR(SMALL($U$7:$U$1504,ROWS(U$7:$U1409))),\"\",SMALL($U$7:$U$1504,ROWS(U$7:$U1409)))","v":""},"",{"$f":"IF(ISERROR(SMALL($W$7:$W$1504,ROWS($W$7:W1409))),\"\",SMALL($W$7:$W$1504,ROWS($W$7:W1409)))","v":""}]
[null,"Šilalės r. sav.","Tarptautinės emigracijos lygis | %",2.1258471908447834,1.4591328798875252,1.1593640946103141,0.88715400993612492,0.96683979224930083,1.0060443795383556,1.4100862641008627,1.5580978400068299,1.0512425775236418,0.75849925504537452,0.57702072658449899,0.82042350352919613,0.42091478813955668,null,{"$f":"ROWS($R$7:R1410)","v":1404},"",{"$f":"IF(ISERROR(SMALL($S$7:$S$1504,ROWS($S$7:S1410))),\"\",SMALL($S$7:$S$1504,ROWS($S$7:S1410)))","v":""},"",{"$f":"IF(ISERROR(SMALL($U$7:$U$1504,ROWS(U$7:$U1410))),\"\",SMALL($U$7:$U$1504,ROWS(U$7:$U1410)))","v":""},"",{"$f":"IF(ISERROR(SMALL($W$7:$W$1504,ROWS($W$7:W1410))),\"\",SMALL($W$7:$W$1504,ROWS($W$7:W1410)))","v":""}]
[null,"Tauragės r. sav.","Tarptautinės emigracijos lygis | %",3.2217182497331907,1.9843545686036106,1.464645284870004,1.3850021344210977,1.3633084876172157,1.6437355412151466,1.8163346218653982,1.9633707067119883,1.2459203232658136,1.2169159197834258,0.83859116683970925,1.0423573720924064,0.67479262795721873,null,{"$f":"ROWS($R$7:R1411)","v":1405},"",{"$f":"IF(ISERROR(SMALL($S$7:$S$1504,ROWS($S$7:S1411))),\"\",SMALL($S$7:$S$1504,ROWS($S$7:S1411)))","v":""},"",{"$f":"IF(ISERROR(SMALL($U$7:$U$1504,ROWS(U$7:$U1411))),\"\",SMALL($U$7:$U$1504,ROWS(U$7:$U1411)))","v":""},"",{"$f":"IF(ISERROR(SMALL($W$7:$W$1504,ROWS($W$7:W1411))),\"\",SMALL($W$7:$W$1504,ROWS($W$7:W1411)))","v":""}]
[null,"Telšių apskritis","Tarptautinės emigracijos lygis | %",2.8887055608548815,1.7716027747835921,1.4282353731895017,1.2966815592919751,1.2547060126231868,1.4262440134267778,1.9422207251435164,2.0227429865984083,1.2102772143340095,1.0467736532781144,0.73089854358848105,0.94164516275069032,0.63164615653575151,null,{"$f":"ROWS($R$7:R1412)","v":1406},"",{"$f":"IF(ISERROR(SMALL($S$7:$S$1504,ROWS($S$7:S1412))),\"\",SMALL($S$7:$S$1504,ROWS($S$7:S1412)))","v":""},"",{"$f":"IF(ISERROR(SMALL($U$7:$U$1504,ROWS(U$7:$U1412))),\"\",SMALL($U$7:$U$1504,ROWS(U$7:$U1412)))","v":""},"",{"$f":"IF(ISERROR(SMALL($W$7:$W$1504,ROWS($W$7:W1412))),\"\",SMALL($W$7:$W$1504,ROWS($W$7:W1412)))","v":""}]
[null,"Mažeikių r. sav.","Tarptautinės emigracijos lygis | %",3.3254276631175248,1.9242717106171476,1.4759695351483848,1.365907238776884,1.27465041233417,1.3936523490663619,2.1895110585102446,2.028639618138425,1.282471602414518,0.9945009945009945,0.75021111962135945,0.94474222033702238,0.76564644921791924,null,{"$f":"ROWS($R$7:R1413)","v":1407},"",{"$f":"IF(ISERROR(SMALL($S$7:$S$1504,ROWS($S$7:S1413))),\"\",SMALL($S$7:$S$1504,ROWS($S$7:S1413)))","v":""},"",{"$f":"IF(ISERROR(SMALL($U$7:$U$1504,ROWS(U$7:$U1413))),\"\",SMALL($U$7:$U$1504,ROWS(U$7:$U1413)))","v":""},"",{"$f":"IF(ISERROR(SMALL($W$7:$W$1504,ROWS($W$7:W1413))),\"\",SMALL($W$7:$W$1504,ROWS($W$7:W1413)))","v":""}]
[null,"Plungės r. sav.","Tarptautinės emigracijos lygis | %",3.1199445343193899,1.7850551073142435,1.5135685392054434,1.2557760260940474,1.2046864231564438,1.3581868485034791,1.8647155952855436,2.1185202501314944,1.1016569637259293,1.0985031385803958,0.71321893382913226,0.82491481857851623,0.49655421469198591,null,{"$f":"ROWS($R$7:R1414)","v":1408},"",{"$f":"IF(ISERROR(SMALL($S$7:$S$1504,ROWS($S$7:S1414))),\"\",SMALL($S$7:$S$1504,ROWS($S$7:S1414)))","v":""},"",{"$f":"IF(ISERROR(SMALL($U$7:$U$1504,ROWS(U$7:$U1414))),\"\",SMALL($U$7:$U$1504,ROWS(U$7:$U1414)))","v":""},"",{"$f":"IF(ISERROR(SMALL($W$7:$W$1504,ROWS($W$7:W1414))),\"\",SMALL($W$7:$W$1504,ROWS($W$7:W1414)))","v":""}]
[null,"Rietavo sav.","Tarptautinės emigracijos lygis | %",1.955023166459487,1.3098411962443492,1.0273972602739725,0.78059325087066178,0.89296636085626901,1.1220546066575239,1.2887584534898557,1.6895874263261297,0.73558914002942355,0.74982958418541246,0.3602604960509907,1.1721412021262096,0.56372886016774371,null,{"$f":"ROWS($R$7:R1415)","v":1409},{"$f":"IF(ISNUMBER(SEARCH($R$3,B1415)),R1415,\"\")","v":""},{"$f":"IF(ISERROR(SMALL($S$7:$S$1504,ROWS($S$7:S1415))),\"\",SMALL($S$7:$S$1504,ROWS($S$7:S1415)))","v":""},{"$f":"IF($R$4=B1415,R1415,\"\")","v":""},{"$f":"IF(ISERROR(SMALL($U$7:$U$1504,ROWS(U$7:$U1415))),\"\",SMALL($U$7:$U$1504,ROWS(U$7:$U1415)))","v":""},{"$f":"IF(\"Lietuvos Respublika\"=B1415,R1415,\"\")","v":""},{"$f":"IF(ISERROR(SMALL($W$7:$W$1504,ROWS($W$7:W1415))),\"\",SMALL($W$7:$W$1504,ROWS($W$7:W1415)))","v":""}]
[null,"Telšių r. sav.","Tarptautinės emigracijos lygis | %",2.3313088305887755,1.6566071657891357,1.3733568765940749,1.3387504995337685,1.3373695386978719,1.5796371663102711,1.8121058081521226,1.9974336004648572,1.2957676554548838,1.1261773097997627,0.78909612625538017,0.99315326160559769,0.58213432304641821,null,{"$f":"ROWS($R$7:R1416)","v":1410},"",{"$f":"IF(ISERROR(SMALL($S$7:$S$1504,ROWS($S$7:S1416))),\"\",SMALL($S$7:$S$1504,ROWS($S$7:S1416)))","v":""},"",{"$f":"IF(ISERROR(SMALL($U$7:$U$1504,ROWS(U$7:$U1416))),\"\",SMALL($U$7:$U$1504,ROWS(U$7:$U1416)))","v":""},"",{"$f":"IF(ISERROR(SMALL($W$7:$W$1504,ROWS($W$7:W1416))),\"\",SMALL($W$7:$W$1504,ROWS($W$7:W1416)))","v":""}]
[null,"Utenos apskritis","Tarptautinės emigracijos lygis | %",2.1499896790174424,1.5312788068095153,1.2708558090934381,1.2964581512465143,1.1622231496742521,1.396730626401598,1.7083280994849892,1.8166615992702948,1.2467467701466486,1.0317705977126439,0.68756742830459083,0.88064322497077674,0.622844535773737,null,{"$f":"ROWS($R$7:R1417)","v":1411},"",{"$f":"IF(ISERROR(SMALL($S$7:$S$1504,ROWS($S$7:S1417))),\"\",SMALL($S$7:$S$1504,ROWS($S$7:S1417)))","v":""},"",{"$f":"IF(ISERROR(SMALL($U$7:$U$1504,ROWS(U$7:$U1417))),\"\",SMALL($U$7:$U$1504,ROWS(U$7:$U1417)))","v":""},"",{"$f":"IF(ISERROR(SMALL($W$7:$W$1504,ROWS($W$7:W1417))),\"\",SMALL($W$7:$W$1504,ROWS($W$7:W1417)))","v":""}]
[null,"Anykščių r. sav.","Tarptautinės emigracijos lygis | %",1.8659910295477113,1.1107596049070265,0.79861860565508314,1.0079087732205261,0.87834540745467515,1.1160543069724629,1.6511013910233674,1.7783022706926019,1.047076562238231,0.91774594733682135,0.48620236530880423,0.81103352561044362,0.40927694406548432,null,{"$f":"ROWS($R$7:R1418)","v":1412},"",{"$f":"IF(ISERROR(SMALL($S$7:$S$1504,ROWS($S$7:S1418))),\"\",SMALL($S$7:$S$1504,ROWS($S$7:S1418)))","v":""},"",{"$f":"IF(ISERROR(SMALL($U$7:$U$1504,ROWS(U$7:$U1418))),\"\",SMALL($U$7:$U$1504,ROWS(U$7:$U1418)))","v":""},"",{"$f":"IF(ISERROR(SMALL($W$7:$W$1504,ROWS($W$7:W1418))),\"\",SMALL($W$7:$W$1504,ROWS($W$7:W1418)))","v":""}]
[null,"Ignalinos r. sav.","Tarptautinės emigracijos lygis | %",0.89772362936838734,0.96443640747438208,0.90454519916849263,0.93926472283047147,0.71874631789796162,0.8451044307618012,1.1050409734293518,1.1645018875167956,0.84672884831646489,0.75080199303801787,0.36419666619974783,0.5539219038500991,0.39882451721242651,null,{"$f":"ROWS($R$7:R1419)","v":1413},"",{"$f":"IF(ISERROR(SMALL($S$7:$S$1504,ROWS($S$7:S1419))),\"\",SMALL($S$7:$S$1504,ROWS($S$7:S1419)))","v":""},"",{"$f":"IF(ISERROR(SMALL($U$7:$U$1504,ROWS(U$7:$U1419))),\"\",SMALL($U$7:$U$1504,ROWS(U$7:$U1419)))","v":""},"",{"$f":"IF(ISERROR(SMALL($W$7:$W$1504,ROWS($W$7:W1419))),\"\",SMALL($W$7:$W$1504,ROWS($W$7:W1419)))","v":""}]
[null,"Molėtų r. sav.","Tarptautinės emigracijos lygis | %",1.0954989283162657,0.75352455031599419,0.55415367868982235,0.54526177613974858,0.43281121187139321,0.80293886119128832,1.0943031863533954,1.2299376758038718,0.74804488269296154,0.68231756678616862,0.42320578381237872,0.82581703174417243,0.3565274229009448,null,{"$f":"ROWS($R$7:R1420)","v":1414},"",{"$f":"IF(ISERROR(SMALL($S$7:$S$1504,ROWS($S$7:S1420))),\"\",SMALL($S$7:$S$1504,ROWS($S$7:S1420)))","v":""},"",{"$f":"IF(ISERROR(SMALL($U$7:$U$1504,ROWS(U$7:$U1420))),\"\",SMALL($U$7:$U$1504,ROWS(U$7:$U1420)))","v":""},"",{"$f":"IF(ISERROR(SMALL($W$7:$W$1504,ROWS($W$7:W1420))),\"\",SMALL($W$7:$W$1504,ROWS($W$7:W1420)))","v":""}]
[null,"Utenos r. sav.","Tarptautinės emigracijos lygis | %",2.008360596146856,1.2010054929708593,1.1129304003227261,1.0657322377960368,1.0900788097517862,1.1808669656203288,1.5687371284737228,1.6521172638436481,1.0166162340075384,0.82022140617042383,0.71644042232277527,0.77564994115759067,0.8286554397219994,null,{"$f":"ROWS($R$7:R1421)","v":1415},"",{"$f":"IF(ISERROR(SMALL($S$7:$S$1504,ROWS($S$7:S1421))),\"\",SMALL($S$7:$S$1504,ROWS($S$7:S1421)))","v":""},"",{"$f":"IF(ISERROR(SMALL($U$7:$U$1504,ROWS(U$7:$U1421))),\"\",SMALL($U$7:$U$1504,ROWS(U$7:$U1421)))","v":""},"",{"$f":"IF(ISERROR(SMALL($W$7:$W$1504,ROWS($W$7:W1421))),\"\",SMALL($W$7:$W$1504,ROWS($W$7:W1421)))","v":""}]
[null,"Visagino sav.","Tarptautinės emigracijos lygis | %",5.254817987152034,4.167600268877437,3.4014551184021502,3.516147525320084,3.0873862413151971,3.6280045974713913,3.5171493119737116,3.5178533699556307,2.7169811320754715,2.2692559458869734,1.4904850951490485,1.4601905932984938,0.9941371399439205,null,{"$f":"ROWS($R$7:R1422)","v":1416},"",{"$f":"IF(ISERROR(SMALL($S$7:$S$1504,ROWS($S$7:S1422))),\"\",SMALL($S$7:$S$1504,ROWS($S$7:S1422)))","v":""},"",{"$f":"IF(ISERROR(SMALL($U$7:$U$1504,ROWS(U$7:$U1422))),\"\",SMALL($U$7:$U$1504,ROWS(U$7:$U1422)))","v":""},"",{"$f":"IF(ISERROR(SMALL($W$7:$W$1504,ROWS($W$7:W1422))),\"\",SMALL($W$7:$W$1504,ROWS($W$7:W1422)))","v":""}]
[null,"Zarasų r. sav.","Tarptautinės emigracijos lygis | %",1.4886351509977591,1.1840806929064795,0.98022741275976022,0.83980804387568564,0.74526928675400284,0.90882090882090871,1.274157166372005,1.5578868019347949,1.3121323767048025,0.90096058297449488,0.55499153976311333,0.87613697164258952,0.45627894306728412,null,{"$f":"ROWS($R$7:R1423)","v":1417},"",{"$f":"IF(ISERROR(SMALL($S$7:$S$1504,ROWS($S$7:S1423))),\"\",SMALL($S$7:$S$1504,ROWS($S$7:S1423)))","v":""},"",{"$f":"IF(ISERROR(SMALL($U$7:$U$1504,ROWS(U$7:$U1423))),\"\",SMALL($U$7:$U$1504,ROWS(U$7:$U1423)))","v":""},"",{"$f":"IF(ISERROR(SMALL($W$7:$W$1504,ROWS($W$7:W1423))),\"\",SMALL($W$7:$W$1504,ROWS($W$7:W1423)))","v":""}]
[null,"Vilniaus apskritis","Tarptautinės emigracijos lygis | %",1.9805490955598433,1.5110391176125089,1.1699381350707285,1.1513172175384236,1.1166142382259108,1.549629177718175,1.5089236485378925,1.3792889341463113,1.0269161696286788,0.96661239382466602,0.85270895065655927,0.89676242119714045,0.9013380490937497,null,{"$f":"ROWS($R$7:R1424)","v":1418},"",{"$f":"IF(ISERROR(SMALL($S$7:$S$1504,ROWS($S$7:S1424))),\"\",SMALL($S$7:$S$1504,ROWS($S$7:S1424)))","v":""},1418,{"$f":"IF(ISERROR(SMALL($U$7:$U$1504,ROWS(U$7:$U1424))),\"\",SMALL($U$7:$U$1504,ROWS(U$7:$U1424)))","v":""},"",{"$f":"IF(ISERROR(SMALL($W$7:$W$1504,ROWS($W$7:W1424))),\"\",SMALL($W$7:$W$1504,ROWS($W$7:W1424)))","v":""}]
[null,"Elektrėnų sav.","Tarptautinės emigracijos lygis | %",2.1311733249449514,1.3705787781350482,1.1732116669382433,0.99938309685379401,0.995908921856275,1.2343113623140221,1.5042949926670857,1.51598096601676,1.0419303130009281,0.96895973154362403,1.0272833139244719,0.79747537208409747,1.0001265983035827,null,{"$f":"ROWS($R$7:R1425)","v":1419},"",{"$f":"IF(ISERROR(SMALL($S$7:$S$1504,ROWS($S$7:S1425))),\"\",SMALL($S$7:$S$1504,ROWS($S$7:S1425)))","v":""},"",{"$f":"IF(ISERROR(SMALL($U$7:$U$1504,ROWS(U$7:$U1425))),\"\",SMALL($U$7:$U$1504,ROWS(U$7:$U1425)))","v":""},"",{"$f":"IF(ISERROR(SMALL($W$7:$W$1504,ROWS($W$7:W1425))),\"\",SMALL($W$7:$W$1504,ROWS($W$7:W1425)))","v":""}]
[null,"Šalčininkų r. sav.","Tarptautinės emigracijos lygis | %",1.0424401667904266,1.0022368765069865,0.72771197925873543,0.68179779312819588,0.87133402149492978,0.79680049223196436,1.1514338315598964,1.0562375107051098,0.74804160780788487,0.86433793663688063,0.84558944493797905,0.81336189583612262,0.67748382507367644,null,{"$f":"ROWS($R$7:R1426)","v":1420},"",{"$f":"IF(ISERROR(SMALL($S$7:$S$1504,ROWS($S$7:S1426))),\"\",SMALL($S$7:$S$1504,ROWS($S$7:S1426)))","v":""},"",{"$f":"IF(ISERROR(SMALL($U$7:$U$1504,ROWS(U$7:$U1426))),\"\",SMALL($U$7:$U$1504,ROWS(U$7:$U1426)))","v":""},"",{"$f":"IF(ISERROR(SMALL($W$7:$W$1504,ROWS($W$7:W1426))),\"\",SMALL($W$7:$W$1504,ROWS($W$7:W1426)))","v":""}]
[null,"Širvintų r. sav.","Tarptautinės emigracijos lygis | %",1.7976775346136669,1.353055842219929,0.98435577430128307,0.85357846355876565,0.95347989797157773,0.99981484910201812,1.0834168336673347,0.95444133367269035,0.77609623593325572,0.75578338590956884,0.46033758089265464,0.54827493982348219,0.35685429571774846,null,{"$f":"ROWS($R$7:R1427)","v":1421},"",{"$f":"IF(ISERROR(SMALL($S$7:$S$1504,ROWS($S$7:S1427))),\"\",SMALL($S$7:$S$1504,ROWS($S$7:S1427)))","v":""},"",{"$f":"IF(ISERROR(SMALL($U$7:$U$1504,ROWS(U$7:$U1427))),\"\",SMALL($U$7:$U$1504,ROWS(U$7:$U1427)))","v":""},"",{"$f":"IF(ISERROR(SMALL($W$7:$W$1504,ROWS($W$7:W1427))),\"\",SMALL($W$7:$W$1504,ROWS($W$7:W1427)))","v":""}]
[null,"Švenčionių r. sav.","Tarptautinės emigracijos lygis | %",1.0273609885260371,0.95674777962307755,0.74789080057473378,0.83596927248079533,0.86959867636307675,0.88801571709233795,1.0493727886780315,1.1600544936630475,0.82074713373101493,0.80735687764441755,0.409475167312434,0.71296540797465013,0.4872161630609691,null,{"$f":"ROWS($R$7:R1428)","v":1422},"",{"$f":"IF(ISERROR(SMALL($S$7:$S$1504,ROWS($S$7:S1428))),\"\",SMALL($S$7:$S$1504,ROWS($S$7:S1428)))","v":""},"",{"$f":"IF(ISERROR(SMALL($U$7:$U$1504,ROWS(U$7:$U1428))),\"\",SMALL($U$7:$U$1504,ROWS(U$7:$U1428)))","v":""},"",{"$f":"IF(ISERROR(SMALL($W$7:$W$1504,ROWS($W$7:W1428))),\"\",SMALL($W$7:$W$1504,ROWS($W$7:W1428)))","v":""}]
[null,"Trakų r. sav.","Tarptautinės emigracijos lygis | %",1.3820904117477686,0.92600681401240492,0.88950211366838894,0.85092504743833008,0.75230617667253785,1.0533285181172505,1.2811539514926509,1.1320060128232659,0.74404304381245201,0.70348980093389046,0.58712582136772939,0.8110123671617675,1.0128045256850877,null,{"$f":"ROWS($R$7:R1429)","v":1423},"",{"$f":"IF(ISERROR(SMALL($S$7:$S$1504,ROWS($S$7:S1429))),\"\",SMALL($S$7:$S$1504,ROWS($S$7:S1429)))","v":""},"",{"$f":"IF(ISERROR(SMALL($U$7:$U$1504,ROWS(U$7:$U1429))),\"\",SMALL($U$7:$U$1504,ROWS(U$7:$U1429)))","v":""},"",{"$f":"IF(ISERROR(SMALL($W$7:$W$1504,ROWS($W$7:W1429))),\"\",SMALL($W$7:$W$1504,ROWS($W$7:W1429)))","v":""}]
[null,"Ukmergės r. sav.","Tarptautinės emigracijos lygis | %",3.2121683351151717,2.1109042419362956,1.3895692077650881,1.5783510315933704,1.4664410603496898,1.6585018747092148,1.797715053763441,1.7546882628299014,1.2561489810260014,1.0178041543026706,0.61624481452534119,0.85447652376786243,0.60823318543766347,null,{"$f":"ROWS($R$7:R1430)","v":1424},"",{"$f":"IF(ISERROR(SMALL($S$7:$S$1504,ROWS($S$7:S1430))),\"\",SMALL($S$7:$S$1504,ROWS($S$7:S1430)))","v":""},"",{"$f":"IF(ISERROR(SMALL($U$7:$U$1504,ROWS(U$7:$U1430))),\"\",SMALL($U$7:$U$1504,ROWS(U$7:$U1430)))","v":""},"",{"$f":"IF(ISERROR(SMALL($W$7:$W$1504,ROWS($W$7:W1430))),\"\",SMALL($W$7:$W$1504,ROWS($W$7:W1430)))","v":""}]
[null,"Vilniaus m. sav.","Tarptautinės emigracijos lygis | %",2.1102214546593312,1.6560595321140896,1.2615467400077727,1.2415727206879259,1.1979666165897034,1.7169373549883991,1.6262357959242155,1.4354426024283378,1.0849241917178361,1.0100883176563511,0.9024677349226381,0.9389889432980022,0.97294057735544459,null,{"$f":"ROWS($R$7:R1431)","v":1425},1425,{"$f":"IF(ISERROR(SMALL($S$7:$S$1504,ROWS($S$7:S1431))),\"\",SMALL($S$7:$S$1504,ROWS($S$7:S1431)))","v":""},"",{"$f":"IF(ISERROR(SMALL($U$7:$U$1504,ROWS(U$7:$U1431))),\"\",SMALL($U$7:$U$1504,ROWS(U$7:$U1431)))","v":""},"",{"$f":"IF(ISERROR(SMALL($W$7:$W$1504,ROWS($W$7:W1431))),\"\",SMALL($W$7:$W$1504,ROWS($W$7:W1431)))","v":""}]
[null,"Vilniaus r. sav.","Tarptautinės emigracijos lygis | %",1.5560621588270973,1.0693114932657464,0.97648465524113193,0.92073279808066666,0.85706792551796496,1.3343256047964447,1.1227960027206614,1.2051071610376389,0.88909398554068608,0.89218282699104789,0.8567725595338207,0.84304360357392838,0.76721482014964182,null,{"$f":"ROWS($R$7:R1432)","v":1426},"",{"$f":"IF(ISERROR(SMALL($S$7:$S$1504,ROWS($S$7:S1432))),\"\",SMALL($S$7:$S$1504,ROWS($S$7:S1432)))","v":""},"",{"$f":"IF(ISERROR(SMALL($U$7:$U$1504,ROWS(U$7:$U1432))),\"\",SMALL($U$7:$U$1504,ROWS(U$7:$U1432)))","v":""},"",{"$f":"IF(ISERROR(SMALL($W$7:$W$1504,ROWS($W$7:W1432))),\"\",SMALL($W$7:$W$1504,ROWS($W$7:W1432)))","v":""}]
[null,"Lietuvos Respublika","Tarptautinės imigracijos lygis | %",0.16830885918686125,0.51797900674181796,0.66414014719324388,0.74419589077823933,0.82847747229456614,0.76181361901057176,0.70294198758747117,0.72012368817314931,1.0320741105883438,1.4339053279637484,1.5420987299584596,1.5972909648979128,3.367207906812566,null,{"$f":"ROWS($R$7:R1433)","v":1427},"",{"$f":"IF(ISERROR(SMALL($S$7:$S$1504,ROWS($S$7:S1433))),\"\",SMALL($S$7:$S$1504,ROWS($S$7:S1433)))","v":""},"",{"$f":"IF(ISERROR(SMALL($U$7:$U$1504,ROWS(U$7:$U1433))),\"\",SMALL($U$7:$U$1504,ROWS(U$7:$U1433)))","v":""},1427,{"$f":"IF(ISERROR(SMALL($W$7:$W$1504,ROWS($W$7:W1433))),\"\",SMALL($W$7:$W$1504,ROWS($W$7:W1433)))","v":""}]
[null,"Alytaus apskritis","Tarptautinės imigracijos lygis | %",0.14973579675531193,0.53991269496847316,0.70591759519142483,0.82055697208516831,0.88355842236108317,0.82002471681494482,0.65498528201336481,0.51410021736643408,0.82116188932927492,1.0601570603052304,1.0800141099828127,1.0876084317081376,2.0658870402479064,null,{"$f":"ROWS($R$7:R1434)","v":1428},"",{"$f":"IF(ISERROR(SMALL($S$7:$S$1504,ROWS($S$7:S1434))),\"\",SMALL($S$7:$S$1504,ROWS($S$7:S1434)))","v":""},"",{"$f":"IF(ISERROR(SMALL($U$7:$U$1504,ROWS(U$7:$U1434))),\"\",SMALL($U$7:$U$1504,ROWS(U$7:$U1434)))","v":""},"",{"$f":"IF(ISERROR(SMALL($W$7:$W$1504,ROWS($W$7:W1434))),\"\",SMALL($W$7:$W$1504,ROWS($W$7:W1434)))","v":""}]
[null,"Alytaus m. sav.","Tarptautinės imigracijos lygis | %",0.1807442791208082,0.67666515174468511,0.88949531935472725,0.9697460356570865,1.0359732790340441,0.96323355687621537,0.62112959785122734,0.63454939324808768,0.92000470791321742,1.2381616987339248,1.1222121303865173,1.2035973976272483,2.500723589001447,null,{"$f":"ROWS($R$7:R1435)","v":1429},"",{"$f":"IF(ISERROR(SMALL($S$7:$S$1504,ROWS($S$7:S1435))),\"\",SMALL($S$7:$S$1504,ROWS($S$7:S1435)))","v":""},"",{"$f":"IF(ISERROR(SMALL($U$7:$U$1504,ROWS(U$7:$U1435))),\"\",SMALL($U$7:$U$1504,ROWS(U$7:$U1435)))","v":""},"",{"$f":"IF(ISERROR(SMALL($W$7:$W$1504,ROWS($W$7:W1435))),\"\",SMALL($W$7:$W$1504,ROWS($W$7:W1435)))","v":""}]
[null,"Alytaus r. sav.","Tarptautinės imigracijos lygis | %",0.1187524012434075,0.48424425850097919,0.54697902047572788,0.7641087217552669,0.74163821272533681,0.74505152346356296,0.62928418923474549,0.37234042553191493,0.81179398812942749,0.88393543428132215,1.0672441127566605,0.89002156439913738,0.76795841209829863,null,{"$f":"ROWS($R$7:R1436)","v":1430},"",{"$f":"IF(ISERROR(SMALL($S$7:$S$1504,ROWS($S$7:S1436))),\"\",SMALL($S$7:$S$1504,ROWS($S$7:S1436)))","v":""},"",{"$f":"IF(ISERROR(SMALL($U$7:$U$1504,ROWS(U$7:$U1436))),\"\",SMALL($U$7:$U$1504,ROWS(U$7:$U1436)))","v":""},"",{"$f":"IF(ISERROR(SMALL($W$7:$W$1504,ROWS($W$7:W1436))),\"\",SMALL($W$7:$W$1504,ROWS($W$7:W1436)))","v":""}]
[null,"Druskininkų sav.","Tarptautinės imigracijos lygis | %",0.24252223120452709,0.81162093613096598,1.1564753254050006,1.2902001707617874,1.2814974802015839,1.1622252480062245,1.3748763600395648,0.77183070171013468,1.2010470666735102,1.3621711552459188,1.5209524309015576,1.3285871854005815,4.007785985226592,null,{"$f":"ROWS($R$7:R1437)","v":1431},"",{"$f":"IF(ISERROR(SMALL($S$7:$S$1504,ROWS($S$7:S1437))),\"\",SMALL($S$7:$S$1504,ROWS($S$7:S1437)))","v":""},"",{"$f":"IF(ISERROR(SMALL($U$7:$U$1504,ROWS(U$7:$U1437))),\"\",SMALL($U$7:$U$1504,ROWS(U$7:$U1437)))","v":""},"",{"$f":"IF(ISERROR(SMALL($W$7:$W$1504,ROWS($W$7:W1437))),\"\",SMALL($W$7:$W$1504,ROWS($W$7:W1437)))","v":""}]
[null,"Lazdijų r. sav.","Tarptautinės imigracijos lygis | %",7.8968149513029745E-2,0.18845066630771301,0.26543407624365017,0.3916814324349529,0.40412684828602674,0.47997672840104721,0.3775647076357494,0.31847133757961787,0.50251256281407031,0.81024145195268193,0.78526793120610516,0.89651355838406188,1.0977818017202354,null,{"$f":"ROWS($R$7:R1438)","v":1432},"",{"$f":"IF(ISERROR(SMALL($S$7:$S$1504,ROWS($S$7:S1438))),\"\",SMALL($S$7:$S$1504,ROWS($S$7:S1438)))","v":""},"",{"$f":"IF(ISERROR(SMALL($U$7:$U$1504,ROWS(U$7:$U1438))),\"\",SMALL($U$7:$U$1504,ROWS(U$7:$U1438)))","v":""},"",{"$f":"IF(ISERROR(SMALL($W$7:$W$1504,ROWS($W$7:W1438))),\"\",SMALL($W$7:$W$1504,ROWS($W$7:W1438)))","v":""}]
[null,"Varėnos r. sav.","Tarptautinės imigracijos lygis | %",9.2446361850468006E-2,0.35677475620391663,0.45412155861006365,0.50486240430374507,0.76245840178609037,0.56730273336771531,0.36997885835095135,0.33964314826555569,0.53438661710037172,0.79779656187672143,0.84610549726828799,0.97416551263072448,1.5138282387190682,null,{"$f":"ROWS($R$7:R1439)","v":1433},"",{"$f":"IF(ISERROR(SMALL($S$7:$S$1504,ROWS($S$7:S1439))),\"\",SMALL($S$7:$S$1504,ROWS($S$7:S1439)))","v":""},"",{"$f":"IF(ISERROR(SMALL($U$7:$U$1504,ROWS(U$7:$U1439))),\"\",SMALL($U$7:$U$1504,ROWS(U$7:$U1439)))","v":""},"",{"$f":"IF(ISERROR(SMALL($W$7:$W$1504,ROWS($W$7:W1439))),\"\",SMALL($W$7:$W$1504,ROWS($W$7:W1439)))","v":""}]
[null,"Kauno apskritis","Tarptautinės imigracijos lygis | %",0.16659651227863065,0.50270113004436856,0.64891392036925533,0.70928957488386124,0.769555476182745,0.7357769608223329,0.67117955011793584,0.64696298100770877,0.93727046210812937,1.3024738464603556,1.4841807318815279,1.5083334942737403,3.07365857900687,null,{"$f":"ROWS($R$7:R1440)","v":1434},"",{"$f":"IF(ISERROR(SMALL($S$7:$S$1504,ROWS($S$7:S1440))),\"\",SMALL($S$7:$S$1504,ROWS($S$7:S1440)))","v":""},"",{"$f":"IF(ISERROR(SMALL($U$7:$U$1504,ROWS(U$7:$U1440))),\"\",SMALL($U$7:$U$1504,ROWS(U$7:$U1440)))","v":""},"",{"$f":"IF(ISERROR(SMALL($W$7:$W$1504,ROWS($W$7:W1440))),\"\",SMALL($W$7:$W$1504,ROWS($W$7:W1440)))","v":""}]
[null,"Birštono sav.","Tarptautinės imigracijos lygis | %",0.17256255392579811,0.52596975673898749,0.75622775800711739,0.54360135900339746,0.9610983981693364,0.89634566766260626,0.53588070829450141,0.35620992638328186,0.77238715906348065,0.58636696799413635,0.88888888888888884,1.2667478684531059,3.0724213606437454,null,{"$f":"ROWS($R$7:R1441)","v":1435},"",{"$f":"IF(ISERROR(SMALL($S$7:$S$1504,ROWS($S$7:S1441))),\"\",SMALL($S$7:$S$1504,ROWS($S$7:S1441)))","v":""},"",{"$f":"IF(ISERROR(SMALL($U$7:$U$1504,ROWS(U$7:$U1441))),\"\",SMALL($U$7:$U$1504,ROWS(U$7:$U1441)))","v":""},"",{"$f":"IF(ISERROR(SMALL($W$7:$W$1504,ROWS($W$7:W1441))),\"\",SMALL($W$7:$W$1504,ROWS($W$7:W1441)))","v":""}]
[null,"Jonavos r. sav.","Tarptautinės imigracijos lygis | %",0.21543985637342908,0.49152285473009549,0.81284694686756553,0.7437352034662974,0.79007538541643085,0.71205439176773244,0.99116117446768814,1.030586678012575,0.89386008938600903,0.93968161944102224,1.0452025690493052,1.4098788083627058,2.4778419107880314,null,{"$f":"ROWS($R$7:R1442)","v":1436},"",{"$f":"IF(ISERROR(SMALL($S$7:$S$1504,ROWS($S$7:S1442))),\"\",SMALL($S$7:$S$1504,ROWS($S$7:S1442)))","v":""},"",{"$f":"IF(ISERROR(SMALL($U$7:$U$1504,ROWS(U$7:$U1442))),\"\",SMALL($U$7:$U$1504,ROWS(U$7:$U1442)))","v":""},"",{"$f":"IF(ISERROR(SMALL($W$7:$W$1504,ROWS($W$7:W1442))),\"\",SMALL($W$7:$W$1504,ROWS($W$7:W1442)))","v":""}]
[null,"Kaišiadorių r. sav.","Tarptautinės imigracijos lygis | %",8.4407835375614873E-2,0.32388423367207464,0.41019454079324386,0.48713235294117646,0.62235499128703009,0.54606862157128877,0.38534408015156868,0.36992175991095688,0.68814201655530072,0.7201749957933703,1.0661852369111284,1.2446729351281878,1.8793915001023263,null,{"$f":"ROWS($R$7:R1443)","v":1437},"",{"$f":"IF(ISERROR(SMALL($S$7:$S$1504,ROWS($S$7:S1443))),\"\",SMALL($S$7:$S$1504,ROWS($S$7:S1443)))","v":""},"",{"$f":"IF(ISERROR(SMALL($U$7:$U$1504,ROWS(U$7:$U1443))),\"\",SMALL($U$7:$U$1504,ROWS(U$7:$U1443)))","v":""},"",{"$f":"IF(ISERROR(SMALL($W$7:$W$1504,ROWS($W$7:W1443))),\"\",SMALL($W$7:$W$1504,ROWS($W$7:W1443)))","v":""}]
[null,"Kauno m. sav.","Tarptautinės imigracijos lygis | %",0.17747216562419807,0.52954025843347785,0.6608792511114493,0.74054673432640372,0.79488577233757862,0.74665972409971926,0.69123409501166733,0.66947306102358817,0.98692790001356245,1.4395956496231779,1.6460071881940608,1.522480214796416,4.140451655484175,null,{"$f":"ROWS($R$7:R1444)","v":1438},"",{"$f":"IF(ISERROR(SMALL($S$7:$S$1504,ROWS($S$7:S1444))),\"\",SMALL($S$7:$S$1504,ROWS($S$7:S1444)))","v":""},"",{"$f":"IF(ISERROR(SMALL($U$7:$U$1504,ROWS(U$7:$U1444))),\"\",SMALL($U$7:$U$1504,ROWS(U$7:$U1444)))","v":""},"",{"$f":"IF(ISERROR(SMALL($W$7:$W$1504,ROWS($W$7:W1444))),\"\",SMALL($W$7:$W$1504,ROWS($W$7:W1444)))","v":""}]
[null,"Kauno r. sav.","Tarptautinės imigracijos lygis | %",0.13649508386350492,0.48711867559523808,0.64569229342483536,0.70293504188801437,0.72692469834903772,0.71720850757677956,0.72651560458059228,0.69672755775218276,1.0726230800366416,1.5389273446716989,1.764190338712172,1.9575075043109871,1.6338392655425249,null,{"$f":"ROWS($R$7:R1445)","v":1439},"",{"$f":"IF(ISERROR(SMALL($S$7:$S$1504,ROWS($S$7:S1445))),\"\",SMALL($S$7:$S$1504,ROWS($S$7:S1445)))","v":""},"",{"$f":"IF(ISERROR(SMALL($U$7:$U$1504,ROWS(U$7:$U1445))),\"\",SMALL($U$7:$U$1504,ROWS(U$7:$U1445)))","v":""},"",{"$f":"IF(ISERROR(SMALL($W$7:$W$1504,ROWS($W$7:W1445))),\"\",SMALL($W$7:$W$1504,ROWS($W$7:W1445)))","v":""}]
[null,"Kėdainių r. sav.","Tarptautinės imigracijos lygis | %",0.20130941801628613,0.62519829050258469,0.72654462242562934,0.79338842975206614,0.86490775639754014,0.89906255050913197,0.61696552008748939,0.67937945776630193,1.0205846739318456,1.4305147220150072,1.432983048588123,1.4952217912323662,2.2561799712255306,null,{"$f":"ROWS($R$7:R1446)","v":1440},"",{"$f":"IF(ISERROR(SMALL($S$7:$S$1504,ROWS($S$7:S1446))),\"\",SMALL($S$7:$S$1504,ROWS($S$7:S1446)))","v":""},"",{"$f":"IF(ISERROR(SMALL($U$7:$U$1504,ROWS(U$7:$U1446))),\"\",SMALL($U$7:$U$1504,ROWS(U$7:$U1446)))","v":""},"",{"$f":"IF(ISERROR(SMALL($W$7:$W$1504,ROWS($W$7:W1446))),\"\",SMALL($W$7:$W$1504,ROWS($W$7:W1446)))","v":""}]
[null,"Prienų r. sav.","Tarptautinės imigracijos lygis | %",0.14772018514263205,0.38785834738617198,0.5617592656025211,0.52829139441123307,0.67369757680505094,0.73400408177879628,0.48541917588233147,0.28723840787853916,0.60831875902973154,0.76665254074045541,0.88550809440218448,0.99809129950691899,1.6665331303581443,null,{"$f":"ROWS($R$7:R1447)","v":1441},"",{"$f":"IF(ISERROR(SMALL($S$7:$S$1504,ROWS($S$7:S1447))),\"\",SMALL($S$7:$S$1504,ROWS($S$7:S1447)))","v":""},"",{"$f":"IF(ISERROR(SMALL($U$7:$U$1504,ROWS(U$7:$U1447))),\"\",SMALL($U$7:$U$1504,ROWS(U$7:$U1447)))","v":""},"",{"$f":"IF(ISERROR(SMALL($W$7:$W$1504,ROWS($W$7:W1447))),\"\",SMALL($W$7:$W$1504,ROWS($W$7:W1447)))","v":""}]
[null,"Raseinių r. sav.","Tarptautinės imigracijos lygis | %",0.1202928870292887,0.40013964605097085,0.51301747551507504,0.66252935256625289,0.68366854840997415,0.64063717427062594,0.45159386068476975,0.35770583242391168,0.55874592581095761,0.70629968644094632,0.70830233836799372,0.857438685044975,1.4573806625653849,null,{"$f":"ROWS($R$7:R1448)","v":1442},"",{"$f":"IF(ISERROR(SMALL($S$7:$S$1504,ROWS($S$7:S1448))),\"\",SMALL($S$7:$S$1504,ROWS($S$7:S1448)))","v":""},"",{"$f":"IF(ISERROR(SMALL($U$7:$U$1504,ROWS(U$7:$U1448))),\"\",SMALL($U$7:$U$1504,ROWS(U$7:$U1448)))","v":""},"",{"$f":"IF(ISERROR(SMALL($W$7:$W$1504,ROWS($W$7:W1448))),\"\",SMALL($W$7:$W$1504,ROWS($W$7:W1448)))","v":""}]
[null,"Klaipėdos apskritis","Tarptautinės imigracijos lygis | %",0.21264514334716203,0.56432371552631189,0.77532875680251179,0.86107974070721172,0.84806967396703403,0.86360554548271418,0.77969264918791059,0.83166081284495741,1.2813123057007059,1.7662481026631709,1.9359443026455621,1.9024168427304478,4.6407598210689223,null,{"$f":"ROWS($R$7:R1449)","v":1443},"",{"$f":"IF(ISERROR(SMALL($S$7:$S$1504,ROWS($S$7:S1449))),\"\",SMALL($S$7:$S$1504,ROWS($S$7:S1449)))","v":""},"",{"$f":"IF(ISERROR(SMALL($U$7:$U$1504,ROWS(U$7:$U1449))),\"\",SMALL($U$7:$U$1504,ROWS(U$7:$U1449)))","v":""},"",{"$f":"IF(ISERROR(SMALL($W$7:$W$1504,ROWS($W$7:W1449))),\"\",SMALL($W$7:$W$1504,ROWS($W$7:W1449)))","v":""}]
[null,"Klaipėdos m. sav.","Tarptautinės imigracijos lygis | %",0.22958505522124747,0.59559187716691431,0.87296506884562763,0.9548957403291477,0.91754241559949723,0.90766198126699049,0.85068512871520374,0.86403879847310949,1.3349056603773586,2.1753913482578691,2.3799142747902149,2.2606855024256847,6.3864853728883393,null,{"$f":"ROWS($R$7:R1450)","v":1444},"",{"$f":"IF(ISERROR(SMALL($S$7:$S$1504,ROWS($S$7:S1450))),\"\",SMALL($S$7:$S$1504,ROWS($S$7:S1450)))","v":""},"",{"$f":"IF(ISERROR(SMALL($U$7:$U$1504,ROWS(U$7:$U1450))),\"\",SMALL($U$7:$U$1504,ROWS(U$7:$U1450)))","v":""},"",{"$f":"IF(ISERROR(SMALL($W$7:$W$1504,ROWS($W$7:W1450))),\"\",SMALL($W$7:$W$1504,ROWS($W$7:W1450)))","v":""}]
[null,"Klaipėdos r. sav.","Tarptautinės imigracijos lygis | %",0.13770097554353095,0.43823770012854973,0.52418024034634725,0.65365778411939379,0.67084675344475997,0.7376046664785022,0.92512072825503733,1.4679594821515627,1.9725931744784848,2.0206109059016009,2.3819221557861812,2.2339840527907615,3.8513327168605311,null,{"$f":"ROWS($R$7:R1451)","v":1445},"",{"$f":"IF(ISERROR(SMALL($S$7:$S$1504,ROWS($S$7:S1451))),\"\",SMALL($S$7:$S$1504,ROWS($S$7:S1451)))","v":""},"",{"$f":"IF(ISERROR(SMALL($U$7:$U$1504,ROWS(U$7:$U1451))),\"\",SMALL($U$7:$U$1504,ROWS(U$7:$U1451)))","v":""},"",{"$f":"IF(ISERROR(SMALL($W$7:$W$1504,ROWS($W$7:W1451))),\"\",SMALL($W$7:$W$1504,ROWS($W$7:W1451)))","v":""}]
[null,"Kretingos r. sav.","Tarptautinės imigracijos lygis | %",0.20697530570490558,0.52222492105902352,0.60631351563650648,0.57724705182836189,0.59830771541581129,0.61107026040213996,0.52524524318339816,0.36861781391336174,0.71769067796610164,0.93330844510813049,0.91782398116186348,1.0527437968071214,1.6543676905453286,null,{"$f":"ROWS($R$7:R1452)","v":1446},"",{"$f":"IF(ISERROR(SMALL($S$7:$S$1504,ROWS($S$7:S1452))),\"\",SMALL($S$7:$S$1504,ROWS($S$7:S1452)))","v":""},"",{"$f":"IF(ISERROR(SMALL($U$7:$U$1504,ROWS(U$7:$U1452))),\"\",SMALL($U$7:$U$1504,ROWS(U$7:$U1452)))","v":""},"",{"$f":"IF(ISERROR(SMALL($W$7:$W$1504,ROWS($W$7:W1452))),\"\",SMALL($W$7:$W$1504,ROWS($W$7:W1452)))","v":""}]
[null,"Neringos sav.","Tarptautinės imigracijos lygis | %",0.44301248489730166,0.1536688436419516,0.74626865671641784,0.43859649122807015,0.56838365896980458,0.64406779661016944,0.65402223675604965,0.75925340082252446,1.1976047904191618,1.4604810996563573,1.1997767857142858,1.2247071352502663,4.8965169106511865,null,{"$f":"ROWS($R$7:R1453)","v":1447},"",{"$f":"IF(ISERROR(SMALL($S$7:$S$1504,ROWS($S$7:S1453))),\"\",SMALL($S$7:$S$1504,ROWS($S$7:S1453)))","v":""},"",{"$f":"IF(ISERROR(SMALL($U$7:$U$1504,ROWS(U$7:$U1453))),\"\",SMALL($U$7:$U$1504,ROWS(U$7:$U1453)))","v":""},"",{"$f":"IF(ISERROR(SMALL($W$7:$W$1504,ROWS($W$7:W1453))),\"\",SMALL($W$7:$W$1504,ROWS($W$7:W1453)))","v":""}]
[null,"Palangos m. sav.","Tarptautinės imigracijos lygis | %",0.43146573286643325,0.84393580973083571,1.1210471747019179,1.3805678562125552,1.4314529247185894,1.3842173350582148,0.89700567888487348,0.59682127797599738,1.030795000644247,1.3938820561337117,1.7683302526186075,1.8622857481762647,6.5796969351714711,null,{"$f":"ROWS($R$7:R1454)","v":1448},"",{"$f":"IF(ISERROR(SMALL($S$7:$S$1504,ROWS($S$7:S1454))),\"\",SMALL($S$7:$S$1504,ROWS($S$7:S1454)))","v":""},"",{"$f":"IF(ISERROR(SMALL($U$7:$U$1504,ROWS(U$7:$U1454))),\"\",SMALL($U$7:$U$1504,ROWS(U$7:$U1454)))","v":""},"",{"$f":"IF(ISERROR(SMALL($W$7:$W$1504,ROWS($W$7:W1454))),\"\",SMALL($W$7:$W$1504,ROWS($W$7:W1454)))","v":""}]
[null,"Skuodo r. sav.","Tarptautinės imigracijos lygis | %",8.5535069378445155E-2,0.26948895095301095,0.40869872344719715,0.59864653826132219,0.5667539966850238,0.70029543713754239,0.46049306452518668,0.38294168842471715,0.65257738130874687,0.84735355520078603,0.8000503968753937,1.3527834923009787,1.2006641972154808,null,{"$f":"ROWS($R$7:R1455)","v":1449},"",{"$f":"IF(ISERROR(SMALL($S$7:$S$1504,ROWS($S$7:S1455))),\"\",SMALL($S$7:$S$1504,ROWS($S$7:S1455)))","v":""},"",{"$f":"IF(ISERROR(SMALL($U$7:$U$1504,ROWS(U$7:$U1455))),\"\",SMALL($U$7:$U$1504,ROWS(U$7:$U1455)))","v":""},"",{"$f":"IF(ISERROR(SMALL($W$7:$W$1504,ROWS($W$7:W1455))),\"\",SMALL($W$7:$W$1504,ROWS($W$7:W1455)))","v":""}]
[null,"Šilutės r. sav.","Tarptautinės imigracijos lygis | %",0.21054440768272248,0.69559382688436588,0.91911343372527454,0.99224878595442667,0.97792546878708764,0.99389670228933968,0.666699590103215,0.55688348675176735,0.97980611794058792,1.1682489451476792,1.0760747363349217,1.1320268179473956,2.2621613900215567,null,{"$f":"ROWS($R$7:R1456)","v":1450},"",{"$f":"IF(ISERROR(SMALL($S$7:$S$1504,ROWS($S$7:S1456))),\"\",SMALL($S$7:$S$1504,ROWS($S$7:S1456)))","v":""},"",{"$f":"IF(ISERROR(SMALL($U$7:$U$1504,ROWS(U$7:$U1456))),\"\",SMALL($U$7:$U$1504,ROWS(U$7:$U1456)))","v":""},"",{"$f":"IF(ISERROR(SMALL($W$7:$W$1504,ROWS($W$7:W1456))),\"\",SMALL($W$7:$W$1504,ROWS($W$7:W1456)))","v":""}]
[null,"Marijampolės apskritis","Tarptautinės imigracijos lygis | %",0.10444878973001202,0.42740094189960121,0.51753407996756695,0.61634572035808599,0.64143220499676346,0.61222454880845545,0.45306651994647429,0.49259365210050027,0.81081274154718785,1.0634356817537973,1.1056275780789628,1.2150553290623181,1.9925088131609869,null,{"$f":"ROWS($R$7:R1457)","v":1451},"",{"$f":"IF(ISERROR(SMALL($S$7:$S$1504,ROWS($S$7:S1457))),\"\",SMALL($S$7:$S$1504,ROWS($S$7:S1457)))","v":""},"",{"$f":"IF(ISERROR(SMALL($U$7:$U$1504,ROWS(U$7:$U1457))),\"\",SMALL($U$7:$U$1504,ROWS(U$7:$U1457)))","v":""},"",{"$f":"IF(ISERROR(SMALL($W$7:$W$1504,ROWS($W$7:W1457))),\"\",SMALL($W$7:$W$1504,ROWS($W$7:W1457)))","v":""}]
[null,"Kalvarijos sav.","Tarptautinės imigracijos lygis | %",5.7180199313837603E-2,0.4078914509281612,0.34602076124567477,0.6748099427692833,0.57953464233197816,0.62297095726945684,0.4648252435863055,0.35711015474773372,0.67879702083529747,1.0471204188481675,0.98311817279046665,1.0493703777733361,2.1682129891085111,null,{"$f":"ROWS($R$7:R1458)","v":1452},"",{"$f":"IF(ISERROR(SMALL($S$7:$S$1504,ROWS($S$7:S1458))),\"\",SMALL($S$7:$S$1504,ROWS($S$7:S1458)))","v":""},"",{"$f":"IF(ISERROR(SMALL($U$7:$U$1504,ROWS(U$7:$U1458))),\"\",SMALL($U$7:$U$1504,ROWS(U$7:$U1458)))","v":""},"",{"$f":"IF(ISERROR(SMALL($W$7:$W$1504,ROWS($W$7:W1458))),\"\",SMALL($W$7:$W$1504,ROWS($W$7:W1458)))","v":""}]
[null,"Kazlų Rūdos sav.","Tarptautinės imigracijos lygis | %",0.16337442447645925,0.43332826516648931,0.49666304516529569,0.70156077565820596,0.71633237822349571,0.73174654229655844,0.55501142670584391,0.48555881121808292,0.5847450339668071,0.92860271572492337,0.89873642996974556,1.0903143739778303,1.6445865692096848,null,{"$f":"ROWS($R$7:R1459)","v":1453},"",{"$f":"IF(ISERROR(SMALL($S$7:$S$1504,ROWS($S$7:S1459))),\"\",SMALL($S$7:$S$1504,ROWS($S$7:S1459)))","v":""},"",{"$f":"IF(ISERROR(SMALL($U$7:$U$1504,ROWS(U$7:$U1459))),\"\",SMALL($U$7:$U$1504,ROWS(U$7:$U1459)))","v":""},"",{"$f":"IF(ISERROR(SMALL($W$7:$W$1504,ROWS($W$7:W1459))),\"\",SMALL($W$7:$W$1504,ROWS($W$7:W1459)))","v":""}]
[null,"Marijampolės sav.","Tarptautinės imigracijos lygis | %",0.13118110992017148,0.51481317528240944,0.62196728418735725,0.68371439692666991,0.71280478401672343,0.64970033874750277,0.52631578947368418,0.6524339410634673,1.0028521483117121,1.2349112755187184,1.3110290552385215,1.339588411002584,2.6494926698592685,null,{"$f":"ROWS($R$7:R1460)","v":1454},"",{"$f":"IF(ISERROR(SMALL($S$7:$S$1504,ROWS($S$7:S1460))),\"\",SMALL($S$7:$S$1504,ROWS($S$7:S1460)))","v":""},"",{"$f":"IF(ISERROR(SMALL($U$7:$U$1504,ROWS(U$7:$U1460))),\"\",SMALL($U$7:$U$1504,ROWS(U$7:$U1460)))","v":""},"",{"$f":"IF(ISERROR(SMALL($W$7:$W$1504,ROWS($W$7:W1460))),\"\",SMALL($W$7:$W$1504,ROWS($W$7:W1460)))","v":""}]
[null,"Šakių r. sav.","Tarptautinės imigracijos lygis | %",5.4482716871481332E-2,0.30333044447195745,0.35946269786214291,0.39509186688937425,0.52956751985878203,0.37991135401739595,0.28994405785236732,0.32644178454842221,0.56699169375225711,0.70690995225581998,0.69349704411095958,0.75120192307692313,1.3821885289838425,null,{"$f":"ROWS($R$7:R1461)","v":1455},"",{"$f":"IF(ISERROR(SMALL($S$7:$S$1504,ROWS($S$7:S1461))),\"\",SMALL($S$7:$S$1504,ROWS($S$7:S1461)))","v":""},"",{"$f":"IF(ISERROR(SMALL($U$7:$U$1504,ROWS(U$7:$U1461))),\"\",SMALL($U$7:$U$1504,ROWS(U$7:$U1461)))","v":""},"",{"$f":"IF(ISERROR(SMALL($W$7:$W$1504,ROWS($W$7:W1461))),\"\",SMALL($W$7:$W$1504,ROWS($W$7:W1461)))","v":""}]
[null,"Vilkaviškio r. sav.","Tarptautinės imigracijos lygis | %",9.9034984684124472E-2,0.39980128220292871,0.54290126435672237,0.64443132624950805,0.61712909537905769,0.69433768895721237,0.43382236945890518,0.42402826855123671,0.82045250896057353,1.1232422544872529,1.2049242204285466,1.4592518845114493,1.4792387543252594,null,{"$f":"ROWS($R$7:R1462)","v":1456},"",{"$f":"IF(ISERROR(SMALL($S$7:$S$1504,ROWS($S$7:S1462))),\"\",SMALL($S$7:$S$1504,ROWS($S$7:S1462)))","v":""},"",{"$f":"IF(ISERROR(SMALL($U$7:$U$1504,ROWS(U$7:$U1462))),\"\",SMALL($U$7:$U$1504,ROWS(U$7:$U1462)))","v":""},"",{"$f":"IF(ISERROR(SMALL($W$7:$W$1504,ROWS($W$7:W1462))),\"\",SMALL($W$7:$W$1504,ROWS($W$7:W1462)))","v":""}]
[null,"Panevėžio apskritis","Tarptautinės imigracijos lygis | %",0.11237802872492052,0.4106908205377558,0.48215652487117255,0.49595915923905814,0.54034445377123308,0.49829114439722638,0.41005714486200595,0.3434288804759329,0.65444844949254855,0.86711447226267091,0.88557223425675868,0.93018267948562527,1.8766819207947858,null,{"$f":"ROWS($R$7:R1463)","v":1457},"",{"$f":"IF(ISERROR(SMALL($S$7:$S$1504,ROWS($S$7:S1463))),\"\",SMALL($S$7:$S$1504,ROWS($S$7:S1463)))","v":""},"",{"$f":"IF(ISERROR(SMALL($U$7:$U$1504,ROWS(U$7:$U1463))),\"\",SMALL($U$7:$U$1504,ROWS(U$7:$U1463)))","v":""},"",{"$f":"IF(ISERROR(SMALL($W$7:$W$1504,ROWS($W$7:W1463))),\"\",SMALL($W$7:$W$1504,ROWS($W$7:W1463)))","v":""}]
[null,"Biržų r. sav.","Tarptautinės imigracijos lygis | %",0.13157894736842105,0.3395646423848161,0.3585934355446595,0.43738317757009348,0.54951345163136811,0.51018421155119364,0.3715392912788143,0.29737320337022966,0.57082002129925458,0.81499237306602756,0.94645634303488113,0.93770349468200553,1.3894420107084384,null,{"$f":"ROWS($R$7:R1464)","v":1458},"",{"$f":"IF(ISERROR(SMALL($S$7:$S$1504,ROWS($S$7:S1464))),\"\",SMALL($S$7:$S$1504,ROWS($S$7:S1464)))","v":""},"",{"$f":"IF(ISERROR(SMALL($U$7:$U$1504,ROWS(U$7:$U1464))),\"\",SMALL($U$7:$U$1504,ROWS(U$7:$U1464)))","v":""},"",{"$f":"IF(ISERROR(SMALL($W$7:$W$1504,ROWS($W$7:W1464))),\"\",SMALL($W$7:$W$1504,ROWS($W$7:W1464)))","v":""}]
[null,"Kupiškio r. sav.","Tarptautinės imigracijos lygis | %",7.7257363592467404E-2,0.40308534461308781,0.54508405501782986,0.49893456681045684,0.41869832520669914,0.60156080641664855,0.50704853178804254,0.35667031007305988,0.80349757769112606,0.88789562696303459,1.0364612252452341,0.94621817959831511,1.5891737538022224,null,{"$f":"ROWS($R$7:R1465)","v":1459},"",{"$f":"IF(ISERROR(SMALL($S$7:$S$1504,ROWS($S$7:S1465))),\"\",SMALL($S$7:$S$1504,ROWS($S$7:S1465)))","v":""},"",{"$f":"IF(ISERROR(SMALL($U$7:$U$1504,ROWS(U$7:$U1465))),\"\",SMALL($U$7:$U$1504,ROWS(U$7:$U1465)))","v":""},"",{"$f":"IF(ISERROR(SMALL($W$7:$W$1504,ROWS($W$7:W1465))),\"\",SMALL($W$7:$W$1504,ROWS($W$7:W1465)))","v":""}]
[null,"Panevėžio m. sav.","Tarptautinės imigracijos lygis | %",0.15655153400811311,0.4987506045461873,0.55563499683369766,0.55041513486719817,0.5325536469482588,0.47139830508474578,0.43866299850529639,0.39058153250395033,0.63474729549875442,0.86233802263348325,0.88929560279694031,0.90101307374497708,2.8477983407785579,null,{"$f":"ROWS($R$7:R1466)","v":1460},"",{"$f":"IF(ISERROR(SMALL($S$7:$S$1504,ROWS($S$7:S1466))),\"\",SMALL($S$7:$S$1504,ROWS($S$7:S1466)))","v":""},"",{"$f":"IF(ISERROR(SMALL($U$7:$U$1504,ROWS(U$7:$U1466))),\"\",SMALL($U$7:$U$1504,ROWS(U$7:$U1466)))","v":""},"",{"$f":"IF(ISERROR(SMALL($W$7:$W$1504,ROWS($W$7:W1466))),\"\",SMALL($W$7:$W$1504,ROWS($W$7:W1466)))","v":""}]
[null,"Panevėžio r. sav.","Tarptautinės imigracijos lygis | %",4.5259108395564608E-2,0.34297797720356904,0.47469184369263051,0.40342914775592542,0.52771155340065901,0.56850483229107451,0.42668417165832445,0.30213992682115531,0.67717553176543321,0.99479990956364461,0.81399965965171028,0.9760927995473192,0.60719555101577571,null,{"$f":"ROWS($R$7:R1467)","v":1461},"",{"$f":"IF(ISERROR(SMALL($S$7:$S$1504,ROWS($S$7:S1467))),\"\",SMALL($S$7:$S$1504,ROWS($S$7:S1467)))","v":""},"",{"$f":"IF(ISERROR(SMALL($U$7:$U$1504,ROWS(U$7:$U1467))),\"\",SMALL($U$7:$U$1504,ROWS(U$7:$U1467)))","v":""},"",{"$f":"IF(ISERROR(SMALL($W$7:$W$1504,ROWS($W$7:W1467))),\"\",SMALL($W$7:$W$1504,ROWS($W$7:W1467)))","v":""}]
[null,"Pasvalio r. sav.","Tarptautinės imigracijos lygis | %",6.5619064064928331E-2,0.35192492268316095,0.42184886173539893,0.49723551894318896,0.53342412892974689,0.44389547226618292,0.36509385293067187,0.32811090148470179,0.76884082460290637,0.85725418885569549,0.95204357259885752,1.0302077876724289,1.4589449337247575,null,{"$f":"ROWS($R$7:R1468)","v":1462},"",{"$f":"IF(ISERROR(SMALL($S$7:$S$1504,ROWS($S$7:S1468))),\"\",SMALL($S$7:$S$1504,ROWS($S$7:S1468)))","v":""},"",{"$f":"IF(ISERROR(SMALL($U$7:$U$1504,ROWS(U$7:$U1468))),\"\",SMALL($U$7:$U$1504,ROWS(U$7:$U1468)))","v":""},"",{"$f":"IF(ISERROR(SMALL($W$7:$W$1504,ROWS($W$7:W1468))),\"\",SMALL($W$7:$W$1504,ROWS($W$7:W1468)))","v":""}]
[null,"Rokiškio r. sav.","Tarptautinės imigracijos lygis | %",0.10420187000112652,0.34373194685153091,0.39023236563590136,0.48653712489800849,0.6467707659613785,0.47137200678775693,0.31660905243433596,0.29371516304529222,0.57388316151202745,0.76059016162540938,0.77363175128638773,0.86788475052705549,1.3251419794978034,null,{"$f":"ROWS($R$7:R1469)","v":1463},"",{"$f":"IF(ISERROR(SMALL($S$7:$S$1504,ROWS($S$7:S1469))),\"\",SMALL($S$7:$S$1504,ROWS($S$7:S1469)))","v":""},"",{"$f":"IF(ISERROR(SMALL($U$7:$U$1504,ROWS(U$7:$U1469))),\"\",SMALL($U$7:$U$1504,ROWS(U$7:$U1469)))","v":""},"",{"$f":"IF(ISERROR(SMALL($W$7:$W$1504,ROWS($W$7:W1469))),\"\",SMALL($W$7:$W$1504,ROWS($W$7:W1469)))","v":""}]
[null,"Šiaulių apskritis","Tarptautinės imigracijos lygis | %",0.21634258332418455,0.70324943983811239,0.8954521265708788,0.97148033611345397,1.0324395393677057,1.0165566830716071,0.93707137762659798,1.2650481016815065,1.523238767013793,2.1831744020033748,2.1739714203510117,2.2183413456026781,3.2040052934741867,null,{"$f":"ROWS($R$7:R1470)","v":1464},"",{"$f":"IF(ISERROR(SMALL($S$7:$S$1504,ROWS($S$7:S1470))),\"\",SMALL($S$7:$S$1504,ROWS($S$7:S1470)))","v":""},"",{"$f":"IF(ISERROR(SMALL($U$7:$U$1504,ROWS(U$7:$U1470))),\"\",SMALL($U$7:$U$1504,ROWS(U$7:$U1470)))","v":""},"",{"$f":"IF(ISERROR(SMALL($W$7:$W$1504,ROWS($W$7:W1470))),\"\",SMALL($W$7:$W$1504,ROWS($W$7:W1470)))","v":""}]
[null,"Akmenės r. sav.","Tarptautinės imigracijos lygis | %",0.23351820190984526,0.76530612244897955,0.83988801493134257,0.9569814072183741,1.3578869047619049,1.224025049814973,0.71160501047911484,0.60779586096041793,0.85721662793699971,1.4463682432432432,1.624839124839125,1.3335392853465142,3.185969281859693,null,{"$f":"ROWS($R$7:R1471)","v":1465},"",{"$f":"IF(ISERROR(SMALL($S$7:$S$1504,ROWS($S$7:S1471))),\"\",SMALL($S$7:$S$1504,ROWS($S$7:S1471)))","v":""},"",{"$f":"IF(ISERROR(SMALL($U$7:$U$1504,ROWS(U$7:$U1471))),\"\",SMALL($U$7:$U$1504,ROWS(U$7:$U1471)))","v":""},"",{"$f":"IF(ISERROR(SMALL($W$7:$W$1504,ROWS($W$7:W1471))),\"\",SMALL($W$7:$W$1504,ROWS($W$7:W1471)))","v":""}]
[null,"Joniškio r. sav.","Tarptautinės imigracijos lygis | %",0.21954305276475403,0.50861172118830189,0.83607401830645478,0.84153183185624847,0.95190589017749516,0.7581888656983431,0.63602070357048868,0.54960029069767447,0.81971052508314213,0.91778202676864251,0.89598753408648235,0.9909440045517045,1.153697625024136,null,{"$f":"ROWS($R$7:R1472)","v":1466},"",{"$f":"IF(ISERROR(SMALL($S$7:$S$1504,ROWS($S$7:S1472))),\"\",SMALL($S$7:$S$1504,ROWS($S$7:S1472)))","v":""},"",{"$f":"IF(ISERROR(SMALL($U$7:$U$1504,ROWS(U$7:$U1472))),\"\",SMALL($U$7:$U$1504,ROWS(U$7:$U1472)))","v":""},"",{"$f":"IF(ISERROR(SMALL($W$7:$W$1504,ROWS($W$7:W1472))),\"\",SMALL($W$7:$W$1504,ROWS($W$7:W1472)))","v":""}]
[null,"Kelmės r. sav.","Tarptautinės imigracijos lygis | %",0.11444404288639923,0.4728720756595321,0.59910771191841938,0.64230054448827889,0.66149939863691032,0.68377830464213307,0.53553695559653858,0.35581966912439017,0.61368285476172435,0.82876152678884096,0.84043654903210396,1.0072725858515148,1.1336966466446556,null,{"$f":"ROWS($R$7:R1473)","v":1467},"",{"$f":"IF(ISERROR(SMALL($S$7:$S$1504,ROWS($S$7:S1473))),\"\",SMALL($S$7:$S$1504,ROWS($S$7:S1473)))","v":""},"",{"$f":"IF(ISERROR(SMALL($U$7:$U$1504,ROWS(U$7:$U1473))),\"\",SMALL($U$7:$U$1504,ROWS(U$7:$U1473)))","v":""},"",{"$f":"IF(ISERROR(SMALL($W$7:$W$1504,ROWS($W$7:W1473))),\"\",SMALL($W$7:$W$1504,ROWS($W$7:W1473)))","v":""}]
[null,"Pakruojo r. sav.","Tarptautinės imigracijos lygis | %",9.4743779864887134E-2,0.43387638776638737,0.65182203945929384,0.60636004311893643,0.75343409748702161,0.6492284531426421,0.53797314980855915,0.40644287219629688,0.77683981563001714,0.84403864529143213,0.79304725692558398,1.1788661451077054,1.0339168490153172,null,{"$f":"ROWS($R$7:R1474)","v":1468},"",{"$f":"IF(ISERROR(SMALL($S$7:$S$1504,ROWS($S$7:S1474))),\"\",SMALL($S$7:$S$1504,ROWS($S$7:S1474)))","v":""},"",{"$f":"IF(ISERROR(SMALL($U$7:$U$1504,ROWS(U$7:$U1474))),\"\",SMALL($U$7:$U$1504,ROWS(U$7:$U1474)))","v":""},"",{"$f":"IF(ISERROR(SMALL($W$7:$W$1504,ROWS($W$7:W1474))),\"\",SMALL($W$7:$W$1504,ROWS($W$7:W1474)))","v":""}]
[null,"Radviliškio r. sav.","Tarptautinės imigracijos lygis | %",0.21578439924705017,0.61835564963017575,0.75314419420883294,0.89712918660287078,0.88655184677132548,0.81763610018629684,0.62096966802006215,0.65773314047105702,1.1577625889245362,1.5429122468659595,1.8080427721406191,1.9715634354133087,1.7777518724681609,null,{"$f":"ROWS($R$7:R1475)","v":1469},"",{"$f":"IF(ISERROR(SMALL($S$7:$S$1504,ROWS($S$7:S1475))),\"\",SMALL($S$7:$S$1504,ROWS($S$7:S1475)))","v":""},"",{"$f":"IF(ISERROR(SMALL($U$7:$U$1504,ROWS(U$7:$U1475))),\"\",SMALL($U$7:$U$1504,ROWS(U$7:$U1475)))","v":""},"",{"$f":"IF(ISERROR(SMALL($W$7:$W$1504,ROWS($W$7:W1475))),\"\",SMALL($W$7:$W$1504,ROWS($W$7:W1475)))","v":""}]
[null,"Šiaulių m. sav.","Tarptautinės imigracijos lygis | %",0.29966020672986882,0.90968459974797422,1.1318640268957787,1.1948321388155414,1.2551266069712339,1.2931823656950132,1.4417661635503491,2.4828037346125638,2.59185076679322,3.8721707563825354,3.7556423141601187,3.6994585194261096,5.9430446092324418,null,{"$f":"ROWS($R$7:R1476)","v":1470},"",{"$f":"IF(ISERROR(SMALL($S$7:$S$1504,ROWS($S$7:S1476))),\"\",SMALL($S$7:$S$1504,ROWS($S$7:S1476)))","v":""},"",{"$f":"IF(ISERROR(SMALL($U$7:$U$1504,ROWS(U$7:$U1476))),\"\",SMALL($U$7:$U$1504,ROWS(U$7:$U1476)))","v":""},"",{"$f":"IF(ISERROR(SMALL($W$7:$W$1504,ROWS($W$7:W1476))),\"\",SMALL($W$7:$W$1504,ROWS($W$7:W1476)))","v":""}]
[null,"Šiaulių r. sav.","Tarptautinės imigracijos lygis | %",0.14013575651412305,0.6686833306798281,0.85227932467894385,0.99595027312111506,0.90038587966271255,0.97252905580635862,0.73045490706588556,0.54204476709013905,0.85110498573431981,1.0440024110910187,0.90363623219836631,1.0502864417568429,0.77875497469660493,null,{"$f":"ROWS($R$7:R1477)","v":1471},"",{"$f":"IF(ISERROR(SMALL($S$7:$S$1504,ROWS($S$7:S1477))),\"\",SMALL($S$7:$S$1504,ROWS($S$7:S1477)))","v":""},"",{"$f":"IF(ISERROR(SMALL($U$7:$U$1504,ROWS(U$7:$U1477))),\"\",SMALL($U$7:$U$1504,ROWS(U$7:$U1477)))","v":""},"",{"$f":"IF(ISERROR(SMALL($W$7:$W$1504,ROWS($W$7:W1477))),\"\",SMALL($W$7:$W$1504,ROWS($W$7:W1477)))","v":""}]
[null,"Tauragės apskritis","Tarptautinės imigracijos lygis | %",0.11985404440814297,0.54611317440860607,0.6369486151263638,0.72526284852909118,0.75876479254330642,0.7665798594114076,0.48846893017296605,0.41455360908520467,0.65642281227573984,0.82373743908224439,0.89265101962293192,1.1189801699716715,1.9730536613310126,null,{"$f":"ROWS($R$7:R1478)","v":1472},"",{"$f":"IF(ISERROR(SMALL($S$7:$S$1504,ROWS($S$7:S1478))),\"\",SMALL($S$7:$S$1504,ROWS($S$7:S1478)))","v":""},"",{"$f":"IF(ISERROR(SMALL($U$7:$U$1504,ROWS(U$7:$U1478))),\"\",SMALL($U$7:$U$1504,ROWS(U$7:$U1478)))","v":""},"",{"$f":"IF(ISERROR(SMALL($W$7:$W$1504,ROWS($W$7:W1478))),\"\",SMALL($W$7:$W$1504,ROWS($W$7:W1478)))","v":""}]
[null,"Jurbarko r. sav.","Tarptautinės imigracijos lygis | %",0.10348953785453252,0.47342801893712078,0.50644097753305461,0.62229904926534141,0.61237418174139513,0.59933964972724663,0.36053270546685307,0.34819468624630989,0.64861925661242081,0.74790149978119902,0.78663134297941717,1.3281971028449902,2.2841203104786545,null,{"$f":"ROWS($R$7:R1479)","v":1473},{"$f":"IF(ISNUMBER(SEARCH($R$3,B1479)),R1479,\"\")","v":""},{"$f":"IF(ISERROR(SMALL($S$7:$S$1504,ROWS($S$7:S1479))),\"\",SMALL($S$7:$S$1504,ROWS($S$7:S1479)))","v":""},{"$f":"IF($R$4=B1479,R1479,\"\")","v":""},{"$f":"IF(ISERROR(SMALL($U$7:$U$1504,ROWS(U$7:$U1479))),\"\",SMALL($U$7:$U$1504,ROWS(U$7:$U1479)))","v":""},{"$f":"IF(\"Lietuvos Respublika\"=B1479,R1479,\"\")","v":""},{"$f":"IF(ISERROR(SMALL($W$7:$W$1504,ROWS($W$7:W1479))),\"\",SMALL($W$7:$W$1504,ROWS($W$7:W1479)))","v":""}]
[null,"Pagėgių sav.","Tarptautinės imigracijos lygis | %",0.14375192524899888,0.62659303313508918,0.66232356134636261,0.96388211832483928,1.0205238689193785,0.70077084793272593,0.60576690089653495,0.56653657308321792,0.84767866458007302,1.1193526635198923,1.3048306496390893,1.2537476151539928,1.3683328679139906,null,{"$f":"ROWS($R$7:R1480)","v":1474},"",{"$f":"IF(ISERROR(SMALL($S$7:$S$1504,ROWS($S$7:S1480))),\"\",SMALL($S$7:$S$1504,ROWS($S$7:S1480)))","v":""},"",{"$f":"IF(ISERROR(SMALL($U$7:$U$1504,ROWS(U$7:$U1480))),\"\",SMALL($U$7:$U$1504,ROWS(U$7:$U1480)))","v":""},"",{"$f":"IF(ISERROR(SMALL($W$7:$W$1504,ROWS($W$7:W1480))),\"\",SMALL($W$7:$W$1504,ROWS($W$7:W1480)))","v":""}]
[null,"Šilalės r. sav.","Tarptautinės imigracijos lygis | %",0.11851412910632939,0.44457954934073035,0.58162078324932143,0.65452251399731887,0.67119456652017573,0.61255121496085352,0.34837425348374251,0.38845726970033301,0.46624147789751486,0.62756783601968491,0.6462632137746388,0.80209001741681185,1.0382564774109064,null,{"$f":"ROWS($R$7:R1481)","v":1475},"",{"$f":"IF(ISERROR(SMALL($S$7:$S$1504,ROWS($S$7:S1481))),\"\",SMALL($S$7:$S$1504,ROWS($S$7:S1481)))","v":""},"",{"$f":"IF(ISERROR(SMALL($U$7:$U$1504,ROWS(U$7:$U1481))),\"\",SMALL($U$7:$U$1504,ROWS(U$7:$U1481)))","v":""},"",{"$f":"IF(ISERROR(SMALL($W$7:$W$1504,ROWS($W$7:W1481))),\"\",SMALL($W$7:$W$1504,ROWS($W$7:W1481)))","v":""}]
[null,"Tauragės r. sav.","Tarptautinės imigracijos lygis | %",0.1267342582710779,0.64004037530682945,0.75451423766030512,0.78736422710240472,0.85597499398893961,0.9862413247290881,0.63435424719992073,0.44391456547105679,0.73563694762472154,0.93042815465082662,1.0249447594707557,1.1378404901466728,2.4164510708665614,null,{"$f":"ROWS($R$7:R1482)","v":1476},"",{"$f":"IF(ISERROR(SMALL($S$7:$S$1504,ROWS($S$7:S1482))),\"\",SMALL($S$7:$S$1504,ROWS($S$7:S1482)))","v":""},"",{"$f":"IF(ISERROR(SMALL($U$7:$U$1504,ROWS(U$7:$U1482))),\"\",SMALL($U$7:$U$1504,ROWS(U$7:$U1482)))","v":""},"",{"$f":"IF(ISERROR(SMALL($W$7:$W$1504,ROWS($W$7:W1482))),\"\",SMALL($W$7:$W$1504,ROWS($W$7:W1482)))","v":""}]
[null,"Telšių apskritis","Tarptautinės imigracijos lygis | %",0.19593183634535566,0.56738901857570812,0.67345498538159088,0.69506497049895977,0.79656184254235407,0.70083285347115909,0.50956418286975647,0.47589625902878918,0.83389677710164534,1.0619994518712506,1.0971171822707093,1.192146920790137,2.0461991015574523,null,{"$f":"ROWS($R$7:R1483)","v":1477},"",{"$f":"IF(ISERROR(SMALL($S$7:$S$1504,ROWS($S$7:S1483))),\"\",SMALL($S$7:$S$1504,ROWS($S$7:S1483)))","v":""},"",{"$f":"IF(ISERROR(SMALL($U$7:$U$1504,ROWS(U$7:$U1483))),\"\",SMALL($U$7:$U$1504,ROWS(U$7:$U1483)))","v":""},"",{"$f":"IF(ISERROR(SMALL($W$7:$W$1504,ROWS($W$7:W1483))),\"\",SMALL($W$7:$W$1504,ROWS($W$7:W1483)))","v":""}]
[null,"Mažeikių r. sav.","Tarptautinės imigracijos lygis | %",0.22539570402516357,0.68687008145795936,0.78438238641337665,0.77596286716507812,0.85514521333811411,0.81659317328107139,0.59175974554330946,0.57014054627419786,0.90833702968005703,1.131001131001131,1.1724503623401874,1.3534878340338565,2.3298080083525066,null,{"$f":"ROWS($R$7:R1484)","v":1478},"",{"$f":"IF(ISERROR(SMALL($S$7:$S$1504,ROWS($S$7:S1484))),\"\",SMALL($S$7:$S$1504,ROWS($S$7:S1484)))","v":""},"",{"$f":"IF(ISERROR(SMALL($U$7:$U$1504,ROWS(U$7:$U1484))),\"\",SMALL($U$7:$U$1504,ROWS(U$7:$U1484)))","v":""},"",{"$f":"IF(ISERROR(SMALL($W$7:$W$1504,ROWS($W$7:W1484))),\"\",SMALL($W$7:$W$1504,ROWS($W$7:W1484)))","v":""}]
[null,"Plungės r. sav.","Tarptautinės imigracijos lygis | %",0.17204632411473178,0.56161999683594366,0.70722494575263195,0.67681435172601256,0.83252929014472776,0.63717407707570628,0.47258441040824456,0.51428905382502477,0.82698910285117189,1.047199420569773,1.018013349995428,1.1775957917388966,2.0975653796382678,null,{"$f":"ROWS($R$7:R1485)","v":1479},"",{"$f":"IF(ISERROR(SMALL($S$7:$S$1504,ROWS($S$7:S1485))),\"\",SMALL($S$7:$S$1504,ROWS($S$7:S1485)))","v":""},"",{"$f":"IF(ISERROR(SMALL($U$7:$U$1504,ROWS(U$7:$U1485))),\"\",SMALL($U$7:$U$1504,ROWS(U$7:$U1485)))","v":""},"",{"$f":"IF(ISERROR(SMALL($W$7:$W$1504,ROWS($W$7:W1485))),\"\",SMALL($W$7:$W$1504,ROWS($W$7:W1485)))","v":""}]
[null,"Rietavo sav.","Tarptautinės imigracijos lygis | %",0.10170640750367273,0.41729454039642977,0.51960321209258387,0.62447460069652938,0.74617737003058104,0.48622366288492713,0.37003955595253285,0.26195153896529144,0.44135348401765412,0.83162917518745749,1.0115006235277815,0.96769796919721951,1.8286814244465832,null,{"$f":"ROWS($R$7:R1486)","v":1480},"",{"$f":"IF(ISERROR(SMALL($S$7:$S$1504,ROWS($S$7:S1486))),\"\",SMALL($S$7:$S$1504,ROWS($S$7:S1486)))","v":""},"",{"$f":"IF(ISERROR(SMALL($U$7:$U$1504,ROWS(U$7:$U1486))),\"\",SMALL($U$7:$U$1504,ROWS(U$7:$U1486)))","v":""},"",{"$f":"IF(ISERROR(SMALL($W$7:$W$1504,ROWS($W$7:W1486))),\"\",SMALL($W$7:$W$1504,ROWS($W$7:W1486)))","v":""}]
[null,"Telšių r. sav.","Tarptautinės imigracijos lygis | %",0.19618892576127564,0.45160737982106924,0.53626316133673402,0.62164202300075488,0.70257082184972663,0.64611068956795659,0.46126329662054033,0.363169745539065,0.81668114682884441,1.0276999217231018,1.0811641729862678,1.0357886288967473,1.6701408307488941,null,{"$f":"ROWS($R$7:R1487)","v":1481},"",{"$f":"IF(ISERROR(SMALL($S$7:$S$1504,ROWS($S$7:S1487))),\"\",SMALL($S$7:$S$1504,ROWS($S$7:S1487)))","v":""},"",{"$f":"IF(ISERROR(SMALL($U$7:$U$1504,ROWS(U$7:$U1487))),\"\",SMALL($U$7:$U$1504,ROWS(U$7:$U1487)))","v":""},"",{"$f":"IF(ISERROR(SMALL($W$7:$W$1504,ROWS($W$7:W1487))),\"\",SMALL($W$7:$W$1504,ROWS($W$7:W1487)))","v":""}]
[null,"Utenos apskritis","Tarptautinės imigracijos lygis | %",0.13481783465785943,0.44167678013648209,0.57945053975749927,0.62568499327145854,0.75406565888785926,0.69367829767596145,0.51944405447143061,0.46062633019154753,0.73168451072981444,1.0928831638848544,1.2205529523533485,1.247117176886867,2.4754486153257984,null,{"$f":"ROWS($R$7:R1488)","v":1482},"",{"$f":"IF(ISERROR(SMALL($S$7:$S$1504,ROWS($S$7:S1488))),\"\",SMALL($S$7:$S$1504,ROWS($S$7:S1488)))","v":""},"",{"$f":"IF(ISERROR(SMALL($U$7:$U$1504,ROWS(U$7:$U1488))),\"\",SMALL($U$7:$U$1504,ROWS(U$7:$U1488)))","v":""},"",{"$f":"IF(ISERROR(SMALL($W$7:$W$1504,ROWS($W$7:W1488))),\"\",SMALL($W$7:$W$1504,ROWS($W$7:W1488)))","v":""}]
[null,"Anykščių r. sav.","Tarptautinės imigracijos lygis | %",7.8748245283664878E-2,0.3655664522478822,0.45686740053241237,0.47452639323156148,0.59307083067452415,0.50241620004602283,0.41376049178389884,0.39065679173109796,0.53610319986597421,0.84912942790976931,1.0337275514673676,0.92379754521403479,1.9143598996611364,null,{"$f":"ROWS($R$7:R1489)","v":1483},"",{"$f":"IF(ISERROR(SMALL($S$7:$S$1504,ROWS($S$7:S1489))),\"\",SMALL($S$7:$S$1504,ROWS($S$7:S1489)))","v":""},"",{"$f":"IF(ISERROR(SMALL($U$7:$U$1504,ROWS(U$7:$U1489))),\"\",SMALL($U$7:$U$1504,ROWS(U$7:$U1489)))","v":""},"",{"$f":"IF(ISERROR(SMALL($W$7:$W$1504,ROWS($W$7:W1489))),\"\",SMALL($W$7:$W$1504,ROWS($W$7:W1489)))","v":""}]
[null,"Ignalinos r. sav.","Tarptautinės imigracijos lygis | %",5.877952335150155E-2,0.2356293495534002,0.35395246923984491,0.33997925550305408,0.45363497113232004,0.46480743691899074,0.41594238887509311,0.27512956683089129,0.45643976979559436,0.56651423111050447,0.59532147359574161,0.78643233262668399,0.98656591099916036,null,{"$f":"ROWS($R$7:R1490)","v":1484},"",{"$f":"IF(ISERROR(SMALL($S$7:$S$1504,ROWS($S$7:S1490))),\"\",SMALL($S$7:$S$1504,ROWS($S$7:S1490)))","v":""},"",{"$f":"IF(ISERROR(SMALL($U$7:$U$1504,ROWS(U$7:$U1490))),\"\",SMALL($U$7:$U$1504,ROWS(U$7:$U1490)))","v":""},"",{"$f":"IF(ISERROR(SMALL($W$7:$W$1504,ROWS($W$7:W1490))),\"\",SMALL($W$7:$W$1504,ROWS($W$7:W1490)))","v":""}]
[null,"Molėtų r. sav.","Tarptautinės imigracijos lygis | %",1.9052155275065492E-2,0.14584346135148274,0.31171144426302511,0.28777704851820063,0.32460840890354492,0.35686171608501704,0.30576118442227229,0.24267828580883571,0.48169556840077066,0.6476234532207702,0.82290013519073657,0.90195619069930888,1.5033572998989839,null,{"$f":"ROWS($R$7:R1491)","v":1485},"",{"$f":"IF(ISERROR(SMALL($S$7:$S$1504,ROWS($S$7:S1491))),\"\",SMALL($S$7:$S$1504,ROWS($S$7:S1491)))","v":""},"",{"$f":"IF(ISERROR(SMALL($U$7:$U$1504,ROWS(U$7:$U1491))),\"\",SMALL($U$7:$U$1504,ROWS(U$7:$U1491)))","v":""},"",{"$f":"IF(ISERROR(SMALL($W$7:$W$1504,ROWS($W$7:W1491))),\"\",SMALL($W$7:$W$1504,ROWS($W$7:W1491)))","v":""}]
[null,"Utenos r. sav.","Tarptautinės imigracijos lygis | %",0.12495456197746274,0.45386835490177824,0.50544600270520401,0.58240695988400193,0.7119884117748152,0.6402590931738914,0.41443136457247465,0.40912052117263842,0.71402027923767053,1.3589942906157022,1.6025641025641024,1.6181662565529047,3.2558139534883721,null,{"$f":"ROWS($R$7:R1492)","v":1486},"",{"$f":"IF(ISERROR(SMALL($S$7:$S$1504,ROWS($S$7:S1492))),\"\",SMALL($S$7:$S$1504,ROWS($S$7:S1492)))","v":""},"",{"$f":"IF(ISERROR(SMALL($U$7:$U$1504,ROWS(U$7:$U1492))),\"\",SMALL($U$7:$U$1504,ROWS(U$7:$U1492)))","v":""},"",{"$f":"IF(ISERROR(SMALL($W$7:$W$1504,ROWS($W$7:W1492))),\"\",SMALL($W$7:$W$1504,ROWS($W$7:W1492)))","v":""}]
[null,"Visagino sav.","Tarptautinės imigracijos lygis | %",0.42398286937901497,1.0755097468070804,1.4412159970341536,1.5622014141028091,1.776103336921421,1.7290490230373297,1.2425549394126105,1.0616944855271497,1.595687331536388,1.8655902247436178,1.792982070179298,1.7522287119581925,4.4557736426204437,null,{"$f":"ROWS($R$7:R1493)","v":1487},"",{"$f":"IF(ISERROR(SMALL($S$7:$S$1504,ROWS($S$7:S1493))),\"\",SMALL($S$7:$S$1504,ROWS($S$7:S1493)))","v":""},"",{"$f":"IF(ISERROR(SMALL($U$7:$U$1504,ROWS(U$7:$U1493))),\"\",SMALL($U$7:$U$1504,ROWS(U$7:$U1493)))","v":""},"",{"$f":"IF(ISERROR(SMALL($W$7:$W$1504,ROWS($W$7:W1493))),\"\",SMALL($W$7:$W$1504,ROWS($W$7:W1493)))","v":""}]
[null,"Zarasų r. sav.","Tarptautinės imigracijos lygis | %",9.070536762351937E-2,0.29602017322661989,0.43130006161429446,0.50845521023765994,0.66957787481804953,0.493020493020493,0.42065475827592513,0.40831710534581322,0.59466097860513212,0.8943358728055647,0.9069373942470389,1.0032102728731942,1.2734949605012258,null,{"$f":"ROWS($R$7:R1494)","v":1488},"",{"$f":"IF(ISERROR(SMALL($S$7:$S$1504,ROWS($S$7:S1494))),\"\",SMALL($S$7:$S$1504,ROWS($S$7:S1494)))","v":""},"",{"$f":"IF(ISERROR(SMALL($U$7:$U$1504,ROWS(U$7:$U1494))),\"\",SMALL($U$7:$U$1504,ROWS(U$7:$U1494)))","v":""},"",{"$f":"IF(ISERROR(SMALL($W$7:$W$1504,ROWS($W$7:W1494))),\"\",SMALL($W$7:$W$1504,ROWS($W$7:W1494)))","v":""}]
[null,"Vilniaus apskritis","Tarptautinės imigracijos lygis | %",0.17448101983972689,0.48941839832326595,0.63862172827315344,0.75762180184493555,0.92921044999219149,0.76669258268636287,0.84343752949299378,0.84667254461236596,1.1394227139449942,1.6082007572042294,1.7322013973471009,1.8388357192150044,4.4252187748607801,null,{"$f":"ROWS($R$7:R1495)","v":1489},"",{"$f":"IF(ISERROR(SMALL($S$7:$S$1504,ROWS($S$7:S1495))),\"\",SMALL($S$7:$S$1504,ROWS($S$7:S1495)))","v":""},1489,{"$f":"IF(ISERROR(SMALL($U$7:$U$1504,ROWS(U$7:$U1495))),\"\",SMALL($U$7:$U$1504,ROWS(U$7:$U1495)))","v":""},"",{"$f":"IF(ISERROR(SMALL($W$7:$W$1504,ROWS($W$7:W1495))),\"\",SMALL($W$7:$W$1504,ROWS($W$7:W1495)))","v":""}]
[null,"Elektrėnų sav.","Tarptautinės imigracijos lygis | %",0.12582573136206354,0.36575562700964631,0.38699690402476783,0.54698745630269385,0.50828546634158434,0.57767434128501371,1.0475591870940708,1.810755042742241,1.5607862988273011,2.973993288590604,2.3581766760938279,2.6824171606465095,3.4645735747140987,null,{"$f":"ROWS($R$7:R1496)","v":1490},"",{"$f":"IF(ISERROR(SMALL($S$7:$S$1504,ROWS($S$7:S1496))),\"\",SMALL($S$7:$S$1504,ROWS($S$7:S1496)))","v":""},"",{"$f":"IF(ISERROR(SMALL($U$7:$U$1504,ROWS(U$7:$U1496))),\"\",SMALL($U$7:$U$1504,ROWS(U$7:$U1496)))","v":""},"",{"$f":"IF(ISERROR(SMALL($W$7:$W$1504,ROWS($W$7:W1496))),\"\",SMALL($W$7:$W$1504,ROWS($W$7:W1496)))","v":""}]
[null,"Šalčininkų r. sav.","Tarptautinės imigracijos lygis | %",0.11138401782144285,0.26435813264387181,0.3888987095633728,0.3977153793247809,0.47665310583520548,0.52914936163667126,0.53359128779604958,0.67878326513781839,1.05303711313728,1.199025182778229,1.5628598690487943,1.643459633150355,1.4599776430337725,null,{"$f":"ROWS($R$7:R1497)","v":1491},"",{"$f":"IF(ISERROR(SMALL($S$7:$S$1504,ROWS($S$7:S1497))),\"\",SMALL($S$7:$S$1504,ROWS($S$7:S1497)))","v":""},"",{"$f":"IF(ISERROR(SMALL($U$7:$U$1504,ROWS(U$7:$U1497))),\"\",SMALL($U$7:$U$1504,ROWS(U$7:$U1497)))","v":""},"",{"$f":"IF(ISERROR(SMALL($W$7:$W$1504,ROWS($W$7:W1497))),\"\",SMALL($W$7:$W$1504,ROWS($W$7:W1497)))","v":""}]
[null,"Širvintų r. sav.","Tarptautinės imigracijos lygis | %",6.141134435015632E-2,0.29239766081871343,0.40428897873088415,0.44768101235599594,0.4979958702781489,0.53693760414738012,0.42585170340681361,0.22270297785696105,0.55620230241883328,0.69006309148264977,0.81393021549136035,0.96282428456806635,1.2321572852141127,null,{"$f":"ROWS($R$7:R1498)","v":1492},"",{"$f":"IF(ISERROR(SMALL($S$7:$S$1504,ROWS($S$7:S1498))),\"\",SMALL($S$7:$S$1504,ROWS($S$7:S1498)))","v":""},"",{"$f":"IF(ISERROR(SMALL($U$7:$U$1504,ROWS(U$7:$U1498))),\"\",SMALL($U$7:$U$1504,ROWS(U$7:$U1498)))","v":""},"",{"$f":"IF(ISERROR(SMALL($W$7:$W$1504,ROWS($W$7:W1498))),\"\",SMALL($W$7:$W$1504,ROWS($W$7:W1498)))","v":""}]
[null,"Švenčionių r. sav.","Tarptautinės imigracijos lygis | %",6.3548102383053834E-2,0.29243988735648785,0.36841911358361273,0.37656273535170959,0.48482050098118434,0.39685658153241654,0.41814088131231902,0.36329108698344548,0.37652832423742438,0.57421638891287452,0.62081718915110951,0.82739195493354467,1.6225639191846952,null,{"$f":"ROWS($R$7:R1499)","v":1493},"",{"$f":"IF(ISERROR(SMALL($S$7:$S$1504,ROWS($S$7:S1499))),\"\",SMALL($S$7:$S$1504,ROWS($S$7:S1499)))","v":""},"",{"$f":"IF(ISERROR(SMALL($U$7:$U$1504,ROWS(U$7:$U1499))),\"\",SMALL($U$7:$U$1504,ROWS(U$7:$U1499)))","v":""},"",{"$f":"IF(ISERROR(SMALL($W$7:$W$1504,ROWS($W$7:W1499))),\"\",SMALL($W$7:$W$1504,ROWS($W$7:W1499)))","v":""}]
[null,"Trakų r. sav.","Tarptautinės imigracijos lygis | %",8.3501295709761017E-2,0.34361259136309369,0.35227806481916396,0.37654174573055033,0.47765471534764309,0.52064523895509807,0.38951949119016466,0.35892873577323064,0.62413528055342049,1.0137625952322438,2.0899245558530057,1.9203281337393574,3.3030201648468629,null,{"$f":"ROWS($R$7:R1500)","v":1494},"",{"$f":"IF(ISERROR(SMALL($S$7:$S$1504,ROWS($S$7:S1500))),\"\",SMALL($S$7:$S$1504,ROWS($S$7:S1500)))","v":""},"",{"$f":"IF(ISERROR(SMALL($U$7:$U$1504,ROWS(U$7:$U1500))),\"\",SMALL($U$7:$U$1504,ROWS(U$7:$U1500)))","v":""},"",{"$f":"IF(ISERROR(SMALL($W$7:$W$1504,ROWS($W$7:W1500))),\"\",SMALL($W$7:$W$1504,ROWS($W$7:W1500)))","v":""}]
[null,"Ukmergės r. sav.","Tarptautinės imigracijos lygis | %",0.12877830692973077,0.63654204196648712,0.69349557864342981,0.88008221127243025,0.88362474149276182,0.98798544021456525,0.53203405017921146,0.50544211826196828,0.97798079175450914,1.1869436201780417,1.1332892442734324,1.1606882473024205,2.0685804954015219,null,{"$f":"ROWS($R$7:R1501)","v":1495},"",{"$f":"IF(ISERROR(SMALL($S$7:$S$1504,ROWS($S$7:S1501))),\"\",SMALL($S$7:$S$1504,ROWS($S$7:S1501)))","v":""},"",{"$f":"IF(ISERROR(SMALL($U$7:$U$1504,ROWS(U$7:$U1501))),\"\",SMALL($U$7:$U$1504,ROWS(U$7:$U1501)))","v":""},"",{"$f":"IF(ISERROR(SMALL($W$7:$W$1504,ROWS($W$7:W1501))),\"\",SMALL($W$7:$W$1504,ROWS($W$7:W1501)))","v":""}]
[null,"Vilniaus m. sav.","Tarptautinės imigracijos lygis | %",0.21254162350669592,0.55133410510133662,0.74287764192400829,0.86696506509667004,1.071573100355343,0.85957352778698493,0.97651298894534388,0.92133342606454827,1.1833221779239298,1.7029870036619514,1.8339218992474131,1.9687325257123256,5.5509750191400986,null,{"$f":"ROWS($R$7:R1502)","v":1496},1496,{"$f":"IF(ISERROR(SMALL($S$7:$S$1504,ROWS($S$7:S1502))),\"\",SMALL($S$7:$S$1504,ROWS($S$7:S1502)))","v":""},"",{"$f":"IF(ISERROR(SMALL($U$7:$U$1504,ROWS(U$7:$U1502))),\"\",SMALL($U$7:$U$1504,ROWS(U$7:$U1502)))","v":""},"",{"$f":"IF(ISERROR(SMALL($W$7:$W$1504,ROWS($W$7:W1502))),\"\",SMALL($W$7:$W$1504,ROWS($W$7:W1502)))","v":""}]
[null,"Vilniaus r. sav.","Tarptautinės imigracijos lygis | %",0.10248258841737604,0.34037829119624641,0.40590715529357468,0.56611913756274146,0.75635982166273275,0.50521990692214158,0.59122063516977974,0.7521530901648712,1.3228734040916783,1.5950537222955079,1.5315056837856289,1.5306542594803805,1.3003641019485457,null,{"$f":"ROWS($R$7:R1503)","v":1497},"",{"$f":"IF(ISERROR(SMALL($S$7:$S$1504,ROWS($S$7:S1503))),\"\",SMALL($S$7:$S$1504,ROWS($S$7:S1503)))","v":""},"",{"$f":"IF(ISERROR(SMALL($U$7:$U$1504,ROWS(U$7:$U1503))),\"\",SMALL($U$7:$U$1504,ROWS(U$7:$U1503)))","v":""},"",{"$f":"IF(ISERROR(SMALL($W$7:$W$1504,ROWS($W$7:W1503))),\"\",SMALL($W$7:$W$1504,ROWS($W$7:W1503)))","v":""}]
[null,null,null,null,null,null,null,null,null,null,null,null,null,null,null,null,null,null,"",{"$f":"IF(ISERROR(SMALL($S$7:$S$1504,ROWS($S$7:S1504))),\"\",SMALL($S$7:$S$1504,ROWS($S$7:S1504)))","v":""},"",{"$f":"IF(ISERROR(SMALL($U$7:$U$1504,ROWS(U$7:$U1504))),\"\",SMALL($U$7:$U$1504,ROWS(U$7:$U1504)))","v":""},"",{"$f":"IF(ISERROR(SMALL($W$7:$W$1504,ROWS($W$7:W1504))),\"\",SMALL($W$7:$W$1504,ROWS($W$7:W1504)))","v":""}]

{"sheet":"Šaltiniai","index":1,"n_rows":26,"n_cols":5,"rows_kept":26,"cut":false,"hidden":false,"merged":[]}
[]
[null,"Rodiklis","Šaltinis","Duomenų atnaujinimo data","Planuojamo atnaujinimo data"]
[null,"Neišregistruotų juridinių asmenų skaičius metų pradžioje | vnt.","VĮ Registrų centras","2023 m. sausis","2024 m. sausis"]
[null,"Per metus įregistruota juridinių asmenų skaičius | vnt.","VĮ Registrų centras","2023 m. sausis","2024 m. sausis"]
[null,"Per metus išregistruota juridinių asmenų skaičius | vnt.","VĮ Registrų centras","2023 m. sausis","2024 m. sausis"]
[null,"Per metus įregistruota mažų ir vidutinių įmonių | vnt.","Lietuvos statistikos departamentas","2023 m. sausis","2024-01-06"]
[null,"Per metus išregistruota mažų ir vidutinių įmonių | vnt.","Lietuvos statistikos departamentas","2023 m. sausis","2024-01-06"]
[null,"Veikiančių mažų ir vidutinių įmonių skaičius metų pradžioje | vnt.","Lietuvos statistikos departamentas","2023 m. sausis","2024-01-24"]
[null,"Veikiančių įmonių skaičius metų pradžioje | vnt.","Lietuvos statistikos departamentas","2023 m. sausis","2024-01-24"]
[null,"Darbuotojų skaičius veikiančiose mažose ir vidutinėse įmonėse metų pradžioje | vnt.","Lietuvos statistikos departamentas","2023 m. sausis","2024-01-24"]
[null,"Darbuotojų skaičius veikiančiose įmonėse metų pradžioje | vnt.","Lietuvos statistikos departamentas","2023 m. sausis","2024-01-24"]
[null,"Asmenys, įsigiję verslo liudijimus | vnt.","Valstybinė mokesčių inspekcija","2023 m. sausis","2024 m. sausis"]
[null,"Veikiančių MVĮ tenkančios 1000 gyventojų metų pradžioje | vnt.","Lietuvos statistikos departamentas ir VšĮ Inovaciju agentūra skaičiavimai","2023 m. sausis","2024-01-24"]
[null,"Išgyvenusių 1 metus ir 1 dieną ir nepakeitusių statuso iš veikianti į kitą įmonių dalis tarp visų prieš metus įregistruotų įmonių | %*","Valstybinė mokesčių inspekcija ir VšĮ Versli Lietuva skaičiavimai","2020-01-12*","-"]
[null,"Registruoti bedarbiai | tūkst.","Lietuvos statistikos departamentas","2023 m. sausis","2024-01-26"]
[null,"Registruotų bedarbių ir darbingo amžiaus gyventojų santykis | %","Lietuvos statistikos departamentas","2023 m. sausis","2024-01-26"]
[null,"Darbo užmokestis | mėnesinis | bruto | EUR **","Lietuvos statistikos departamentas","2023 m. sausis","2023-10-03"]
[null,"Darbo užmokestis | mėnesinis | neto | EUR","Lietuvos statistikos departamentas","2023 m. sausis","2023-10-03"]
[null,"Materialinės investicijos to meto kainomis | mln. EUR","Lietuvos statistikos departamentas","2023 m. sausis","2023-06-17"]
[null,"Apyvarta pagal veiklos vykdymo vietą | mln. EUR","Lietuvos statistikos departamentas","2023 m. sausis***","2023-06-07"]
[null,"Pridėtinė vertė gamybos kainomis pagal veiklos vykdymo vietą | mln. EUR","Lietuvos statistikos departamentas","2023 m. sausis***","2023-06-07"]
[null,"Tarptautinės emigracijos lygis | %","Lietuvos statistikos departamentas ir VšĮ Versli Lietuva skaičiavimai","2023 m. sausis","2024-01-16"]
[null,"Tarptautinės imigracijos lygis | %","Lietuvos statistikos departamentas ir VšĮ Versli Lietuva skaičiavimai","2023 m. sausis","2024-01-16"]
[null,"* - Nuo 2020 m. duomenys nėra atnaujinami."]
[null,"** - Nuo 2019 m. keitėsi brutto darbo užmokesčio apskaičiavimas."]
[null,"*** - Nuo 2018 m. duomenys nepalyginami, nutrūkusi laiko eilutė. Nuo ataskaitinių 2018 m. duomenys yra skelbiami pagal naują statistinį įmonės vienetą. Įmonė yra sudaryta iš juridinių vienetų grupės, juridinio vieneto ar juridinių vienetų dalies. Jei juridiniai vienetai priklauso įmonių grupei ir jų bendra veikla sudaro veiklos segmentą, tuomet šių juridinių vienetų grupė yra prilyginama įmonei."]

{"sheet":"listreg","index":2,"n_rows":73,"n_cols":1,"rows_kept":73,"cut":false,"hidden":true,"merged":[]}
["Unique region list"]
[]
["Lietuvos Respublika"]
["Akmenės r. sav."]
["Alytaus apskritis"]
["Alytaus m. sav."]
["Alytaus r. sav."]
["Anykščių r. sav."]
["Birštono sav."]
["Biržų r. sav."]
["Druskininkų sav."]
["Elektrėnų sav."]
["Ignalinos r. sav."]
["Jonavos r. sav."]
["Joniškio r. sav."]
["Jurbarko r. sav."]
["Kaišiadorių r. sav."]
["Kalvarijos sav."]
["Kauno apskritis"]
["Kauno m. sav."]
["Kauno r. sav."]
["Kazlų Rūdos sav."]
["Kėdainių r. sav."]
["Kelmės r. sav."]
["Klaipėdos apskritis"]
["Klaipėdos m. sav."]
["Klaipėdos r. sav."]
["Kretingos r. sav."]
["Kupiškio r. sav."]
["Lazdijų r. sav."]
["Marijampolės apskritis"]
["Marijampolės sav."]
["Mažeikių r. sav."]
["Molėtų r. sav."]
["Neringos sav."]
["Pagėgių sav."]
["Pakruojo r. sav."]
["Palangos m. sav."]
["Panevėžio apskritis"]
["Panevėžio m. sav."]
["Panevėžio r. sav."]
["Pasvalio r. sav."]
["Plungės r. sav."]
["Prienų r. sav."]
["Radviliškio r. sav."]
["Raseinių r. sav."]
["Rietavo sav."]
["Rokiškio r. sav."]
["Šakių r. sav."]
["Šalčininkų r. sav."]
["Šiaulių apskritis"]
["Šiaulių m. sav."]
["Šiaulių r. sav."]
["Šilalės r. sav."]
["Šilutės r. sav."]
["Širvintų r. sav."]
["Skuodo r. sav."]
["Švenčionių r. sav."]
["Tauragės apskritis"]
["Tauragės r. sav."]
["Telšių apskritis"]
["Telšių r. sav."]
["Trakų r. sav."]
["Ukmergės r. sav."]
["Utenos apskritis"]
["Utenos r. sav."]
["Varėnos r. sav."]
["Vilkaviškio r. sav."]
["Vilniaus apskritis"]
["Vilniaus m. sav."]
["Vilniaus r. sav."]
["Visagino sav."]
["Zarasų r. sav."]